{"text_format":"1","workbook":"xlsx","n_sheets":8,"sheets":["Master20180614","Master20181101","Master20190430","Master20191031","MasterDelta20181101","MasterDelta20190430","MasterDelta20191031","UnpivotDelta20191031"],"not_rendered":{"charts":0,"images":0,"macros":0,"external_links":0,"defined_names":26,"comments":7,"pivot_tables":0},"unopened":[],"bounds":{"document_bytes":16777216,"sheet_cells":100000,"rows_first":2000,"rows_last":500,"rows_between":2000,"halvings":0,"cell_chars":16384,"cell_head_chars":4096},"cells_cut":0,"cells_raw":0,"read":"whole","date_system":"1900"}

{"sheet":"Master20180614","index":0,"n_rows":170,"n_cols":31,"rows_kept":170,"cut":false,"hidden":false,"merged":[]}
["DS Region","SubRegion","CSB"," City/County","BI waiver","FIS waiver","CL waiver","All waivers","SIS\nL1","SIS\nL2","SIS\nL3","SIS\nL4","SIS\nL5","SIS\nL6","SIS\nL7","SIS\nDefault","Benefits Planning","Community Coaching","Community Engagement","Community Guide","Electronic Home-Based Services","Employment and Community Transportation","Independent Living Supports","In-home Supports","Peer Mentoring","Shared Living","Supported Living","Crisis Support Services","Private Duty Nursing","Skilled Nursing","Sponsored Residential"]
["Eastern","5-B","EAST","Accomack County",0,2,63,65,8,30,1,15,0,5,1,5,0,0,1,0,0,0,0,1,0,0,1,0,0,0,1]
["Western","1-A","RTEN","Albemarle County",1,29,82,112,6,58,1,30,2,7,4,4,0,2,3,0,0,0,0,3,0,0,0,0,1,3,3]
["Northern","2-A","ALEX","Alexandria City",4,8,82,94,11,36,1,32,1,4,6,3,0,0,1,0,0,0,0,1,0,0,1,0,2,2,0]
["Western","1-C","ALLE","Alleghany County",1,10,37,48,6,23,1,10,0,5,2,1,0,1,1,0,0,0,0,2,0,0,0,0,0,0,0]
["Central","4-B","CROS","Amelia County",0,1,11,12,0,6,0,4,0,1,0,1,0,0,0,0,0,0,0,0,0,0,0,0,0,0,0]
["Western","1-D","HORI","Amherst County",0,10,137,147,3,42,4,70,2,15,5,6,0,0,2,0,0,0,0,0,0,0,0,0,0,1,2]
["Western","1-D","HORI","Appomattox County",1,7,27,35,3,15,3,9,2,0,1,2,0,1,0,0,0,0,0,1,0,0,0,0,0,0,1]
["Northern","2-A","ARLI","Arlington County",3,22,112,137,14,46,9,50,0,8,6,4,0,0,0,0,0,0,0,0,0,0,0,0,0,0,0]
["Western","1-B","VLY","Augusta County",0,13,135,148,3,52,10,46,2,18,7,10,0,0,1,0,0,0,0,1,0,0,0,0,1,0,2]
["Western","1-C","ROC","Bath County",0,1,7,8,2,0,1,2,0,3,0,0,0,0,0,0,0,0,0,0,0,0,0,0,0,0,0]
["Western","1-D","HORI","Bedford County",1,21,152,174,4,46,5,80,4,20,6,9,0,1,4,0,0,0,0,2,0,0,0,0,0,1,6]
["Southwestern","3-C","MTRG","Bland County",0,2,10,12,0,1,0,8,0,2,0,1,0,0,0,0,0,0,0,0,0,0,0,0,0,0,0]
["Southwestern","3-A","BLUE","Botetourt County",0,8,37,45,0,15,0,20,1,7,2,0,0,0,0,0,0,0,0,0,0,0,0,0,0,1,0]
["Southwestern","3-D","HIGH","Bristol City",1,1,38,40,1,16,1,14,1,5,0,2,0,0,0,0,0,0,0,1,0,0,0,0,0,0,0]
["Central","4-D","SS","Brunswick County",0,0,35,35,4,18,1,8,0,3,0,1,0,0,1,0,0,0,0,0,0,0,0,0,0,0,0]
["Southwestern","3-D","CMT","Buchanan County",0,3,31,34,1,15,0,10,0,6,1,1,0,0,0,0,0,0,0,0,0,0,0,0,0,0,0]
["Central","4-B","CROS","Buckingham County",0,2,14,16,1,5,0,8,0,1,0,1,0,0,0,0,0,0,0,0,0,0,0,0,0,0,0]
["Western","1-C","ROC","Buena Vista City",0,0,7,7,0,3,0,3,0,0,1,0,0,0,0,0,0,0,0,0,0,0,0,0,0,0,0]
["Western","1-D","HORI","Campbell County",1,23,123,147,8,43,6,54,5,13,8,10,0,0,0,0,0,0,0,0,0,0,0,0,0,0,0]
["Northern","2-C","RapA","Caroline County",2,6,38,46,3,18,1,16,0,1,2,5,0,0,1,0,0,0,0,0,0,0,0,0,0,0,0]
["Southwestern","3-B","MTRG","Carroll County",2,5,149,156,1,38,9,64,7,12,24,1,0,0,0,0,0,0,0,0,0,0,0,0,0,0,1]
["Central","4-A","HENR","Charles City County",0,1,5,6,0,4,0,2,0,0,0,0,0,0,1,0,0,0,0,0,0,0,0,0,0,0,0]
["Central","4-C","CROS","Charlotte County",0,5,29,34,5,9,5,8,0,3,3,1,0,0,1,0,0,0,0,0,0,0,0,0,0,0,0]
["Western","1-A","RTEN","Charlottesville City",2,8,80,90,6,40,2,29,0,8,0,5,0,0,0,0,0,0,0,0,0,0,0,0,0,0,0]
["Eastern","5-D","CHSP","Chesapeake City",8,57,263,328,20,121,13,108,3,29,20,14,0,3,5,0,0,0,0,3,0,0,0,0,5,2,4]
["Central","4-A","CHST","Chesterfield County",21,65,879,965,61,337,71,290,12,74,76,44,0,2,11,0,0,0,0,4,0,0,2,1,4,5,4]
["Northern","2-D","NW","Clarke County",0,2,12,14,0,10,0,2,0,0,1,1,0,0,0,0,0,0,0,0,0,0,0,0,0,0,0]
["Central","4-A","D19","Colonial Heights City",1,2,13,16,4,6,0,2,0,1,1,2,0,0,1,0,0,0,0,2,0,0,0,0,0,0,1]
["Western","1-C","ALLE","Covington City",0,0,11,11,1,7,1,0,1,1,0,0,0,1,1,0,0,0,0,1,0,0,0,0,0,1,0]
["Southwestern","3-A","BLUE","Craig County",0,2,5,7,0,3,0,0,0,1,2,1,0,0,0,0,0,0,0,1,0,0,0,0,0,0,0]
["Northern","2-B","RapR","Culpeper County",0,8,77,85,16,40,1,15,0,5,4,4,0,1,2,0,0,0,0,0,0,0,0,0,0,1,0]
["Central","4-B","CROS","Cumberland County",1,1,27,29,1,14,1,13,0,0,0,0,0,0,1,0,0,0,0,0,0,0,0,0,0,0,0]
["Southwestern","3-B","DANV","Danville City",7,12,144,163,21,61,3,60,2,11,1,4,0,1,3,0,0,0,0,7,0,0,1,0,1,2,2]
["Southwestern","3-D","DCBH","Dickenson County",0,0,27,27,2,11,0,8,1,2,1,2,0,0,1,0,0,0,0,0,0,0,0,0,0,0,0]
["Central","4-D","D19","Dinwiddie County",0,4,64,68,0,22,6,20,2,5,10,3,0,0,0,0,0,0,0,0,0,0,0,0,0,0,0]
["Central","4-C","D19","Emporia City",0,2,3,5,0,1,0,2,0,2,0,0,0,0,0,0,0,0,0,0,0,0,0,0,1,1,0]
["Eastern","5-A","MPNN","Essex County",0,1,16,17,2,5,1,6,1,1,0,1,0,0,0,0,0,0,0,0,0,0,0,0,0,0,0]
["Northern","2-A","FFFC","Fairfax City",0,0,6,6,0,2,0,4,0,0,0,0,0,0,0,0,0,0,0,0,0,0,0,0,0,0,0]
["Northern","2-A","FFFC","Fairfax County",18,216,837,1071,67,361,45,356,17,84,80,61,0,5,8,0,0,0,1,12,0,0,2,3,30,21,1]
["Northern","2-A","FFFC","Falls Church City",0,0,2,2,0,0,0,0,0,0,0,2,0,0,0,0,0,0,0,0,0,0,0,0,2,1,0]
["Northern","2-B","RapR","Fauquier County",0,16,58,74,6,33,1,22,0,12,0,0,0,0,0,0,0,0,0,1,0,0,0,0,1,2,0]
["Southwestern","3-C","NRV","Floyd County",0,7,47,54,2,10,2,18,1,11,10,0,0,2,2,0,0,0,0,2,0,0,0,0,1,1,1]
["Western","1-A","RTEN","Fluvanna County",1,2,16,19,1,8,0,5,0,4,1,0,0,0,0,0,0,0,0,0,0,0,0,0,0,0,0]
["Eastern","5-D","WT","Franklin City",0,1,25,26,1,7,0,14,0,3,1,0,0,1,2,0,0,0,0,1,0,0,0,0,2,2,1]
["Southwestern","3-A","PDMT","Franklin County",6,11,89,106,6,39,6,25,2,15,9,4,0,0,1,0,0,0,0,0,0,0,0,0,0,0,0]
["Northern","2-D","NW","Frederick County",3,23,110,136,10,55,12,34,0,7,11,7,0,1,2,0,0,0,0,1,0,0,0,0,0,2,1]
["Northern","2-C","RapA","Fredericksburg City",0,3,46,49,6,17,1,13,3,5,3,1,0,1,1,0,0,0,0,1,0,0,1,0,3,0,2]
["Southwestern","3-B","MTRG","Galax City",0,1,28,29,1,9,3,9,1,1,4,1,0,2,1,0,0,0,0,1,0,0,0,0,0,0,3]
["Southwestern","3-A","NRV","Giles County",0,4,31,35,0,10,2,8,0,8,7,0,0,0,0,0,0,0,0,0,0,0,0,0,0,0,0]
["Eastern","5-A","MPNN","Gloucester County",0,7,73,80,6,29,2,15,5,20,1,2,0,1,1,0,0,0,0,1,0,0,0,0,3,2,0]
["Central","4-B","GOOC","Goochland County",1,6,19,26,0,11,2,8,0,4,1,0,0,0,1,0,0,0,0,1,0,0,0,0,0,0,1]
["Southwestern","3-B","MTRG","Grayson County",1,0,33,34,1,11,2,16,0,4,0,0,0,0,0,0,0,0,0,0,0,0,0,0,0,0,0]
["Western","1-A","RTEN","Greene County",0,6,16,22,1,11,1,5,0,4,0,0,0,0,0,0,0,0,0,0,0,0,0,0,0,0,0]
["Central","4-D","D19","Greensville County",0,0,11,11,0,4,0,6,0,1,0,0,0,0,0,0,0,0,0,0,0,0,0,0,0,0,0]
["Central","4-C","SS","Halifax County",1,8,67,76,8,38,9,14,3,2,1,1,0,0,1,0,0,0,0,0,0,0,0,0,0,0,0]
["Eastern","5-C","HAMP","Hampton City",10,25,235,270,17,111,11,89,0,27,9,6,0,2,5,0,0,0,0,4,0,0,1,1,2,2,5]
["Central","4-A","HANO","Hanover County",15,37,159,211,14,77,9,54,4,21,14,18,0,0,4,0,0,0,0,1,0,0,1,0,2,1,0]
["Western","1-B","HARR","Harrisonburg City",1,10,61,72,13,29,3,17,1,6,3,0,0,0,0,0,0,0,0,0,0,0,0,0,0,0,0]
["Central","4-A","HENR","Henrico County",16,98,466,580,42,256,33,155,4,26,34,30,0,4,9,0,0,0,2,7,0,0,3,0,2,2,4]
["Southwestern","3-B","PDMT","Henry County",2,5,76,83,10,41,1,20,2,4,1,4,0,0,0,0,0,0,0,0,0,0,0,0,0,0,0]
["Western","1-B","VLY","Highland County",0,0,5,5,0,2,0,2,0,1,0,0,0,0,0,0,0,0,0,0,0,0,0,0,0,0,0]
["Central","4-D","D19","Hopewell City",0,2,25,27,2,11,3,7,0,1,3,0,0,0,0,0,0,0,0,0,0,0,0,0,0,0,0]
["Eastern","5-D","WT","Isle of Wight County",2,2,22,26,1,9,0,13,1,1,0,1,0,1,2,0,0,0,0,0,0,0,0,0,0,0,0]
["Eastern","5-C","COLO","James City County",1,9,31,41,2,14,2,16,1,3,2,1,0,0,0,0,0,0,0,0,0,0,0,0,0,0,1]
["Eastern","5-A","MPNN","King and Queen County",1,0,5,6,0,3,0,1,0,2,0,0,0,0,0,0,0,0,0,0,0,0,0,0,0,0,0]
["Northern","2-C","RapA","King George County",0,5,19,24,2,9,1,9,0,1,0,2,0,0,1,0,0,0,0,0,0,0,0,0,0,0,0]
["Eastern","5-A","MPNN","King William County",0,1,24,25,0,2,2,10,3,7,0,1,0,0,0,0,0,0,0,0,0,0,0,0,0,0,0]
["Eastern","5-A","MPNN","Lancaster County",0,0,7,7,4,3,0,0,0,0,0,0,0,0,0,0,0,0,0,0,0,0,0,0,0,0,0]
["Southwestern","3-D","PLD1","Lee County",1,3,28,32,4,9,1,12,1,2,1,2,0,0,0,0,0,0,0,0,0,0,0,0,0,0,0]
["Western","1-C","ROC","Lexington City",0,1,3,4,2,1,0,0,0,0,1,0,0,0,1,0,0,0,0,0,0,0,0,0,0,0,0]
["Northern","2-A","LOUD","Loudoun County",6,45,167,218,18,79,4,57,4,23,18,15,0,0,1,0,0,0,0,1,0,0,0,0,5,0,0]
["Western","1-A","RTEN","Louisa County",3,8,27,38,6,16,1,6,1,1,2,5,0,0,0,0,0,0,0,0,0,0,0,0,0,0,0]
["Central","4-C","CROS","Lunenburg County",1,1,7,9,2,3,0,2,0,1,0,1,0,0,0,0,0,0,0,0,0,0,0,0,0,0,0]
["Western","1-D","HORI","Lynchburg City",1,34,180,215,21,79,11,66,3,21,6,8,0,0,4,0,0,0,1,3,0,0,0,0,0,1,8]
["Northern","2-B","RapR","Madison County",0,2,10,12,5,6,0,1,0,0,0,0,0,0,0,0,0,0,0,0,0,0,0,0,0,0,1]
["Northern","2-A","PWC","Manassas City",0,4,16,20,1,6,2,8,0,1,2,0,0,1,1,0,0,0,0,0,0,0,0,0,0,0,0]
["Northern","2-A","PWC","Manassas Park City",0,1,3,4,0,2,0,0,0,0,2,0,0,0,0,0,0,0,0,0,0,0,0,0,0,0,0]
["Southwestern","3-B","PDMT","Martinsville City",0,1,40,41,4,27,3,3,0,0,3,1,0,0,1,0,0,0,0,1,0,0,0,0,0,0,0]
["Eastern","5-A","MPNN","Mathews County",0,0,43,43,1,10,2,28,2,0,0,0,0,0,1,0,0,0,0,0,0,0,0,0,0,0,0]
["Central","4-C","SS","Mecklenburg County",0,3,87,90,3,46,8,24,2,3,3,1,0,1,1,0,0,0,0,0,0,0,0,0,0,0,1]
["Eastern","5-A","MPNN","Middlesex County",0,0,24,24,2,10,0,11,0,1,0,0,0,0,0,0,0,0,0,0,0,0,0,0,0,0,0]
["Southwestern","3-A","NRV","Montgomery County",0,24,78,102,6,18,11,25,4,18,18,2,0,1,3,0,0,0,0,4,0,0,0,1,2,2,2]
["Western","1-A","RTEN","Nelson County",0,6,26,32,2,16,0,10,0,3,0,1,0,1,1,0,0,0,0,0,0,0,0,0,0,0,0]
["Central","4-A","HENR","New Kent County",0,1,29,30,2,11,1,10,0,2,2,2,0,1,1,0,0,0,0,0,0,0,1,0,0,0,0]
["Eastern","5-C","HAMP","Newport News City",16,15,190,221,19,79,13,72,1,24,5,8,0,1,4,0,0,0,1,8,0,0,0,0,5,8,7]
["Eastern","5-D","NORF","Norfolk City",21,60,308,389,55,170,11,100,2,21,11,19,0,1,4,0,0,0,1,7,0,0,0,0,1,1,2]
["Eastern","5-B","EAST","Northampton County",0,1,46,47,6,28,1,7,0,4,0,1,0,0,0,0,0,0,0,0,0,0,0,0,0,0,0]
["Eastern","5-A","MPNN","Northumberland County",0,0,7,7,0,2,0,2,0,2,0,1,0,0,0,0,0,0,0,0,0,0,0,0,0,0,0]
["Southwestern","3-D","PLD1","Norton City",0,1,4,5,1,2,0,1,0,1,0,0,0,0,1,0,0,0,0,0,0,0,0,0,0,0,0]
["Central","4-C","CROS","Nottoway County",0,2,14,16,0,5,0,10,0,0,0,1,0,0,0,0,0,0,0,0,0,0,0,0,0,0,0]
["Northern","2-B","RapR","Orange County",0,14,40,54,10,25,3,11,0,4,0,1,0,1,1,0,0,0,0,0,0,0,0,0,0,1,0]
["Northern","2-D","NW","Page County",0,7,17,24,2,11,1,6,0,2,0,2,0,0,0,0,0,0,0,0,0,0,0,0,0,0,0]
["Southwestern","3-C","PDMT","Patrick County",1,3,27,31,1,13,1,10,2,2,1,1,0,0,2,0,0,0,0,0,0,0,0,0,0,0,0]
["Central","4-D","D19","Petersburg City",1,3,131,135,5,53,11,43,3,8,10,2,0,0,2,0,0,0,0,0,0,0,0,0,0,0,2]
["Southwestern","3-B","DANV","Pittsylvania County",7,14,141,162,7,73,12,44,2,15,9,0,0,1,1,0,0,0,0,0,0,0,0,0,0,0,0]
["Eastern","5-C","COLO","Poquoson City",0,2,4,6,1,1,1,2,0,0,0,1,0,0,0,0,0,0,0,0,0,0,0,0,0,0,0]
["Eastern","5-D","PORT","Portsmouth City",3,8,263,274,21,110,9,89,3,17,18,7,0,2,5,0,0,0,1,4,0,0,0,0,0,2,3]
["Central","4-B","GOOC","Powhatan County",1,8,18,27,0,10,2,9,0,2,0,4,0,0,1,0,0,0,0,1,0,0,0,0,0,0,0]
["Central","4-C","CROS","Prince Edward County",0,7,70,77,5,35,7,21,0,2,4,3,0,0,2,0,0,0,0,3,0,0,0,0,0,0,0]
["Central","4-D","D19","Prince George County",0,3,50,53,3,23,10,10,0,1,5,1,0,0,1,0,0,0,0,2,0,0,0,0,1,2,0]
["Northern","2-A","PWC","Prince William County",10,59,355,424,16,140,27,104,10,55,37,35,0,2,3,0,0,0,0,5,0,0,0,2,12,11,1]
["Southwestern","3-C","NRV","Pulaski County",0,7,47,54,1,13,0,19,0,10,8,3,0,0,0,0,0,0,0,0,0,0,0,0,0,0,0]
["Southwestern","3-C","NRV","Radford City",0,1,21,22,0,6,1,6,1,3,5,0,0,0,2,0,0,0,0,0,0,0,0,0,0,0,1]
["Northern","2-B","RapR","Rappahannock County",0,1,5,6,0,2,1,1,0,0,1,1,0,0,0,0,0,0,0,0,0,0,0,0,0,0,0]
["Central","4-A","RBHA","Richmond City",10,32,280,322,25,120,10,107,5,29,14,12,0,2,2,0,0,0,0,2,0,0,0,1,3,3,1]
["Eastern","5-A","MPNN","Richmond County",1,7,42,50,3,23,2,12,0,6,2,2,0,0,0,0,0,0,0,0,0,0,0,0,0,0,0]
["Southwestern","3-A","BLUE","Roanoke City",7,19,122,148,11,49,9,46,2,8,13,10,0,0,3,0,0,0,1,0,0,0,0,0,0,1,3]
["Southwestern","3-A","BLUE","Roanoke County",4,32,175,211,15,62,13,69,5,16,18,13,0,1,3,0,0,0,1,3,0,0,0,0,1,2,3]
["Western","1-C","ROC","Rockbridge County",0,4,55,59,9,15,7,12,0,5,8,3,0,0,0,0,0,0,0,0,0,0,0,0,0,0,0]
["Western","1-B","HARR","Rockingham County",4,15,118,137,5,54,1,48,3,15,10,1,0,2,3,0,0,0,1,3,0,0,1,0,0,1,2]
["Southwestern","3-D","CMT","Russell County",1,3,58,62,4,29,2,11,1,9,3,3,0,0,0,0,0,0,0,0,0,0,0,0,0,0,0]
["Southwestern","3-A","BLUE","Salem City",0,4,21,25,1,7,3,8,0,2,1,3,0,1,2,0,0,0,0,2,0,0,0,1,1,3,0]
["Southwestern","3-D","PLD1","Scott County",1,1,64,66,4,26,1,27,0,3,2,3,0,0,0,0,0,0,0,0,0,0,0,0,0,0,0]
["Northern","2-D","NW","Shenandoah County",5,10,87,102,0,47,4,43,0,3,5,0,0,2,3,0,0,0,0,0,0,0,0,0,0,0,1]
["Southwestern","3-D","MTRG","Smyth County",0,2,76,78,2,18,3,34,5,6,2,8,0,0,1,0,0,0,0,0,0,0,0,0,0,0,1]
["Eastern","5-D","WT","Southampton County",0,0,17,17,1,6,1,8,0,1,0,0,0,0,0,0,0,0,0,0,0,0,0,0,0,0,0]
["Northern","2-C","RapA","Spotsylvania County",3,30,196,229,11,78,8,75,5,22,15,15,0,0,4,0,0,0,0,0,0,0,0,0,0,1,1]
["Northern","2-C","RapA","Stafford County",6,36,178,220,15,67,14,72,2,21,18,11,0,1,1,0,0,0,0,1,0,0,0,0,1,1,0]
["Western","1-B","VLY","Staunton City",0,6,57,63,7,18,4,22,0,8,4,0,0,1,2,0,0,0,0,2,0,0,0,0,0,0,2]
["Eastern","5-D","WT","Suffolk City",0,11,146,157,6,55,9,60,1,16,8,2,0,3,3,0,0,0,0,3,0,0,0,0,1,1,1]
["Central","4-D","D19","Surry County",0,0,2,2,0,1,0,0,0,1,0,0,0,0,0,0,0,0,0,0,0,0,0,0,0,0,0]
["Central","4-D","D19","Sussex County",0,0,34,34,2,17,0,13,0,2,0,0,0,0,0,0,0,0,0,0,0,0,0,0,0,0,0]
["Southwestern","3-D","CMT","Tazewell County",1,6,67,74,7,26,3,23,0,8,2,5,0,0,1,0,0,0,0,1,0,0,0,0,2,2,0]
["Eastern","5-D","VAB","Virginia Beach City",13,115,645,773,56,286,29,279,10,62,28,23,0,2,6,0,0,0,2,12,0,0,2,0,7,10,6]
["Northern","2-D","NW","Warren County",1,20,13,34,5,15,3,6,0,4,0,1,0,1,1,0,0,0,0,1,0,0,0,0,0,0,0]
["Southwestern","3-D","HIGH","Washington County",1,10,80,91,6,27,1,35,1,15,4,2,0,0,2,0,0,0,0,0,0,0,0,0,2,2,1]
["Western","1-B","VLY","Waynesboro City",0,6,69,75,3,28,2,28,0,6,4,4,0,0,0,0,0,0,0,0,0,0,0,0,0,0,1]
["Eastern","5-A","MPNN","Westmoreland County",0,2,14,16,4,2,0,4,0,1,0,5,0,0,0,0,0,0,0,0,0,0,0,0,0,0,0]
["Eastern","5-C","COLO","Williamsburg City",0,0,14,14,0,9,0,3,0,0,2,0,0,0,1,0,0,0,0,1,0,0,0,0,0,0,1]
["Northern","2-D","NW","Winchester City",1,14,79,94,7,49,5,20,0,3,6,4,0,2,3,0,0,0,0,0,0,0,1,0,0,1,0]
["Southwestern","3-D","PLD1","Wise County",0,4,89,93,4,33,4,30,2,6,6,8,0,0,5,0,0,0,0,1,0,0,0,0,1,1,1]
["Southwestern","3-C","MTRG","Wythe County",0,7,61,68,3,16,4,24,5,5,6,5,0,1,1,0,0,0,0,0,0,0,1,0,1,1,1]
["Eastern","5-C","COLO","York County",0,8,36,44,4,18,0,16,0,4,0,2,0,0,0,0,0,0,0,0,0,0,0,0,1,0,0]
[]
["DS-Regional Totals - Unique"]
["Central",null,"na","na",69,296,2500,2865,187,1126,174,839,34,201,176,128,0,9,32,0,0,0,2,16,0,0,6,1,12,7,11]
["Eastern",null,"na","na",75,329,2599,3003,240,1158,115,998,34,246,113,99,0,13,31,0,0,0,6,38,0,0,4,0,21,17,29]
["Northern",null,"na","na",62,553,2537,3152,226,1152,144,937,42,263,211,177,0,14,28,0,0,0,1,19,0,0,5,4,47,13,6]
["Southwestern",null,"na","na",44,202,1971,2217,128,735,107,723,50,217,166,91,0,7,27,0,0,0,2,18,0,0,2,1,6,6,10]
["Western",null,"na","na",17,223,1445,1685,112,609,68,551,25,173,77,70,0,6,15,0,0,0,2,13,0,0,1,0,2,4,18]
["Total nonUnique",null,"na","na",{"$f":"SUM(E137:E141)","v":267},1603,11052,12922,893,4780,608,4048,185,1100,743,565,{"$f":"SUM(Q137:Q141)","v":0},{"$f":"SUM(R137:R141)","v":49},133,0,0,0,13,104,0,0,18,6,88,47,74]
["Total Unique",null,"na","na",267,1603,11052,12922,893,4780,608,4048,185,1100,743,565,0,45,126,0,0,0,13,96,0,0,18,6,81,42,64]
["DS-SubRegional Totals - Unique"]
["Western","1-A","na","na",7,59,247,313,22,149,5,85,3,27,7,15,0,1,3,0,0,0,0,3,0,0,0,0,1,2,3]
["Western","1-B","na","na",5,50,445,500,31,183,20,163,6,54,28,15,0,4,5,0,0,0,1,5,0,0,1,0,1,1,6]
["Western","1-C","na","na",1,16,120,137,20,49,10,27,1,14,12,4,0,1,2,0,0,0,0,2,0,0,0,0,0,1,0]
["Western","1-D","na","na",4,95,619,718,39,225,29,279,16,69,26,35,0,1,6,0,0,0,1,4,0,0,0,0,0,1,12]
["Northern","2-A","na","na",41,355,1580,1976,127,672,88,611,32,175,151,120,0,8,14,0,0,0,1,16,0,0,3,4,44,9,2]
["Northern","2-B","na","na",null,41,190,231,37,106,6,50,null,21,5,6,0,1,2,0,0,0,0,0,0,0,0,0,1,1,0]
["Northern","2-C","na","na",11,80,477,568,37,189,25,185,10,50,38,34,0,1,4,0,0,0,0,1,0,0,1,0,2,0,3]
["Northern","2-D","na","na",10,76,318,404,24,187,25,111,null,19,23,15,0,4,8,0,0,0,0,2,0,0,1,0,0,3,1]
["Southwestern","3-A","na","na",17,104,558,679,39,203,44,201,14,75,70,33,0,2,11,0,0,0,2,8,0,0,0,1,3,4,5]
["Southwestern","3-B","na","na",19,38,611,668,45,260,33,216,14,47,42,11,0,5,6,0,0,0,0,9,0,0,1,0,1,2,5]
["Southwestern","3-C","na","na",1,27,213,241,7,59,8,85,9,33,30,10,0,3,6,0,0,0,0,2,0,0,1,0,2,2,3]
["Southwestern","3-D","na","na",6,34,562,602,36,212,16,205,12,63,22,36,0,0,10,0,0,0,0,3,0,0,0,0,4,1,3]
["Central","4-A","na","na",63,236,1831,2130,148,811,124,620,25,153,141,108,0,8,25,0,0,0,2,10,0,0,6,1,10,6,9]
["Central","4-B","na","na",3,18,89,110,2,46,5,42,null,8,1,6,0,0,2,0,0,0,0,1,0,0,0,0,0,0,1]
["Central","4-C","na","na",2,28,277,307,23,137,29,81,5,13,11,8,0,1,5,0,0,0,0,3,0,0,0,0,1,0,1]
["Central","4-D","na","na",1,12,352,365,16,149,31,107,5,22,28,7,0,0,4,0,0,0,0,2,0,0,0,0,1,1,3]
["Eastern","5-A","na","na",2,18,255,275,22,89,9,89,11,40,3,12,0,1,2,0,0,0,0,1,0,0,0,0,2,1,0]
["Eastern","5-B","na","na",null,3,109,112,14,58,2,22,null,9,1,6,0,0,1,0,0,0,0,1,0,0,1,0,0,0,0]
["Eastern","5-C","na","na",27,59,510,596,43,232,27,198,2,58,18,18,0,3,10,0,0,0,2,12,0,0,1,0,7,4,14]
["Eastern","5-D","na","na",47,254,1689,1990,161,764,72,671,20,150,86,66,0,9,20,0,0,0,4,24,0,0,2,0,14,12,15]
["(Unique) Number of Individuals with approved Jump-Start Service Authorization Lines these 6 months"]
["Number of Individuals",null,null,null,107,554,5720,6381,467,2372,313,1914,76,634,379,226,0,298,2729,0,0,0,42,1874,0,0,129,19,303,298,1813]
["Percent of possible Individuals",null,null,null,{"$f":"E166/E143","v":0.40074906367041196},{"$f":"F166/F143","v":0.3456019962570181},{"$f":"G166/G143","v":0.51755338400289541},{"$f":"H166/H143","v":0.49380900789351495},{"$f":"I166/I143","v":0.52295632698768202},0.49623430962343096,0.51480263157894735,0.47282608695652173,0.41081081081081083,0.57636363636363641,0.51009421265141319,{"$f":"P166/P143","v":0.4}]
["(Unique) Number of (approved Jump-Start) Service Authorization Lines (SALs) these 6 months"]
["Number of Jump-Start Service Authorization Lines",null,null,null,156,943,10459,11558,789,4217,593,3478,125,1317,717,322,0,424,4056,0,0,0,53,3008,0,0,174,53,608,473,2709]
["Number of SA Lines per Person",null,null,null,{"$f":"E169/E166","v":1.4579439252336448},{"$f":"F169/F166","v":1.7021660649819494},1.8284965034965035,1.811314840934023,1.689507494646681,1.7778246205733559,1.8945686900958467,1.8171368861024033,1.6447368421052631,2.0772870662460567,1.891820580474934,1.4247787610619469,null,1.4228187919463087,1.4862587028215464,null,null,null,1.2619047619047619,1.6051227321237993,null,null,1.3488372093023255,2.7894736842105261,2.0066006600660065,1.587248322147651,1.4942084942084941]

{"sheet":"Master20181101","index":1,"n_rows":143,"n_cols":31,"rows_kept":143,"cut":false,"hidden":false,"merged":[]}
["DS Region","SubRegion","CSB"," City/County","BI waiver","FIS waiver","CL waiver","All waivers","SIS\nL1","SIS\nL2","SIS\nL3","SIS\nL4","SIS\nL5","SIS\nL6","SIS\nL7","SIS\nDefault","Benefits Planning","Community Coaching","Community Engagement","Community Guide","Electronic Home-Based Services","Employment and Community Transportation","Independent Living Supports","In-home Supports","Peer Mentoring","Shared Living","Supported Living","Crisis Support Services","Private Duty Nursing","Skilled Nursing","Sponsored Residential"]
["Eastern","5-B","EAST","Accomack County",0,4,62,66,9,31,1,16,0,4,1,4,0,0,1,0,0,0,0,1,0,0,1,0,0,0,0]
["Western","1-A","RTEN","Albemarle County",1,28,85,114,7,58,1,34,1,7,2,4,0,0,3,0,0,0,0,3,0,0,0,0,1,2,3]
["Northern","2-A","ALEX","Alexandria City",4,8,81,93,10,37,2,31,1,4,6,2,0,0,1,0,0,0,0,1,0,0,1,0,2,0,0]
["Western","1-C","ALLE","Alleghany County",1,11,34,46,6,20,1,11,0,5,2,1,0,1,1,0,0,0,0,2,0,0,0,0,0,0,0]
["Central","4-B","CROS","Amelia County",0,1,13,14,1,5,0,7,0,1,0,0,0,0,0,0,0,0,0,0,0,0,0,0,0,0,0]
["Western","1-D","HORI","Amherst County",0,9,144,153,4,41,4,71,4,18,9,2,0,1,1,0,0,0,0,0,0,0,0,0,0,2,2]
["Western","1-D","HORI","Appomattox County",1,7,25,33,3,14,3,9,1,2,1,0,0,1,1,0,0,0,0,1,0,0,0,0,0,0,1]
["Northern","2-A","ARLI","Arlington County",3,23,115,141,15,47,8,51,1,9,8,2,0,0,0,0,0,0,0,0,0,0,0,0,0,0,0]
["Western","1-B","VLY","Augusta County",0,16,131,147,5,49,7,46,1,23,8,8,0,1,1,0,0,0,0,1,0,0,0,0,0,0,2]
["Western","1-C","ROC","Bath County",0,1,8,9,2,0,2,2,0,3,0,0,0,0,0,0,0,0,0,0,0,0,0,0,0,0,0]
["Western","1-D","HORI","Bedford County",1,25,156,182,4,43,5,82,4,28,6,10,0,0,5,0,0,0,0,5,0,0,0,0,0,2,4]
["Southwestern","3-C","MTRG","Bland County",0,2,11,13,0,1,0,8,0,3,0,1,0,0,0,0,0,0,0,0,0,0,0,0,0,0,0]
["Southwestern","3-A","BLUE","Botetourt County",0,8,34,42,0,12,0,19,1,7,2,1,0,0,1,0,0,0,0,0,0,0,0,0,0,1,0]
["Southwestern","3-D","HIGH","Bristol City",1,2,42,45,2,14,2,20,1,5,0,1,0,0,0,0,0,0,0,1,0,0,0,0,0,0,0]
["Central","4-D","SS","Brunswick County",0,1,34,35,3,19,1,8,0,3,0,1,0,0,1,0,0,0,0,0,0,0,0,0,0,0,0]
["Southwestern","3-D","CMT","Buchanan County",0,3,28,31,1,12,0,12,0,5,1,0,0,0,0,0,0,0,0,0,0,0,0,0,0,0,0]
["Central","4-B","CROS","Buckingham County",0,2,14,16,1,5,0,8,0,1,0,1,0,0,0,0,0,0,0,0,0,0,0,0,0,0,0]
["Western","1-C","ROC","Buena Vista City",0,0,7,7,0,2,0,4,0,0,1,0,0,0,0,0,0,0,0,0,0,0,0,0,0,0,0]
["Western","1-D","HORI","Campbell County",1,22,130,153,8,44,7,57,6,16,8,7,0,0,0,0,0,0,0,0,0,0,0,0,0,0,0]
["Northern","2-C","RapA","Caroline County",1,7,41,49,3,21,1,17,0,2,3,2,0,0,1,0,0,0,0,0,0,0,0,0,0,0,0]
["Southwestern","3-B","MTRG","Carroll County",2,7,177,186,0,36,6,75,11,20,34,4,0,0,0,0,0,0,0,0,0,0,0,0,0,0,1]
["Central","4-A","HENR","Charles City County",0,1,3,4,0,3,0,1,0,0,0,0,0,0,1,0,0,0,0,0,0,0,0,0,0,0,0]
["Central","4-C","CROS","Charlotte County",0,4,29,33,5,9,4,8,0,3,3,1,0,0,2,0,0,0,0,0,0,0,0,0,0,0,0]
["Western","1-A","RTEN","Charlottesville City",4,7,83,94,7,42,1,28,1,10,0,5,0,0,0,0,0,0,0,0,0,0,0,0,0,0,0]
["Eastern","5-D","CHSP","Chesapeake City",9,57,270,336,18,114,15,116,3,30,21,19,0,4,6,0,0,0,0,5,0,0,0,0,9,4,4]
["Central","4-A","CHST","Chesterfield County",25,68,896,989,61,340,65,316,19,76,72,40,0,3,11,0,0,0,0,5,0,0,3,1,6,2,4]
["Northern","2-D","NW","Clarke County",0,2,13,15,1,8,1,3,0,0,1,1,0,0,0,0,0,0,0,0,0,0,0,0,0,0,0]
["Central","4-A","D19","Colonial Heights City",1,2,14,17,3,6,0,2,1,1,1,3,0,0,2,0,0,0,0,1,0,0,0,0,0,0,1]
["Western","1-C","ALLE","Covington City",0,0,13,13,1,7,1,0,1,1,0,2,0,1,1,0,0,0,0,2,0,0,0,0,0,1,0]
["Southwestern","3-A","BLUE","Craig County",1,2,5,8,0,3,0,0,0,1,2,2,0,0,0,0,0,0,0,1,0,0,0,0,0,0,0]
["Northern","2-B","RapR","Culpeper County",2,6,81,89,17,41,1,18,0,5,4,3,0,1,2,0,0,0,0,0,0,0,0,0,0,1,0]
["Central","4-B","CROS","Cumberland County",1,2,27,30,2,12,1,14,0,0,0,1,0,0,1,0,0,0,0,0,0,0,0,0,0,0,0]
["Southwestern","3-B","DANV","Danville City",10,13,146,169,22,61,3,61,2,11,3,6,0,2,3,0,0,0,1,9,0,0,1,0,1,2,2]
["Southwestern","3-D","DCBH","Dickenson County",0,1,28,29,2,11,0,9,1,2,1,3,0,0,1,0,0,0,0,0,0,0,0,0,0,0,0]
["Central","4-D","D19","Dinwiddie County",0,4,63,67,0,21,7,20,2,6,7,4,0,0,0,0,0,0,0,0,0,0,0,0,0,0,0]
["Central","4-C","D19","Emporia City",0,2,3,5,0,0,0,2,0,2,0,1,0,0,0,0,0,0,0,0,0,0,0,0,1,0,0]
["Eastern","5-A","MPNN","Essex County",0,1,17,18,3,6,1,5,1,1,0,1,0,0,0,0,0,0,0,0,0,0,0,0,0,0,0]
["Northern","2-A","FFFC","Fairfax City",0,0,6,6,0,2,0,4,0,0,0,0,0,0,0,0,0,0,0,0,0,0,0,0,0,0,0]
["Northern","2-A","FFFC","Fairfax County",20,250,838,1108,68,342,43,385,18,80,79,93,0,8,8,0,0,0,2,17,0,0,2,1,39,3,1]
["Northern","2-A","FFFC","Falls Church City",0,0,1,1,0,0,1,0,0,0,0,0,0,0,0,0,0,0,0,0,0,0,0,0,2,0,0]
["Northern","2-B","RapR","Fauquier County",0,16,59,75,6,33,1,21,0,12,2,0,0,0,0,0,0,0,0,0,0,0,0,0,2,1,0]
["Southwestern","3-C","NRV","Floyd County",0,6,45,51,2,11,1,16,1,10,10,0,0,2,2,0,0,0,0,3,0,0,0,0,1,2,2]
["Western","1-A","RTEN","Fluvanna County",1,2,16,19,1,8,0,5,0,4,1,0,0,0,0,0,0,0,0,0,0,0,0,0,0,0,0]
["Eastern","5-D","WT","Franklin City",0,1,26,27,1,6,0,15,0,4,1,0,0,1,2,0,0,0,0,1,0,0,0,0,2,1,1]
["Southwestern","3-A","PDMT","Franklin County",6,11,89,106,5,38,5,26,2,18,9,3,0,0,1,0,0,0,0,0,0,0,0,0,0,0,0]
["Northern","2-D","NW","Frederick County",3,24,106,133,9,54,10,35,0,8,11,6,0,1,2,0,0,0,0,1,0,0,0,0,0,4,2]
["Northern","2-C","RapA","Fredericksburg City",0,3,47,50,8,17,0,15,2,4,3,1,0,1,1,0,0,0,0,2,0,0,1,0,1,0,2]
["Southwestern","3-B","MTRG","Galax City",0,1,29,30,1,7,3,10,1,2,5,1,0,2,1,0,0,0,0,2,0,0,0,0,0,0,3]
["Southwestern","3-A","NRV","Giles County",0,3,32,35,0,8,2,9,0,9,6,1,0,0,0,0,0,0,0,0,0,0,0,0,0,0,0]
["Eastern","5-A","MPNN","Gloucester County",0,7,77,84,6,32,2,14,5,19,1,5,0,1,1,0,0,0,0,1,0,0,0,0,2,2,0]
["Central","4-B","GOOC","Goochland County",1,6,17,24,0,10,2,7,0,4,1,0,0,0,1,0,0,0,0,2,0,0,0,0,0,0,1]
["Southwestern","3-B","MTRG","Grayson County",1,0,35,36,1,12,3,16,0,4,0,0,0,0,0,0,0,0,0,0,0,0,0,0,0,0,0]
["Western","1-A","RTEN","Greene County",0,6,15,21,1,8,1,7,1,3,0,0,0,0,0,0,0,0,0,0,0,0,0,0,0,0,0]
["Central","4-D","D19","Greensville County",0,1,11,12,0,4,0,6,0,1,0,1,0,0,0,0,0,0,0,0,0,0,0,0,0,0,0]
["Central","4-C","SS","Halifax County",1,9,70,80,8,38,9,16,3,2,2,2,0,0,1,0,0,0,0,0,0,0,0,0,0,0,0]
["Eastern","5-C","HAMP","Hampton City",11,32,241,284,17,120,12,86,0,28,9,12,0,2,6,0,0,0,0,5,0,0,1,0,1,1,6]
["Central","4-A","HANO","Hanover County",16,41,159,216,18,73,11,60,4,23,15,12,0,0,4,0,0,0,0,1,0,0,1,0,1,0,1]
["Western","1-B","HARR","Harrisonburg City",3,11,57,71,12,26,3,20,0,5,2,3,0,0,0,0,0,0,0,0,0,0,0,0,0,0,0]
["Central","4-A","HENR","Henrico County",17,103,473,593,43,249,32,171,4,31,40,23,1,3,8,0,0,0,2,11,0,0,2,0,2,1,5]
["Southwestern","3-B","PDMT","Henry County",3,5,85,93,11,42,1,23,2,5,4,5,0,0,0,0,0,0,0,0,0,0,0,0,0,0,0]
["Western","1-B","VLY","Highland County",0,0,7,7,0,2,0,4,0,1,0,0,0,0,0,0,0,0,0,0,0,0,0,0,0,0,0]
["Central","4-D","D19","Hopewell City",0,2,23,25,2,10,3,6,1,1,2,0,0,0,0,0,0,0,0,0,0,0,0,0,0,0,1]
["Eastern","5-D","WT","Isle of Wight County",2,2,21,25,1,10,0,12,1,1,0,0,0,1,2,0,0,0,0,0,0,0,0,0,0,1,0]
["Eastern","5-C","COLO","James City County",1,13,33,47,4,16,2,16,1,3,2,3,0,0,0,0,0,0,0,0,0,0,0,0,0,0,1]
["Eastern","5-A","MPNN","King and Queen County",1,0,5,6,0,3,0,1,0,2,0,0,0,0,0,0,0,0,0,0,0,0,0,0,0,0,0]
["Northern","2-C","RapA","King George County",0,6,18,24,2,7,0,11,0,1,1,2,0,0,1,0,0,0,0,0,0,0,0,0,0,0,0]
["Eastern","5-A","MPNN","King William County",0,1,24,25,0,3,2,10,2,8,0,0,0,0,0,0,0,0,0,0,0,0,0,0,0,0,0]
["Eastern","5-A","MPNN","Lancaster County",0,0,8,8,4,3,1,0,0,0,0,0,0,0,0,0,0,0,0,0,0,0,0,0,0,0,0]
["Southwestern","3-D","PLD1","Lee County",1,3,27,31,3,11,1,12,1,2,0,1,0,0,0,0,0,0,0,0,0,0,0,0,0,0,0]
["Western","1-C","ROC","Lexington City",0,0,4,4,2,1,0,0,0,0,1,0,0,0,1,0,0,0,0,0,0,0,0,0,0,0,0]
["Northern","2-A","LOUD","Loudoun County",7,51,167,225,16,71,5,61,4,23,26,19,0,0,1,0,0,0,0,2,0,0,0,0,7,0,0]
["Western","1-A","RTEN","Louisa County",3,6,26,35,5,16,1,8,1,1,2,1,0,0,0,0,0,0,0,0,0,0,0,0,0,0,0]
["Central","4-C","CROS","Lunenburg County",1,1,7,9,1,4,0,3,0,1,0,0,0,0,0,0,0,0,0,0,0,0,0,0,0,0,0]
["Western","1-D","HORI","Lynchburg City",1,36,175,212,20,78,10,67,3,21,7,6,0,0,2,0,0,0,1,3,0,0,0,0,0,2,8]
["Northern","2-B","RapR","Madison County",0,1,10,11,4,6,0,1,0,0,0,0,0,0,0,0,0,0,0,0,0,0,0,0,0,0,0]
["Northern","2-A","PWC","Manassas City",0,4,14,18,0,7,1,7,0,1,2,0,0,1,1,0,0,0,0,0,0,0,0,0,0,0,0]
["Northern","2-A","PWC","Manassas Park City",0,1,2,3,0,2,0,0,0,0,1,0,0,0,0,0,0,0,0,0,0,0,0,0,0,0,0]
["Southwestern","3-B","PDMT","Martinsville City",0,1,31,32,3,17,1,7,0,1,3,0,0,0,1,0,0,0,0,1,0,0,0,0,0,0,0]
["Eastern","5-A","MPNN","Mathews County",0,0,37,37,0,13,1,22,1,0,0,0,0,0,0,0,0,0,0,0,0,0,0,0,0,0,0]
["Central","4-C","SS","Mecklenburg County",0,5,88,93,4,45,7,27,1,3,2,4,0,1,1,0,0,0,0,0,0,0,0,0,0,1,1]
["Eastern","5-A","MPNN","Middlesex County",0,1,24,25,3,11,0,10,0,1,0,0,0,0,0,0,0,0,0,0,0,0,0,0,0,0,0]
["Southwestern","3-A","NRV","Montgomery County",0,27,78,105,7,18,10,26,4,18,21,1,0,1,3,0,0,0,0,5,0,0,0,1,4,2,3]
["Western","1-A","RTEN","Nelson County",0,6,26,32,3,13,0,12,0,3,1,0,0,1,1,0,0,0,0,0,0,0,0,0,0,0,0]
["Central","4-A","HENR","New Kent County",0,2,26,28,1,11,1,10,0,2,1,2,0,1,1,0,0,0,0,0,0,0,1,0,0,0,0]
["Eastern","5-C","HAMP","Newport News City",14,15,197,226,16,76,13,79,1,25,6,10,0,1,4,0,0,0,2,9,0,0,0,0,5,4,7]
["Eastern","5-D","NORF","Norfolk City",22,61,294,377,50,162,12,101,2,16,13,21,0,1,5,0,0,0,1,6,0,0,0,0,1,0,2]
["Eastern","5-B","EAST","Northampton County",0,1,45,46,6,26,1,8,0,4,0,1,0,0,0,0,0,0,0,0,0,0,0,0,0,0,0]
["Eastern","5-A","MPNN","Northumberland County",0,0,7,7,0,3,0,2,0,1,0,1,0,0,0,0,0,0,0,0,0,0,0,0,0,0,0]
["Southwestern","3-D","PLD1","Norton City",0,1,4,5,1,2,0,1,0,1,0,0,0,0,1,0,0,0,0,0,0,0,0,0,0,0,0]
["Central","4-C","CROS","Nottoway County",0,2,16,18,0,5,0,11,0,0,0,2,0,0,0,0,0,0,0,0,0,0,0,0,0,0,0]
["Northern","2-B","RapR","Orange County",0,15,39,54,10,25,2,12,0,4,0,1,0,1,1,0,0,0,0,0,0,0,0,0,0,1,0]
["Northern","2-D","NW","Page County",0,7,18,25,3,11,1,7,0,2,0,1,0,0,0,0,0,0,0,0,0,0,0,0,0,0,0]
["Southwestern","3-C","PDMT","Patrick County",1,4,26,31,0,15,0,9,2,2,1,2,0,0,1,0,0,0,0,0,0,0,0,0,0,0,0]
["Central","4-D","D19","Petersburg City",1,4,133,138,4,51,14,45,3,10,9,2,0,0,1,0,0,0,0,0,0,0,0,0,0,0,2]
["Southwestern","3-B","DANV","Pittsylvania County",10,14,140,164,5,72,13,42,2,15,9,6,0,1,1,0,0,0,0,0,0,0,0,0,0,0,0]
["Eastern","5-C","COLO","Poquoson City",0,2,4,6,1,0,1,4,0,0,0,0,0,0,0,0,0,0,0,0,0,0,0,0,0,0,0]
["Eastern","5-D","PORT","Portsmouth City",3,8,269,280,21,104,13,95,4,17,12,14,0,1,5,0,0,0,1,5,0,0,1,0,0,2,2]
["Central","4-B","GOOC","Powhatan County",1,8,22,31,0,11,3,11,0,2,0,4,0,0,2,0,0,0,0,2,0,0,0,0,0,0,0]
["Central","4-C","CROS","Prince Edward County",0,7,69,76,6,33,9,19,1,1,3,4,0,0,2,0,0,0,0,4,0,0,0,0,0,0,0]
["Central","4-D","D19","Prince George County",0,4,54,58,2,22,10,12,0,1,8,3,0,0,2,0,0,0,0,2,0,0,0,0,1,1,1]
["Northern","2-A","PWC","Prince William County",11,64,368,443,15,138,29,121,11,59,34,36,0,2,3,0,0,0,0,6,0,0,0,3,14,7,1]
["Southwestern","3-C","NRV","Pulaski County",0,11,47,58,1,10,2,16,0,11,13,5,0,0,0,0,0,0,0,0,0,0,0,0,0,0,0]
["Southwestern","3-C","NRV","Radford City",0,1,16,17,0,2,1,4,2,3,5,0,0,0,1,0,0,0,0,0,0,0,0,0,0,0,0]
["Northern","2-B","RapR","Rappahannock County",0,1,5,6,0,2,1,1,0,0,1,1,0,0,0,0,0,0,0,0,0,0,0,0,0,0,0]
["Central","4-A","RBHA","Richmond City",12,31,275,318,27,109,11,108,8,30,14,11,0,2,2,0,0,0,0,1,0,0,0,0,6,1,1]
["Eastern","5-A","MPNN","Richmond County",0,8,46,54,5,20,4,14,0,5,3,3,0,0,0,0,0,0,0,0,0,0,0,0,0,0,0]
["Southwestern","3-A","BLUE","Roanoke City",7,18,114,139,9,47,10,48,2,9,11,3,0,1,4,0,0,0,1,1,0,0,0,0,0,1,3]
["Southwestern","3-A","BLUE","Roanoke County",5,32,180,217,15,62,15,73,5,16,20,11,0,0,4,0,0,0,0,4,0,0,0,0,2,2,3]
["Western","1-C","ROC","Rockbridge County",0,4,55,59,9,13,6,16,0,5,8,2,0,0,0,0,0,0,0,0,0,0,0,0,0,0,0]
["Western","1-B","HARR","Rockingham County",3,20,120,143,9,59,2,41,3,17,7,5,0,2,3,0,0,0,1,4,0,0,1,0,0,0,2]
["Southwestern","3-D","CMT","Russell County",0,2,58,60,3,29,3,13,0,7,3,2,0,0,0,0,0,0,0,0,0,0,0,0,0,0,0]
["Southwestern","3-A","BLUE","Salem City",0,4,21,25,1,9,4,5,0,2,1,3,0,1,2,0,0,0,0,4,0,0,0,0,1,3,0]
["Southwestern","3-D","PLD1","Scott County",1,1,64,66,4,25,1,30,0,3,2,1,0,0,0,0,0,0,0,0,0,0,0,0,0,0,0]
["Northern","2-D","NW","Shenandoah County",2,12,91,105,0,48,4,43,0,5,4,1,0,1,2,0,0,0,0,0,0,0,0,0,0,0,1]
["Southwestern","3-D","MTRG","Smyth County",0,3,73,76,2,18,2,35,4,6,2,7,0,0,1,0,0,0,0,0,0,0,0,0,0,0,1]
["Eastern","5-D","WT","Southampton County",0,0,18,18,1,6,1,8,0,1,0,1,0,0,0,0,0,0,0,0,0,0,0,0,0,0,0]
["Northern","2-C","RapA","Spotsylvania County",3,31,206,240,16,81,12,73,7,23,17,11,0,0,3,0,0,0,0,0,0,0,0,0,0,0,1]
["Northern","2-C","RapA","Stafford County",5,37,167,209,16,66,12,68,2,22,15,8,0,0,0,0,0,0,0,0,0,0,0,0,0,0,0]
["Western","1-B","VLY","Staunton City",0,8,56,64,5,18,4,22,0,7,4,4,0,1,2,0,0,0,0,2,0,0,0,0,0,1,2]
["Eastern","5-D","WT","Suffolk City",0,14,153,167,6,53,7,65,1,18,12,5,0,2,3,0,0,0,0,4,0,0,0,0,1,1,0]
["Central","4-D","D19","Surry County",0,0,2,2,0,1,0,0,0,1,0,0,0,0,0,0,0,0,0,0,0,0,0,0,0,0,0]
["Central","4-D","D19","Sussex County",0,0,35,35,2,16,1,15,0,1,0,0,0,0,0,0,0,0,0,0,0,0,0,0,0,0,0]
["Southwestern","3-D","CMT","Tazewell County",1,6,64,71,7,29,1,19,0,9,2,4,0,0,1,0,0,0,0,1,0,0,0,0,2,0,0]
["Eastern","5-D","VAB","Virginia Beach City",16,114,644,774,51,273,29,288,12,59,29,33,0,3,5,0,0,0,3,14,0,0,2,0,7,8,7]
["Northern","2-D","NW","Warren County",1,20,13,34,5,16,2,6,0,4,0,1,0,1,1,0,0,0,0,2,0,0,0,0,0,0,0]
["Southwestern","3-D","HIGH","Washington County",1,8,79,88,4,28,0,34,2,16,3,1,0,0,2,0,0,0,0,1,0,0,0,0,3,1,1]
["Western","1-B","VLY","Waynesboro City",0,3,69,72,3,27,3,27,0,5,4,3,0,0,0,0,0,0,0,0,0,0,0,0,0,0,1]
["Eastern","5-A","MPNN","Westmoreland County",0,2,11,13,3,2,1,4,0,0,0,3,0,0,0,0,0,0,0,0,0,0,0,0,0,0,0]
["Eastern","5-C","COLO","Williamsburg City",0,1,13,14,0,11,0,1,0,0,2,0,0,0,1,0,0,0,0,1,0,0,0,0,0,0,1]
["Northern","2-D","NW","Winchester City",1,14,77,92,6,45,3,21,0,4,9,4,0,1,3,0,0,0,0,0,0,0,1,0,0,1,0]
["Southwestern","3-D","PLD1","Wise County",0,4,93,97,5,37,4,29,2,6,5,9,0,0,4,0,0,0,0,1,0,0,0,0,1,0,1]
["Southwestern","3-C","MTRG","Wythe County",0,7,65,72,3,11,3,25,7,8,11,4,0,1,1,0,0,0,0,0,0,0,1,0,1,1,1]
["Eastern","5-C","COLO","York County",0,7,40,47,4,16,0,17,0,4,0,6,0,0,0,0,0,0,0,0,0,0,0,0,1,0,0]
[]
["DS-Regional Totals - Unique"]
["Central",null,"na","na",75,314,2518,2907,187,1098,177,900,41,210,175,119,1,10,35,0,0,0,2,17,0,0,6,1,12,6,12]
["Eastern",null,"na","na",79,346,2619,3044,230,1131,121,1024,38,244,115,141,0,14,32,0,0,0,7,41,0,0,5,0,22,16,30]
["Northern",null,"na","na",64,604,2562,3230,231,1126,141,997,48,271,221,195,0,16,28,0,0,0,2,20,0,0,5,4,45,11,6]
["Southwestern",null,"na","na",52,212,2004,2268,124,714,104,751,56,239,193,87,0,8,25,0,0,0,2,19,0,0,2,1,6,6,10]
["Western",null,"na","na",20,231,1450,1701,119,589,66,567,26,188,78,68,0,6,15,0,0,0,2,13,0,0,1,0,1,4,17]
["Total nonUnique",null,"na","na",{"$f":"SUM(E137:E141)","v":290},1707,11153,13150,891,4658,609,4239,209,1152,782,610,{"$f":"SUM(Q137:Q141)","v":1},{"$f":"SUM(R137:R141)","v":54},135,0,0,0,15,110,0,0,19,6,86,43,75]
["Total Unique",null,"na","na",290,1707,11153,13150,891,4658,609,4239,209,1152,782,610,1,50,128,0,0,0,15,101,0,0,19,6,80,38,65]

{"sheet":"Master20190430","index":2,"n_rows":149,"n_cols":32,"rows_kept":149,"cut":false,"hidden":false,"merged":[]}
["DS Region","SubRegion","CSB"," City/County","BI waiver","FIS waiver","CL waiver","All waivers","SIS\nL1","SIS\nL2","SIS\nL3","SIS\nL4","SIS\nL5","SIS\nL6","SIS\nL7","SIS\nDefault","Benefits Planning","Community Coaching","Community Engagement","Community Guide","Electronic Home-Based Services","Employment and Community Transportation","Independent Living Supports","In-home Supports","Peer Mentoring","Shared Living","Supported Living","Crisis Support Services","Private Duty Nursing","Skilled Nursing","Sponsored Residential","Total Unique"]
["Eastern","5-B","EAST","Accomack County",0,4,62,66,9,30,1,18,0,5,1,2,0,0,2,0,0,0,0,1,0,0,1,0,0,0,0,2]
["Western","1-A","RTEN","Albemarle County",3,32,87,122,8,56,2,36,2,7,1,10,0,1,3,0,0,0,1,3,0,0,0,0,1,2,3,5]
["Northern","2-A","ALEX","Alexandria City",4,12,80,96,11,34,3,34,2,2,6,4,0,0,1,0,0,0,0,1,0,0,1,0,2,0,0,3]
["Western","1-C","ALLE","Alleghany County",1,10,35,46,7,19,1,11,0,4,2,2,0,1,1,0,0,0,0,2,0,0,0,0,0,0,0,2]
["Central","4-B","CROS","Amelia County",0,1,13,14,1,5,0,6,0,2,0,0,0,0,0,0,0,0,0,0,0,0,0,0,0,0,0,0]
["Western","1-D","HORI","Amherst County",0,11,152,163,4,38,4,76,4,19,12,6,0,1,2,0,0,0,0,0,0,0,0,0,0,1,3,3]
["Western","1-D","HORI","Appomattox County",0,9,25,34,1,11,3,9,2,5,1,2,0,1,1,0,0,0,0,1,0,0,0,0,0,0,1,2]
["Northern","2-A","ARLI","Arlington County",5,32,115,152,14,48,8,55,1,10,6,10,0,0,0,0,0,0,0,0,0,0,0,0,0,0,0,0]
["Western","1-B","VLY","Augusta County",0,17,132,149,5,48,3,44,1,26,10,12,0,1,1,0,0,0,0,1,0,0,0,0,0,0,2,2]
["Western","1-C","ROC","Bath County",0,1,8,9,2,0,2,4,0,1,0,0,0,0,0,0,0,0,0,0,0,0,0,0,0,0,0,0]
["Western","1-D","HORI","Bedford County",1,26,156,183,5,39,6,81,4,33,8,7,0,0,5,0,0,0,0,2,0,0,0,0,0,1,4,6]
["Southwestern","3-C","MTRG","Bland County",0,1,11,12,0,1,0,7,0,3,1,0,0,0,0,0,0,0,0,0,0,0,0,0,0,0,0,0]
["Southwestern","3-A","BLUE","Botetourt County",0,11,35,46,0,12,0,19,1,10,2,2,0,1,1,0,0,0,0,0,0,0,0,0,0,1,0,1]
["Southwestern","3-D","HIGH","Bristol City",1,2,43,46,2,13,2,22,1,5,0,1,0,0,1,0,0,0,0,1,0,0,0,0,0,0,0,1]
["Central","4-D","SS","Brunswick County",0,0,35,35,3,19,1,9,0,3,0,0,0,0,1,0,0,0,0,0,0,0,0,0,0,0,0,1]
["Southwestern","3-D","CMT","Buchanan County",0,4,29,33,1,12,0,12,1,4,1,2,0,0,0,0,0,0,0,0,0,0,0,0,0,0,0,0]
["Central","4-B","CROS","Buckingham County",1,2,14,17,1,6,0,7,1,1,0,1,0,0,0,0,0,0,0,0,0,0,0,0,0,0,0,0]
["Western","1-C","ROC","Buena Vista City",0,0,8,8,0,3,0,4,0,0,1,0,0,0,0,0,0,0,0,0,0,0,0,0,0,0,0,0]
["Western","1-D","HORI","Campbell County",2,24,131,157,7,36,8,61,8,19,11,7,0,0,0,0,0,0,0,0,0,0,0,0,0,0,0,0]
["Northern","2-C","RapA","Caroline County",1,8,41,50,3,19,1,18,1,3,4,1,0,0,1,0,0,0,0,0,0,0,0,0,0,0,0,1]
["Southwestern","3-B","MTRG","Carroll County",2,9,177,188,0,30,5,73,12,20,41,7,0,0,0,0,0,0,0,0,0,0,0,0,0,0,1,1]
["Central","4-A","HENR","Charles City County",0,1,3,4,0,3,0,1,0,0,0,0,0,0,1,0,0,0,0,0,0,0,0,0,0,0,0,1]
["Central","4-C","CROS","Charlotte County",0,5,28,33,3,9,4,8,0,3,3,3,0,0,2,0,0,0,0,0,0,0,0,0,0,0,0,2]
["Western","1-A","RTEN","Charlottesville City",4,10,76,90,5,43,1,23,1,11,0,6,0,0,0,0,0,0,0,0,0,0,0,0,0,0,0,0]
["Eastern","5-D","CHSP","Chesapeake City",7,69,276,352,15,101,12,145,6,33,21,19,0,5,6,0,0,0,0,5,0,0,0,0,8,2,5,20]
["Central","4-A","CHST","Chesterfield County",25,83,913,1021,63,335,51,341,23,77,73,58,0,4,11,0,0,0,0,3,0,0,3,1,4,3,5,21]
["Northern","2-D","NW","Clarke County",0,7,13,20,1,10,1,2,0,0,1,5,0,0,0,0,0,0,0,0,0,0,0,0,0,0,0,0]
["Central","4-A","D19","Colonial Heights City",1,3,15,19,4,7,0,4,1,1,1,1,0,0,2,0,0,0,0,1,0,0,0,0,0,0,1,3]
["Western","1-C","ALLE","Covington City",0,0,14,14,1,7,1,0,1,1,0,3,0,1,1,0,0,0,0,1,0,0,0,0,0,1,0,1]
["Southwestern","3-A","BLUE","Craig County",1,2,5,8,1,3,0,0,0,1,2,1,0,0,0,0,0,0,0,1,0,0,0,0,0,0,0,1]
["Northern","2-B","RapR","Culpeper County",2,8,82,92,15,42,1,18,1,4,5,6,0,1,2,0,0,0,0,0,0,0,0,0,0,1,0,2]
["Central","4-B","CROS","Cumberland County",1,2,24,27,2,8,0,15,1,0,0,1,0,0,1,0,0,0,0,0,0,0,0,0,0,0,0,1]
["Southwestern","3-B","DANV","Danville City",13,17,147,177,20,56,4,65,1,13,3,15,0,2,3,0,0,0,2,7,0,0,1,0,1,2,2,8]
["Southwestern","3-D","DCBH","Dickenson County",0,2,28,30,1,10,0,10,1,2,1,5,0,0,1,0,0,0,0,0,0,0,0,0,0,0,0,1]
["Central","4-D","D19","Dinwiddie County",0,3,62,65,1,16,6,28,3,4,4,3,0,0,0,0,0,0,0,0,0,0,0,0,0,0,0,0]
["Central","4-C","D19","Emporia City",0,3,3,6,0,0,0,2,0,2,0,2,0,0,0,0,0,0,0,0,0,0,0,0,1,0,0,1]
["Eastern","5-A","MPNN","Essex County",0,3,17,20,3,6,1,5,1,1,0,3,0,0,0,0,0,0,0,0,0,0,0,0,0,0,0,0]
["Northern","2-A","FFFC","Fairfax City",0,0,5,5,0,2,0,3,0,0,0,0,0,0,0,0,0,0,0,0,0,0,0,0,0,0,0,0]
["Northern","2-A","FFFC","Fairfax County",19,287,864,1170,71,324,53,407,23,87,74,131,0,7,8,0,0,0,2,12,0,0,2,2,29,3,2,43]
["Northern","2-A","FFFC","Falls Church City",0,1,1,2,0,0,1,0,0,0,0,1,0,0,0,0,0,0,0,0,0,0,0,0,2,0,0,2]
["Northern","2-B","RapR","Fauquier County",0,20,56,76,7,32,1,18,1,12,2,3,0,0,0,0,0,0,0,0,0,0,0,0,1,1,0,2]
["Southwestern","3-C","NRV","Floyd County",0,7,48,55,3,11,0,17,1,11,11,1,0,2,2,0,0,0,0,2,0,0,0,0,1,1,2,3]
["Western","1-A","RTEN","Fluvanna County",0,2,16,18,1,8,0,4,0,4,1,0,0,0,0,0,0,0,0,0,0,0,0,0,0,0,0,0]
["Eastern","5-D","WT","Franklin City",0,0,24,24,0,5,0,15,0,3,1,0,0,1,2,0,0,0,0,1,0,0,0,0,1,1,1,3]
["Southwestern","3-A","PDMT","Franklin County",5,14,92,111,2,39,4,26,3,20,9,8,0,0,1,0,0,0,0,0,0,0,0,0,0,0,0,1]
["Northern","2-D","NW","Frederick County",3,28,111,142,11,52,10,40,0,10,9,10,0,1,2,0,0,0,0,1,0,0,0,0,0,2,1,2]
["Northern","2-C","RapA","Fredericksburg City",0,4,46,50,10,16,1,13,4,3,2,1,0,1,1,0,0,0,0,1,0,0,1,0,0,0,2,2]
["Southwestern","3-B","MTRG","Galax City",0,1,30,31,1,8,2,9,1,2,7,1,0,2,3,0,0,0,0,1,0,0,0,0,0,0,3,5]
["Southwestern","3-A","NRV","Giles County",0,3,34,37,1,10,2,11,0,8,5,0,0,0,0,0,0,0,0,0,0,0,0,1,0,0,0,1]
["Eastern","5-A","MPNN","Gloucester County",0,10,74,84,5,30,1,15,7,16,1,9,0,1,1,0,0,0,0,1,0,0,0,0,2,1,0,3]
["Central","4-B","GOOC","Goochland County",1,6,20,27,0,11,2,8,1,3,1,1,0,0,1,0,0,0,0,1,0,0,0,0,0,0,1,2]
["Southwestern","3-B","MTRG","Grayson County",1,0,33,34,0,9,2,18,1,4,0,0,0,0,0,0,0,0,0,0,0,0,0,0,0,0,0,0]
["Western","1-A","RTEN","Greene County",0,9,16,25,2,8,1,7,1,3,0,3,0,0,0,0,0,0,0,0,0,0,0,0,0,0,0,0]
["Central","4-D","D19","Greensville County",0,1,11,12,0,3,0,7,1,1,0,0,0,0,0,0,0,0,0,0,0,0,0,0,0,0,0,0]
["Central","4-C","SS","Halifax County",1,9,72,82,8,38,6,21,2,3,1,3,0,1,1,0,0,0,0,0,0,0,0,0,0,0,0,1]
["Eastern","5-C","HAMP","Hampton City",11,39,240,290,12,110,12,99,4,26,12,15,0,2,6,0,0,0,0,3,0,0,1,0,3,1,6,12]
["Central","4-A","HANO","Hanover County",16,46,159,221,17,72,10,63,7,26,15,11,0,0,5,0,0,0,0,1,0,0,1,0,1,0,1,7]
["Western","1-B","HARR","Harrisonburg City",3,12,57,72,17,25,2,17,0,6,2,3,0,0,0,0,0,0,0,0,0,0,0,0,0,0,0,0]
["Central","4-A","HENR","Henrico County",19,113,482,614,45,231,29,204,8,28,34,35,1,4,8,0,0,0,2,6,0,1,2,0,2,1,5,15]
["Southwestern","3-B","PDMT","Henry County",3,9,85,97,9,40,1,24,2,6,6,9,0,0,0,0,0,0,0,0,0,0,0,0,0,0,0,0]
["Western","1-B","VLY","Highland County",0,0,6,6,0,1,0,4,0,1,0,0,0,0,0,0,0,0,0,0,0,0,0,0,0,0,0,0]
["Central","4-D","D19","Hopewell City",0,4,27,31,1,10,4,9,1,0,3,3,0,0,0,0,0,0,0,0,0,0,0,0,0,0,0,0]
["Eastern","5-D","WT","Isle of Wight County",2,4,24,30,2,11,0,14,1,0,0,2,0,1,2,0,0,0,0,0,0,0,0,0,0,1,0,2]
["Eastern","5-C","COLO","James City County",1,16,35,52,2,15,2,18,1,3,2,9,0,0,0,0,0,0,0,0,0,0,0,0,0,0,1,1]
["Eastern","5-A","MPNN","King and Queen County",1,0,5,6,0,3,0,1,0,2,0,0,0,0,0,0,0,0,0,0,0,0,0,0,0,0,0,0]
["Northern","2-C","RapA","King George County",0,7,17,24,2,9,0,10,0,1,1,1,0,0,1,0,0,0,0,0,0,0,0,0,0,0,0,1]
["Eastern","5-A","MPNN","King William County",0,4,25,29,0,4,2,9,2,10,0,2,0,0,0,0,0,0,0,0,0,0,0,0,0,0,0,0]
["Eastern","5-A","MPNN","Lancaster County",0,0,6,6,3,3,0,0,0,0,0,0,0,0,0,0,0,0,0,0,0,0,0,0,0,0,0,0]
["Southwestern","3-D","PLD1","Lee County",1,4,27,32,2,14,0,12,1,2,0,1,0,0,0,0,0,0,0,0,0,0,0,0,0,0,0,0]
["Western","1-C","ROC","Lexington City",0,0,4,4,2,1,0,0,0,0,1,0,0,0,1,0,0,0,0,0,0,0,0,0,0,0,0,1]
["Northern","2-A","LOUD","Loudoun County",7,63,168,238,20,65,6,71,5,25,20,26,0,0,1,0,0,0,0,3,0,0,0,0,6,0,0,8]
["Western","1-A","RTEN","Louisa County",2,10,27,39,4,15,1,8,1,2,2,6,0,0,0,0,0,0,0,0,0,0,0,0,0,0,0,0]
["Central","4-C","CROS","Lunenburg County",1,2,7,10,0,5,0,3,0,1,0,1,0,0,0,0,0,0,0,0,0,0,0,0,0,0,0,0]
["Western","1-D","HORI","Lynchburg City",1,39,178,218,19,77,7,67,5,24,8,11,0,0,2,0,0,0,1,2,0,0,0,0,0,1,9,9]
["Northern","2-B","RapR","Madison County",0,2,15,17,2,8,1,4,0,0,0,2,0,0,0,0,0,0,0,0,0,0,0,0,0,0,0,0]
["Northern","2-A","PWC","Manassas City",0,2,14,16,0,9,0,5,0,0,2,0,0,1,1,0,0,0,0,0,0,0,0,0,0,0,0,1]
["Northern","2-A","PWC","Manassas Park City",0,1,2,3,0,2,0,0,0,0,1,0,0,0,0,0,0,0,0,0,0,0,0,0,0,0,0,0]
["Southwestern","3-B","PDMT","Martinsville City",0,1,32,33,1,19,2,5,1,1,3,1,0,0,2,0,0,0,0,1,0,0,0,0,0,0,0,3]
["Eastern","5-A","MPNN","Mathews County",0,0,38,38,0,14,3,20,1,0,0,0,0,0,0,0,0,0,0,0,0,0,0,0,0,0,0,0]
["Central","4-C","SS","Mecklenburg County",0,6,87,93,4,45,6,26,1,5,2,4,0,1,1,0,0,0,0,0,0,0,0,0,0,1,1,2]
["Eastern","5-A","MPNN","Middlesex County",0,1,24,25,3,10,0,11,0,1,0,0,0,0,0,0,0,0,0,0,0,0,0,0,0,0,0,0]
["Southwestern","3-A","NRV","Montgomery County",1,31,81,113,8,17,11,27,5,19,24,2,0,1,3,0,0,0,0,3,0,0,0,1,2,2,2,4]
["Western","1-A","RTEN","Nelson County",0,6,26,32,3,13,0,12,0,3,1,0,0,1,1,0,0,0,0,0,0,0,0,0,0,0,0,1]
["Central","4-A","HENR","New Kent County",0,3,25,28,0,11,1,11,1,2,0,2,0,1,1,0,0,0,0,0,0,0,1,0,0,0,0,1]
["Eastern","5-C","HAMP","Newport News City",14,25,204,243,14,78,12,84,0,30,6,19,0,1,4,0,0,0,2,8,0,0,0,0,5,3,7,20]
["Eastern","5-D","NORF","Norfolk City",22,71,287,380,41,134,9,127,4,20,13,32,0,1,5,0,0,0,1,5,0,0,0,0,2,1,2,11]
["Eastern","5-B","EAST","Northampton County",0,1,44,45,6,25,1,9,0,4,0,0,0,0,0,0,0,0,0,0,0,0,0,0,0,0,0,0]
["Eastern","5-A","MPNN","Northumberland County",0,0,7,7,0,3,0,2,0,1,0,1,0,0,0,0,0,0,0,0,0,0,0,0,0,0,0,0]
["Southwestern","3-D","PLD1","Norton City",0,1,3,4,1,1,0,1,0,1,0,0,0,0,1,0,0,0,0,0,0,0,0,0,0,0,0,1]
["Central","4-C","CROS","Nottoway County",0,4,16,20,0,5,0,10,1,0,0,4,0,0,0,0,0,0,0,0,0,0,0,0,0,0,0,0]
["Northern","2-B","RapR","Orange County",0,16,40,56,12,24,2,12,0,4,0,2,0,1,0,0,0,0,0,0,0,0,0,0,0,1,0,1]
["Northern","2-D","NW","Page County",0,7,19,26,3,11,1,7,0,2,1,1,0,0,0,0,0,0,0,0,0,0,0,0,0,0,0,0]
["Southwestern","3-C","PDMT","Patrick County",1,4,23,28,0,14,0,9,2,2,0,1,0,0,1,0,0,0,0,0,0,0,0,0,0,0,0,1]
["Central","4-D","D19","Petersburg City",1,6,135,142,2,47,9,46,10,12,10,6,0,0,1,0,0,0,0,0,0,0,0,0,0,0,2,3]
["Southwestern","3-B","DANV","Pittsylvania County",11,15,138,164,5,75,11,37,3,13,9,11,0,1,1,0,0,0,0,0,0,0,0,0,0,0,0,1]
["Eastern","5-C","COLO","Poquoson City",0,2,2,4,1,0,1,2,0,0,0,0,0,0,0,0,0,0,0,0,0,0,0,0,0,0,0,0]
["Eastern","5-D","PORT","Portsmouth City",3,8,266,277,18,92,14,111,8,14,10,10,0,1,6,0,0,0,1,5,0,0,1,0,1,2,3,15]
["Central","4-B","GOOC","Powhatan County",1,11,24,36,0,11,2,11,1,3,2,6,0,0,2,0,0,0,0,1,0,0,0,0,0,0,0,2]
["Central","4-C","CROS","Prince Edward County",0,6,69,75,7,34,5,20,2,1,1,5,0,0,2,0,0,0,0,3,0,0,0,0,0,0,0,3]
["Central","4-D","D19","Prince George County",0,5,58,63,1,17,7,23,1,1,9,4,0,0,3,0,0,0,0,2,0,0,0,0,1,1,1,7]
["Northern","2-A","PWC","Prince William County",10,86,365,461,12,140,26,142,10,56,27,48,1,2,3,0,0,0,0,4,0,0,0,4,11,6,1,21]
["Southwestern","3-C","NRV","Pulaski County",0,17,44,61,1,8,3,14,0,10,15,10,0,0,0,0,0,0,0,0,0,0,0,0,0,0,0,0]
["Southwestern","3-C","NRV","Radford City",0,1,17,18,0,2,1,5,2,3,5,0,0,1,1,0,0,0,0,0,0,0,0,1,0,0,0,2]
["Northern","2-B","RapR","Rappahannock County",0,1,6,7,0,2,0,2,0,0,1,2,0,0,0,0,0,0,0,0,0,0,0,0,0,0,0,0]
["Central","4-A","RBHA","Richmond City",12,37,275,324,25,98,8,131,7,29,11,15,0,2,2,0,0,0,0,1,0,0,0,0,3,1,1,6]
["Eastern","5-A","MPNN","Richmond County",0,14,41,55,5,16,4,14,0,6,4,6,0,0,0,0,0,0,0,0,0,0,0,0,0,0,0,0]
["Southwestern","3-A","BLUE","Roanoke City",8,23,116,147,9,45,11,47,2,10,12,11,0,1,5,0,0,0,1,1,0,0,0,0,0,1,3,7]
["Southwestern","3-A","BLUE","Roanoke County",5,36,178,219,18,52,15,77,5,15,19,18,0,0,4,0,0,0,1,3,0,0,0,0,1,1,3,7]
["Western","1-C","ROC","Rockbridge County",0,6,57,63,9,10,6,19,0,6,8,5,0,0,0,0,0,0,0,0,0,0,0,0,0,0,0,0]
["Western","1-B","HARR","Rockingham County",3,20,118,141,9,54,3,44,3,17,4,7,0,3,3,0,0,0,1,3,0,0,1,0,0,0,2,4]
["Southwestern","3-D","CMT","Russell County",0,3,61,64,3,26,2,16,0,9,5,3,0,0,0,0,0,0,0,0,0,0,0,0,0,0,0,0]
["Southwestern","3-A","BLUE","Salem City",0,4,23,27,2,8,4,10,0,0,0,3,0,2,3,0,0,0,0,3,0,0,0,0,1,2,0,5]
["Southwestern","3-D","PLD1","Scott County",1,1,59,61,3,20,1,31,0,3,2,1,0,0,0,0,0,0,0,0,0,0,0,0,0,0,0,0]
["Northern","2-D","NW","Shenandoah County",2,14,92,108,2,44,3,47,0,7,1,4,0,2,2,0,0,0,0,0,0,0,0,0,0,0,1,3]
["Southwestern","3-D","MTRG","Smyth County",0,4,74,78,3,17,2,34,4,7,5,6,0,0,1,0,0,0,0,0,0,0,0,0,0,0,1,1]
["Eastern","5-D","WT","Southampton County",0,1,19,20,1,6,1,9,1,1,0,1,0,0,0,0,0,0,0,0,0,0,0,0,0,0,0,0]
["Northern","2-C","RapA","Spotsylvania County",3,41,207,251,19,76,12,81,5,26,13,19,1,1,4,0,0,0,0,1,0,0,0,0,0,0,1,6]
["Northern","2-C","RapA","Stafford County",4,45,168,217,17,60,13,63,8,23,14,19,0,0,1,0,0,0,0,0,0,0,0,0,2,0,0,3]
["Western","1-B","VLY","Staunton City",0,10,56,66,5,19,5,20,1,7,3,6,0,1,2,0,0,0,0,1,0,0,0,0,0,1,2,2]
["Eastern","5-D","WT","Suffolk City",0,16,152,168,7,46,9,66,1,17,10,12,0,3,3,0,0,0,0,2,0,0,0,0,1,1,1,6]
["Central","4-D","D19","Surry County",0,0,3,3,0,1,0,0,0,2,0,0,0,0,0,0,0,0,0,0,0,0,0,0,0,0,0,0]
["Central","4-D","D19","Sussex County",0,1,36,37,1,11,2,20,1,1,1,0,0,0,0,0,0,0,0,0,0,0,0,0,0,0,0,0]
["Southwestern","3-D","CMT","Tazewell County",2,10,62,74,6,24,0,23,0,11,1,9,0,0,1,0,0,0,0,1,0,0,0,0,1,0,0,2]
["Eastern","5-D","VAB","Virginia Beach City",19,135,658,812,47,250,22,336,13,59,30,55,0,3,5,0,0,0,4,15,0,0,2,0,6,6,7,24]
["Northern","2-D","NW","Warren County",1,21,14,36,5,15,3,7,0,3,0,3,0,1,1,0,0,0,0,1,0,0,0,0,0,0,0,2]
["Southwestern","3-D","HIGH","Washington County",1,11,76,88,4,26,0,34,1,15,3,5,0,0,2,0,0,0,0,1,0,0,0,0,2,1,1,4]
["Western","1-B","VLY","Waynesboro City",0,5,68,73,4,28,4,23,0,5,4,5,0,1,0,0,0,0,0,0,0,0,0,0,0,0,1,2]
["Eastern","5-A","MPNN","Westmoreland County",0,3,12,15,2,5,1,5,0,0,0,2,0,0,0,0,0,0,0,0,0,0,0,0,0,0,0,0]
["Eastern","5-C","COLO","Williamsburg City",0,2,13,15,0,9,0,2,0,1,2,1,0,0,1,0,0,0,0,1,0,0,0,0,0,0,1,2]
["Northern","2-D","NW","Winchester City",1,15,77,93,7,43,4,21,0,5,7,6,0,1,3,0,0,0,0,0,0,0,1,0,0,1,0,4]
["Southwestern","3-D","PLD1","Wise County",0,5,92,97,5,31,4,33,2,6,6,10,0,0,5,0,0,0,0,1,0,0,0,0,1,0,1,6]
["Southwestern","3-C","MTRG","Wythe County",0,8,69,77,2,12,4,25,8,9,12,5,0,1,1,0,0,0,0,0,0,0,1,0,1,1,1,2]
["Eastern","5-C","COLO","York County",0,8,41,49,4,16,0,20,0,5,0,4,0,0,0,0,0,0,0,0,0,0,0,0,1,0,0,1]
[]
["DS-Regional Totals - non-Unique"]
["Central",null,"na","na","na","na","na","na","na","na","na","na","na","na","na","na",1,13,45,0,0,0,2,19,0,1,7,1,12,7,18,79]
["Eastern",null,"na","na","na","na","na","na","na","na","na","na","na","na","na","na",0,14,37,0,0,0,8,42,0,0,5,0,22,17,29,102]
["Northern",null,"na","na","na","na","na","na","na","na","na","na","na","na","na","na",2,19,32,0,0,0,2,24,0,0,5,6,53,15,8,107]
["Southwestern",null,"na","na","na","na","na","na","na","na","na","na","na","na","na","na",0,14,43,0,0,0,4,26,0,0,2,3,11,12,20,69]
["Western",null,"na","na","na","na","na","na","na","na","na","na","na","na","na","na",0,17,29,0,0,0,3,21,0,0,1,0,9,9,32,60]
["Total nonUnique",null,"na","na","na","na","na","na","na","na","na","na","na","na","na","na",{"$f":"SUM(Q137:Q141)","v":3},{"$f":"SUM(R137:R141)","v":77},186,0,0,0,19,132,0,1,20,10,107,60,107,417]
["DS-Regional Totals - Unique"]
["Central",null,"na","na",80,363,2616,3059,189,1058,153,1034,74,211,171,169,1,12,36,0,0,0,2,17,0,1,6,1,12,7,12,64]
["Eastern",null,"na","na",80,436,2596,3112,200,1022,108,1157,50,258,113,204,0,17,33,0,0,0,7,45,0,0,5,0,26,17,32,106]
["Northern",null,"na","na",62,728,2618,3408,244,1087,151,1080,61,283,197,305,2,17,29,0,0,0,2,22,0,0,5,6,50,12,7,96]
["Southwestern",null,"na","na",57,261,1972,2290,114,665,93,753,61,245,210,149,0,10,29,0,0,0,4,20,0,0,2,1,6,7,10,42]
["Western",null,"na","na",20,259,1453,1732,120,559,60,574,34,204,80,101,0,7,15,0,0,0,3,13,0,0,1,0,1,4,18,27]
["Total Unique",null,"na","na",299,2047,11255,13601,867,4391,565,4598,280,1201,771,928,3,59,134,0,0,0,18,108,0,1,19,8,89,41,69,314]

{"sheet":"Master20191031","index":3,"n_rows":176,"n_cols":32,"rows_kept":176,"cut":false,"hidden":false,"merged":[]}
["DS Region","SubRegion","CSB"," City/County","BI waiver","FIS waiver","CL waiver","All waivers","SIS\nL1","SIS\nL2","SIS\nL3","SIS\nL4","SIS\nL5","SIS\nL6","SIS\nL7","SIS\nDefault","Benefits Planning","Community Coaching","Community Engagement","Community Guide","Electronic Home-Based Services","Employment and Community Transportation","Independent Living Supports","In-home Supports","Peer Mentoring","Shared Living","Supported Living","Crisis Support Services","Private Duty Nursing","Skilled Nursing","Sponsored Residential","Total Unique"]
["Eastern","5-B","EAST","Accomack County",0,4,66,70,5,27,1,25,0,6,1,5,0,0,1,0,0,0,0,1,0,0,1,0,0,0,0,1]
["Western","1-A","RTEN","Albemarle County",3,39,94,136,10,52,2,43,3,7,1,18,0,3,3,0,0,0,1,3,0,0,0,0,1,1,3,5]
["Northern","2-A","ALEX","Alexandria City",4,20,76,100,9,37,2,33,2,2,4,11,0,0,1,0,0,0,0,2,0,0,1,0,2,0,0,4]
["Western","1-C","ALLE","Alleghany County",1,9,37,47,7,19,1,11,0,4,2,3,0,0,1,0,0,0,0,2,0,0,0,0,0,0,0,2]
["Central","4-B","CROS","Amelia County",0,1,11,12,0,4,0,8,0,0,0,0,0,0,0,0,0,0,0,0,0,0,0,0,0,0,0,0]
["Western","1-D","HORI","Amherst County",0,15,156,171,3,32,5,84,4,19,15,9,0,1,2,0,0,0,0,0,0,0,0,0,0,0,3,3]
["Western","1-D","HORI","Appomattox County",0,10,27,37,1,10,3,9,3,5,3,3,0,0,0,0,0,0,0,1,0,0,0,0,0,0,1,1]
["Northern","2-A","ARLI","Arlington County",5,48,117,170,12,46,7,54,4,11,10,26,0,0,0,0,0,0,0,1,0,0,0,0,0,0,0,1]
["Western","1-B","VLY","Augusta County",1,22,137,160,5,49,3,46,1,26,13,17,0,1,1,0,0,0,0,1,0,0,0,0,0,0,2,2]
["Western","1-C","ROC","Bath County",0,1,7,8,2,0,2,3,0,1,0,0,0,0,0,0,0,0,0,0,0,0,0,0,0,0,0,0]
["Western","1-D","HORI","Bedford County",1,29,158,188,4,35,4,76,8,35,13,13,0,0,5,0,0,0,0,2,0,0,0,0,0,1,4,6]
["Southwestern","3-C","MTRG","Bland County",0,2,11,13,0,1,0,7,0,3,1,1,0,0,0,0,0,0,0,0,0,0,0,0,0,0,0,0]
["Southwestern","3-A","BLUE","Botetourt County",0,13,34,47,0,11,1,15,1,13,2,4,0,1,2,0,0,0,0,0,0,0,0,0,0,1,0,2]
["Southwestern","3-D","HIGH","Bristol City",1,3,43,47,2,13,1,20,2,5,0,4,0,0,1,0,0,0,0,1,0,0,0,0,0,0,0,1]
["Central","4-D","SS","Brunswick County",0,0,35,35,3,18,1,9,0,3,0,1,0,0,1,0,0,0,0,0,0,0,0,0,0,0,0,1]
["Southwestern","3-D","CMT","Buchanan County",0,5,28,33,1,11,0,12,0,4,1,4,0,0,0,0,0,0,0,0,0,0,0,0,0,0,0,0]
["Central","4-B","CROS","Buckingham County",1,1,15,17,0,8,0,6,1,2,0,0,0,0,0,0,0,0,0,0,0,0,0,0,0,0,0,0]
["Western","1-C","ROC","Buena Vista City",0,0,8,8,0,3,0,4,0,0,1,0,0,0,0,0,0,0,0,0,0,0,0,0,0,0,0,0]
["Western","1-D","HORI","Campbell County",2,27,141,170,7,35,9,61,8,25,15,10,0,0,0,0,0,0,0,0,0,0,0,0,0,0,0,0]
["Northern","2-C","RapA","Caroline County",0,7,43,50,5,17,1,17,2,4,4,0,0,0,0,0,0,0,0,0,0,0,0,0,0,0,0,0]
["Southwestern","3-B","MTRG","Carroll County",1,11,181,193,0,23,8,74,16,19,45,8,0,0,0,0,0,0,0,0,0,0,0,0,0,0,1,1]
["Central","4-A","HENR","Charles City County",0,1,3,4,0,3,0,1,0,0,0,0,0,0,0,0,0,0,0,0,0,0,0,0,0,0,0,0]
["Central","4-C","CROS","Charlotte County",0,6,25,31,2,11,3,8,0,2,3,2,0,0,2,0,0,0,0,0,0,0,0,0,0,0,0,2]
["Western","1-A","RTEN","Charlottesville City",3,16,75,94,10,40,0,24,0,12,0,8,0,0,0,0,0,0,0,0,0,0,0,0,0,0,0,0]
["Eastern","5-D","CHSP","Chesapeake City",9,85,283,377,14,92,13,164,11,33,20,30,0,4,7,0,0,0,1,6,0,0,0,0,7,3,5,20]
["Central","4-A","CHST","Chesterfield County",26,111,949,1086,70,356,40,362,29,77,76,76,0,4,9,0,0,0,1,3,0,0,3,0,4,2,5,19]
["Northern","2-D","NW","Clarke County",0,5,14,19,1,10,1,3,0,0,1,3,0,0,0,0,0,0,0,0,0,0,0,0,0,0,0,0]
["Central","4-A","D19","Colonial Heights City",1,5,19,25,4,7,0,4,1,2,2,5,0,0,3,0,0,0,0,1,0,0,0,0,0,0,1,4]
["Western","1-C","ALLE","Covington City",0,0,14,14,1,7,1,1,1,1,0,2,0,1,1,0,0,0,0,1,0,0,0,0,0,1,0,1]
["Southwestern","3-A","BLUE","Craig County",1,2,3,6,1,3,0,0,0,1,1,0,0,0,0,0,0,0,0,1,0,0,0,0,0,0,0,1]
["Northern","2-B","RapR","Culpeper County",2,10,82,94,16,43,2,16,1,4,4,8,0,1,3,0,0,0,0,0,0,0,0,0,0,1,0,3]
["Central","4-B","CROS","Cumberland County",1,1,25,27,1,8,0,15,2,0,0,1,0,0,1,0,0,0,0,0,0,0,0,0,0,0,0,1]
["Southwestern","3-B","DANV","Danville City",16,20,153,189,16,44,4,73,2,16,12,22,0,1,3,0,0,0,2,7,0,0,1,0,1,1,2,8]
["Southwestern","3-D","DCBH","Dickenson County",0,4,31,35,3,8,1,15,4,1,0,3,0,0,1,0,0,0,0,0,0,0,0,0,0,0,0,1]
["Central","4-D","D19","Dinwiddie County",0,5,59,64,2,16,4,29,2,5,4,2,0,0,0,0,0,0,0,0,0,0,0,0,0,0,0,0]
["Central","4-C","D19","Emporia City",0,3,3,6,0,1,0,3,0,1,0,1,0,0,0,0,0,0,0,0,0,0,0,0,1,0,0,1]
["Eastern","5-A","MPNN","Essex County",0,3,17,20,4,6,1,7,1,0,0,1,0,0,0,0,0,0,0,0,0,0,0,0,0,0,0,0]
["Northern","2-A","FFFC","Fairfax City",0,1,5,6,0,1,0,2,0,1,1,1,0,0,0,0,0,0,0,0,0,0,0,0,0,0,0,0]
["Northern","2-A","FFFC","Fairfax County",24,310,884,1218,79,328,50,433,29,99,84,116,0,7,7,0,0,0,1,13,0,0,3,1,25,2,2,42]
["Northern","2-A","FFFC","Falls Church City",0,0,2,2,0,0,0,0,0,0,1,1,0,0,0,0,0,0,0,0,0,0,0,0,2,0,0,2]
["Northern","2-B","RapR","Fauquier County",0,25,59,84,9,31,1,20,2,9,2,10,0,0,0,0,0,0,0,0,0,0,0,0,1,1,0,2]
["Southwestern","3-C","NRV","Floyd County",0,7,44,51,2,7,0,18,1,11,12,0,0,1,1,0,0,0,0,2,0,0,0,0,1,1,2,3]
["Western","1-A","RTEN","Fluvanna County",0,5,15,20,1,7,0,3,0,4,1,4,0,0,0,0,0,0,0,0,0,0,0,0,0,0,0,0]
["Eastern","5-D","WT","Franklin City",0,2,24,26,0,6,0,16,0,2,1,1,0,1,2,0,0,0,0,1,0,0,0,0,1,1,1,3]
["Southwestern","3-A","PDMT","Franklin County",5,15,91,111,2,33,6,32,5,19,6,8,0,0,1,0,0,0,0,0,0,0,0,0,0,0,0,1]
["Northern","2-D","NW","Frederick County",3,35,113,151,11,53,9,45,1,13,6,13,0,1,2,0,0,0,0,1,0,0,0,0,0,2,1,2]
["Northern","2-C","RapA","Fredericksburg City",0,7,49,56,10,17,1,15,3,4,1,5,0,1,1,0,0,0,0,1,0,0,1,0,0,0,2,2]
["Southwestern","3-B","MTRG","Galax City",0,1,32,33,1,7,0,10,1,3,10,1,0,1,3,0,0,0,0,1,0,0,0,0,0,0,3,5]
["Southwestern","3-A","NRV","Giles County",1,4,32,37,0,8,3,12,0,8,4,2,0,1,0,0,0,0,0,0,0,0,0,1,0,0,0,1]
["Eastern","5-A","MPNN","Gloucester County",0,11,82,93,5,27,0,21,9,15,2,14,0,1,1,0,0,0,0,1,0,0,0,0,2,1,0,3]
["Central","4-B","GOOC","Goochland County",1,6,19,26,0,11,0,8,1,3,2,1,0,0,1,0,0,0,0,1,0,0,0,0,0,0,1,2]
["Southwestern","3-B","MTRG","Grayson County",1,0,33,34,0,9,1,18,1,4,0,1,0,0,0,0,0,0,0,0,0,0,0,0,0,0,0,0]
["Western","1-A","RTEN","Greene County",0,8,16,24,4,5,1,7,1,3,0,3,0,0,0,0,0,0,0,0,0,0,0,0,0,0,0,0]
["Central","4-D","D19","Greensville County",0,1,9,10,0,2,0,6,1,1,0,0,0,0,0,0,0,0,0,0,0,0,0,0,0,0,0,0]
["Central","4-C","SS","Halifax County",1,11,73,85,8,38,6,21,3,3,2,4,0,1,1,0,0,0,0,0,0,0,0,0,0,0,0,1]
["Eastern","5-C","HAMP","Hampton City",11,48,240,299,9,77,9,126,12,26,17,23,0,4,6,0,0,0,0,3,0,0,1,0,1,1,6,11]
["Central","4-A","HANO","Hanover County",17,46,162,225,20,65,9,74,8,28,14,7,0,0,4,0,0,0,0,1,0,0,1,0,1,0,1,7]
["Western","1-B","HARR","Harrisonburg City",3,15,57,75,20,22,3,17,0,6,1,6,0,0,0,0,1,0,0,0,0,0,1,0,0,0,0,2]
["Central","4-A","HENR","Henrico County",20,117,494,631,50,235,31,221,9,22,42,21,2,3,9,0,0,0,2,5,0,1,2,0,2,1,5,17]
["Southwestern","3-B","PDMT","Henry County",3,14,87,104,7,35,1,34,2,7,6,12,0,0,0,0,0,0,0,0,0,0,0,0,0,0,0,0]
["Western","1-B","VLY","Highland County",0,0,8,8,0,1,0,5,0,1,1,0,0,0,0,0,0,0,0,0,0,0,0,0,0,0,0,0]
["Central","4-D","D19","Hopewell City",0,4,29,33,1,10,3,10,2,0,5,2,0,0,1,0,0,0,0,0,0,0,0,0,0,0,0,1]
["Eastern","5-D","WT","Isle of Wight County",1,3,21,25,1,10,0,11,0,0,0,3,0,1,2,0,0,0,0,0,0,0,0,0,0,1,0,2]
["Eastern","5-C","COLO","James City County",1,22,37,60,2,11,2,27,1,3,1,13,0,0,0,0,0,0,0,0,0,0,0,0,0,0,1,1]
["Eastern","5-A","MPNN","King and Queen County",1,0,6,7,0,2,0,3,1,1,0,0,0,0,0,0,0,0,0,0,0,0,0,0,0,0,0,0]
["Northern","2-C","RapA","King George County",0,7,16,23,2,9,0,10,0,1,1,0,0,0,1,0,0,0,0,0,0,0,0,0,0,0,0,1]
["Eastern","5-A","MPNN","King William County",0,6,24,30,0,6,1,7,3,9,1,3,0,0,0,0,0,0,0,0,0,0,0,0,0,0,0,0]
["Eastern","5-A","MPNN","Lancaster County",0,0,7,7,4,2,0,1,0,0,0,0,0,0,0,0,0,0,0,0,0,0,0,0,0,0,0,0]
["Southwestern","3-D","PLD1","Lee County",1,6,28,35,4,14,0,10,1,2,0,4,0,0,0,0,0,0,0,0,0,0,0,0,0,0,0,0]
["Western","1-C","ROC","Lexington City",0,0,3,3,2,0,0,0,0,0,1,0,0,0,1,0,0,0,0,0,0,0,0,0,0,0,0,1]
["Northern","2-A","LOUD","Loudoun County",8,72,168,248,22,60,9,79,6,28,16,28,0,0,1,0,0,0,0,3,0,0,0,0,6,2,0,8]
["Western","1-A","RTEN","Louisa County",4,17,32,53,4,18,0,10,1,3,2,15,0,0,1,0,0,0,0,0,0,0,0,0,0,0,0,1]
["Central","4-C","CROS","Lunenburg County",1,4,7,12,0,4,0,4,0,1,1,2,0,0,0,0,0,0,0,0,0,0,0,0,0,0,0,0]
["Western","1-D","HORI","Lynchburg City",1,42,180,223,16,66,6,74,6,26,10,19,0,1,2,0,0,0,1,2,0,0,0,0,0,1,9,9]
["Northern","2-B","RapR","Madison County",0,3,15,18,4,8,0,5,0,0,0,1,0,0,0,0,0,0,0,0,0,0,0,0,0,0,0,0]
["Northern","2-A","PWC","Manassas City",0,2,15,17,0,10,0,6,0,0,0,1,0,0,1,0,0,0,0,0,0,0,0,0,0,0,0,1]
["Northern","2-A","PWC","Manassas Park City",0,2,2,4,0,2,0,0,0,0,1,1,0,0,0,0,0,0,0,0,0,0,0,0,0,0,0,0]
["Southwestern","3-B","PDMT","Martinsville City",0,5,34,39,3,16,2,7,1,3,2,5,0,0,2,0,0,0,0,1,0,0,0,0,0,0,0,3]
["Eastern","5-A","MPNN","Mathews County",0,2,39,41,0,16,2,19,0,0,0,4,0,0,0,0,0,0,0,0,0,0,0,0,0,0,0,0]
["Central","4-C","SS","Mecklenburg County",0,7,88,95,3,39,5,31,2,5,6,4,0,1,1,0,0,0,0,0,0,0,0,0,0,1,1,2]
["Eastern","5-A","MPNN","Middlesex County",0,2,22,24,2,9,0,10,1,1,0,1,0,0,0,0,0,0,0,0,0,0,0,0,0,0,0,0]
["Southwestern","3-A","NRV","Montgomery County",0,35,83,118,9,18,11,26,4,21,25,4,0,2,3,0,0,0,0,3,0,0,0,1,2,1,2,4]
["Western","1-A","RTEN","Nelson County",0,7,29,36,3,13,0,13,0,3,1,3,0,1,1,0,0,0,0,0,0,0,0,0,0,0,0,1]
["Central","4-A","HENR","New Kent County",0,1,24,25,0,9,1,11,2,2,0,0,0,0,0,0,0,0,0,0,0,0,1,0,0,0,1,2]
["Eastern","5-C","HAMP","Newport News City",14,41,211,266,11,65,10,113,5,26,8,28,0,1,3,0,0,0,2,8,0,0,0,0,4,3,7,18]
["Eastern","5-D","NORF","Norfolk City",30,88,290,408,34,127,11,139,9,19,11,58,0,0,5,0,0,0,1,5,0,0,0,0,1,0,2,10]
["Eastern","5-B","EAST","Northampton County",0,2,45,47,6,24,1,9,1,4,0,2,0,0,0,0,0,0,0,0,0,0,0,0,0,0,0,0]
["Eastern","5-A","MPNN","Northumberland County",0,0,7,7,0,3,0,2,0,0,0,2,0,0,0,0,0,0,0,0,0,0,0,0,0,0,0,0]
["Southwestern","3-D","PLD1","Norton City",0,1,3,4,1,1,0,1,0,1,0,0,0,0,1,0,0,0,0,0,0,0,0,0,0,0,0,1]
["Central","4-C","CROS","Nottoway County",0,4,12,16,0,3,1,11,0,0,0,1,0,0,0,0,0,0,0,0,0,0,0,0,0,0,0,0]
["Northern","2-B","RapR","Orange County",1,22,40,63,15,22,2,13,0,4,0,7,0,1,0,0,0,0,0,0,0,0,0,0,0,1,0,1]
["Northern","2-D","NW","Page County",0,7,20,27,2,12,2,7,0,2,1,1,0,0,0,0,0,0,0,0,0,0,0,0,0,0,0,0]
["Southwestern","3-C","PDMT","Patrick County",1,4,22,27,0,11,0,9,2,3,0,2,0,0,1,0,0,0,0,0,0,0,0,0,0,0,0,1]
["Central","4-D","D19","Petersburg City",1,9,130,140,4,38,4,50,12,11,13,8,0,0,1,0,0,0,0,0,0,0,0,0,0,0,2,3]
["Southwestern","3-B","DANV","Pittsylvania County",12,18,139,169,6,57,9,47,7,12,11,20,0,1,2,0,0,0,0,0,0,0,0,0,0,0,0,2]
["Eastern","5-C","COLO","Poquoson City",0,4,1,5,0,1,1,1,0,0,0,2,0,0,0,0,0,0,0,0,0,0,0,0,0,0,0,0]
["Eastern","5-D","PORT","Portsmouth City",2,11,271,284,14,82,12,126,8,14,9,19,0,1,8,0,0,0,2,5,0,0,1,0,1,1,2,16]
["Central","4-B","GOOC","Powhatan County",1,15,22,38,1,11,0,12,1,6,1,6,0,0,2,0,0,0,0,1,0,0,0,0,0,0,1,3]
["Central","4-C","CROS","Prince Edward County",0,5,71,76,7,32,4,30,2,1,0,0,0,0,2,0,0,0,0,2,0,0,0,0,0,0,0,3]
["Central","4-D","D19","Prince George County",0,7,55,62,3,15,4,25,1,2,8,4,0,1,3,0,0,0,0,1,0,0,0,0,1,0,2,6]
["Northern","2-A","PWC","Prince William County",10,116,376,502,10,150,26,151,11,55,27,72,1,1,2,0,0,0,0,4,0,0,0,3,13,3,2,22]
["Southwestern","3-C","NRV","Pulaski County",0,16,46,62,1,8,3,15,0,12,13,10,0,0,0,0,0,0,0,0,0,0,0,0,0,0,0,0]
["Southwestern","3-C","NRV","Radford City",0,1,16,17,0,3,0,5,1,3,5,0,0,1,1,0,0,0,0,0,0,0,0,1,0,0,0,2]
["Northern","2-B","RapR","Rappahannock County",0,1,5,6,1,1,0,2,0,0,0,2,0,0,0,0,0,0,0,0,0,0,0,0,0,0,0,0]
["Central","4-A","RBHA","Richmond City",11,46,253,310,23,85,9,130,7,29,10,17,0,2,2,0,0,0,0,1,0,0,0,0,3,1,1,6]
["Eastern","5-A","MPNN","Richmond County",0,15,49,64,6,21,4,15,1,7,5,5,0,0,0,0,0,0,0,0,0,0,0,0,0,0,0,0]
["Southwestern","3-A","BLUE","Roanoke City",9,26,115,150,9,40,8,51,4,11,13,14,0,2,5,0,0,0,1,1,0,0,0,0,0,1,3,7]
["Southwestern","3-A","BLUE","Roanoke County",5,43,174,222,15,50,12,76,7,17,21,24,0,2,4,0,0,0,1,4,0,0,0,0,1,1,4,7]
["Western","1-C","ROC","Rockbridge County",0,8,57,65,7,12,6,19,2,6,9,4,0,0,0,0,0,0,0,0,0,0,0,0,0,0,0,0]
["Western","1-B","HARR","Rockingham County",3,25,116,144,10,50,5,44,4,16,4,11,0,3,3,0,0,0,1,3,0,0,1,0,0,2,2,5]
["Southwestern","3-D","CMT","Russell County",0,5,63,68,4,27,2,16,0,9,5,5,0,0,0,0,0,0,0,0,0,0,0,0,0,0,0,0]
["Southwestern","3-A","BLUE","Salem City",1,7,26,34,2,7,4,12,1,0,0,8,0,2,3,0,0,0,0,3,0,0,0,0,1,3,0,6]
["Southwestern","3-D","PLD1","Scott County",1,2,59,62,3,20,2,30,1,4,1,1,0,0,0,0,0,0,0,0,0,0,0,0,0,0,0,0]
["Northern","2-D","NW","Shenandoah County",2,15,87,104,3,39,3,47,0,7,0,5,0,1,2,0,0,0,0,0,0,0,0,0,0,0,0,2]
["Southwestern","3-D","MTRG","Smyth County",0,8,69,77,2,14,2,35,4,7,1,12,0,0,1,0,0,0,0,0,0,0,0,0,0,0,1,1]
["Eastern","5-D","WT","Southampton County",0,2,20,22,1,6,0,11,1,1,0,2,0,0,0,0,0,0,0,0,0,0,0,0,0,0,1,1]
["Northern","2-C","RapA","Spotsylvania County",3,42,208,253,19,77,16,78,6,27,16,14,1,1,4,0,0,0,0,1,0,0,0,0,0,0,1,7]
["Northern","2-C","RapA","Stafford County",4,52,168,224,15,61,14,68,10,23,17,16,0,1,2,0,0,0,0,0,0,0,0,0,2,0,0,5]
["Western","1-B","VLY","Staunton City",2,15,54,71,6,17,5,17,0,8,3,15,0,0,2,0,0,0,0,1,0,0,0,0,0,1,2,2]
["Eastern","5-D","WT","Suffolk City",0,27,153,180,8,41,9,61,8,16,13,24,0,4,3,0,1,0,0,2,0,0,0,0,1,1,2,7]
["Central","4-D","D19","Surry County",0,0,3,3,0,1,0,1,0,1,0,0,0,0,0,0,0,0,0,0,0,0,0,0,0,0,0,0]
["Central","4-D","D19","Sussex County",0,2,37,39,1,8,3,21,2,2,1,1,0,0,0,0,0,0,0,0,0,0,0,0,0,0,0,0]
["Southwestern","3-D","CMT","Tazewell County",4,16,63,83,7,24,1,24,0,11,2,14,0,0,1,0,0,0,0,1,0,0,0,0,2,0,0,3]
["Eastern","5-D","VAB","Virginia Beach City",21,159,668,848,41,244,18,361,20,59,30,75,0,3,4,0,1,0,3,14,0,0,1,0,6,5,6,23]
["Northern","2-D","NW","Warren County",1,22,14,37,6,17,2,7,0,1,0,4,0,0,1,0,0,0,0,1,0,0,0,0,0,0,0,2]
["Southwestern","3-D","HIGH","Washington County",2,13,77,92,4,26,1,33,1,13,4,10,0,0,2,0,0,0,0,1,0,0,0,0,2,1,1,4]
["Western","1-B","VLY","Waynesboro City",0,7,66,73,4,24,5,22,0,6,4,8,0,0,0,0,0,0,0,0,0,0,0,0,0,0,1,1]
["Eastern","5-A","MPNN","Westmoreland County",0,3,11,14,1,6,0,5,0,0,0,2,0,0,0,0,0,0,0,0,0,0,0,0,0,0,0,0]
["Eastern","5-C","COLO","Williamsburg City",0,5,16,21,0,9,0,3,0,1,3,5,0,0,1,0,0,0,0,1,0,0,0,0,0,0,1,2]
["Northern","2-D","NW","Winchester City",0,16,77,93,8,39,6,22,0,4,4,10,0,1,3,0,0,0,0,0,0,0,1,0,0,0,0,3]
["Southwestern","3-D","PLD1","Wise County",0,5,91,96,5,31,1,40,2,8,3,6,0,0,4,0,0,0,0,1,0,0,0,0,1,0,1,5]
["Southwestern","3-C","MTRG","Wythe County",0,8,68,76,2,10,3,28,10,10,7,6,0,1,1,0,0,0,0,0,0,0,1,0,1,1,1,2]
["Eastern","5-C","COLO","York County",0,16,43,59,5,16,0,19,2,5,1,11,0,0,0,0,0,0,0,0,0,0,0,0,1,0,0,1]
[]
["DS-Regional Totals - non-Unique"]
["Central",null,"na","na","na","na","na","na","na","na","na","na","na","na","na","na",2,12,43,0,0,0,3,16,0,1,7,0,12,5,21,81]
["Eastern",null,"na","na","na","na","na","na","na","na","na","na","na","na","na","na",0,20,43,0,2,0,9,47,0,0,4,0,25,17,34,119]
["Northern",null,"na","na","na","na","na","na","na","na","na","na","na","na","na","na",2,16,31,0,0,0,1,27,0,0,6,4,51,12,8,110]
["Southwestern",null,"na","na","na","na","na","na","na","na","na","na","na","na","na","na",0,16,43,0,0,0,4,27,0,0,2,3,12,11,21,72]
["Western",null,"na","na","na","na","na","na","na","na","na","na","na","na","na","na",0,11,23,0,1,0,3,16,0,0,2,0,1,7,27,42]
["Total nonUnique",null,"na","na","na","na","na","na","na","na","na","na","na","na","na","na",{"$f":"SUM(Q2:Q134)","v":4},{"$f":"SUM(R2:R134)","v":75},183,0,3,0,20,133,0,1,21,7,101,52,111,424]
["DS-Regional Totals - Unique"]
["Central",null,"na","na",81,431,2582,3094,209,1022,125,1094,86,217,180,161,2,11,36,0,0,0,3,14,0,1,6,0,12,5,13,65]
["Eastern",null,"na","na",90,545,2679,3314,169,939,93,1318,100,239,127,329,0,18,33,0,2,0,8,44,0,0,4,0,24,15,32,105]
["Northern",null,"na","na",67,852,2645,3564,257,1093,150,1128,75,300,200,361,2,13,28,0,0,0,1,25,0,0,6,4,48,10,7,98]
["Southwestern",null,"na","na",67,318,2032,2417,114,595,97,824,82,267,222,216,0,11,28,0,0,0,4,20,0,0,2,1,6,6,11,42]
["Western",null,"na","na",23,318,1468,1809,125,522,60,580,39,211,98,174,0,8,15,0,1,0,3,13,0,0,2,0,1,5,17,29]
["Total Unique",null,"na","na",328,2464,11406,14198,874,4171,525,4944,382,1234,827,1241,4,58,133,0,3,0,19,108,0,1,19,5,85,37,70,317]
["DS-SubRegional Totals - Unique"]
["Western","1-A","na","na",10,92,261,363,32,135,3,100,5,32,5,51,0,3,3,0,0,0,1,3,0,0,0,0,1,1,3,5]
["Western","1-B","na","na",9,84,438,531,45,163,21,151,5,63,26,57,0,4,5,0,1,0,1,5,0,0,2,0,0,3,6,11]
["Western","1-C","na","na",1,18,126,145,19,41,10,38,3,12,13,9,0,1,2,0,0,0,0,2,0,0,0,0,0,1,0,3]
["Western","1-D","na","na",4,123,662,789,31,178,27,304,29,110,56,54,0,2,6,0,0,0,1,4,0,0,0,0,0,1,11,13]
["Northern","2-A","na","na",51,571,1645,2267,132,634,94,758,52,196,144,257,1,8,12,0,0,0,1,21,0,0,4,4,45,7,4,76]
["Northern","2-B","na","na",3,61,201,265,45,105,5,56,3,17,6,28,0,1,3,0,0,0,0,0,0,0,0,0,1,1,0,4]
["Northern","2-C","na","na",7,115,484,606,51,181,32,188,21,59,39,35,1,2,6,0,0,0,0,2,0,0,1,0,2,0,3,12]
["Northern","2-D","na","na",6,100,325,431,31,170,23,131,1,27,12,36,0,3,8,0,0,0,0,2,0,0,1,0,0,2,1,9]
["Southwestern","3-A","na","na",22,145,558,725,38,170,45,224,22,90,72,64,0,7,13,0,0,0,2,10,0,0,0,1,3,4,6,17]
["Southwestern","3-B","na","na",33,69,659,761,33,191,25,263,30,64,86,69,0,3,9,0,0,0,2,9,0,0,1,0,1,1,5,17]
["Southwestern","3-C","na","na",1,38,207,246,5,40,6,82,14,42,38,19,0,3,4,0,0,0,0,2,0,0,1,1,2,2,3,7]
["Southwestern","3-D","na","na",9,68,555,632,36,189,11,236,15,65,17,63,0,0,9,0,0,0,0,3,0,0,0,0,5,1,3,14]
["Central","4-A","na","na",75,327,1904,2306,167,760,90,803,56,160,144,126,2,9,27,0,0,0,3,10,0,1,6,0,10,4,10,50]
["Central","4-B","na","na",4,24,92,120,2,42,null,49,5,11,3,8,0,0,3,0,0,0,0,1,0,0,0,0,0,0,2,5]
["Central","4-C","na","na",2,40,279,321,20,128,19,108,7,13,12,14,0,1,5,0,0,0,0,2,0,0,0,0,1,1,1,8]
["Central","4-D","na","na",1,28,357,386,14,108,19,151,20,25,31,18,0,1,5,0,0,0,0,1,0,0,0,0,1,0,4,10]
["Eastern","5-A","na","na",1,42,264,307,22,98,8,90,16,33,8,32,0,1,1,0,0,0,0,1,0,0,0,0,2,1,0,3]
["Eastern","5-B","na","na",null,6,111,117,11,51,2,34,1,10,1,7,0,0,1,0,0,0,0,1,0,0,1,0,0,0,0,1]
["Eastern","5-C","na","na",26,136,548,710,27,179,22,289,20,61,30,82,0,5,9,0,0,0,2,12,0,0,1,0,6,4,14,31]
["Eastern","5-D","na","na",63,377,1730,2170,113,608,63,889,57,144,84,212,0,13,24,0,2,0,6,30,0,0,2,0,17,10,18,73]
["(Unique) Number of Individuals with approved Jump-Start Service Authorization Lines these 6 months"]
["Number of Individuals",null,null,null,172,835,6016,7023,490,2174,298,2366,163,719,469,344,119,402,3086,0,24,0,104,1886,0,1,146,60,331,293,1987,7023]
["Percent of possible Individuals",null,null,null,{"$f":"E172/E149","v":0.52439024390243905},0.33887987012987014,0.52744169735227076,0.49464713339907029,0.5606407322654462,0.52121793334931676,0.56761904761904758,0.4785598705501618,0.42670157068062825,0.58265802269043765,0.56711003627569534,{"$f":"P172/P149","v":0.27719580983078163}]
["(Unique) Number of (approved Jump-Start) Service Authorization Lines (SALs) these 6 months"]
["Number of Jump-Start Service Authorization Lines",null,null,null,267,1479,11345,13091,855,3972,627,4388,301,1486,925,537,132,564,4671,0,27,0,149,3066,0,1,223,112,708,511,2927,13091]
["Number of SA Lines per Person",null,null,null,{"$f":"E175/E172","v":1.5523255813953489},{"$f":"F175/F172","v":1.7712574850299401},1.8858045212765957,1.8640182258294176,1.7448979591836735,1.8270469181232751,2.1040268456375837,1.8546069315300084,1.8466257668711656,2.066759388038943,1.9722814498933903,1.5610465116279071,1.1092436974789917,1.4029850746268657,1.5136098509397278,null,1.125,null,1.4326923076923077,1.6256627783669142,null,1,1.5273972602739727,1.8666666666666667,2.1389728096676737,1.7440273037542662,1.4730749874182185,1.8640182258294176]

{"sheet":"MasterDelta20181101","index":4,"n_rows":143,"n_cols":31,"rows_kept":143,"cut":false,"hidden":false,"merged":[]}
["DS Region","SubRegion","CSB"," City/County","BI waiver","FIS waiver","CL waiver","All waivers","SIS\nL1","SIS\nL2","SIS\nL3","SIS\nL4","SIS\nL5","SIS\nL6","SIS\nL7","SIS\nDefault","Benefits Planning","Community Coaching","Community Engagement","Community Guide","Electronic Home-Based Services","Employment and Community Transportation","Independent Living Supports","In-home Supports","Peer Mentoring","Shared Living","Supported Living","Crisis Support Services","Private Duty Nursing","Skilled Nursing","Sponsored Residential"]
["Eastern","5-B","EAST","Accomack County",{"$f":"Master20181101!E2-Master20180614!E2","v":0},{"$f":"Master20181101!F2-Master20180614!F2","v":2},{"$f":"Master20181101!G2-Master20180614!G2","v":-1},{"$f":"Master20181101!H2-Master20180614!H2","v":1},{"$f":"Master20181101!I2-Master20180614!I2","v":1},{"$f":"Master20181101!J2-Master20180614!J2","v":1},{"$f":"Master20181101!K2-Master20180614!K2","v":0},{"$f":"Master20181101!L2-Master20180614!L2","v":1},{"$f":"Master20181101!M2-Master20180614!M2","v":0},{"$f":"Master20181101!N2-Master20180614!N2","v":-1},{"$f":"Master20181101!O2-Master20180614!O2","v":0},{"$f":"Master20181101!P2-Master20180614!P2","v":-1},{"$f":"Master20181101!Q2-Master20180614!Q2","v":0},{"$f":"Master20181101!R2-Master20180614!R2","v":0},{"$f":"Master20181101!S2-Master20180614!S2","v":0},{"$f":"Master20181101!T2-Master20180614!T2","v":0},{"$f":"Master20181101!U2-Master20180614!U2","v":0},{"$f":"Master20181101!V2-Master20180614!V2","v":0},{"$f":"Master20181101!W2-Master20180614!W2","v":0},{"$f":"Master20181101!X2-Master20180614!X2","v":0},{"$f":"Master20181101!Y2-Master20180614!Y2","v":0},{"$f":"Master20181101!Z2-Master20180614!Z2","v":0},{"$f":"Master20181101!AA2-Master20180614!AA2","v":0},{"$f":"Master20181101!AB2-Master20180614!AB2","v":0},{"$f":"Master20181101!AC2-Master20180614!AC2","v":0},{"$f":"Master20181101!AD2-Master20180614!AD2","v":0},{"$f":"Master20181101!AE2-Master20180614!AE2","v":-1}]
["Western","1-A","RTEN","Albemarle County",{"$f":"Master20181101!E3-Master20180614!E3","v":0},{"$f":"Master20181101!F3-Master20180614!F3","v":-1},{"$f":"Master20181101!G3-Master20180614!G3","v":3},{"$f":"Master20181101!H3-Master20180614!H3","v":2},{"$f":"Master20181101!I3-Master20180614!I3","v":1},{"$f":"Master20181101!J3-Master20180614!J3","v":0},{"$f":"Master20181101!K3-Master20180614!K3","v":0},{"$f":"Master20181101!L3-Master20180614!L3","v":4},{"$f":"Master20181101!M3-Master20180614!M3","v":-1},{"$f":"Master20181101!N3-Master20180614!N3","v":0},{"$f":"Master20181101!O3-Master20180614!O3","v":-2},{"$f":"Master20181101!P3-Master20180614!P3","v":0},{"$f":"Master20181101!Q3-Master20180614!Q3","v":0},{"$f":"Master20181101!R3-Master20180614!R3","v":-2},{"$f":"Master20181101!S3-Master20180614!S3","v":0},{"$f":"Master20181101!T3-Master20180614!T3","v":0},{"$f":"Master20181101!U3-Master20180614!U3","v":0},{"$f":"Master20181101!V3-Master20180614!V3","v":0},{"$f":"Master20181101!W3-Master20180614!W3","v":0},{"$f":"Master20181101!X3-Master20180614!X3","v":0},{"$f":"Master20181101!Y3-Master20180614!Y3","v":0},{"$f":"Master20181101!Z3-Master20180614!Z3","v":0},{"$f":"Master20181101!AA3-Master20180614!AA3","v":0},{"$f":"Master20181101!AB3-Master20180614!AB3","v":0},{"$f":"Master20181101!AC3-Master20180614!AC3","v":0},{"$f":"Master20181101!AD3-Master20180614!AD3","v":-1},{"$f":"Master20181101!AE3-Master20180614!AE3","v":0}]
["Northern","2-A","ALEX","Alexandria City",{"$f":"Master20181101!E4-Master20180614!E4","v":0},{"$f":"Master20181101!F4-Master20180614!F4","v":0},{"$f":"Master20181101!G4-Master20180614!G4","v":-1},{"$f":"Master20181101!H4-Master20180614!H4","v":-1},{"$f":"Master20181101!I4-Master20180614!I4","v":-1},{"$f":"Master20181101!J4-Master20180614!J4","v":1},{"$f":"Master20181101!K4-Master20180614!K4","v":1},{"$f":"Master20181101!L4-Master20180614!L4","v":-1},{"$f":"Master20181101!M4-Master20180614!M4","v":0},{"$f":"Master20181101!N4-Master20180614!N4","v":0},{"$f":"Master20181101!O4-Master20180614!O4","v":0},{"$f":"Master20181101!P4-Master20180614!P4","v":-1},{"$f":"Master20181101!Q4-Master20180614!Q4","v":0},{"$f":"Master20181101!R4-Master20180614!R4","v":0},{"$f":"Master20181101!S4-Master20180614!S4","v":0},{"$f":"Master20181101!T4-Master20180614!T4","v":0},{"$f":"Master20181101!U4-Master20180614!U4","v":0},{"$f":"Master20181101!V4-Master20180614!V4","v":0},{"$f":"Master20181101!W4-Master20180614!W4","v":0},{"$f":"Master20181101!X4-Master20180614!X4","v":0},{"$f":"Master20181101!Y4-Master20180614!Y4","v":0},{"$f":"Master20181101!Z4-Master20180614!Z4","v":0},{"$f":"Master20181101!AA4-Master20180614!AA4","v":0},{"$f":"Master20181101!AB4-Master20180614!AB4","v":0},{"$f":"Master20181101!AC4-Master20180614!AC4","v":0},{"$f":"Master20181101!AD4-Master20180614!AD4","v":-2},{"$f":"Master20181101!AE4-Master20180614!AE4","v":0}]
["Western","1-C","ALLE","Alleghany County",{"$f":"Master20181101!E5-Master20180614!E5","v":0},{"$f":"Master20181101!F5-Master20180614!F5","v":1},{"$f":"Master20181101!G5-Master20180614!G5","v":-3},{"$f":"Master20181101!H5-Master20180614!H5","v":-2},{"$f":"Master20181101!I5-Master20180614!I5","v":0},{"$f":"Master20181101!J5-Master20180614!J5","v":-3},{"$f":"Master20181101!K5-Master20180614!K5","v":0},{"$f":"Master20181101!L5-Master20180614!L5","v":1},{"$f":"Master20181101!M5-Master20180614!M5","v":0},{"$f":"Master20181101!N5-Master20180614!N5","v":0},{"$f":"Master20181101!O5-Master20180614!O5","v":0},{"$f":"Master20181101!P5-Master20180614!P5","v":0},{"$f":"Master20181101!Q5-Master20180614!Q5","v":0},{"$f":"Master20181101!R5-Master20180614!R5","v":0},{"$f":"Master20181101!S5-Master20180614!S5","v":0},{"$f":"Master20181101!T5-Master20180614!T5","v":0},{"$f":"Master20181101!U5-Master20180614!U5","v":0},{"$f":"Master20181101!V5-Master20180614!V5","v":0},{"$f":"Master20181101!W5-Master20180614!W5","v":0},{"$f":"Master20181101!X5-Master20180614!X5","v":0},{"$f":"Master20181101!Y5-Master20180614!Y5","v":0},{"$f":"Master20181101!Z5-Master20180614!Z5","v":0},{"$f":"Master20181101!AA5-Master20180614!AA5","v":0},{"$f":"Master20181101!AB5-Master20180614!AB5","v":0},{"$f":"Master20181101!AC5-Master20180614!AC5","v":0},{"$f":"Master20181101!AD5-Master20180614!AD5","v":0},{"$f":"Master20181101!AE5-Master20180614!AE5","v":0}]
["Central","4-B","CROS","Amelia County",{"$f":"Master20181101!E6-Master20180614!E6","v":0},{"$f":"Master20181101!F6-Master20180614!F6","v":0},{"$f":"Master20181101!G6-Master20180614!G6","v":2},{"$f":"Master20181101!H6-Master20180614!H6","v":2},{"$f":"Master20181101!I6-Master20180614!I6","v":1},{"$f":"Master20181101!J6-Master20180614!J6","v":-1},{"$f":"Master20181101!K6-Master20180614!K6","v":0},{"$f":"Master20181101!L6-Master20180614!L6","v":3},{"$f":"Master20181101!M6-Master20180614!M6","v":0},{"$f":"Master20181101!N6-Master20180614!N6","v":0},{"$f":"Master20181101!O6-Master20180614!O6","v":0},{"$f":"Master20181101!P6-Master20180614!P6","v":-1},{"$f":"Master20181101!Q6-Master20180614!Q6","v":0},{"$f":"Master20181101!R6-Master20180614!R6","v":0},{"$f":"Master20181101!S6-Master20180614!S6","v":0},{"$f":"Master20181101!T6-Master20180614!T6","v":0},{"$f":"Master20181101!U6-Master20180614!U6","v":0},{"$f":"Master20181101!V6-Master20180614!V6","v":0},{"$f":"Master20181101!W6-Master20180614!W6","v":0},{"$f":"Master20181101!X6-Master20180614!X6","v":0},{"$f":"Master20181101!Y6-Master20180614!Y6","v":0},{"$f":"Master20181101!Z6-Master20180614!Z6","v":0},{"$f":"Master20181101!AA6-Master20180614!AA6","v":0},{"$f":"Master20181101!AB6-Master20180614!AB6","v":0},{"$f":"Master20181101!AC6-Master20180614!AC6","v":0},{"$f":"Master20181101!AD6-Master20180614!AD6","v":0},{"$f":"Master20181101!AE6-Master20180614!AE6","v":0}]
["Western","1-D","HORI","Amherst County",{"$f":"Master20181101!E7-Master20180614!E7","v":0},{"$f":"Master20181101!F7-Master20180614!F7","v":-1},{"$f":"Master20181101!G7-Master20180614!G7","v":7},{"$f":"Master20181101!H7-Master20180614!H7","v":6},{"$f":"Master20181101!I7-Master20180614!I7","v":1},{"$f":"Master20181101!J7-Master20180614!J7","v":-1},{"$f":"Master20181101!K7-Master20180614!K7","v":0},{"$f":"Master20181101!L7-Master20180614!L7","v":1},{"$f":"Master20181101!M7-Master20180614!M7","v":2},{"$f":"Master20181101!N7-Master20180614!N7","v":3},{"$f":"Master20181101!O7-Master20180614!O7","v":4},{"$f":"Master20181101!P7-Master20180614!P7","v":-4},{"$f":"Master20181101!Q7-Master20180614!Q7","v":0},{"$f":"Master20181101!R7-Master20180614!R7","v":1},{"$f":"Master20181101!S7-Master20180614!S7","v":-1},{"$f":"Master20181101!T7-Master20180614!T7","v":0},{"$f":"Master20181101!U7-Master20180614!U7","v":0},{"$f":"Master20181101!V7-Master20180614!V7","v":0},{"$f":"Master20181101!W7-Master20180614!W7","v":0},{"$f":"Master20181101!X7-Master20180614!X7","v":0},{"$f":"Master20181101!Y7-Master20180614!Y7","v":0},{"$f":"Master20181101!Z7-Master20180614!Z7","v":0},{"$f":"Master20181101!AA7-Master20180614!AA7","v":0},{"$f":"Master20181101!AB7-Master20180614!AB7","v":0},{"$f":"Master20181101!AC7-Master20180614!AC7","v":0},{"$f":"Master20181101!AD7-Master20180614!AD7","v":1},{"$f":"Master20181101!AE7-Master20180614!AE7","v":0}]
["Western","1-D","HORI","Appomattox County",{"$f":"Master20181101!E8-Master20180614!E8","v":0},{"$f":"Master20181101!F8-Master20180614!F8","v":0},{"$f":"Master20181101!G8-Master20180614!G8","v":-2},{"$f":"Master20181101!H8-Master20180614!H8","v":-2},{"$f":"Master20181101!I8-Master20180614!I8","v":0},{"$f":"Master20181101!J8-Master20180614!J8","v":-1},{"$f":"Master20181101!K8-Master20180614!K8","v":0},{"$f":"Master20181101!L8-Master20180614!L8","v":0},{"$f":"Master20181101!M8-Master20180614!M8","v":-1},{"$f":"Master20181101!N8-Master20180614!N8","v":2},{"$f":"Master20181101!O8-Master20180614!O8","v":0},{"$f":"Master20181101!P8-Master20180614!P8","v":-2},{"$f":"Master20181101!Q8-Master20180614!Q8","v":0},{"$f":"Master20181101!R8-Master20180614!R8","v":0},{"$f":"Master20181101!S8-Master20180614!S8","v":1},{"$f":"Master20181101!T8-Master20180614!T8","v":0},{"$f":"Master20181101!U8-Master20180614!U8","v":0},{"$f":"Master20181101!V8-Master20180614!V8","v":0},{"$f":"Master20181101!W8-Master20180614!W8","v":0},{"$f":"Master20181101!X8-Master20180614!X8","v":0},{"$f":"Master20181101!Y8-Master20180614!Y8","v":0},{"$f":"Master20181101!Z8-Master20180614!Z8","v":0},{"$f":"Master20181101!AA8-Master20180614!AA8","v":0},{"$f":"Master20181101!AB8-Master20180614!AB8","v":0},{"$f":"Master20181101!AC8-Master20180614!AC8","v":0},{"$f":"Master20181101!AD8-Master20180614!AD8","v":0},{"$f":"Master20181101!AE8-Master20180614!AE8","v":0}]
["Northern","2-A","ARLI","Arlington County",{"$f":"Master20181101!E9-Master20180614!E9","v":0},{"$f":"Master20181101!F9-Master20180614!F9","v":1},{"$f":"Master20181101!G9-Master20180614!G9","v":3},{"$f":"Master20181101!H9-Master20180614!H9","v":4},{"$f":"Master20181101!I9-Master20180614!I9","v":1},{"$f":"Master20181101!J9-Master20180614!J9","v":1},{"$f":"Master20181101!K9-Master20180614!K9","v":-1},{"$f":"Master20181101!L9-Master20180614!L9","v":1},{"$f":"Master20181101!M9-Master20180614!M9","v":1},{"$f":"Master20181101!N9-Master20180614!N9","v":1},{"$f":"Master20181101!O9-Master20180614!O9","v":2},{"$f":"Master20181101!P9-Master20180614!P9","v":-2},{"$f":"Master20181101!Q9-Master20180614!Q9","v":0},{"$f":"Master20181101!R9-Master20180614!R9","v":0},{"$f":"Master20181101!S9-Master20180614!S9","v":0},{"$f":"Master20181101!T9-Master20180614!T9","v":0},{"$f":"Master20181101!U9-Master20180614!U9","v":0},{"$f":"Master20181101!V9-Master20180614!V9","v":0},{"$f":"Master20181101!W9-Master20180614!W9","v":0},{"$f":"Master20181101!X9-Master20180614!X9","v":0},{"$f":"Master20181101!Y9-Master20180614!Y9","v":0},{"$f":"Master20181101!Z9-Master20180614!Z9","v":0},{"$f":"Master20181101!AA9-Master20180614!AA9","v":0},{"$f":"Master20181101!AB9-Master20180614!AB9","v":0},{"$f":"Master20181101!AC9-Master20180614!AC9","v":0},{"$f":"Master20181101!AD9-Master20180614!AD9","v":0},{"$f":"Master20181101!AE9-Master20180614!AE9","v":0}]
["Western","1-B","VLY","Augusta County",{"$f":"Master20181101!E10-Master20180614!E10","v":0},{"$f":"Master20181101!F10-Master20180614!F10","v":3},{"$f":"Master20181101!G10-Master20180614!G10","v":-4},{"$f":"Master20181101!H10-Master20180614!H10","v":-1},{"$f":"Master20181101!I10-Master20180614!I10","v":2},{"$f":"Master20181101!J10-Master20180614!J10","v":-3},{"$f":"Master20181101!K10-Master20180614!K10","v":-3},{"$f":"Master20181101!L10-Master20180614!L10","v":0},{"$f":"Master20181101!M10-Master20180614!M10","v":-1},{"$f":"Master20181101!N10-Master20180614!N10","v":5},{"$f":"Master20181101!O10-Master20180614!O10","v":1},{"$f":"Master20181101!P10-Master20180614!P10","v":-2},{"$f":"Master20181101!Q10-Master20180614!Q10","v":0},{"$f":"Master20181101!R10-Master20180614!R10","v":1},{"$f":"Master20181101!S10-Master20180614!S10","v":0},{"$f":"Master20181101!T10-Master20180614!T10","v":0},{"$f":"Master20181101!U10-Master20180614!U10","v":0},{"$f":"Master20181101!V10-Master20180614!V10","v":0},{"$f":"Master20181101!W10-Master20180614!W10","v":0},{"$f":"Master20181101!X10-Master20180614!X10","v":0},{"$f":"Master20181101!Y10-Master20180614!Y10","v":0},{"$f":"Master20181101!Z10-Master20180614!Z10","v":0},{"$f":"Master20181101!AA10-Master20180614!AA10","v":0},{"$f":"Master20181101!AB10-Master20180614!AB10","v":0},{"$f":"Master20181101!AC10-Master20180614!AC10","v":-1},{"$f":"Master20181101!AD10-Master20180614!AD10","v":0},{"$f":"Master20181101!AE10-Master20180614!AE10","v":0}]
["Western","1-C","ROC","Bath County",{"$f":"Master20181101!E11-Master20180614!E11","v":0},{"$f":"Master20181101!F11-Master20180614!F11","v":0},{"$f":"Master20181101!G11-Master20180614!G11","v":1},{"$f":"Master20181101!H11-Master20180614!H11","v":1},{"$f":"Master20181101!I11-Master20180614!I11","v":0},{"$f":"Master20181101!J11-Master20180614!J11","v":0},{"$f":"Master20181101!K11-Master20180614!K11","v":1},{"$f":"Master20181101!L11-Master20180614!L11","v":0},{"$f":"Master20181101!M11-Master20180614!M11","v":0},{"$f":"Master20181101!N11-Master20180614!N11","v":0},{"$f":"Master20181101!O11-Master20180614!O11","v":0},{"$f":"Master20181101!P11-Master20180614!P11","v":0},{"$f":"Master20181101!Q11-Master20180614!Q11","v":0},{"$f":"Master20181101!R11-Master20180614!R11","v":0},{"$f":"Master20181101!S11-Master20180614!S11","v":0},{"$f":"Master20181101!T11-Master20180614!T11","v":0},{"$f":"Master20181101!U11-Master20180614!U11","v":0},{"$f":"Master20181101!V11-Master20180614!V11","v":0},{"$f":"Master20181101!W11-Master20180614!W11","v":0},{"$f":"Master20181101!X11-Master20180614!X11","v":0},{"$f":"Master20181101!Y11-Master20180614!Y11","v":0},{"$f":"Master20181101!Z11-Master20180614!Z11","v":0},{"$f":"Master20181101!AA11-Master20180614!AA11","v":0},{"$f":"Master20181101!AB11-Master20180614!AB11","v":0},{"$f":"Master20181101!AC11-Master20180614!AC11","v":0},{"$f":"Master20181101!AD11-Master20180614!AD11","v":0},{"$f":"Master20181101!AE11-Master20180614!AE11","v":0}]
["Western","1-D","HORI","Bedford County",{"$f":"Master20181101!E12-Master20180614!E12","v":0},{"$f":"Master20181101!F12-Master20180614!F12","v":4},{"$f":"Master20181101!G12-Master20180614!G12","v":4},{"$f":"Master20181101!H12-Master20180614!H12","v":8},{"$f":"Master20181101!I12-Master20180614!I12","v":0},{"$f":"Master20181101!J12-Master20180614!J12","v":-3},{"$f":"Master20181101!K12-Master20180614!K12","v":0},{"$f":"Master20181101!L12-Master20180614!L12","v":2},{"$f":"Master20181101!M12-Master20180614!M12","v":0},{"$f":"Master20181101!N12-Master20180614!N12","v":8},{"$f":"Master20181101!O12-Master20180614!O12","v":0},{"$f":"Master20181101!P12-Master20180614!P12","v":1},{"$f":"Master20181101!Q12-Master20180614!Q12","v":0},{"$f":"Master20181101!R12-Master20180614!R12","v":-1},{"$f":"Master20181101!S12-Master20180614!S12","v":1},{"$f":"Master20181101!T12-Master20180614!T12","v":0},{"$f":"Master20181101!U12-Master20180614!U12","v":0},{"$f":"Master20181101!V12-Master20180614!V12","v":0},{"$f":"Master20181101!W12-Master20180614!W12","v":0},{"$f":"Master20181101!X12-Master20180614!X12","v":3},{"$f":"Master20181101!Y12-Master20180614!Y12","v":0},{"$f":"Master20181101!Z12-Master20180614!Z12","v":0},{"$f":"Master20181101!AA12-Master20180614!AA12","v":0},{"$f":"Master20181101!AB12-Master20180614!AB12","v":0},{"$f":"Master20181101!AC12-Master20180614!AC12","v":0},{"$f":"Master20181101!AD12-Master20180614!AD12","v":1},{"$f":"Master20181101!AE12-Master20180614!AE12","v":-2}]
["Southwestern","3-C","MTRG","Bland County",{"$f":"Master20181101!E13-Master20180614!E13","v":0},{"$f":"Master20181101!F13-Master20180614!F13","v":0},{"$f":"Master20181101!G13-Master20180614!G13","v":1},{"$f":"Master20181101!H13-Master20180614!H13","v":1},{"$f":"Master20181101!I13-Master20180614!I13","v":0},{"$f":"Master20181101!J13-Master20180614!J13","v":0},{"$f":"Master20181101!K13-Master20180614!K13","v":0},{"$f":"Master20181101!L13-Master20180614!L13","v":0},{"$f":"Master20181101!M13-Master20180614!M13","v":0},{"$f":"Master20181101!N13-Master20180614!N13","v":1},{"$f":"Master20181101!O13-Master20180614!O13","v":0},{"$f":"Master20181101!P13-Master20180614!P13","v":0},{"$f":"Master20181101!Q13-Master20180614!Q13","v":0},{"$f":"Master20181101!R13-Master20180614!R13","v":0},{"$f":"Master20181101!S13-Master20180614!S13","v":0},{"$f":"Master20181101!T13-Master20180614!T13","v":0},{"$f":"Master20181101!U13-Master20180614!U13","v":0},{"$f":"Master20181101!V13-Master20180614!V13","v":0},{"$f":"Master20181101!W13-Master20180614!W13","v":0},{"$f":"Master20181101!X13-Master20180614!X13","v":0},{"$f":"Master20181101!Y13-Master20180614!Y13","v":0},{"$f":"Master20181101!Z13-Master20180614!Z13","v":0},{"$f":"Master20181101!AA13-Master20180614!AA13","v":0},{"$f":"Master20181101!AB13-Master20180614!AB13","v":0},{"$f":"Master20181101!AC13-Master20180614!AC13","v":0},{"$f":"Master20181101!AD13-Master20180614!AD13","v":0},{"$f":"Master20181101!AE13-Master20180614!AE13","v":0}]
["Southwestern","3-A","BLUE","Botetourt County",{"$f":"Master20181101!E14-Master20180614!E14","v":0},{"$f":"Master20181101!F14-Master20180614!F14","v":0},{"$f":"Master20181101!G14-Master20180614!G14","v":-3},{"$f":"Master20181101!H14-Master20180614!H14","v":-3},{"$f":"Master20181101!I14-Master20180614!I14","v":0},{"$f":"Master20181101!J14-Master20180614!J14","v":-3},{"$f":"Master20181101!K14-Master20180614!K14","v":0},{"$f":"Master20181101!L14-Master20180614!L14","v":-1},{"$f":"Master20181101!M14-Master20180614!M14","v":0},{"$f":"Master20181101!N14-Master20180614!N14","v":0},{"$f":"Master20181101!O14-Master20180614!O14","v":0},{"$f":"Master20181101!P14-Master20180614!P14","v":1},{"$f":"Master20181101!Q14-Master20180614!Q14","v":0},{"$f":"Master20181101!R14-Master20180614!R14","v":0},{"$f":"Master20181101!S14-Master20180614!S14","v":1},{"$f":"Master20181101!T14-Master20180614!T14","v":0},{"$f":"Master20181101!U14-Master20180614!U14","v":0},{"$f":"Master20181101!V14-Master20180614!V14","v":0},{"$f":"Master20181101!W14-Master20180614!W14","v":0},{"$f":"Master20181101!X14-Master20180614!X14","v":0},{"$f":"Master20181101!Y14-Master20180614!Y14","v":0},{"$f":"Master20181101!Z14-Master20180614!Z14","v":0},{"$f":"Master20181101!AA14-Master20180614!AA14","v":0},{"$f":"Master20181101!AB14-Master20180614!AB14","v":0},{"$f":"Master20181101!AC14-Master20180614!AC14","v":0},{"$f":"Master20181101!AD14-Master20180614!AD14","v":0},{"$f":"Master20181101!AE14-Master20180614!AE14","v":0}]
["Southwestern","3-D","HIGH","Bristol City",{"$f":"Master20181101!E15-Master20180614!E15","v":0},{"$f":"Master20181101!F15-Master20180614!F15","v":1},{"$f":"Master20181101!G15-Master20180614!G15","v":4},{"$f":"Master20181101!H15-Master20180614!H15","v":5},{"$f":"Master20181101!I15-Master20180614!I15","v":1},{"$f":"Master20181101!J15-Master20180614!J15","v":-2},{"$f":"Master20181101!K15-Master20180614!K15","v":1},{"$f":"Master20181101!L15-Master20180614!L15","v":6},{"$f":"Master20181101!M15-Master20180614!M15","v":0},{"$f":"Master20181101!N15-Master20180614!N15","v":0},{"$f":"Master20181101!O15-Master20180614!O15","v":0},{"$f":"Master20181101!P15-Master20180614!P15","v":-1},{"$f":"Master20181101!Q15-Master20180614!Q15","v":0},{"$f":"Master20181101!R15-Master20180614!R15","v":0},{"$f":"Master20181101!S15-Master20180614!S15","v":0},{"$f":"Master20181101!T15-Master20180614!T15","v":0},{"$f":"Master20181101!U15-Master20180614!U15","v":0},{"$f":"Master20181101!V15-Master20180614!V15","v":0},{"$f":"Master20181101!W15-Master20180614!W15","v":0},{"$f":"Master20181101!X15-Master20180614!X15","v":0},{"$f":"Master20181101!Y15-Master20180614!Y15","v":0},{"$f":"Master20181101!Z15-Master20180614!Z15","v":0},{"$f":"Master20181101!AA15-Master20180614!AA15","v":0},{"$f":"Master20181101!AB15-Master20180614!AB15","v":0},{"$f":"Master20181101!AC15-Master20180614!AC15","v":0},{"$f":"Master20181101!AD15-Master20180614!AD15","v":0},{"$f":"Master20181101!AE15-Master20180614!AE15","v":0}]
["Central","4-D","SS","Brunswick County",{"$f":"Master20181101!E16-Master20180614!E16","v":0},{"$f":"Master20181101!F16-Master20180614!F16","v":1},{"$f":"Master20181101!G16-Master20180614!G16","v":-1},{"$f":"Master20181101!H16-Master20180614!H16","v":0},{"$f":"Master20181101!I16-Master20180614!I16","v":-1},{"$f":"Master20181101!J16-Master20180614!J16","v":1},{"$f":"Master20181101!K16-Master20180614!K16","v":0},{"$f":"Master20181101!L16-Master20180614!L16","v":0},{"$f":"Master20181101!M16-Master20180614!M16","v":0},{"$f":"Master20181101!N16-Master20180614!N16","v":0},{"$f":"Master20181101!O16-Master20180614!O16","v":0},{"$f":"Master20181101!P16-Master20180614!P16","v":0},{"$f":"Master20181101!Q16-Master20180614!Q16","v":0},{"$f":"Master20181101!R16-Master20180614!R16","v":0},{"$f":"Master20181101!S16-Master20180614!S16","v":0},{"$f":"Master20181101!T16-Master20180614!T16","v":0},{"$f":"Master20181101!U16-Master20180614!U16","v":0},{"$f":"Master20181101!V16-Master20180614!V16","v":0},{"$f":"Master20181101!W16-Master20180614!W16","v":0},{"$f":"Master20181101!X16-Master20180614!X16","v":0},{"$f":"Master20181101!Y16-Master20180614!Y16","v":0},{"$f":"Master20181101!Z16-Master20180614!Z16","v":0},{"$f":"Master20181101!AA16-Master20180614!AA16","v":0},{"$f":"Master20181101!AB16-Master20180614!AB16","v":0},{"$f":"Master20181101!AC16-Master20180614!AC16","v":0},{"$f":"Master20181101!AD16-Master20180614!AD16","v":0},{"$f":"Master20181101!AE16-Master20180614!AE16","v":0}]
["Southwestern","3-D","CMT","Buchanan County",{"$f":"Master20181101!E17-Master20180614!E17","v":0},{"$f":"Master20181101!F17-Master20180614!F17","v":0},{"$f":"Master20181101!G17-Master20180614!G17","v":-3},{"$f":"Master20181101!H17-Master20180614!H17","v":-3},{"$f":"Master20181101!I17-Master20180614!I17","v":0},{"$f":"Master20181101!J17-Master20180614!J17","v":-3},{"$f":"Master20181101!K17-Master20180614!K17","v":0},{"$f":"Master20181101!L17-Master20180614!L17","v":2},{"$f":"Master20181101!M17-Master20180614!M17","v":0},{"$f":"Master20181101!N17-Master20180614!N17","v":-1},{"$f":"Master20181101!O17-Master20180614!O17","v":0},{"$f":"Master20181101!P17-Master20180614!P17","v":-1},{"$f":"Master20181101!Q17-Master20180614!Q17","v":0},{"$f":"Master20181101!R17-Master20180614!R17","v":0},{"$f":"Master20181101!S17-Master20180614!S17","v":0},{"$f":"Master20181101!T17-Master20180614!T17","v":0},{"$f":"Master20181101!U17-Master20180614!U17","v":0},{"$f":"Master20181101!V17-Master20180614!V17","v":0},{"$f":"Master20181101!W17-Master20180614!W17","v":0},{"$f":"Master20181101!X17-Master20180614!X17","v":0},{"$f":"Master20181101!Y17-Master20180614!Y17","v":0},{"$f":"Master20181101!Z17-Master20180614!Z17","v":0},{"$f":"Master20181101!AA17-Master20180614!AA17","v":0},{"$f":"Master20181101!AB17-Master20180614!AB17","v":0},{"$f":"Master20181101!AC17-Master20180614!AC17","v":0},{"$f":"Master20181101!AD17-Master20180614!AD17","v":0},{"$f":"Master20181101!AE17-Master20180614!AE17","v":0}]
["Central","4-B","CROS","Buckingham County",{"$f":"Master20181101!E18-Master20180614!E18","v":0},{"$f":"Master20181101!F18-Master20180614!F18","v":0},{"$f":"Master20181101!G18-Master20180614!G18","v":0},{"$f":"Master20181101!H18-Master20180614!H18","v":0},{"$f":"Master20181101!I18-Master20180614!I18","v":0},{"$f":"Master20181101!J18-Master20180614!J18","v":0},{"$f":"Master20181101!K18-Master20180614!K18","v":0},{"$f":"Master20181101!L18-Master20180614!L18","v":0},{"$f":"Master20181101!M18-Master20180614!M18","v":0},{"$f":"Master20181101!N18-Master20180614!N18","v":0},{"$f":"Master20181101!O18-Master20180614!O18","v":0},{"$f":"Master20181101!P18-Master20180614!P18","v":0},{"$f":"Master20181101!Q18-Master20180614!Q18","v":0},{"$f":"Master20181101!R18-Master20180614!R18","v":0},{"$f":"Master20181101!S18-Master20180614!S18","v":0},{"$f":"Master20181101!T18-Master20180614!T18","v":0},{"$f":"Master20181101!U18-Master20180614!U18","v":0},{"$f":"Master20181101!V18-Master20180614!V18","v":0},{"$f":"Master20181101!W18-Master20180614!W18","v":0},{"$f":"Master20181101!X18-Master20180614!X18","v":0},{"$f":"Master20181101!Y18-Master20180614!Y18","v":0},{"$f":"Master20181101!Z18-Master20180614!Z18","v":0},{"$f":"Master20181101!AA18-Master20180614!AA18","v":0},{"$f":"Master20181101!AB18-Master20180614!AB18","v":0},{"$f":"Master20181101!AC18-Master20180614!AC18","v":0},{"$f":"Master20181101!AD18-Master20180614!AD18","v":0},{"$f":"Master20181101!AE18-Master20180614!AE18","v":0}]
["Western","1-C","ROC","Buena Vista City",{"$f":"Master20181101!E19-Master20180614!E19","v":0},{"$f":"Master20181101!F19-Master20180614!F19","v":0},{"$f":"Master20181101!G19-Master20180614!G19","v":0},{"$f":"Master20181101!H19-Master20180614!H19","v":0},{"$f":"Master20181101!I19-Master20180614!I19","v":0},{"$f":"Master20181101!J19-Master20180614!J19","v":-1},{"$f":"Master20181101!K19-Master20180614!K19","v":0},{"$f":"Master20181101!L19-Master20180614!L19","v":1},{"$f":"Master20181101!M19-Master20180614!M19","v":0},{"$f":"Master20181101!N19-Master20180614!N19","v":0},{"$f":"Master20181101!O19-Master20180614!O19","v":0},{"$f":"Master20181101!P19-Master20180614!P19","v":0},{"$f":"Master20181101!Q19-Master20180614!Q19","v":0},{"$f":"Master20181101!R19-Master20180614!R19","v":0},{"$f":"Master20181101!S19-Master20180614!S19","v":0},{"$f":"Master20181101!T19-Master20180614!T19","v":0},{"$f":"Master20181101!U19-Master20180614!U19","v":0},{"$f":"Master20181101!V19-Master20180614!V19","v":0},{"$f":"Master20181101!W19-Master20180614!W19","v":0},{"$f":"Master20181101!X19-Master20180614!X19","v":0},{"$f":"Master20181101!Y19-Master20180614!Y19","v":0},{"$f":"Master20181101!Z19-Master20180614!Z19","v":0},{"$f":"Master20181101!AA19-Master20180614!AA19","v":0},{"$f":"Master20181101!AB19-Master20180614!AB19","v":0},{"$f":"Master20181101!AC19-Master20180614!AC19","v":0},{"$f":"Master20181101!AD19-Master20180614!AD19","v":0},{"$f":"Master20181101!AE19-Master20180614!AE19","v":0}]
["Western","1-D","HORI","Campbell County",{"$f":"Master20181101!E20-Master20180614!E20","v":0},{"$f":"Master20181101!F20-Master20180614!F20","v":-1},{"$f":"Master20181101!G20-Master20180614!G20","v":7},{"$f":"Master20181101!H20-Master20180614!H20","v":6},{"$f":"Master20181101!I20-Master20180614!I20","v":0},{"$f":"Master20181101!J20-Master20180614!J20","v":1},{"$f":"Master20181101!K20-Master20180614!K20","v":1},{"$f":"Master20181101!L20-Master20180614!L20","v":3},{"$f":"Master20181101!M20-Master20180614!M20","v":1},{"$f":"Master20181101!N20-Master20180614!N20","v":3},{"$f":"Master20181101!O20-Master20180614!O20","v":0},{"$f":"Master20181101!P20-Master20180614!P20","v":-3},{"$f":"Master20181101!Q20-Master20180614!Q20","v":0},{"$f":"Master20181101!R20-Master20180614!R20","v":0},{"$f":"Master20181101!S20-Master20180614!S20","v":0},{"$f":"Master20181101!T20-Master20180614!T20","v":0},{"$f":"Master20181101!U20-Master20180614!U20","v":0},{"$f":"Master20181101!V20-Master20180614!V20","v":0},{"$f":"Master20181101!W20-Master20180614!W20","v":0},{"$f":"Master20181101!X20-Master20180614!X20","v":0},{"$f":"Master20181101!Y20-Master20180614!Y20","v":0},{"$f":"Master20181101!Z20-Master20180614!Z20","v":0},{"$f":"Master20181101!AA20-Master20180614!AA20","v":0},{"$f":"Master20181101!AB20-Master20180614!AB20","v":0},{"$f":"Master20181101!AC20-Master20180614!AC20","v":0},{"$f":"Master20181101!AD20-Master20180614!AD20","v":0},{"$f":"Master20181101!AE20-Master20180614!AE20","v":0}]
["Northern","2-C","RapA","Caroline County",{"$f":"Master20181101!E21-Master20180614!E21","v":-1},{"$f":"Master20181101!F21-Master20180614!F21","v":1},{"$f":"Master20181101!G21-Master20180614!G21","v":3},{"$f":"Master20181101!H21-Master20180614!H21","v":3},{"$f":"Master20181101!I21-Master20180614!I21","v":0},{"$f":"Master20181101!J21-Master20180614!J21","v":3},{"$f":"Master20181101!K21-Master20180614!K21","v":0},{"$f":"Master20181101!L21-Master20180614!L21","v":1},{"$f":"Master20181101!M21-Master20180614!M21","v":0},{"$f":"Master20181101!N21-Master20180614!N21","v":1},{"$f":"Master20181101!O21-Master20180614!O21","v":1},{"$f":"Master20181101!P21-Master20180614!P21","v":-3},{"$f":"Master20181101!Q21-Master20180614!Q21","v":0},{"$f":"Master20181101!R21-Master20180614!R21","v":0},{"$f":"Master20181101!S21-Master20180614!S21","v":0},{"$f":"Master20181101!T21-Master20180614!T21","v":0},{"$f":"Master20181101!U21-Master20180614!U21","v":0},{"$f":"Master20181101!V21-Master20180614!V21","v":0},{"$f":"Master20181101!W21-Master20180614!W21","v":0},{"$f":"Master20181101!X21-Master20180614!X21","v":0},{"$f":"Master20181101!Y21-Master20180614!Y21","v":0},{"$f":"Master20181101!Z21-Master20180614!Z21","v":0},{"$f":"Master20181101!AA21-Master20180614!AA21","v":0},{"$f":"Master20181101!AB21-Master20180614!AB21","v":0},{"$f":"Master20181101!AC21-Master20180614!AC21","v":0},{"$f":"Master20181101!AD21-Master20180614!AD21","v":0},{"$f":"Master20181101!AE21-Master20180614!AE21","v":0}]
["Southwestern","3-B","MTRG","Carroll County",{"$f":"Master20181101!E22-Master20180614!E22","v":0},{"$f":"Master20181101!F22-Master20180614!F22","v":2},{"$f":"Master20181101!G22-Master20180614!G22","v":28},{"$f":"Master20181101!H22-Master20180614!H22","v":30},{"$f":"Master20181101!I22-Master20180614!I22","v":-1},{"$f":"Master20181101!J22-Master20180614!J22","v":-2},{"$f":"Master20181101!K22-Master20180614!K22","v":-3},{"$f":"Master20181101!L22-Master20180614!L22","v":11},{"$f":"Master20181101!M22-Master20180614!M22","v":4},{"$f":"Master20181101!N22-Master20180614!N22","v":8},{"$f":"Master20181101!O22-Master20180614!O22","v":10},{"$f":"Master20181101!P22-Master20180614!P22","v":3},{"$f":"Master20181101!Q22-Master20180614!Q22","v":0},{"$f":"Master20181101!R22-Master20180614!R22","v":0},{"$f":"Master20181101!S22-Master20180614!S22","v":0},{"$f":"Master20181101!T22-Master20180614!T22","v":0},{"$f":"Master20181101!U22-Master20180614!U22","v":0},{"$f":"Master20181101!V22-Master20180614!V22","v":0},{"$f":"Master20181101!W22-Master20180614!W22","v":0},{"$f":"Master20181101!X22-Master20180614!X22","v":0},{"$f":"Master20181101!Y22-Master20180614!Y22","v":0},{"$f":"Master20181101!Z22-Master20180614!Z22","v":0},{"$f":"Master20181101!AA22-Master20180614!AA22","v":0},{"$f":"Master20181101!AB22-Master20180614!AB22","v":0},{"$f":"Master20181101!AC22-Master20180614!AC22","v":0},{"$f":"Master20181101!AD22-Master20180614!AD22","v":0},{"$f":"Master20181101!AE22-Master20180614!AE22","v":0}]
["Central","4-A","HENR","Charles City County",{"$f":"Master20181101!E23-Master20180614!E23","v":0},{"$f":"Master20181101!F23-Master20180614!F23","v":0},{"$f":"Master20181101!G23-Master20180614!G23","v":-2},{"$f":"Master20181101!H23-Master20180614!H23","v":-2},{"$f":"Master20181101!I23-Master20180614!I23","v":0},{"$f":"Master20181101!J23-Master20180614!J23","v":-1},{"$f":"Master20181101!K23-Master20180614!K23","v":0},{"$f":"Master20181101!L23-Master20180614!L23","v":-1},{"$f":"Master20181101!M23-Master20180614!M23","v":0},{"$f":"Master20181101!N23-Master20180614!N23","v":0},{"$f":"Master20181101!O23-Master20180614!O23","v":0},{"$f":"Master20181101!P23-Master20180614!P23","v":0},{"$f":"Master20181101!Q23-Master20180614!Q23","v":0},{"$f":"Master20181101!R23-Master20180614!R23","v":0},{"$f":"Master20181101!S23-Master20180614!S23","v":0},{"$f":"Master20181101!T23-Master20180614!T23","v":0},{"$f":"Master20181101!U23-Master20180614!U23","v":0},{"$f":"Master20181101!V23-Master20180614!V23","v":0},{"$f":"Master20181101!W23-Master20180614!W23","v":0},{"$f":"Master20181101!X23-Master20180614!X23","v":0},{"$f":"Master20181101!Y23-Master20180614!Y23","v":0},{"$f":"Master20181101!Z23-Master20180614!Z23","v":0},{"$f":"Master20181101!AA23-Master20180614!AA23","v":0},{"$f":"Master20181101!AB23-Master20180614!AB23","v":0},{"$f":"Master20181101!AC23-Master20180614!AC23","v":0},{"$f":"Master20181101!AD23-Master20180614!AD23","v":0},{"$f":"Master20181101!AE23-Master20180614!AE23","v":0}]
["Central","4-C","CROS","Charlotte County",{"$f":"Master20181101!E24-Master20180614!E24","v":0},{"$f":"Master20181101!F24-Master20180614!F24","v":-1},{"$f":"Master20181101!G24-Master20180614!G24","v":0},{"$f":"Master20181101!H24-Master20180614!H24","v":-1},{"$f":"Master20181101!I24-Master20180614!I24","v":0},{"$f":"Master20181101!J24-Master20180614!J24","v":0},{"$f":"Master20181101!K24-Master20180614!K24","v":-1},{"$f":"Master20181101!L24-Master20180614!L24","v":0},{"$f":"Master20181101!M24-Master20180614!M24","v":0},{"$f":"Master20181101!N24-Master20180614!N24","v":0},{"$f":"Master20181101!O24-Master20180614!O24","v":0},{"$f":"Master20181101!P24-Master20180614!P24","v":0},{"$f":"Master20181101!Q24-Master20180614!Q24","v":0},{"$f":"Master20181101!R24-Master20180614!R24","v":0},{"$f":"Master20181101!S24-Master20180614!S24","v":1},{"$f":"Master20181101!T24-Master20180614!T24","v":0},{"$f":"Master20181101!U24-Master20180614!U24","v":0},{"$f":"Master20181101!V24-Master20180614!V24","v":0},{"$f":"Master20181101!W24-Master20180614!W24","v":0},{"$f":"Master20181101!X24-Master20180614!X24","v":0},{"$f":"Master20181101!Y24-Master20180614!Y24","v":0},{"$f":"Master20181101!Z24-Master20180614!Z24","v":0},{"$f":"Master20181101!AA24-Master20180614!AA24","v":0},{"$f":"Master20181101!AB24-Master20180614!AB24","v":0},{"$f":"Master20181101!AC24-Master20180614!AC24","v":0},{"$f":"Master20181101!AD24-Master20180614!AD24","v":0},{"$f":"Master20181101!AE24-Master20180614!AE24","v":0}]
["Western","1-A","RTEN","Charlottesville City",{"$f":"Master20181101!E25-Master20180614!E25","v":2},{"$f":"Master20181101!F25-Master20180614!F25","v":-1},{"$f":"Master20181101!G25-Master20180614!G25","v":3},{"$f":"Master20181101!H25-Master20180614!H25","v":4},{"$f":"Master20181101!I25-Master20180614!I25","v":1},{"$f":"Master20181101!J25-Master20180614!J25","v":2},{"$f":"Master20181101!K25-Master20180614!K25","v":-1},{"$f":"Master20181101!L25-Master20180614!L25","v":-1},{"$f":"Master20181101!M25-Master20180614!M25","v":1},{"$f":"Master20181101!N25-Master20180614!N25","v":2},{"$f":"Master20181101!O25-Master20180614!O25","v":0},{"$f":"Master20181101!P25-Master20180614!P25","v":0},{"$f":"Master20181101!Q25-Master20180614!Q25","v":0},{"$f":"Master20181101!R25-Master20180614!R25","v":0},{"$f":"Master20181101!S25-Master20180614!S25","v":0},{"$f":"Master20181101!T25-Master20180614!T25","v":0},{"$f":"Master20181101!U25-Master20180614!U25","v":0},{"$f":"Master20181101!V25-Master20180614!V25","v":0},{"$f":"Master20181101!W25-Master20180614!W25","v":0},{"$f":"Master20181101!X25-Master20180614!X25","v":0},{"$f":"Master20181101!Y25-Master20180614!Y25","v":0},{"$f":"Master20181101!Z25-Master20180614!Z25","v":0},{"$f":"Master20181101!AA25-Master20180614!AA25","v":0},{"$f":"Master20181101!AB25-Master20180614!AB25","v":0},{"$f":"Master20181101!AC25-Master20180614!AC25","v":0},{"$f":"Master20181101!AD25-Master20180614!AD25","v":0},{"$f":"Master20181101!AE25-Master20180614!AE25","v":0}]
["Eastern","5-D","CHSP","Chesapeake City",{"$f":"Master20181101!E26-Master20180614!E26","v":1},{"$f":"Master20181101!F26-Master20180614!F26","v":0},{"$f":"Master20181101!G26-Master20180614!G26","v":7},{"$f":"Master20181101!H26-Master20180614!H26","v":8},{"$f":"Master20181101!I26-Master20180614!I26","v":-2},{"$f":"Master20181101!J26-Master20180614!J26","v":-7},{"$f":"Master20181101!K26-Master20180614!K26","v":2},{"$f":"Master20181101!L26-Master20180614!L26","v":8},{"$f":"Master20181101!M26-Master20180614!M26","v":0},{"$f":"Master20181101!N26-Master20180614!N26","v":1},{"$f":"Master20181101!O26-Master20180614!O26","v":1},{"$f":"Master20181101!P26-Master20180614!P26","v":5},{"$f":"Master20181101!Q26-Master20180614!Q26","v":0},{"$f":"Master20181101!R26-Master20180614!R26","v":1},{"$f":"Master20181101!S26-Master20180614!S26","v":1},{"$f":"Master20181101!T26-Master20180614!T26","v":0},{"$f":"Master20181101!U26-Master20180614!U26","v":0},{"$f":"Master20181101!V26-Master20180614!V26","v":0},{"$f":"Master20181101!W26-Master20180614!W26","v":0},{"$f":"Master20181101!X26-Master20180614!X26","v":2},{"$f":"Master20181101!Y26-Master20180614!Y26","v":0},{"$f":"Master20181101!Z26-Master20180614!Z26","v":0},{"$f":"Master20181101!AA26-Master20180614!AA26","v":0},{"$f":"Master20181101!AB26-Master20180614!AB26","v":0},{"$f":"Master20181101!AC26-Master20180614!AC26","v":4},{"$f":"Master20181101!AD26-Master20180614!AD26","v":2},{"$f":"Master20181101!AE26-Master20180614!AE26","v":0}]
["Central","4-A","CHST","Chesterfield County",{"$f":"Master20181101!E27-Master20180614!E27","v":4},{"$f":"Master20181101!F27-Master20180614!F27","v":3},{"$f":"Master20181101!G27-Master20180614!G27","v":17},{"$f":"Master20181101!H27-Master20180614!H27","v":24},{"$f":"Master20181101!I27-Master20180614!I27","v":0},{"$f":"Master20181101!J27-Master20180614!J27","v":3},{"$f":"Master20181101!K27-Master20180614!K27","v":-6},{"$f":"Master20181101!L27-Master20180614!L27","v":26},{"$f":"Master20181101!M27-Master20180614!M27","v":7},{"$f":"Master20181101!N27-Master20180614!N27","v":2},{"$f":"Master20181101!O27-Master20180614!O27","v":-4},{"$f":"Master20181101!P27-Master20180614!P27","v":-4},{"$f":"Master20181101!Q27-Master20180614!Q27","v":0},{"$f":"Master20181101!R27-Master20180614!R27","v":1},{"$f":"Master20181101!S27-Master20180614!S27","v":0},{"$f":"Master20181101!T27-Master20180614!T27","v":0},{"$f":"Master20181101!U27-Master20180614!U27","v":0},{"$f":"Master20181101!V27-Master20180614!V27","v":0},{"$f":"Master20181101!W27-Master20180614!W27","v":0},{"$f":"Master20181101!X27-Master20180614!X27","v":1},{"$f":"Master20181101!Y27-Master20180614!Y27","v":0},{"$f":"Master20181101!Z27-Master20180614!Z27","v":0},{"$f":"Master20181101!AA27-Master20180614!AA27","v":1},{"$f":"Master20181101!AB27-Master20180614!AB27","v":0},{"$f":"Master20181101!AC27-Master20180614!AC27","v":2},{"$f":"Master20181101!AD27-Master20180614!AD27","v":-3},{"$f":"Master20181101!AE27-Master20180614!AE27","v":0}]
["Northern","2-D","NW","Clarke County",{"$f":"Master20181101!E28-Master20180614!E28","v":0},{"$f":"Master20181101!F28-Master20180614!F28","v":0},{"$f":"Master20181101!G28-Master20180614!G28","v":1},{"$f":"Master20181101!H28-Master20180614!H28","v":1},{"$f":"Master20181101!I28-Master20180614!I28","v":1},{"$f":"Master20181101!J28-Master20180614!J28","v":-2},{"$f":"Master20181101!K28-Master20180614!K28","v":1},{"$f":"Master20181101!L28-Master20180614!L28","v":1},{"$f":"Master20181101!M28-Master20180614!M28","v":0},{"$f":"Master20181101!N28-Master20180614!N28","v":0},{"$f":"Master20181101!O28-Master20180614!O28","v":0},{"$f":"Master20181101!P28-Master20180614!P28","v":0},{"$f":"Master20181101!Q28-Master20180614!Q28","v":0},{"$f":"Master20181101!R28-Master20180614!R28","v":0},{"$f":"Master20181101!S28-Master20180614!S28","v":0},{"$f":"Master20181101!T28-Master20180614!T28","v":0},{"$f":"Master20181101!U28-Master20180614!U28","v":0},{"$f":"Master20181101!V28-Master20180614!V28","v":0},{"$f":"Master20181101!W28-Master20180614!W28","v":0},{"$f":"Master20181101!X28-Master20180614!X28","v":0},{"$f":"Master20181101!Y28-Master20180614!Y28","v":0},{"$f":"Master20181101!Z28-Master20180614!Z28","v":0},{"$f":"Master20181101!AA28-Master20180614!AA28","v":0},{"$f":"Master20181101!AB28-Master20180614!AB28","v":0},{"$f":"Master20181101!AC28-Master20180614!AC28","v":0},{"$f":"Master20181101!AD28-Master20180614!AD28","v":0},{"$f":"Master20181101!AE28-Master20180614!AE28","v":0}]
["Central","4-A","D19","Colonial Heights City",{"$f":"Master20181101!E29-Master20180614!E29","v":0},{"$f":"Master20181101!F29-Master20180614!F29","v":0},{"$f":"Master20181101!G29-Master20180614!G29","v":1},{"$f":"Master20181101!H29-Master20180614!H29","v":1},{"$f":"Master20181101!I29-Master20180614!I29","v":-1},{"$f":"Master20181101!J29-Master20180614!J29","v":0},{"$f":"Master20181101!K29-Master20180614!K29","v":0},{"$f":"Master20181101!L29-Master20180614!L29","v":0},{"$f":"Master20181101!M29-Master20180614!M29","v":1},{"$f":"Master20181101!N29-Master20180614!N29","v":0},{"$f":"Master20181101!O29-Master20180614!O29","v":0},{"$f":"Master20181101!P29-Master20180614!P29","v":1},{"$f":"Master20181101!Q29-Master20180614!Q29","v":0},{"$f":"Master20181101!R29-Master20180614!R29","v":0},{"$f":"Master20181101!S29-Master20180614!S29","v":1},{"$f":"Master20181101!T29-Master20180614!T29","v":0},{"$f":"Master20181101!U29-Master20180614!U29","v":0},{"$f":"Master20181101!V29-Master20180614!V29","v":0},{"$f":"Master20181101!W29-Master20180614!W29","v":0},{"$f":"Master20181101!X29-Master20180614!X29","v":-1},{"$f":"Master20181101!Y29-Master20180614!Y29","v":0},{"$f":"Master20181101!Z29-Master20180614!Z29","v":0},{"$f":"Master20181101!AA29-Master20180614!AA29","v":0},{"$f":"Master20181101!AB29-Master20180614!AB29","v":0},{"$f":"Master20181101!AC29-Master20180614!AC29","v":0},{"$f":"Master20181101!AD29-Master20180614!AD29","v":0},{"$f":"Master20181101!AE29-Master20180614!AE29","v":0}]
["Western","1-C","ALLE","Covington City",{"$f":"Master20181101!E30-Master20180614!E30","v":0},{"$f":"Master20181101!F30-Master20180614!F30","v":0},{"$f":"Master20181101!G30-Master20180614!G30","v":2},{"$f":"Master20181101!H30-Master20180614!H30","v":2},{"$f":"Master20181101!I30-Master20180614!I30","v":0},{"$f":"Master20181101!J30-Master20180614!J30","v":0},{"$f":"Master20181101!K30-Master20180614!K30","v":0},{"$f":"Master20181101!L30-Master20180614!L30","v":0},{"$f":"Master20181101!M30-Master20180614!M30","v":0},{"$f":"Master20181101!N30-Master20180614!N30","v":0},{"$f":"Master20181101!O30-Master20180614!O30","v":0},{"$f":"Master20181101!P30-Master20180614!P30","v":2},{"$f":"Master20181101!Q30-Master20180614!Q30","v":0},{"$f":"Master20181101!R30-Master20180614!R30","v":0},{"$f":"Master20181101!S30-Master20180614!S30","v":0},{"$f":"Master20181101!T30-Master20180614!T30","v":0},{"$f":"Master20181101!U30-Master20180614!U30","v":0},{"$f":"Master20181101!V30-Master20180614!V30","v":0},{"$f":"Master20181101!W30-Master20180614!W30","v":0},{"$f":"Master20181101!X30-Master20180614!X30","v":1},{"$f":"Master20181101!Y30-Master20180614!Y30","v":0},{"$f":"Master20181101!Z30-Master20180614!Z30","v":0},{"$f":"Master20181101!AA30-Master20180614!AA30","v":0},{"$f":"Master20181101!AB30-Master20180614!AB30","v":0},{"$f":"Master20181101!AC30-Master20180614!AC30","v":0},{"$f":"Master20181101!AD30-Master20180614!AD30","v":0},{"$f":"Master20181101!AE30-Master20180614!AE30","v":0}]
["Southwestern","3-A","BLUE","Craig County",{"$f":"Master20181101!E31-Master20180614!E31","v":1},{"$f":"Master20181101!F31-Master20180614!F31","v":0},{"$f":"Master20181101!G31-Master20180614!G31","v":0},{"$f":"Master20181101!H31-Master20180614!H31","v":1},{"$f":"Master20181101!I31-Master20180614!I31","v":0},{"$f":"Master20181101!J31-Master20180614!J31","v":0},{"$f":"Master20181101!K31-Master20180614!K31","v":0},{"$f":"Master20181101!L31-Master20180614!L31","v":0},{"$f":"Master20181101!M31-Master20180614!M31","v":0},{"$f":"Master20181101!N31-Master20180614!N31","v":0},{"$f":"Master20181101!O31-Master20180614!O31","v":0},{"$f":"Master20181101!P31-Master20180614!P31","v":1},{"$f":"Master20181101!Q31-Master20180614!Q31","v":0},{"$f":"Master20181101!R31-Master20180614!R31","v":0},{"$f":"Master20181101!S31-Master20180614!S31","v":0},{"$f":"Master20181101!T31-Master20180614!T31","v":0},{"$f":"Master20181101!U31-Master20180614!U31","v":0},{"$f":"Master20181101!V31-Master20180614!V31","v":0},{"$f":"Master20181101!W31-Master20180614!W31","v":0},{"$f":"Master20181101!X31-Master20180614!X31","v":0},{"$f":"Master20181101!Y31-Master20180614!Y31","v":0},{"$f":"Master20181101!Z31-Master20180614!Z31","v":0},{"$f":"Master20181101!AA31-Master20180614!AA31","v":0},{"$f":"Master20181101!AB31-Master20180614!AB31","v":0},{"$f":"Master20181101!AC31-Master20180614!AC31","v":0},{"$f":"Master20181101!AD31-Master20180614!AD31","v":0},{"$f":"Master20181101!AE31-Master20180614!AE31","v":0}]
["Northern","2-B","RapR","Culpeper County",{"$f":"Master20181101!E32-Master20180614!E32","v":2},{"$f":"Master20181101!F32-Master20180614!F32","v":-2},{"$f":"Master20181101!G32-Master20180614!G32","v":4},{"$f":"Master20181101!H32-Master20180614!H32","v":4},{"$f":"Master20181101!I32-Master20180614!I32","v":1},{"$f":"Master20181101!J32-Master20180614!J32","v":1},{"$f":"Master20181101!K32-Master20180614!K32","v":0},{"$f":"Master20181101!L32-Master20180614!L32","v":3},{"$f":"Master20181101!M32-Master20180614!M32","v":0},{"$f":"Master20181101!N32-Master20180614!N32","v":0},{"$f":"Master20181101!O32-Master20180614!O32","v":0},{"$f":"Master20181101!P32-Master20180614!P32","v":-1},{"$f":"Master20181101!Q32-Master20180614!Q32","v":0},{"$f":"Master20181101!R32-Master20180614!R32","v":0},{"$f":"Master20181101!S32-Master20180614!S32","v":0},{"$f":"Master20181101!T32-Master20180614!T32","v":0},{"$f":"Master20181101!U32-Master20180614!U32","v":0},{"$f":"Master20181101!V32-Master20180614!V32","v":0},{"$f":"Master20181101!W32-Master20180614!W32","v":0},{"$f":"Master20181101!X32-Master20180614!X32","v":0},{"$f":"Master20181101!Y32-Master20180614!Y32","v":0},{"$f":"Master20181101!Z32-Master20180614!Z32","v":0},{"$f":"Master20181101!AA32-Master20180614!AA32","v":0},{"$f":"Master20181101!AB32-Master20180614!AB32","v":0},{"$f":"Master20181101!AC32-Master20180614!AC32","v":0},{"$f":"Master20181101!AD32-Master20180614!AD32","v":0},{"$f":"Master20181101!AE32-Master20180614!AE32","v":0}]
["Central","4-B","CROS","Cumberland County",{"$f":"Master20181101!E33-Master20180614!E33","v":0},{"$f":"Master20181101!F33-Master20180614!F33","v":1},{"$f":"Master20181101!G33-Master20180614!G33","v":0},{"$f":"Master20181101!H33-Master20180614!H33","v":1},{"$f":"Master20181101!I33-Master20180614!I33","v":1},{"$f":"Master20181101!J33-Master20180614!J33","v":-2},{"$f":"Master20181101!K33-Master20180614!K33","v":0},{"$f":"Master20181101!L33-Master20180614!L33","v":1},{"$f":"Master20181101!M33-Master20180614!M33","v":0},{"$f":"Master20181101!N33-Master20180614!N33","v":0},{"$f":"Master20181101!O33-Master20180614!O33","v":0},{"$f":"Master20181101!P33-Master20180614!P33","v":1},{"$f":"Master20181101!Q33-Master20180614!Q33","v":0},{"$f":"Master20181101!R33-Master20180614!R33","v":0},{"$f":"Master20181101!S33-Master20180614!S33","v":0},{"$f":"Master20181101!T33-Master20180614!T33","v":0},{"$f":"Master20181101!U33-Master20180614!U33","v":0},{"$f":"Master20181101!V33-Master20180614!V33","v":0},{"$f":"Master20181101!W33-Master20180614!W33","v":0},{"$f":"Master20181101!X33-Master20180614!X33","v":0},{"$f":"Master20181101!Y33-Master20180614!Y33","v":0},{"$f":"Master20181101!Z33-Master20180614!Z33","v":0},{"$f":"Master20181101!AA33-Master20180614!AA33","v":0},{"$f":"Master20181101!AB33-Master20180614!AB33","v":0},{"$f":"Master20181101!AC33-Master20180614!AC33","v":0},{"$f":"Master20181101!AD33-Master20180614!AD33","v":0},{"$f":"Master20181101!AE33-Master20180614!AE33","v":0}]
["Southwestern","3-B","DANV","Danville City",{"$f":"Master20181101!E34-Master20180614!E34","v":3},{"$f":"Master20181101!F34-Master20180614!F34","v":1},{"$f":"Master20181101!G34-Master20180614!G34","v":2},{"$f":"Master20181101!H34-Master20180614!H34","v":6},{"$f":"Master20181101!I34-Master20180614!I34","v":1},{"$f":"Master20181101!J34-Master20180614!J34","v":0},{"$f":"Master20181101!K34-Master20180614!K34","v":0},{"$f":"Master20181101!L34-Master20180614!L34","v":1},{"$f":"Master20181101!M34-Master20180614!M34","v":0},{"$f":"Master20181101!N34-Master20180614!N34","v":0},{"$f":"Master20181101!O34-Master20180614!O34","v":2},{"$f":"Master20181101!P34-Master20180614!P34","v":2},{"$f":"Master20181101!Q34-Master20180614!Q34","v":0},{"$f":"Master20181101!R34-Master20180614!R34","v":1},{"$f":"Master20181101!S34-Master20180614!S34","v":0},{"$f":"Master20181101!T34-Master20180614!T34","v":0},{"$f":"Master20181101!U34-Master20180614!U34","v":0},{"$f":"Master20181101!V34-Master20180614!V34","v":0},{"$f":"Master20181101!W34-Master20180614!W34","v":1},{"$f":"Master20181101!X34-Master20180614!X34","v":2},{"$f":"Master20181101!Y34-Master20180614!Y34","v":0},{"$f":"Master20181101!Z34-Master20180614!Z34","v":0},{"$f":"Master20181101!AA34-Master20180614!AA34","v":0},{"$f":"Master20181101!AB34-Master20180614!AB34","v":0},{"$f":"Master20181101!AC34-Master20180614!AC34","v":0},{"$f":"Master20181101!AD34-Master20180614!AD34","v":0},{"$f":"Master20181101!AE34-Master20180614!AE34","v":0}]
["Southwestern","3-D","DCBH","Dickenson County",{"$f":"Master20181101!E35-Master20180614!E35","v":0},{"$f":"Master20181101!F35-Master20180614!F35","v":1},{"$f":"Master20181101!G35-Master20180614!G35","v":1},{"$f":"Master20181101!H35-Master20180614!H35","v":2},{"$f":"Master20181101!I35-Master20180614!I35","v":0},{"$f":"Master20181101!J35-Master20180614!J35","v":0},{"$f":"Master20181101!K35-Master20180614!K35","v":0},{"$f":"Master20181101!L35-Master20180614!L35","v":1},{"$f":"Master20181101!M35-Master20180614!M35","v":0},{"$f":"Master20181101!N35-Master20180614!N35","v":0},{"$f":"Master20181101!O35-Master20180614!O35","v":0},{"$f":"Master20181101!P35-Master20180614!P35","v":1},{"$f":"Master20181101!Q35-Master20180614!Q35","v":0},{"$f":"Master20181101!R35-Master20180614!R35","v":0},{"$f":"Master20181101!S35-Master20180614!S35","v":0},{"$f":"Master20181101!T35-Master20180614!T35","v":0},{"$f":"Master20181101!U35-Master20180614!U35","v":0},{"$f":"Master20181101!V35-Master20180614!V35","v":0},{"$f":"Master20181101!W35-Master20180614!W35","v":0},{"$f":"Master20181101!X35-Master20180614!X35","v":0},{"$f":"Master20181101!Y35-Master20180614!Y35","v":0},{"$f":"Master20181101!Z35-Master20180614!Z35","v":0},{"$f":"Master20181101!AA35-Master20180614!AA35","v":0},{"$f":"Master20181101!AB35-Master20180614!AB35","v":0},{"$f":"Master20181101!AC35-Master20180614!AC35","v":0},{"$f":"Master20181101!AD35-Master20180614!AD35","v":0},{"$f":"Master20181101!AE35-Master20180614!AE35","v":0}]
["Central","4-D","D19","Dinwiddie County",{"$f":"Master20181101!E36-Master20180614!E36","v":0},{"$f":"Master20181101!F36-Master20180614!F36","v":0},{"$f":"Master20181101!G36-Master20180614!G36","v":-1},{"$f":"Master20181101!H36-Master20180614!H36","v":-1},{"$f":"Master20181101!I36-Master20180614!I36","v":0},{"$f":"Master20181101!J36-Master20180614!J36","v":-1},{"$f":"Master20181101!K36-Master20180614!K36","v":1},{"$f":"Master20181101!L36-Master20180614!L36","v":0},{"$f":"Master20181101!M36-Master20180614!M36","v":0},{"$f":"Master20181101!N36-Master20180614!N36","v":1},{"$f":"Master20181101!O36-Master20180614!O36","v":-3},{"$f":"Master20181101!P36-Master20180614!P36","v":1},{"$f":"Master20181101!Q36-Master20180614!Q36","v":0},{"$f":"Master20181101!R36-Master20180614!R36","v":0},{"$f":"Master20181101!S36-Master20180614!S36","v":0},{"$f":"Master20181101!T36-Master20180614!T36","v":0},{"$f":"Master20181101!U36-Master20180614!U36","v":0},{"$f":"Master20181101!V36-Master20180614!V36","v":0},{"$f":"Master20181101!W36-Master20180614!W36","v":0},{"$f":"Master20181101!X36-Master20180614!X36","v":0},{"$f":"Master20181101!Y36-Master20180614!Y36","v":0},{"$f":"Master20181101!Z36-Master20180614!Z36","v":0},{"$f":"Master20181101!AA36-Master20180614!AA36","v":0},{"$f":"Master20181101!AB36-Master20180614!AB36","v":0},{"$f":"Master20181101!AC36-Master20180614!AC36","v":0},{"$f":"Master20181101!AD36-Master20180614!AD36","v":0},{"$f":"Master20181101!AE36-Master20180614!AE36","v":0}]
["Central","4-C","D19","Emporia City",{"$f":"Master20181101!E37-Master20180614!E37","v":0},{"$f":"Master20181101!F37-Master20180614!F37","v":0},{"$f":"Master20181101!G37-Master20180614!G37","v":0},{"$f":"Master20181101!H37-Master20180614!H37","v":0},{"$f":"Master20181101!I37-Master20180614!I37","v":0},{"$f":"Master20181101!J37-Master20180614!J37","v":-1},{"$f":"Master20181101!K37-Master20180614!K37","v":0},{"$f":"Master20181101!L37-Master20180614!L37","v":0},{"$f":"Master20181101!M37-Master20180614!M37","v":0},{"$f":"Master20181101!N37-Master20180614!N37","v":0},{"$f":"Master20181101!O37-Master20180614!O37","v":0},{"$f":"Master20181101!P37-Master20180614!P37","v":1},{"$f":"Master20181101!Q37-Master20180614!Q37","v":0},{"$f":"Master20181101!R37-Master20180614!R37","v":0},{"$f":"Master20181101!S37-Master20180614!S37","v":0},{"$f":"Master20181101!T37-Master20180614!T37","v":0},{"$f":"Master20181101!U37-Master20180614!U37","v":0},{"$f":"Master20181101!V37-Master20180614!V37","v":0},{"$f":"Master20181101!W37-Master20180614!W37","v":0},{"$f":"Master20181101!X37-Master20180614!X37","v":0},{"$f":"Master20181101!Y37-Master20180614!Y37","v":0},{"$f":"Master20181101!Z37-Master20180614!Z37","v":0},{"$f":"Master20181101!AA37-Master20180614!AA37","v":0},{"$f":"Master20181101!AB37-Master20180614!AB37","v":0},{"$f":"Master20181101!AC37-Master20180614!AC37","v":0},{"$f":"Master20181101!AD37-Master20180614!AD37","v":-1},{"$f":"Master20181101!AE37-Master20180614!AE37","v":0}]
["Eastern","5-A","MPNN","Essex County",{"$f":"Master20181101!E38-Master20180614!E38","v":0},{"$f":"Master20181101!F38-Master20180614!F38","v":0},{"$f":"Master20181101!G38-Master20180614!G38","v":1},{"$f":"Master20181101!H38-Master20180614!H38","v":1},{"$f":"Master20181101!I38-Master20180614!I38","v":1},{"$f":"Master20181101!J38-Master20180614!J38","v":1},{"$f":"Master20181101!K38-Master20180614!K38","v":0},{"$f":"Master20181101!L38-Master20180614!L38","v":-1},{"$f":"Master20181101!M38-Master20180614!M38","v":0},{"$f":"Master20181101!N38-Master20180614!N38","v":0},{"$f":"Master20181101!O38-Master20180614!O38","v":0},{"$f":"Master20181101!P38-Master20180614!P38","v":0},{"$f":"Master20181101!Q38-Master20180614!Q38","v":0},{"$f":"Master20181101!R38-Master20180614!R38","v":0},{"$f":"Master20181101!S38-Master20180614!S38","v":0},{"$f":"Master20181101!T38-Master20180614!T38","v":0},{"$f":"Master20181101!U38-Master20180614!U38","v":0},{"$f":"Master20181101!V38-Master20180614!V38","v":0},{"$f":"Master20181101!W38-Master20180614!W38","v":0},{"$f":"Master20181101!X38-Master20180614!X38","v":0},{"$f":"Master20181101!Y38-Master20180614!Y38","v":0},{"$f":"Master20181101!Z38-Master20180614!Z38","v":0},{"$f":"Master20181101!AA38-Master20180614!AA38","v":0},{"$f":"Master20181101!AB38-Master20180614!AB38","v":0},{"$f":"Master20181101!AC38-Master20180614!AC38","v":0},{"$f":"Master20181101!AD38-Master20180614!AD38","v":0},{"$f":"Master20181101!AE38-Master20180614!AE38","v":0}]
["Northern","2-A","FFFC","Fairfax City",{"$f":"Master20181101!E39-Master20180614!E39","v":0},{"$f":"Master20181101!F39-Master20180614!F39","v":0},{"$f":"Master20181101!G39-Master20180614!G39","v":0},{"$f":"Master20181101!H39-Master20180614!H39","v":0},{"$f":"Master20181101!I39-Master20180614!I39","v":0},{"$f":"Master20181101!J39-Master20180614!J39","v":0},{"$f":"Master20181101!K39-Master20180614!K39","v":0},{"$f":"Master20181101!L39-Master20180614!L39","v":0},{"$f":"Master20181101!M39-Master20180614!M39","v":0},{"$f":"Master20181101!N39-Master20180614!N39","v":0},{"$f":"Master20181101!O39-Master20180614!O39","v":0},{"$f":"Master20181101!P39-Master20180614!P39","v":0},{"$f":"Master20181101!Q39-Master20180614!Q39","v":0},{"$f":"Master20181101!R39-Master20180614!R39","v":0},{"$f":"Master20181101!S39-Master20180614!S39","v":0},{"$f":"Master20181101!T39-Master20180614!T39","v":0},{"$f":"Master20181101!U39-Master20180614!U39","v":0},{"$f":"Master20181101!V39-Master20180614!V39","v":0},{"$f":"Master20181101!W39-Master20180614!W39","v":0},{"$f":"Master20181101!X39-Master20180614!X39","v":0},{"$f":"Master20181101!Y39-Master20180614!Y39","v":0},{"$f":"Master20181101!Z39-Master20180614!Z39","v":0},{"$f":"Master20181101!AA39-Master20180614!AA39","v":0},{"$f":"Master20181101!AB39-Master20180614!AB39","v":0},{"$f":"Master20181101!AC39-Master20180614!AC39","v":0},{"$f":"Master20181101!AD39-Master20180614!AD39","v":0},{"$f":"Master20181101!AE39-Master20180614!AE39","v":0}]
["Northern","2-A","FFFC","Fairfax County",{"$f":"Master20181101!E40-Master20180614!E40","v":2},{"$f":"Master20181101!F40-Master20180614!F40","v":34},{"$f":"Master20181101!G40-Master20180614!G40","v":1},{"$f":"Master20181101!H40-Master20180614!H40","v":37},{"$f":"Master20181101!I40-Master20180614!I40","v":1},{"$f":"Master20181101!J40-Master20180614!J40","v":-19},{"$f":"Master20181101!K40-Master20180614!K40","v":-2},{"$f":"Master20181101!L40-Master20180614!L40","v":29},{"$f":"Master20181101!M40-Master20180614!M40","v":1},{"$f":"Master20181101!N40-Master20180614!N40","v":-4},{"$f":"Master20181101!O40-Master20180614!O40","v":-1},{"$f":"Master20181101!P40-Master20180614!P40","v":32},{"$f":"Master20181101!Q40-Master20180614!Q40","v":0},{"$f":"Master20181101!R40-Master20180614!R40","v":3},{"$f":"Master20181101!S40-Master20180614!S40","v":0},{"$f":"Master20181101!T40-Master20180614!T40","v":0},{"$f":"Master20181101!U40-Master20180614!U40","v":0},{"$f":"Master20181101!V40-Master20180614!V40","v":0},{"$f":"Master20181101!W40-Master20180614!W40","v":1},{"$f":"Master20181101!X40-Master20180614!X40","v":5},{"$f":"Master20181101!Y40-Master20180614!Y40","v":0},{"$f":"Master20181101!Z40-Master20180614!Z40","v":0},{"$f":"Master20181101!AA40-Master20180614!AA40","v":0},{"$f":"Master20181101!AB40-Master20180614!AB40","v":-2},{"$f":"Master20181101!AC40-Master20180614!AC40","v":9},{"$f":"Master20181101!AD40-Master20180614!AD40","v":-18},{"$f":"Master20181101!AE40-Master20180614!AE40","v":0}]
["Northern","2-A","FFFC","Falls Church City",{"$f":"Master20181101!E41-Master20180614!E41","v":0},{"$f":"Master20181101!F41-Master20180614!F41","v":0},{"$f":"Master20181101!G41-Master20180614!G41","v":-1},{"$f":"Master20181101!H41-Master20180614!H41","v":-1},{"$f":"Master20181101!I41-Master20180614!I41","v":0},{"$f":"Master20181101!J41-Master20180614!J41","v":0},{"$f":"Master20181101!K41-Master20180614!K41","v":1},{"$f":"Master20181101!L41-Master20180614!L41","v":0},{"$f":"Master20181101!M41-Master20180614!M41","v":0},{"$f":"Master20181101!N41-Master20180614!N41","v":0},{"$f":"Master20181101!O41-Master20180614!O41","v":0},{"$f":"Master20181101!P41-Master20180614!P41","v":-2},{"$f":"Master20181101!Q41-Master20180614!Q41","v":0},{"$f":"Master20181101!R41-Master20180614!R41","v":0},{"$f":"Master20181101!S41-Master20180614!S41","v":0},{"$f":"Master20181101!T41-Master20180614!T41","v":0},{"$f":"Master20181101!U41-Master20180614!U41","v":0},{"$f":"Master20181101!V41-Master20180614!V41","v":0},{"$f":"Master20181101!W41-Master20180614!W41","v":0},{"$f":"Master20181101!X41-Master20180614!X41","v":0},{"$f":"Master20181101!Y41-Master20180614!Y41","v":0},{"$f":"Master20181101!Z41-Master20180614!Z41","v":0},{"$f":"Master20181101!AA41-Master20180614!AA41","v":0},{"$f":"Master20181101!AB41-Master20180614!AB41","v":0},{"$f":"Master20181101!AC41-Master20180614!AC41","v":0},{"$f":"Master20181101!AD41-Master20180614!AD41","v":-1},{"$f":"Master20181101!AE41-Master20180614!AE41","v":0}]
["Northern","2-B","RapR","Fauquier County",{"$f":"Master20181101!E42-Master20180614!E42","v":0},{"$f":"Master20181101!F42-Master20180614!F42","v":0},{"$f":"Master20181101!G42-Master20180614!G42","v":1},{"$f":"Master20181101!H42-Master20180614!H42","v":1},{"$f":"Master20181101!I42-Master20180614!I42","v":0},{"$f":"Master20181101!J42-Master20180614!J42","v":0},{"$f":"Master20181101!K42-Master20180614!K42","v":0},{"$f":"Master20181101!L42-Master20180614!L42","v":-1},{"$f":"Master20181101!M42-Master20180614!M42","v":0},{"$f":"Master20181101!N42-Master20180614!N42","v":0},{"$f":"Master20181101!O42-Master20180614!O42","v":2},{"$f":"Master20181101!P42-Master20180614!P42","v":0},{"$f":"Master20181101!Q42-Master20180614!Q42","v":0},{"$f":"Master20181101!R42-Master20180614!R42","v":0},{"$f":"Master20181101!S42-Master20180614!S42","v":0},{"$f":"Master20181101!T42-Master20180614!T42","v":0},{"$f":"Master20181101!U42-Master20180614!U42","v":0},{"$f":"Master20181101!V42-Master20180614!V42","v":0},{"$f":"Master20181101!W42-Master20180614!W42","v":0},{"$f":"Master20181101!X42-Master20180614!X42","v":-1},{"$f":"Master20181101!Y42-Master20180614!Y42","v":0},{"$f":"Master20181101!Z42-Master20180614!Z42","v":0},{"$f":"Master20181101!AA42-Master20180614!AA42","v":0},{"$f":"Master20181101!AB42-Master20180614!AB42","v":0},{"$f":"Master20181101!AC42-Master20180614!AC42","v":1},{"$f":"Master20181101!AD42-Master20180614!AD42","v":-1},{"$f":"Master20181101!AE42-Master20180614!AE42","v":0}]
["Southwestern","3-C","NRV","Floyd County",{"$f":"Master20181101!E43-Master20180614!E43","v":0},{"$f":"Master20181101!F43-Master20180614!F43","v":-1},{"$f":"Master20181101!G43-Master20180614!G43","v":-2},{"$f":"Master20181101!H43-Master20180614!H43","v":-3},{"$f":"Master20181101!I43-Master20180614!I43","v":0},{"$f":"Master20181101!J43-Master20180614!J43","v":1},{"$f":"Master20181101!K43-Master20180614!K43","v":-1},{"$f":"Master20181101!L43-Master20180614!L43","v":-2},{"$f":"Master20181101!M43-Master20180614!M43","v":0},{"$f":"Master20181101!N43-Master20180614!N43","v":-1},{"$f":"Master20181101!O43-Master20180614!O43","v":0},{"$f":"Master20181101!P43-Master20180614!P43","v":0},{"$f":"Master20181101!Q43-Master20180614!Q43","v":0},{"$f":"Master20181101!R43-Master20180614!R43","v":0},{"$f":"Master20181101!S43-Master20180614!S43","v":0},{"$f":"Master20181101!T43-Master20180614!T43","v":0},{"$f":"Master20181101!U43-Master20180614!U43","v":0},{"$f":"Master20181101!V43-Master20180614!V43","v":0},{"$f":"Master20181101!W43-Master20180614!W43","v":0},{"$f":"Master20181101!X43-Master20180614!X43","v":1},{"$f":"Master20181101!Y43-Master20180614!Y43","v":0},{"$f":"Master20181101!Z43-Master20180614!Z43","v":0},{"$f":"Master20181101!AA43-Master20180614!AA43","v":0},{"$f":"Master20181101!AB43-Master20180614!AB43","v":0},{"$f":"Master20181101!AC43-Master20180614!AC43","v":0},{"$f":"Master20181101!AD43-Master20180614!AD43","v":1},{"$f":"Master20181101!AE43-Master20180614!AE43","v":1}]
["Western","1-A","RTEN","Fluvanna County",{"$f":"Master20181101!E44-Master20180614!E44","v":0},{"$f":"Master20181101!F44-Master20180614!F44","v":0},{"$f":"Master20181101!G44-Master20180614!G44","v":0},{"$f":"Master20181101!H44-Master20180614!H44","v":0},{"$f":"Master20181101!I44-Master20180614!I44","v":0},{"$f":"Master20181101!J44-Master20180614!J44","v":0},{"$f":"Master20181101!K44-Master20180614!K44","v":0},{"$f":"Master20181101!L44-Master20180614!L44","v":0},{"$f":"Master20181101!M44-Master20180614!M44","v":0},{"$f":"Master20181101!N44-Master20180614!N44","v":0},{"$f":"Master20181101!O44-Master20180614!O44","v":0},{"$f":"Master20181101!P44-Master20180614!P44","v":0},{"$f":"Master20181101!Q44-Master20180614!Q44","v":0},{"$f":"Master20181101!R44-Master20180614!R44","v":0},{"$f":"Master20181101!S44-Master20180614!S44","v":0},{"$f":"Master20181101!T44-Master20180614!T44","v":0},{"$f":"Master20181101!U44-Master20180614!U44","v":0},{"$f":"Master20181101!V44-Master20180614!V44","v":0},{"$f":"Master20181101!W44-Master20180614!W44","v":0},{"$f":"Master20181101!X44-Master20180614!X44","v":0},{"$f":"Master20181101!Y44-Master20180614!Y44","v":0},{"$f":"Master20181101!Z44-Master20180614!Z44","v":0},{"$f":"Master20181101!AA44-Master20180614!AA44","v":0},{"$f":"Master20181101!AB44-Master20180614!AB44","v":0},{"$f":"Master20181101!AC44-Master20180614!AC44","v":0},{"$f":"Master20181101!AD44-Master20180614!AD44","v":0},{"$f":"Master20181101!AE44-Master20180614!AE44","v":0}]
["Eastern","5-D","WT","Franklin City",{"$f":"Master20181101!E45-Master20180614!E45","v":0},{"$f":"Master20181101!F45-Master20180614!F45","v":0},{"$f":"Master20181101!G45-Master20180614!G45","v":1},{"$f":"Master20181101!H45-Master20180614!H45","v":1},{"$f":"Master20181101!I45-Master20180614!I45","v":0},{"$f":"Master20181101!J45-Master20180614!J45","v":-1},{"$f":"Master20181101!K45-Master20180614!K45","v":0},{"$f":"Master20181101!L45-Master20180614!L45","v":1},{"$f":"Master20181101!M45-Master20180614!M45","v":0},{"$f":"Master20181101!N45-Master20180614!N45","v":1},{"$f":"Master20181101!O45-Master20180614!O45","v":0},{"$f":"Master20181101!P45-Master20180614!P45","v":0},{"$f":"Master20181101!Q45-Master20180614!Q45","v":0},{"$f":"Master20181101!R45-Master20180614!R45","v":0},{"$f":"Master20181101!S45-Master20180614!S45","v":0},{"$f":"Master20181101!T45-Master20180614!T45","v":0},{"$f":"Master20181101!U45-Master20180614!U45","v":0},{"$f":"Master20181101!V45-Master20180614!V45","v":0},{"$f":"Master20181101!W45-Master20180614!W45","v":0},{"$f":"Master20181101!X45-Master20180614!X45","v":0},{"$f":"Master20181101!Y45-Master20180614!Y45","v":0},{"$f":"Master20181101!Z45-Master20180614!Z45","v":0},{"$f":"Master20181101!AA45-Master20180614!AA45","v":0},{"$f":"Master20181101!AB45-Master20180614!AB45","v":0},{"$f":"Master20181101!AC45-Master20180614!AC45","v":0},{"$f":"Master20181101!AD45-Master20180614!AD45","v":-1},{"$f":"Master20181101!AE45-Master20180614!AE45","v":0}]
["Southwestern","3-A","PDMT","Franklin County",{"$f":"Master20181101!E46-Master20180614!E46","v":0},{"$f":"Master20181101!F46-Master20180614!F46","v":0},{"$f":"Master20181101!G46-Master20180614!G46","v":0},{"$f":"Master20181101!H46-Master20180614!H46","v":0},{"$f":"Master20181101!I46-Master20180614!I46","v":-1},{"$f":"Master20181101!J46-Master20180614!J46","v":-1},{"$f":"Master20181101!K46-Master20180614!K46","v":-1},{"$f":"Master20181101!L46-Master20180614!L46","v":1},{"$f":"Master20181101!M46-Master20180614!M46","v":0},{"$f":"Master20181101!N46-Master20180614!N46","v":3},{"$f":"Master20181101!O46-Master20180614!O46","v":0},{"$f":"Master20181101!P46-Master20180614!P46","v":-1},{"$f":"Master20181101!Q46-Master20180614!Q46","v":0},{"$f":"Master20181101!R46-Master20180614!R46","v":0},{"$f":"Master20181101!S46-Master20180614!S46","v":0},{"$f":"Master20181101!T46-Master20180614!T46","v":0},{"$f":"Master20181101!U46-Master20180614!U46","v":0},{"$f":"Master20181101!V46-Master20180614!V46","v":0},{"$f":"Master20181101!W46-Master20180614!W46","v":0},{"$f":"Master20181101!X46-Master20180614!X46","v":0},{"$f":"Master20181101!Y46-Master20180614!Y46","v":0},{"$f":"Master20181101!Z46-Master20180614!Z46","v":0},{"$f":"Master20181101!AA46-Master20180614!AA46","v":0},{"$f":"Master20181101!AB46-Master20180614!AB46","v":0},{"$f":"Master20181101!AC46-Master20180614!AC46","v":0},{"$f":"Master20181101!AD46-Master20180614!AD46","v":0},{"$f":"Master20181101!AE46-Master20180614!AE46","v":0}]
["Northern","2-D","NW","Frederick County",{"$f":"Master20181101!E47-Master20180614!E47","v":0},{"$f":"Master20181101!F47-Master20180614!F47","v":1},{"$f":"Master20181101!G47-Master20180614!G47","v":-4},{"$f":"Master20181101!H47-Master20180614!H47","v":-3},{"$f":"Master20181101!I47-Master20180614!I47","v":-1},{"$f":"Master20181101!J47-Master20180614!J47","v":-1},{"$f":"Master20181101!K47-Master20180614!K47","v":-2},{"$f":"Master20181101!L47-Master20180614!L47","v":1},{"$f":"Master20181101!M47-Master20180614!M47","v":0},{"$f":"Master20181101!N47-Master20180614!N47","v":1},{"$f":"Master20181101!O47-Master20180614!O47","v":0},{"$f":"Master20181101!P47-Master20180614!P47","v":-1},{"$f":"Master20181101!Q47-Master20180614!Q47","v":0},{"$f":"Master20181101!R47-Master20180614!R47","v":0},{"$f":"Master20181101!S47-Master20180614!S47","v":0},{"$f":"Master20181101!T47-Master20180614!T47","v":0},{"$f":"Master20181101!U47-Master20180614!U47","v":0},{"$f":"Master20181101!V47-Master20180614!V47","v":0},{"$f":"Master20181101!W47-Master20180614!W47","v":0},{"$f":"Master20181101!X47-Master20180614!X47","v":0},{"$f":"Master20181101!Y47-Master20180614!Y47","v":0},{"$f":"Master20181101!Z47-Master20180614!Z47","v":0},{"$f":"Master20181101!AA47-Master20180614!AA47","v":0},{"$f":"Master20181101!AB47-Master20180614!AB47","v":0},{"$f":"Master20181101!AC47-Master20180614!AC47","v":0},{"$f":"Master20181101!AD47-Master20180614!AD47","v":2},{"$f":"Master20181101!AE47-Master20180614!AE47","v":1}]
["Northern","2-C","RapA","Fredericksburg City",{"$f":"Master20181101!E48-Master20180614!E48","v":0},{"$f":"Master20181101!F48-Master20180614!F48","v":0},{"$f":"Master20181101!G48-Master20180614!G48","v":1},{"$f":"Master20181101!H48-Master20180614!H48","v":1},{"$f":"Master20181101!I48-Master20180614!I48","v":2},{"$f":"Master20181101!J48-Master20180614!J48","v":0},{"$f":"Master20181101!K48-Master20180614!K48","v":-1},{"$f":"Master20181101!L48-Master20180614!L48","v":2},{"$f":"Master20181101!M48-Master20180614!M48","v":-1},{"$f":"Master20181101!N48-Master20180614!N48","v":-1},{"$f":"Master20181101!O48-Master20180614!O48","v":0},{"$f":"Master20181101!P48-Master20180614!P48","v":0},{"$f":"Master20181101!Q48-Master20180614!Q48","v":0},{"$f":"Master20181101!R48-Master20180614!R48","v":0},{"$f":"Master20181101!S48-Master20180614!S48","v":0},{"$f":"Master20181101!T48-Master20180614!T48","v":0},{"$f":"Master20181101!U48-Master20180614!U48","v":0},{"$f":"Master20181101!V48-Master20180614!V48","v":0},{"$f":"Master20181101!W48-Master20180614!W48","v":0},{"$f":"Master20181101!X48-Master20180614!X48","v":1},{"$f":"Master20181101!Y48-Master20180614!Y48","v":0},{"$f":"Master20181101!Z48-Master20180614!Z48","v":0},{"$f":"Master20181101!AA48-Master20180614!AA48","v":0},{"$f":"Master20181101!AB48-Master20180614!AB48","v":0},{"$f":"Master20181101!AC48-Master20180614!AC48","v":-2},{"$f":"Master20181101!AD48-Master20180614!AD48","v":0},{"$f":"Master20181101!AE48-Master20180614!AE48","v":0}]
["Southwestern","3-B","MTRG","Galax City",{"$f":"Master20181101!E49-Master20180614!E49","v":0},{"$f":"Master20181101!F49-Master20180614!F49","v":0},{"$f":"Master20181101!G49-Master20180614!G49","v":1},{"$f":"Master20181101!H49-Master20180614!H49","v":1},{"$f":"Master20181101!I49-Master20180614!I49","v":0},{"$f":"Master20181101!J49-Master20180614!J49","v":-2},{"$f":"Master20181101!K49-Master20180614!K49","v":0},{"$f":"Master20181101!L49-Master20180614!L49","v":1},{"$f":"Master20181101!M49-Master20180614!M49","v":0},{"$f":"Master20181101!N49-Master20180614!N49","v":1},{"$f":"Master20181101!O49-Master20180614!O49","v":1},{"$f":"Master20181101!P49-Master20180614!P49","v":0},{"$f":"Master20181101!Q49-Master20180614!Q49","v":0},{"$f":"Master20181101!R49-Master20180614!R49","v":0},{"$f":"Master20181101!S49-Master20180614!S49","v":0},{"$f":"Master20181101!T49-Master20180614!T49","v":0},{"$f":"Master20181101!U49-Master20180614!U49","v":0},{"$f":"Master20181101!V49-Master20180614!V49","v":0},{"$f":"Master20181101!W49-Master20180614!W49","v":0},{"$f":"Master20181101!X49-Master20180614!X49","v":1},{"$f":"Master20181101!Y49-Master20180614!Y49","v":0},{"$f":"Master20181101!Z49-Master20180614!Z49","v":0},{"$f":"Master20181101!AA49-Master20180614!AA49","v":0},{"$f":"Master20181101!AB49-Master20180614!AB49","v":0},{"$f":"Master20181101!AC49-Master20180614!AC49","v":0},{"$f":"Master20181101!AD49-Master20180614!AD49","v":0},{"$f":"Master20181101!AE49-Master20180614!AE49","v":0}]
["Southwestern","3-A","NRV","Giles County",{"$f":"Master20181101!E50-Master20180614!E50","v":0},{"$f":"Master20181101!F50-Master20180614!F50","v":-1},{"$f":"Master20181101!G50-Master20180614!G50","v":1},{"$f":"Master20181101!H50-Master20180614!H50","v":0},{"$f":"Master20181101!I50-Master20180614!I50","v":0},{"$f":"Master20181101!J50-Master20180614!J50","v":-2},{"$f":"Master20181101!K50-Master20180614!K50","v":0},{"$f":"Master20181101!L50-Master20180614!L50","v":1},{"$f":"Master20181101!M50-Master20180614!M50","v":0},{"$f":"Master20181101!N50-Master20180614!N50","v":1},{"$f":"Master20181101!O50-Master20180614!O50","v":-1},{"$f":"Master20181101!P50-Master20180614!P50","v":1},{"$f":"Master20181101!Q50-Master20180614!Q50","v":0},{"$f":"Master20181101!R50-Master20180614!R50","v":0},{"$f":"Master20181101!S50-Master20180614!S50","v":0},{"$f":"Master20181101!T50-Master20180614!T50","v":0},{"$f":"Master20181101!U50-Master20180614!U50","v":0},{"$f":"Master20181101!V50-Master20180614!V50","v":0},{"$f":"Master20181101!W50-Master20180614!W50","v":0},{"$f":"Master20181101!X50-Master20180614!X50","v":0},{"$f":"Master20181101!Y50-Master20180614!Y50","v":0},{"$f":"Master20181101!Z50-Master20180614!Z50","v":0},{"$f":"Master20181101!AA50-Master20180614!AA50","v":0},{"$f":"Master20181101!AB50-Master20180614!AB50","v":0},{"$f":"Master20181101!AC50-Master20180614!AC50","v":0},{"$f":"Master20181101!AD50-Master20180614!AD50","v":0},{"$f":"Master20181101!AE50-Master20180614!AE50","v":0}]
["Eastern","5-A","MPNN","Gloucester County",{"$f":"Master20181101!E51-Master20180614!E51","v":0},{"$f":"Master20181101!F51-Master20180614!F51","v":0},{"$f":"Master20181101!G51-Master20180614!G51","v":4},{"$f":"Master20181101!H51-Master20180614!H51","v":4},{"$f":"Master20181101!I51-Master20180614!I51","v":0},{"$f":"Master20181101!J51-Master20180614!J51","v":3},{"$f":"Master20181101!K51-Master20180614!K51","v":0},{"$f":"Master20181101!L51-Master20180614!L51","v":-1},{"$f":"Master20181101!M51-Master20180614!M51","v":0},{"$f":"Master20181101!N51-Master20180614!N51","v":-1},{"$f":"Master20181101!O51-Master20180614!O51","v":0},{"$f":"Master20181101!P51-Master20180614!P51","v":3},{"$f":"Master20181101!Q51-Master20180614!Q51","v":0},{"$f":"Master20181101!R51-Master20180614!R51","v":0},{"$f":"Master20181101!S51-Master20180614!S51","v":0},{"$f":"Master20181101!T51-Master20180614!T51","v":0},{"$f":"Master20181101!U51-Master20180614!U51","v":0},{"$f":"Master20181101!V51-Master20180614!V51","v":0},{"$f":"Master20181101!W51-Master20180614!W51","v":0},{"$f":"Master20181101!X51-Master20180614!X51","v":0},{"$f":"Master20181101!Y51-Master20180614!Y51","v":0},{"$f":"Master20181101!Z51-Master20180614!Z51","v":0},{"$f":"Master20181101!AA51-Master20180614!AA51","v":0},{"$f":"Master20181101!AB51-Master20180614!AB51","v":0},{"$f":"Master20181101!AC51-Master20180614!AC51","v":-1},{"$f":"Master20181101!AD51-Master20180614!AD51","v":0},{"$f":"Master20181101!AE51-Master20180614!AE51","v":0}]
["Central","4-B","GOOC","Goochland County",{"$f":"Master20181101!E52-Master20180614!E52","v":0},{"$f":"Master20181101!F52-Master20180614!F52","v":0},{"$f":"Master20181101!G52-Master20180614!G52","v":-2},{"$f":"Master20181101!H52-Master20180614!H52","v":-2},{"$f":"Master20181101!I52-Master20180614!I52","v":0},{"$f":"Master20181101!J52-Master20180614!J52","v":-1},{"$f":"Master20181101!K52-Master20180614!K52","v":0},{"$f":"Master20181101!L52-Master20180614!L52","v":-1},{"$f":"Master20181101!M52-Master20180614!M52","v":0},{"$f":"Master20181101!N52-Master20180614!N52","v":0},{"$f":"Master20181101!O52-Master20180614!O52","v":0},{"$f":"Master20181101!P52-Master20180614!P52","v":0},{"$f":"Master20181101!Q52-Master20180614!Q52","v":0},{"$f":"Master20181101!R52-Master20180614!R52","v":0},{"$f":"Master20181101!S52-Master20180614!S52","v":0},{"$f":"Master20181101!T52-Master20180614!T52","v":0},{"$f":"Master20181101!U52-Master20180614!U52","v":0},{"$f":"Master20181101!V52-Master20180614!V52","v":0},{"$f":"Master20181101!W52-Master20180614!W52","v":0},{"$f":"Master20181101!X52-Master20180614!X52","v":1},{"$f":"Master20181101!Y52-Master20180614!Y52","v":0},{"$f":"Master20181101!Z52-Master20180614!Z52","v":0},{"$f":"Master20181101!AA52-Master20180614!AA52","v":0},{"$f":"Master20181101!AB52-Master20180614!AB52","v":0},{"$f":"Master20181101!AC52-Master20180614!AC52","v":0},{"$f":"Master20181101!AD52-Master20180614!AD52","v":0},{"$f":"Master20181101!AE52-Master20180614!AE52","v":0}]
["Southwestern","3-B","MTRG","Grayson County",{"$f":"Master20181101!E53-Master20180614!E53","v":0},{"$f":"Master20181101!F53-Master20180614!F53","v":0},{"$f":"Master20181101!G53-Master20180614!G53","v":2},{"$f":"Master20181101!H53-Master20180614!H53","v":2},{"$f":"Master20181101!I53-Master20180614!I53","v":0},{"$f":"Master20181101!J53-Master20180614!J53","v":1},{"$f":"Master20181101!K53-Master20180614!K53","v":1},{"$f":"Master20181101!L53-Master20180614!L53","v":0},{"$f":"Master20181101!M53-Master20180614!M53","v":0},{"$f":"Master20181101!N53-Master20180614!N53","v":0},{"$f":"Master20181101!O53-Master20180614!O53","v":0},{"$f":"Master20181101!P53-Master20180614!P53","v":0},{"$f":"Master20181101!Q53-Master20180614!Q53","v":0},{"$f":"Master20181101!R53-Master20180614!R53","v":0},{"$f":"Master20181101!S53-Master20180614!S53","v":0},{"$f":"Master20181101!T53-Master20180614!T53","v":0},{"$f":"Master20181101!U53-Master20180614!U53","v":0},{"$f":"Master20181101!V53-Master20180614!V53","v":0},{"$f":"Master20181101!W53-Master20180614!W53","v":0},{"$f":"Master20181101!X53-Master20180614!X53","v":0},{"$f":"Master20181101!Y53-Master20180614!Y53","v":0},{"$f":"Master20181101!Z53-Master20180614!Z53","v":0},{"$f":"Master20181101!AA53-Master20180614!AA53","v":0},{"$f":"Master20181101!AB53-Master20180614!AB53","v":0},{"$f":"Master20181101!AC53-Master20180614!AC53","v":0},{"$f":"Master20181101!AD53-Master20180614!AD53","v":0},{"$f":"Master20181101!AE53-Master20180614!AE53","v":0}]
["Western","1-A","RTEN","Greene County",{"$f":"Master20181101!E54-Master20180614!E54","v":0},{"$f":"Master20181101!F54-Master20180614!F54","v":0},{"$f":"Master20181101!G54-Master20180614!G54","v":-1},{"$f":"Master20181101!H54-Master20180614!H54","v":-1},{"$f":"Master20181101!I54-Master20180614!I54","v":0},{"$f":"Master20181101!J54-Master20180614!J54","v":-3},{"$f":"Master20181101!K54-Master20180614!K54","v":0},{"$f":"Master20181101!L54-Master20180614!L54","v":2},{"$f":"Master20181101!M54-Master20180614!M54","v":1},{"$f":"Master20181101!N54-Master20180614!N54","v":-1},{"$f":"Master20181101!O54-Master20180614!O54","v":0},{"$f":"Master20181101!P54-Master20180614!P54","v":0},{"$f":"Master20181101!Q54-Master20180614!Q54","v":0},{"$f":"Master20181101!R54-Master20180614!R54","v":0},{"$f":"Master20181101!S54-Master20180614!S54","v":0},{"$f":"Master20181101!T54-Master20180614!T54","v":0},{"$f":"Master20181101!U54-Master20180614!U54","v":0},{"$f":"Master20181101!V54-Master20180614!V54","v":0},{"$f":"Master20181101!W54-Master20180614!W54","v":0},{"$f":"Master20181101!X54-Master20180614!X54","v":0},{"$f":"Master20181101!Y54-Master20180614!Y54","v":0},{"$f":"Master20181101!Z54-Master20180614!Z54","v":0},{"$f":"Master20181101!AA54-Master20180614!AA54","v":0},{"$f":"Master20181101!AB54-Master20180614!AB54","v":0},{"$f":"Master20181101!AC54-Master20180614!AC54","v":0},{"$f":"Master20181101!AD54-Master20180614!AD54","v":0},{"$f":"Master20181101!AE54-Master20180614!AE54","v":0}]
["Central","4-D","D19","Greensville County",{"$f":"Master20181101!E55-Master20180614!E55","v":0},{"$f":"Master20181101!F55-Master20180614!F55","v":1},{"$f":"Master20181101!G55-Master20180614!G55","v":0},{"$f":"Master20181101!H55-Master20180614!H55","v":1},{"$f":"Master20181101!I55-Master20180614!I55","v":0},{"$f":"Master20181101!J55-Master20180614!J55","v":0},{"$f":"Master20181101!K55-Master20180614!K55","v":0},{"$f":"Master20181101!L55-Master20180614!L55","v":0},{"$f":"Master20181101!M55-Master20180614!M55","v":0},{"$f":"Master20181101!N55-Master20180614!N55","v":0},{"$f":"Master20181101!O55-Master20180614!O55","v":0},{"$f":"Master20181101!P55-Master20180614!P55","v":1},{"$f":"Master20181101!Q55-Master20180614!Q55","v":0},{"$f":"Master20181101!R55-Master20180614!R55","v":0},{"$f":"Master20181101!S55-Master20180614!S55","v":0},{"$f":"Master20181101!T55-Master20180614!T55","v":0},{"$f":"Master20181101!U55-Master20180614!U55","v":0},{"$f":"Master20181101!V55-Master20180614!V55","v":0},{"$f":"Master20181101!W55-Master20180614!W55","v":0},{"$f":"Master20181101!X55-Master20180614!X55","v":0},{"$f":"Master20181101!Y55-Master20180614!Y55","v":0},{"$f":"Master20181101!Z55-Master20180614!Z55","v":0},{"$f":"Master20181101!AA55-Master20180614!AA55","v":0},{"$f":"Master20181101!AB55-Master20180614!AB55","v":0},{"$f":"Master20181101!AC55-Master20180614!AC55","v":0},{"$f":"Master20181101!AD55-Master20180614!AD55","v":0},{"$f":"Master20181101!AE55-Master20180614!AE55","v":0}]
["Central","4-C","SS","Halifax County",{"$f":"Master20181101!E56-Master20180614!E56","v":0},{"$f":"Master20181101!F56-Master20180614!F56","v":1},{"$f":"Master20181101!G56-Master20180614!G56","v":3},{"$f":"Master20181101!H56-Master20180614!H56","v":4},{"$f":"Master20181101!I56-Master20180614!I56","v":0},{"$f":"Master20181101!J56-Master20180614!J56","v":0},{"$f":"Master20181101!K56-Master20180614!K56","v":0},{"$f":"Master20181101!L56-Master20180614!L56","v":2},{"$f":"Master20181101!M56-Master20180614!M56","v":0},{"$f":"Master20181101!N56-Master20180614!N56","v":0},{"$f":"Master20181101!O56-Master20180614!O56","v":1},{"$f":"Master20181101!P56-Master20180614!P56","v":1},{"$f":"Master20181101!Q56-Master20180614!Q56","v":0},{"$f":"Master20181101!R56-Master20180614!R56","v":0},{"$f":"Master20181101!S56-Master20180614!S56","v":0},{"$f":"Master20181101!T56-Master20180614!T56","v":0},{"$f":"Master20181101!U56-Master20180614!U56","v":0},{"$f":"Master20181101!V56-Master20180614!V56","v":0},{"$f":"Master20181101!W56-Master20180614!W56","v":0},{"$f":"Master20181101!X56-Master20180614!X56","v":0},{"$f":"Master20181101!Y56-Master20180614!Y56","v":0},{"$f":"Master20181101!Z56-Master20180614!Z56","v":0},{"$f":"Master20181101!AA56-Master20180614!AA56","v":0},{"$f":"Master20181101!AB56-Master20180614!AB56","v":0},{"$f":"Master20181101!AC56-Master20180614!AC56","v":0},{"$f":"Master20181101!AD56-Master20180614!AD56","v":0},{"$f":"Master20181101!AE56-Master20180614!AE56","v":0}]
["Eastern","5-C","HAMP","Hampton City",{"$f":"Master20181101!E57-Master20180614!E57","v":1},{"$f":"Master20181101!F57-Master20180614!F57","v":7},{"$f":"Master20181101!G57-Master20180614!G57","v":6},{"$f":"Master20181101!H57-Master20180614!H57","v":14},{"$f":"Master20181101!I57-Master20180614!I57","v":0},{"$f":"Master20181101!J57-Master20180614!J57","v":9},{"$f":"Master20181101!K57-Master20180614!K57","v":1},{"$f":"Master20181101!L57-Master20180614!L57","v":-3},{"$f":"Master20181101!M57-Master20180614!M57","v":0},{"$f":"Master20181101!N57-Master20180614!N57","v":1},{"$f":"Master20181101!O57-Master20180614!O57","v":0},{"$f":"Master20181101!P57-Master20180614!P57","v":6},{"$f":"Master20181101!Q57-Master20180614!Q57","v":0},{"$f":"Master20181101!R57-Master20180614!R57","v":0},{"$f":"Master20181101!S57-Master20180614!S57","v":1},{"$f":"Master20181101!T57-Master20180614!T57","v":0},{"$f":"Master20181101!U57-Master20180614!U57","v":0},{"$f":"Master20181101!V57-Master20180614!V57","v":0},{"$f":"Master20181101!W57-Master20180614!W57","v":0},{"$f":"Master20181101!X57-Master20180614!X57","v":1},{"$f":"Master20181101!Y57-Master20180614!Y57","v":0},{"$f":"Master20181101!Z57-Master20180614!Z57","v":0},{"$f":"Master20181101!AA57-Master20180614!AA57","v":0},{"$f":"Master20181101!AB57-Master20180614!AB57","v":-1},{"$f":"Master20181101!AC57-Master20180614!AC57","v":-1},{"$f":"Master20181101!AD57-Master20180614!AD57","v":-1},{"$f":"Master20181101!AE57-Master20180614!AE57","v":1}]
["Central","4-A","HANO","Hanover County",{"$f":"Master20181101!E58-Master20180614!E58","v":1},{"$f":"Master20181101!F58-Master20180614!F58","v":4},{"$f":"Master20181101!G58-Master20180614!G58","v":0},{"$f":"Master20181101!H58-Master20180614!H58","v":5},{"$f":"Master20181101!I58-Master20180614!I58","v":4},{"$f":"Master20181101!J58-Master20180614!J58","v":-4},{"$f":"Master20181101!K58-Master20180614!K58","v":2},{"$f":"Master20181101!L58-Master20180614!L58","v":6},{"$f":"Master20181101!M58-Master20180614!M58","v":0},{"$f":"Master20181101!N58-Master20180614!N58","v":2},{"$f":"Master20181101!O58-Master20180614!O58","v":1},{"$f":"Master20181101!P58-Master20180614!P58","v":-6},{"$f":"Master20181101!Q58-Master20180614!Q58","v":0},{"$f":"Master20181101!R58-Master20180614!R58","v":0},{"$f":"Master20181101!S58-Master20180614!S58","v":0},{"$f":"Master20181101!T58-Master20180614!T58","v":0},{"$f":"Master20181101!U58-Master20180614!U58","v":0},{"$f":"Master20181101!V58-Master20180614!V58","v":0},{"$f":"Master20181101!W58-Master20180614!W58","v":0},{"$f":"Master20181101!X58-Master20180614!X58","v":0},{"$f":"Master20181101!Y58-Master20180614!Y58","v":0},{"$f":"Master20181101!Z58-Master20180614!Z58","v":0},{"$f":"Master20181101!AA58-Master20180614!AA58","v":0},{"$f":"Master20181101!AB58-Master20180614!AB58","v":0},{"$f":"Master20181101!AC58-Master20180614!AC58","v":-1},{"$f":"Master20181101!AD58-Master20180614!AD58","v":-1},{"$f":"Master20181101!AE58-Master20180614!AE58","v":1}]
["Western","1-B","HARR","Harrisonburg City",{"$f":"Master20181101!E59-Master20180614!E59","v":2},{"$f":"Master20181101!F59-Master20180614!F59","v":1},{"$f":"Master20181101!G59-Master20180614!G59","v":-4},{"$f":"Master20181101!H59-Master20180614!H59","v":-1},{"$f":"Master20181101!I59-Master20180614!I59","v":-1},{"$f":"Master20181101!J59-Master20180614!J59","v":-3},{"$f":"Master20181101!K59-Master20180614!K59","v":0},{"$f":"Master20181101!L59-Master20180614!L59","v":3},{"$f":"Master20181101!M59-Master20180614!M59","v":-1},{"$f":"Master20181101!N59-Master20180614!N59","v":-1},{"$f":"Master20181101!O59-Master20180614!O59","v":-1},{"$f":"Master20181101!P59-Master20180614!P59","v":3},{"$f":"Master20181101!Q59-Master20180614!Q59","v":0},{"$f":"Master20181101!R59-Master20180614!R59","v":0},{"$f":"Master20181101!S59-Master20180614!S59","v":0},{"$f":"Master20181101!T59-Master20180614!T59","v":0},{"$f":"Master20181101!U59-Master20180614!U59","v":0},{"$f":"Master20181101!V59-Master20180614!V59","v":0},{"$f":"Master20181101!W59-Master20180614!W59","v":0},{"$f":"Master20181101!X59-Master20180614!X59","v":0},{"$f":"Master20181101!Y59-Master20180614!Y59","v":0},{"$f":"Master20181101!Z59-Master20180614!Z59","v":0},{"$f":"Master20181101!AA59-Master20180614!AA59","v":0},{"$f":"Master20181101!AB59-Master20180614!AB59","v":0},{"$f":"Master20181101!AC59-Master20180614!AC59","v":0},{"$f":"Master20181101!AD59-Master20180614!AD59","v":0},{"$f":"Master20181101!AE59-Master20180614!AE59","v":0}]
["Central","4-A","HENR","Henrico County",{"$f":"Master20181101!E60-Master20180614!E60","v":1},{"$f":"Master20181101!F60-Master20180614!F60","v":5},{"$f":"Master20181101!G60-Master20180614!G60","v":7},{"$f":"Master20181101!H60-Master20180614!H60","v":13},{"$f":"Master20181101!I60-Master20180614!I60","v":1},{"$f":"Master20181101!J60-Master20180614!J60","v":-7},{"$f":"Master20181101!K60-Master20180614!K60","v":-1},{"$f":"Master20181101!L60-Master20180614!L60","v":16},{"$f":"Master20181101!M60-Master20180614!M60","v":0},{"$f":"Master20181101!N60-Master20180614!N60","v":5},{"$f":"Master20181101!O60-Master20180614!O60","v":6},{"$f":"Master20181101!P60-Master20180614!P60","v":-7},{"$f":"Master20181101!Q60-Master20180614!Q60","v":1},{"$f":"Master20181101!R60-Master20180614!R60","v":-1},{"$f":"Master20181101!S60-Master20180614!S60","v":-1},{"$f":"Master20181101!T60-Master20180614!T60","v":0},{"$f":"Master20181101!U60-Master20180614!U60","v":0},{"$f":"Master20181101!V60-Master20180614!V60","v":0},{"$f":"Master20181101!W60-Master20180614!W60","v":0},{"$f":"Master20181101!X60-Master20180614!X60","v":4},{"$f":"Master20181101!Y60-Master20180614!Y60","v":0},{"$f":"Master20181101!Z60-Master20180614!Z60","v":0},{"$f":"Master20181101!AA60-Master20180614!AA60","v":-1},{"$f":"Master20181101!AB60-Master20180614!AB60","v":0},{"$f":"Master20181101!AC60-Master20180614!AC60","v":0},{"$f":"Master20181101!AD60-Master20180614!AD60","v":-1},{"$f":"Master20181101!AE60-Master20180614!AE60","v":1}]
["Southwestern","3-B","PDMT","Henry County",{"$f":"Master20181101!E61-Master20180614!E61","v":1},{"$f":"Master20181101!F61-Master20180614!F61","v":0},{"$f":"Master20181101!G61-Master20180614!G61","v":9},{"$f":"Master20181101!H61-Master20180614!H61","v":10},{"$f":"Master20181101!I61-Master20180614!I61","v":1},{"$f":"Master20181101!J61-Master20180614!J61","v":1},{"$f":"Master20181101!K61-Master20180614!K61","v":0},{"$f":"Master20181101!L61-Master20180614!L61","v":3},{"$f":"Master20181101!M61-Master20180614!M61","v":0},{"$f":"Master20181101!N61-Master20180614!N61","v":1},{"$f":"Master20181101!O61-Master20180614!O61","v":3},{"$f":"Master20181101!P61-Master20180614!P61","v":1},{"$f":"Master20181101!Q61-Master20180614!Q61","v":0},{"$f":"Master20181101!R61-Master20180614!R61","v":0},{"$f":"Master20181101!S61-Master20180614!S61","v":0},{"$f":"Master20181101!T61-Master20180614!T61","v":0},{"$f":"Master20181101!U61-Master20180614!U61","v":0},{"$f":"Master20181101!V61-Master20180614!V61","v":0},{"$f":"Master20181101!W61-Master20180614!W61","v":0},{"$f":"Master20181101!X61-Master20180614!X61","v":0},{"$f":"Master20181101!Y61-Master20180614!Y61","v":0},{"$f":"Master20181101!Z61-Master20180614!Z61","v":0},{"$f":"Master20181101!AA61-Master20180614!AA61","v":0},{"$f":"Master20181101!AB61-Master20180614!AB61","v":0},{"$f":"Master20181101!AC61-Master20180614!AC61","v":0},{"$f":"Master20181101!AD61-Master20180614!AD61","v":0},{"$f":"Master20181101!AE61-Master20180614!AE61","v":0}]
["Western","1-B","VLY","Highland County",{"$f":"Master20181101!E62-Master20180614!E62","v":0},{"$f":"Master20181101!F62-Master20180614!F62","v":0},{"$f":"Master20181101!G62-Master20180614!G62","v":2},{"$f":"Master20181101!H62-Master20180614!H62","v":2},{"$f":"Master20181101!I62-Master20180614!I62","v":0},{"$f":"Master20181101!J62-Master20180614!J62","v":0},{"$f":"Master20181101!K62-Master20180614!K62","v":0},{"$f":"Master20181101!L62-Master20180614!L62","v":2},{"$f":"Master20181101!M62-Master20180614!M62","v":0},{"$f":"Master20181101!N62-Master20180614!N62","v":0},{"$f":"Master20181101!O62-Master20180614!O62","v":0},{"$f":"Master20181101!P62-Master20180614!P62","v":0},{"$f":"Master20181101!Q62-Master20180614!Q62","v":0},{"$f":"Master20181101!R62-Master20180614!R62","v":0},{"$f":"Master20181101!S62-Master20180614!S62","v":0},{"$f":"Master20181101!T62-Master20180614!T62","v":0},{"$f":"Master20181101!U62-Master20180614!U62","v":0},{"$f":"Master20181101!V62-Master20180614!V62","v":0},{"$f":"Master20181101!W62-Master20180614!W62","v":0},{"$f":"Master20181101!X62-Master20180614!X62","v":0},{"$f":"Master20181101!Y62-Master20180614!Y62","v":0},{"$f":"Master20181101!Z62-Master20180614!Z62","v":0},{"$f":"Master20181101!AA62-Master20180614!AA62","v":0},{"$f":"Master20181101!AB62-Master20180614!AB62","v":0},{"$f":"Master20181101!AC62-Master20180614!AC62","v":0},{"$f":"Master20181101!AD62-Master20180614!AD62","v":0},{"$f":"Master20181101!AE62-Master20180614!AE62","v":0}]
["Central","4-D","D19","Hopewell City",{"$f":"Master20181101!E63-Master20180614!E63","v":0},{"$f":"Master20181101!F63-Master20180614!F63","v":0},{"$f":"Master20181101!G63-Master20180614!G63","v":-2},{"$f":"Master20181101!H63-Master20180614!H63","v":-2},{"$f":"Master20181101!I63-Master20180614!I63","v":0},{"$f":"Master20181101!J63-Master20180614!J63","v":-1},{"$f":"Master20181101!K63-Master20180614!K63","v":0},{"$f":"Master20181101!L63-Master20180614!L63","v":-1},{"$f":"Master20181101!M63-Master20180614!M63","v":1},{"$f":"Master20181101!N63-Master20180614!N63","v":0},{"$f":"Master20181101!O63-Master20180614!O63","v":-1},{"$f":"Master20181101!P63-Master20180614!P63","v":0},{"$f":"Master20181101!Q63-Master20180614!Q63","v":0},{"$f":"Master20181101!R63-Master20180614!R63","v":0},{"$f":"Master20181101!S63-Master20180614!S63","v":0},{"$f":"Master20181101!T63-Master20180614!T63","v":0},{"$f":"Master20181101!U63-Master20180614!U63","v":0},{"$f":"Master20181101!V63-Master20180614!V63","v":0},{"$f":"Master20181101!W63-Master20180614!W63","v":0},{"$f":"Master20181101!X63-Master20180614!X63","v":0},{"$f":"Master20181101!Y63-Master20180614!Y63","v":0},{"$f":"Master20181101!Z63-Master20180614!Z63","v":0},{"$f":"Master20181101!AA63-Master20180614!AA63","v":0},{"$f":"Master20181101!AB63-Master20180614!AB63","v":0},{"$f":"Master20181101!AC63-Master20180614!AC63","v":0},{"$f":"Master20181101!AD63-Master20180614!AD63","v":0},{"$f":"Master20181101!AE63-Master20180614!AE63","v":1}]
["Eastern","5-D","WT","Isle of Wight County",{"$f":"Master20181101!E64-Master20180614!E64","v":0},{"$f":"Master20181101!F64-Master20180614!F64","v":0},{"$f":"Master20181101!G64-Master20180614!G64","v":-1},{"$f":"Master20181101!H64-Master20180614!H64","v":-1},{"$f":"Master20181101!I64-Master20180614!I64","v":0},{"$f":"Master20181101!J64-Master20180614!J64","v":1},{"$f":"Master20181101!K64-Master20180614!K64","v":0},{"$f":"Master20181101!L64-Master20180614!L64","v":-1},{"$f":"Master20181101!M64-Master20180614!M64","v":0},{"$f":"Master20181101!N64-Master20180614!N64","v":0},{"$f":"Master20181101!O64-Master20180614!O64","v":0},{"$f":"Master20181101!P64-Master20180614!P64","v":-1},{"$f":"Master20181101!Q64-Master20180614!Q64","v":0},{"$f":"Master20181101!R64-Master20180614!R64","v":0},{"$f":"Master20181101!S64-Master20180614!S64","v":0},{"$f":"Master20181101!T64-Master20180614!T64","v":0},{"$f":"Master20181101!U64-Master20180614!U64","v":0},{"$f":"Master20181101!V64-Master20180614!V64","v":0},{"$f":"Master20181101!W64-Master20180614!W64","v":0},{"$f":"Master20181101!X64-Master20180614!X64","v":0},{"$f":"Master20181101!Y64-Master20180614!Y64","v":0},{"$f":"Master20181101!Z64-Master20180614!Z64","v":0},{"$f":"Master20181101!AA64-Master20180614!AA64","v":0},{"$f":"Master20181101!AB64-Master20180614!AB64","v":0},{"$f":"Master20181101!AC64-Master20180614!AC64","v":0},{"$f":"Master20181101!AD64-Master20180614!AD64","v":1},{"$f":"Master20181101!AE64-Master20180614!AE64","v":0}]
["Eastern","5-C","COLO","James City County",{"$f":"Master20181101!E65-Master20180614!E65","v":0},{"$f":"Master20181101!F65-Master20180614!F65","v":4},{"$f":"Master20181101!G65-Master20180614!G65","v":2},{"$f":"Master20181101!H65-Master20180614!H65","v":6},{"$f":"Master20181101!I65-Master20180614!I65","v":2},{"$f":"Master20181101!J65-Master20180614!J65","v":2},{"$f":"Master20181101!K65-Master20180614!K65","v":0},{"$f":"Master20181101!L65-Master20180614!L65","v":0},{"$f":"Master20181101!M65-Master20180614!M65","v":0},{"$f":"Master20181101!N65-Master20180614!N65","v":0},{"$f":"Master20181101!O65-Master20180614!O65","v":0},{"$f":"Master20181101!P65-Master20180614!P65","v":2},{"$f":"Master20181101!Q65-Master20180614!Q65","v":0},{"$f":"Master20181101!R65-Master20180614!R65","v":0},{"$f":"Master20181101!S65-Master20180614!S65","v":0},{"$f":"Master20181101!T65-Master20180614!T65","v":0},{"$f":"Master20181101!U65-Master20180614!U65","v":0},{"$f":"Master20181101!V65-Master20180614!V65","v":0},{"$f":"Master20181101!W65-Master20180614!W65","v":0},{"$f":"Master20181101!X65-Master20180614!X65","v":0},{"$f":"Master20181101!Y65-Master20180614!Y65","v":0},{"$f":"Master20181101!Z65-Master20180614!Z65","v":0},{"$f":"Master20181101!AA65-Master20180614!AA65","v":0},{"$f":"Master20181101!AB65-Master20180614!AB65","v":0},{"$f":"Master20181101!AC65-Master20180614!AC65","v":0},{"$f":"Master20181101!AD65-Master20180614!AD65","v":0},{"$f":"Master20181101!AE65-Master20180614!AE65","v":0}]
["Eastern","5-A","MPNN","King and Queen County",{"$f":"Master20181101!E66-Master20180614!E66","v":0},{"$f":"Master20181101!F66-Master20180614!F66","v":0},{"$f":"Master20181101!G66-Master20180614!G66","v":0},{"$f":"Master20181101!H66-Master20180614!H66","v":0},{"$f":"Master20181101!I66-Master20180614!I66","v":0},{"$f":"Master20181101!J66-Master20180614!J66","v":0},{"$f":"Master20181101!K66-Master20180614!K66","v":0},{"$f":"Master20181101!L66-Master20180614!L66","v":0},{"$f":"Master20181101!M66-Master20180614!M66","v":0},{"$f":"Master20181101!N66-Master20180614!N66","v":0},{"$f":"Master20181101!O66-Master20180614!O66","v":0},{"$f":"Master20181101!P66-Master20180614!P66","v":0},{"$f":"Master20181101!Q66-Master20180614!Q66","v":0},{"$f":"Master20181101!R66-Master20180614!R66","v":0},{"$f":"Master20181101!S66-Master20180614!S66","v":0},{"$f":"Master20181101!T66-Master20180614!T66","v":0},{"$f":"Master20181101!U66-Master20180614!U66","v":0},{"$f":"Master20181101!V66-Master20180614!V66","v":0},{"$f":"Master20181101!W66-Master20180614!W66","v":0},{"$f":"Master20181101!X66-Master20180614!X66","v":0},{"$f":"Master20181101!Y66-Master20180614!Y66","v":0},{"$f":"Master20181101!Z66-Master20180614!Z66","v":0},{"$f":"Master20181101!AA66-Master20180614!AA66","v":0},{"$f":"Master20181101!AB66-Master20180614!AB66","v":0},{"$f":"Master20181101!AC66-Master20180614!AC66","v":0},{"$f":"Master20181101!AD66-Master20180614!AD66","v":0},{"$f":"Master20181101!AE66-Master20180614!AE66","v":0}]
["Northern","2-C","RapA","King George County",{"$f":"Master20181101!E67-Master20180614!E67","v":0},{"$f":"Master20181101!F67-Master20180614!F67","v":1},{"$f":"Master20181101!G67-Master20180614!G67","v":-1},{"$f":"Master20181101!H67-Master20180614!H67","v":0},{"$f":"Master20181101!I67-Master20180614!I67","v":0},{"$f":"Master20181101!J67-Master20180614!J67","v":-2},{"$f":"Master20181101!K67-Master20180614!K67","v":-1},{"$f":"Master20181101!L67-Master20180614!L67","v":2},{"$f":"Master20181101!M67-Master20180614!M67","v":0},{"$f":"Master20181101!N67-Master20180614!N67","v":0},{"$f":"Master20181101!O67-Master20180614!O67","v":1},{"$f":"Master20181101!P67-Master20180614!P67","v":0},{"$f":"Master20181101!Q67-Master20180614!Q67","v":0},{"$f":"Master20181101!R67-Master20180614!R67","v":0},{"$f":"Master20181101!S67-Master20180614!S67","v":0},{"$f":"Master20181101!T67-Master20180614!T67","v":0},{"$f":"Master20181101!U67-Master20180614!U67","v":0},{"$f":"Master20181101!V67-Master20180614!V67","v":0},{"$f":"Master20181101!W67-Master20180614!W67","v":0},{"$f":"Master20181101!X67-Master20180614!X67","v":0},{"$f":"Master20181101!Y67-Master20180614!Y67","v":0},{"$f":"Master20181101!Z67-Master20180614!Z67","v":0},{"$f":"Master20181101!AA67-Master20180614!AA67","v":0},{"$f":"Master20181101!AB67-Master20180614!AB67","v":0},{"$f":"Master20181101!AC67-Master20180614!AC67","v":0},{"$f":"Master20181101!AD67-Master20180614!AD67","v":0},{"$f":"Master20181101!AE67-Master20180614!AE67","v":0}]
["Eastern","5-A","MPNN","King William County",{"$f":"Master20181101!E68-Master20180614!E68","v":0},{"$f":"Master20181101!F68-Master20180614!F68","v":0},{"$f":"Master20181101!G68-Master20180614!G68","v":0},{"$f":"Master20181101!H68-Master20180614!H68","v":0},{"$f":"Master20181101!I68-Master20180614!I68","v":0},{"$f":"Master20181101!J68-Master20180614!J68","v":1},{"$f":"Master20181101!K68-Master20180614!K68","v":0},{"$f":"Master20181101!L68-Master20180614!L68","v":0},{"$f":"Master20181101!M68-Master20180614!M68","v":-1},{"$f":"Master20181101!N68-Master20180614!N68","v":1},{"$f":"Master20181101!O68-Master20180614!O68","v":0},{"$f":"Master20181101!P68-Master20180614!P68","v":-1},{"$f":"Master20181101!Q68-Master20180614!Q68","v":0},{"$f":"Master20181101!R68-Master20180614!R68","v":0},{"$f":"Master20181101!S68-Master20180614!S68","v":0},{"$f":"Master20181101!T68-Master20180614!T68","v":0},{"$f":"Master20181101!U68-Master20180614!U68","v":0},{"$f":"Master20181101!V68-Master20180614!V68","v":0},{"$f":"Master20181101!W68-Master20180614!W68","v":0},{"$f":"Master20181101!X68-Master20180614!X68","v":0},{"$f":"Master20181101!Y68-Master20180614!Y68","v":0},{"$f":"Master20181101!Z68-Master20180614!Z68","v":0},{"$f":"Master20181101!AA68-Master20180614!AA68","v":0},{"$f":"Master20181101!AB68-Master20180614!AB68","v":0},{"$f":"Master20181101!AC68-Master20180614!AC68","v":0},{"$f":"Master20181101!AD68-Master20180614!AD68","v":0},{"$f":"Master20181101!AE68-Master20180614!AE68","v":0}]
["Eastern","5-A","MPNN","Lancaster County",{"$f":"Master20181101!E69-Master20180614!E69","v":0},{"$f":"Master20181101!F69-Master20180614!F69","v":0},{"$f":"Master20181101!G69-Master20180614!G69","v":1},{"$f":"Master20181101!H69-Master20180614!H69","v":1},{"$f":"Master20181101!I69-Master20180614!I69","v":0},{"$f":"Master20181101!J69-Master20180614!J69","v":0},{"$f":"Master20181101!K69-Master20180614!K69","v":1},{"$f":"Master20181101!L69-Master20180614!L69","v":0},{"$f":"Master20181101!M69-Master20180614!M69","v":0},{"$f":"Master20181101!N69-Master20180614!N69","v":0},{"$f":"Master20181101!O69-Master20180614!O69","v":0},{"$f":"Master20181101!P69-Master20180614!P69","v":0},{"$f":"Master20181101!Q69-Master20180614!Q69","v":0},{"$f":"Master20181101!R69-Master20180614!R69","v":0},{"$f":"Master20181101!S69-Master20180614!S69","v":0},{"$f":"Master20181101!T69-Master20180614!T69","v":0},{"$f":"Master20181101!U69-Master20180614!U69","v":0},{"$f":"Master20181101!V69-Master20180614!V69","v":0},{"$f":"Master20181101!W69-Master20180614!W69","v":0},{"$f":"Master20181101!X69-Master20180614!X69","v":0},{"$f":"Master20181101!Y69-Master20180614!Y69","v":0},{"$f":"Master20181101!Z69-Master20180614!Z69","v":0},{"$f":"Master20181101!AA69-Master20180614!AA69","v":0},{"$f":"Master20181101!AB69-Master20180614!AB69","v":0},{"$f":"Master20181101!AC69-Master20180614!AC69","v":0},{"$f":"Master20181101!AD69-Master20180614!AD69","v":0},{"$f":"Master20181101!AE69-Master20180614!AE69","v":0}]
["Southwestern","3-D","PLD1","Lee County",{"$f":"Master20181101!E70-Master20180614!E70","v":0},{"$f":"Master20181101!F70-Master20180614!F70","v":0},{"$f":"Master20181101!G70-Master20180614!G70","v":-1},{"$f":"Master20181101!H70-Master20180614!H70","v":-1},{"$f":"Master20181101!I70-Master20180614!I70","v":-1},{"$f":"Master20181101!J70-Master20180614!J70","v":2},{"$f":"Master20181101!K70-Master20180614!K70","v":0},{"$f":"Master20181101!L70-Master20180614!L70","v":0},{"$f":"Master20181101!M70-Master20180614!M70","v":0},{"$f":"Master20181101!N70-Master20180614!N70","v":0},{"$f":"Master20181101!O70-Master20180614!O70","v":-1},{"$f":"Master20181101!P70-Master20180614!P70","v":-1},{"$f":"Master20181101!Q70-Master20180614!Q70","v":0},{"$f":"Master20181101!R70-Master20180614!R70","v":0},{"$f":"Master20181101!S70-Master20180614!S70","v":0},{"$f":"Master20181101!T70-Master20180614!T70","v":0},{"$f":"Master20181101!U70-Master20180614!U70","v":0},{"$f":"Master20181101!V70-Master20180614!V70","v":0},{"$f":"Master20181101!W70-Master20180614!W70","v":0},{"$f":"Master20181101!X70-Master20180614!X70","v":0},{"$f":"Master20181101!Y70-Master20180614!Y70","v":0},{"$f":"Master20181101!Z70-Master20180614!Z70","v":0},{"$f":"Master20181101!AA70-Master20180614!AA70","v":0},{"$f":"Master20181101!AB70-Master20180614!AB70","v":0},{"$f":"Master20181101!AC70-Master20180614!AC70","v":0},{"$f":"Master20181101!AD70-Master20180614!AD70","v":0},{"$f":"Master20181101!AE70-Master20180614!AE70","v":0}]
["Western","1-C","ROC","Lexington City",{"$f":"Master20181101!E71-Master20180614!E71","v":0},{"$f":"Master20181101!F71-Master20180614!F71","v":-1},{"$f":"Master20181101!G71-Master20180614!G71","v":1},{"$f":"Master20181101!H71-Master20180614!H71","v":0},{"$f":"Master20181101!I71-Master20180614!I71","v":0},{"$f":"Master20181101!J71-Master20180614!J71","v":0},{"$f":"Master20181101!K71-Master20180614!K71","v":0},{"$f":"Master20181101!L71-Master20180614!L71","v":0},{"$f":"Master20181101!M71-Master20180614!M71","v":0},{"$f":"Master20181101!N71-Master20180614!N71","v":0},{"$f":"Master20181101!O71-Master20180614!O71","v":0},{"$f":"Master20181101!P71-Master20180614!P71","v":0},{"$f":"Master20181101!Q71-Master20180614!Q71","v":0},{"$f":"Master20181101!R71-Master20180614!R71","v":0},{"$f":"Master20181101!S71-Master20180614!S71","v":0},{"$f":"Master20181101!T71-Master20180614!T71","v":0},{"$f":"Master20181101!U71-Master20180614!U71","v":0},{"$f":"Master20181101!V71-Master20180614!V71","v":0},{"$f":"Master20181101!W71-Master20180614!W71","v":0},{"$f":"Master20181101!X71-Master20180614!X71","v":0},{"$f":"Master20181101!Y71-Master20180614!Y71","v":0},{"$f":"Master20181101!Z71-Master20180614!Z71","v":0},{"$f":"Master20181101!AA71-Master20180614!AA71","v":0},{"$f":"Master20181101!AB71-Master20180614!AB71","v":0},{"$f":"Master20181101!AC71-Master20180614!AC71","v":0},{"$f":"Master20181101!AD71-Master20180614!AD71","v":0},{"$f":"Master20181101!AE71-Master20180614!AE71","v":0}]
["Northern","2-A","LOUD","Loudoun County",{"$f":"Master20181101!E72-Master20180614!E72","v":1},{"$f":"Master20181101!F72-Master20180614!F72","v":6},{"$f":"Master20181101!G72-Master20180614!G72","v":0},{"$f":"Master20181101!H72-Master20180614!H72","v":7},{"$f":"Master20181101!I72-Master20180614!I72","v":-2},{"$f":"Master20181101!J72-Master20180614!J72","v":-8},{"$f":"Master20181101!K72-Master20180614!K72","v":1},{"$f":"Master20181101!L72-Master20180614!L72","v":4},{"$f":"Master20181101!M72-Master20180614!M72","v":0},{"$f":"Master20181101!N72-Master20180614!N72","v":0},{"$f":"Master20181101!O72-Master20180614!O72","v":8},{"$f":"Master20181101!P72-Master20180614!P72","v":4},{"$f":"Master20181101!Q72-Master20180614!Q72","v":0},{"$f":"Master20181101!R72-Master20180614!R72","v":0},{"$f":"Master20181101!S72-Master20180614!S72","v":0},{"$f":"Master20181101!T72-Master20180614!T72","v":0},{"$f":"Master20181101!U72-Master20180614!U72","v":0},{"$f":"Master20181101!V72-Master20180614!V72","v":0},{"$f":"Master20181101!W72-Master20180614!W72","v":0},{"$f":"Master20181101!X72-Master20180614!X72","v":1},{"$f":"Master20181101!Y72-Master20180614!Y72","v":0},{"$f":"Master20181101!Z72-Master20180614!Z72","v":0},{"$f":"Master20181101!AA72-Master20180614!AA72","v":0},{"$f":"Master20181101!AB72-Master20180614!AB72","v":0},{"$f":"Master20181101!AC72-Master20180614!AC72","v":2},{"$f":"Master20181101!AD72-Master20180614!AD72","v":0},{"$f":"Master20181101!AE72-Master20180614!AE72","v":0}]
["Western","1-A","RTEN","Louisa County",{"$f":"Master20181101!E73-Master20180614!E73","v":0},{"$f":"Master20181101!F73-Master20180614!F73","v":-2},{"$f":"Master20181101!G73-Master20180614!G73","v":-1},{"$f":"Master20181101!H73-Master20180614!H73","v":-3},{"$f":"Master20181101!I73-Master20180614!I73","v":-1},{"$f":"Master20181101!J73-Master20180614!J73","v":0},{"$f":"Master20181101!K73-Master20180614!K73","v":0},{"$f":"Master20181101!L73-Master20180614!L73","v":2},{"$f":"Master20181101!M73-Master20180614!M73","v":0},{"$f":"Master20181101!N73-Master20180614!N73","v":0},{"$f":"Master20181101!O73-Master20180614!O73","v":0},{"$f":"Master20181101!P73-Master20180614!P73","v":-4},{"$f":"Master20181101!Q73-Master20180614!Q73","v":0},{"$f":"Master20181101!R73-Master20180614!R73","v":0},{"$f":"Master20181101!S73-Master20180614!S73","v":0},{"$f":"Master20181101!T73-Master20180614!T73","v":0},{"$f":"Master20181101!U73-Master20180614!U73","v":0},{"$f":"Master20181101!V73-Master20180614!V73","v":0},{"$f":"Master20181101!W73-Master20180614!W73","v":0},{"$f":"Master20181101!X73-Master20180614!X73","v":0},{"$f":"Master20181101!Y73-Master20180614!Y73","v":0},{"$f":"Master20181101!Z73-Master20180614!Z73","v":0},{"$f":"Master20181101!AA73-Master20180614!AA73","v":0},{"$f":"Master20181101!AB73-Master20180614!AB73","v":0},{"$f":"Master20181101!AC73-Master20180614!AC73","v":0},{"$f":"Master20181101!AD73-Master20180614!AD73","v":0},{"$f":"Master20181101!AE73-Master20180614!AE73","v":0}]
["Central","4-C","CROS","Lunenburg County",{"$f":"Master20181101!E74-Master20180614!E74","v":0},{"$f":"Master20181101!F74-Master20180614!F74","v":0},{"$f":"Master20181101!G74-Master20180614!G74","v":0},{"$f":"Master20181101!H74-Master20180614!H74","v":0},{"$f":"Master20181101!I74-Master20180614!I74","v":-1},{"$f":"Master20181101!J74-Master20180614!J74","v":1},{"$f":"Master20181101!K74-Master20180614!K74","v":0},{"$f":"Master20181101!L74-Master20180614!L74","v":1},{"$f":"Master20181101!M74-Master20180614!M74","v":0},{"$f":"Master20181101!N74-Master20180614!N74","v":0},{"$f":"Master20181101!O74-Master20180614!O74","v":0},{"$f":"Master20181101!P74-Master20180614!P74","v":-1},{"$f":"Master20181101!Q74-Master20180614!Q74","v":0},{"$f":"Master20181101!R74-Master20180614!R74","v":0},{"$f":"Master20181101!S74-Master20180614!S74","v":0},{"$f":"Master20181101!T74-Master20180614!T74","v":0},{"$f":"Master20181101!U74-Master20180614!U74","v":0},{"$f":"Master20181101!V74-Master20180614!V74","v":0},{"$f":"Master20181101!W74-Master20180614!W74","v":0},{"$f":"Master20181101!X74-Master20180614!X74","v":0},{"$f":"Master20181101!Y74-Master20180614!Y74","v":0},{"$f":"Master20181101!Z74-Master20180614!Z74","v":0},{"$f":"Master20181101!AA74-Master20180614!AA74","v":0},{"$f":"Master20181101!AB74-Master20180614!AB74","v":0},{"$f":"Master20181101!AC74-Master20180614!AC74","v":0},{"$f":"Master20181101!AD74-Master20180614!AD74","v":0},{"$f":"Master20181101!AE74-Master20180614!AE74","v":0}]
["Western","1-D","HORI","Lynchburg City",{"$f":"Master20181101!E75-Master20180614!E75","v":0},{"$f":"Master20181101!F75-Master20180614!F75","v":2},{"$f":"Master20181101!G75-Master20180614!G75","v":-5},{"$f":"Master20181101!H75-Master20180614!H75","v":-3},{"$f":"Master20181101!I75-Master20180614!I75","v":-1},{"$f":"Master20181101!J75-Master20180614!J75","v":-1},{"$f":"Master20181101!K75-Master20180614!K75","v":-1},{"$f":"Master20181101!L75-Master20180614!L75","v":1},{"$f":"Master20181101!M75-Master20180614!M75","v":0},{"$f":"Master20181101!N75-Master20180614!N75","v":0},{"$f":"Master20181101!O75-Master20180614!O75","v":1},{"$f":"Master20181101!P75-Master20180614!P75","v":-2},{"$f":"Master20181101!Q75-Master20180614!Q75","v":0},{"$f":"Master20181101!R75-Master20180614!R75","v":0},{"$f":"Master20181101!S75-Master20180614!S75","v":-2},{"$f":"Master20181101!T75-Master20180614!T75","v":0},{"$f":"Master20181101!U75-Master20180614!U75","v":0},{"$f":"Master20181101!V75-Master20180614!V75","v":0},{"$f":"Master20181101!W75-Master20180614!W75","v":0},{"$f":"Master20181101!X75-Master20180614!X75","v":0},{"$f":"Master20181101!Y75-Master20180614!Y75","v":0},{"$f":"Master20181101!Z75-Master20180614!Z75","v":0},{"$f":"Master20181101!AA75-Master20180614!AA75","v":0},{"$f":"Master20181101!AB75-Master20180614!AB75","v":0},{"$f":"Master20181101!AC75-Master20180614!AC75","v":0},{"$f":"Master20181101!AD75-Master20180614!AD75","v":1},{"$f":"Master20181101!AE75-Master20180614!AE75","v":0}]
["Northern","2-B","RapR","Madison County",{"$f":"Master20181101!E76-Master20180614!E76","v":0},{"$f":"Master20181101!F76-Master20180614!F76","v":-1},{"$f":"Master20181101!G76-Master20180614!G76","v":0},{"$f":"Master20181101!H76-Master20180614!H76","v":-1},{"$f":"Master20181101!I76-Master20180614!I76","v":-1},{"$f":"Master20181101!J76-Master20180614!J76","v":0},{"$f":"Master20181101!K76-Master20180614!K76","v":0},{"$f":"Master20181101!L76-Master20180614!L76","v":0},{"$f":"Master20181101!M76-Master20180614!M76","v":0},{"$f":"Master20181101!N76-Master20180614!N76","v":0},{"$f":"Master20181101!O76-Master20180614!O76","v":0},{"$f":"Master20181101!P76-Master20180614!P76","v":0},{"$f":"Master20181101!Q76-Master20180614!Q76","v":0},{"$f":"Master20181101!R76-Master20180614!R76","v":0},{"$f":"Master20181101!S76-Master20180614!S76","v":0},{"$f":"Master20181101!T76-Master20180614!T76","v":0},{"$f":"Master20181101!U76-Master20180614!U76","v":0},{"$f":"Master20181101!V76-Master20180614!V76","v":0},{"$f":"Master20181101!W76-Master20180614!W76","v":0},{"$f":"Master20181101!X76-Master20180614!X76","v":0},{"$f":"Master20181101!Y76-Master20180614!Y76","v":0},{"$f":"Master20181101!Z76-Master20180614!Z76","v":0},{"$f":"Master20181101!AA76-Master20180614!AA76","v":0},{"$f":"Master20181101!AB76-Master20180614!AB76","v":0},{"$f":"Master20181101!AC76-Master20180614!AC76","v":0},{"$f":"Master20181101!AD76-Master20180614!AD76","v":0},{"$f":"Master20181101!AE76-Master20180614!AE76","v":-1}]
["Northern","2-A","PWC","Manassas City",{"$f":"Master20181101!E77-Master20180614!E77","v":0},{"$f":"Master20181101!F77-Master20180614!F77","v":0},{"$f":"Master20181101!G77-Master20180614!G77","v":-2},{"$f":"Master20181101!H77-Master20180614!H77","v":-2},{"$f":"Master20181101!I77-Master20180614!I77","v":-1},{"$f":"Master20181101!J77-Master20180614!J77","v":1},{"$f":"Master20181101!K77-Master20180614!K77","v":-1},{"$f":"Master20181101!L77-Master20180614!L77","v":-1},{"$f":"Master20181101!M77-Master20180614!M77","v":0},{"$f":"Master20181101!N77-Master20180614!N77","v":0},{"$f":"Master20181101!O77-Master20180614!O77","v":0},{"$f":"Master20181101!P77-Master20180614!P77","v":0},{"$f":"Master20181101!Q77-Master20180614!Q77","v":0},{"$f":"Master20181101!R77-Master20180614!R77","v":0},{"$f":"Master20181101!S77-Master20180614!S77","v":0},{"$f":"Master20181101!T77-Master20180614!T77","v":0},{"$f":"Master20181101!U77-Master20180614!U77","v":0},{"$f":"Master20181101!V77-Master20180614!V77","v":0},{"$f":"Master20181101!W77-Master20180614!W77","v":0},{"$f":"Master20181101!X77-Master20180614!X77","v":0},{"$f":"Master20181101!Y77-Master20180614!Y77","v":0},{"$f":"Master20181101!Z77-Master20180614!Z77","v":0},{"$f":"Master20181101!AA77-Master20180614!AA77","v":0},{"$f":"Master20181101!AB77-Master20180614!AB77","v":0},{"$f":"Master20181101!AC77-Master20180614!AC77","v":0},{"$f":"Master20181101!AD77-Master20180614!AD77","v":0},{"$f":"Master20181101!AE77-Master20180614!AE77","v":0}]
["Northern","2-A","PWC","Manassas Park City",{"$f":"Master20181101!E78-Master20180614!E78","v":0},{"$f":"Master20181101!F78-Master20180614!F78","v":0},{"$f":"Master20181101!G78-Master20180614!G78","v":-1},{"$f":"Master20181101!H78-Master20180614!H78","v":-1},{"$f":"Master20181101!I78-Master20180614!I78","v":0},{"$f":"Master20181101!J78-Master20180614!J78","v":0},{"$f":"Master20181101!K78-Master20180614!K78","v":0},{"$f":"Master20181101!L78-Master20180614!L78","v":0},{"$f":"Master20181101!M78-Master20180614!M78","v":0},{"$f":"Master20181101!N78-Master20180614!N78","v":0},{"$f":"Master20181101!O78-Master20180614!O78","v":-1},{"$f":"Master20181101!P78-Master20180614!P78","v":0},{"$f":"Master20181101!Q78-Master20180614!Q78","v":0},{"$f":"Master20181101!R78-Master20180614!R78","v":0},{"$f":"Master20181101!S78-Master20180614!S78","v":0},{"$f":"Master20181101!T78-Master20180614!T78","v":0},{"$f":"Master20181101!U78-Master20180614!U78","v":0},{"$f":"Master20181101!V78-Master20180614!V78","v":0},{"$f":"Master20181101!W78-Master20180614!W78","v":0},{"$f":"Master20181101!X78-Master20180614!X78","v":0},{"$f":"Master20181101!Y78-Master20180614!Y78","v":0},{"$f":"Master20181101!Z78-Master20180614!Z78","v":0},{"$f":"Master20181101!AA78-Master20180614!AA78","v":0},{"$f":"Master20181101!AB78-Master20180614!AB78","v":0},{"$f":"Master20181101!AC78-Master20180614!AC78","v":0},{"$f":"Master20181101!AD78-Master20180614!AD78","v":0},{"$f":"Master20181101!AE78-Master20180614!AE78","v":0}]
["Southwestern","3-B","PDMT","Martinsville City",{"$f":"Master20181101!E79-Master20180614!E79","v":0},{"$f":"Master20181101!F79-Master20180614!F79","v":0},{"$f":"Master20181101!G79-Master20180614!G79","v":-9},{"$f":"Master20181101!H79-Master20180614!H79","v":-9},{"$f":"Master20181101!I79-Master20180614!I79","v":-1},{"$f":"Master20181101!J79-Master20180614!J79","v":-10},{"$f":"Master20181101!K79-Master20180614!K79","v":-2},{"$f":"Master20181101!L79-Master20180614!L79","v":4},{"$f":"Master20181101!M79-Master20180614!M79","v":0},{"$f":"Master20181101!N79-Master20180614!N79","v":1},{"$f":"Master20181101!O79-Master20180614!O79","v":0},{"$f":"Master20181101!P79-Master20180614!P79","v":-1},{"$f":"Master20181101!Q79-Master20180614!Q79","v":0},{"$f":"Master20181101!R79-Master20180614!R79","v":0},{"$f":"Master20181101!S79-Master20180614!S79","v":0},{"$f":"Master20181101!T79-Master20180614!T79","v":0},{"$f":"Master20181101!U79-Master20180614!U79","v":0},{"$f":"Master20181101!V79-Master20180614!V79","v":0},{"$f":"Master20181101!W79-Master20180614!W79","v":0},{"$f":"Master20181101!X79-Master20180614!X79","v":0},{"$f":"Master20181101!Y79-Master20180614!Y79","v":0},{"$f":"Master20181101!Z79-Master20180614!Z79","v":0},{"$f":"Master20181101!AA79-Master20180614!AA79","v":0},{"$f":"Master20181101!AB79-Master20180614!AB79","v":0},{"$f":"Master20181101!AC79-Master20180614!AC79","v":0},{"$f":"Master20181101!AD79-Master20180614!AD79","v":0},{"$f":"Master20181101!AE79-Master20180614!AE79","v":0}]
["Eastern","5-A","MPNN","Mathews County",{"$f":"Master20181101!E80-Master20180614!E80","v":0},{"$f":"Master20181101!F80-Master20180614!F80","v":0},{"$f":"Master20181101!G80-Master20180614!G80","v":-6},{"$f":"Master20181101!H80-Master20180614!H80","v":-6},{"$f":"Master20181101!I80-Master20180614!I80","v":-1},{"$f":"Master20181101!J80-Master20180614!J80","v":3},{"$f":"Master20181101!K80-Master20180614!K80","v":-1},{"$f":"Master20181101!L80-Master20180614!L80","v":-6},{"$f":"Master20181101!M80-Master20180614!M80","v":-1},{"$f":"Master20181101!N80-Master20180614!N80","v":0},{"$f":"Master20181101!O80-Master20180614!O80","v":0},{"$f":"Master20181101!P80-Master20180614!P80","v":0},{"$f":"Master20181101!Q80-Master20180614!Q80","v":0},{"$f":"Master20181101!R80-Master20180614!R80","v":0},{"$f":"Master20181101!S80-Master20180614!S80","v":-1},{"$f":"Master20181101!T80-Master20180614!T80","v":0},{"$f":"Master20181101!U80-Master20180614!U80","v":0},{"$f":"Master20181101!V80-Master20180614!V80","v":0},{"$f":"Master20181101!W80-Master20180614!W80","v":0},{"$f":"Master20181101!X80-Master20180614!X80","v":0},{"$f":"Master20181101!Y80-Master20180614!Y80","v":0},{"$f":"Master20181101!Z80-Master20180614!Z80","v":0},{"$f":"Master20181101!AA80-Master20180614!AA80","v":0},{"$f":"Master20181101!AB80-Master20180614!AB80","v":0},{"$f":"Master20181101!AC80-Master20180614!AC80","v":0},{"$f":"Master20181101!AD80-Master20180614!AD80","v":0},{"$f":"Master20181101!AE80-Master20180614!AE80","v":0}]
["Central","4-C","SS","Mecklenburg County",{"$f":"Master20181101!E81-Master20180614!E81","v":0},{"$f":"Master20181101!F81-Master20180614!F81","v":2},{"$f":"Master20181101!G81-Master20180614!G81","v":1},{"$f":"Master20181101!H81-Master20180614!H81","v":3},{"$f":"Master20181101!I81-Master20180614!I81","v":1},{"$f":"Master20181101!J81-Master20180614!J81","v":-1},{"$f":"Master20181101!K81-Master20180614!K81","v":-1},{"$f":"Master20181101!L81-Master20180614!L81","v":3},{"$f":"Master20181101!M81-Master20180614!M81","v":-1},{"$f":"Master20181101!N81-Master20180614!N81","v":0},{"$f":"Master20181101!O81-Master20180614!O81","v":-1},{"$f":"Master20181101!P81-Master20180614!P81","v":3},{"$f":"Master20181101!Q81-Master20180614!Q81","v":0},{"$f":"Master20181101!R81-Master20180614!R81","v":0},{"$f":"Master20181101!S81-Master20180614!S81","v":0},{"$f":"Master20181101!T81-Master20180614!T81","v":0},{"$f":"Master20181101!U81-Master20180614!U81","v":0},{"$f":"Master20181101!V81-Master20180614!V81","v":0},{"$f":"Master20181101!W81-Master20180614!W81","v":0},{"$f":"Master20181101!X81-Master20180614!X81","v":0},{"$f":"Master20181101!Y81-Master20180614!Y81","v":0},{"$f":"Master20181101!Z81-Master20180614!Z81","v":0},{"$f":"Master20181101!AA81-Master20180614!AA81","v":0},{"$f":"Master20181101!AB81-Master20180614!AB81","v":0},{"$f":"Master20181101!AC81-Master20180614!AC81","v":0},{"$f":"Master20181101!AD81-Master20180614!AD81","v":1},{"$f":"Master20181101!AE81-Master20180614!AE81","v":0}]
["Eastern","5-A","MPNN","Middlesex County",{"$f":"Master20181101!E82-Master20180614!E82","v":0},{"$f":"Master20181101!F82-Master20180614!F82","v":1},{"$f":"Master20181101!G82-Master20180614!G82","v":0},{"$f":"Master20181101!H82-Master20180614!H82","v":1},{"$f":"Master20181101!I82-Master20180614!I82","v":1},{"$f":"Master20181101!J82-Master20180614!J82","v":1},{"$f":"Master20181101!K82-Master20180614!K82","v":0},{"$f":"Master20181101!L82-Master20180614!L82","v":-1},{"$f":"Master20181101!M82-Master20180614!M82","v":0},{"$f":"Master20181101!N82-Master20180614!N82","v":0},{"$f":"Master20181101!O82-Master20180614!O82","v":0},{"$f":"Master20181101!P82-Master20180614!P82","v":0},{"$f":"Master20181101!Q82-Master20180614!Q82","v":0},{"$f":"Master20181101!R82-Master20180614!R82","v":0},{"$f":"Master20181101!S82-Master20180614!S82","v":0},{"$f":"Master20181101!T82-Master20180614!T82","v":0},{"$f":"Master20181101!U82-Master20180614!U82","v":0},{"$f":"Master20181101!V82-Master20180614!V82","v":0},{"$f":"Master20181101!W82-Master20180614!W82","v":0},{"$f":"Master20181101!X82-Master20180614!X82","v":0},{"$f":"Master20181101!Y82-Master20180614!Y82","v":0},{"$f":"Master20181101!Z82-Master20180614!Z82","v":0},{"$f":"Master20181101!AA82-Master20180614!AA82","v":0},{"$f":"Master20181101!AB82-Master20180614!AB82","v":0},{"$f":"Master20181101!AC82-Master20180614!AC82","v":0},{"$f":"Master20181101!AD82-Master20180614!AD82","v":0},{"$f":"Master20181101!AE82-Master20180614!AE82","v":0}]
["Southwestern","3-A","NRV","Montgomery County",{"$f":"Master20181101!E83-Master20180614!E83","v":0},{"$f":"Master20181101!F83-Master20180614!F83","v":3},{"$f":"Master20181101!G83-Master20180614!G83","v":0},{"$f":"Master20181101!H83-Master20180614!H83","v":3},{"$f":"Master20181101!I83-Master20180614!I83","v":1},{"$f":"Master20181101!J83-Master20180614!J83","v":0},{"$f":"Master20181101!K83-Master20180614!K83","v":-1},{"$f":"Master20181101!L83-Master20180614!L83","v":1},{"$f":"Master20181101!M83-Master20180614!M83","v":0},{"$f":"Master20181101!N83-Master20180614!N83","v":0},{"$f":"Master20181101!O83-Master20180614!O83","v":3},{"$f":"Master20181101!P83-Master20180614!P83","v":-1},{"$f":"Master20181101!Q83-Master20180614!Q83","v":0},{"$f":"Master20181101!R83-Master20180614!R83","v":0},{"$f":"Master20181101!S83-Master20180614!S83","v":0},{"$f":"Master20181101!T83-Master20180614!T83","v":0},{"$f":"Master20181101!U83-Master20180614!U83","v":0},{"$f":"Master20181101!V83-Master20180614!V83","v":0},{"$f":"Master20181101!W83-Master20180614!W83","v":0},{"$f":"Master20181101!X83-Master20180614!X83","v":1},{"$f":"Master20181101!Y83-Master20180614!Y83","v":0},{"$f":"Master20181101!Z83-Master20180614!Z83","v":0},{"$f":"Master20181101!AA83-Master20180614!AA83","v":0},{"$f":"Master20181101!AB83-Master20180614!AB83","v":0},{"$f":"Master20181101!AC83-Master20180614!AC83","v":2},{"$f":"Master20181101!AD83-Master20180614!AD83","v":0},{"$f":"Master20181101!AE83-Master20180614!AE83","v":1}]
["Western","1-A","RTEN","Nelson County",{"$f":"Master20181101!E84-Master20180614!E84","v":0},{"$f":"Master20181101!F84-Master20180614!F84","v":0},{"$f":"Master20181101!G84-Master20180614!G84","v":0},{"$f":"Master20181101!H84-Master20180614!H84","v":0},{"$f":"Master20181101!I84-Master20180614!I84","v":1},{"$f":"Master20181101!J84-Master20180614!J84","v":-3},{"$f":"Master20181101!K84-Master20180614!K84","v":0},{"$f":"Master20181101!L84-Master20180614!L84","v":2},{"$f":"Master20181101!M84-Master20180614!M84","v":0},{"$f":"Master20181101!N84-Master20180614!N84","v":0},{"$f":"Master20181101!O84-Master20180614!O84","v":1},{"$f":"Master20181101!P84-Master20180614!P84","v":-1},{"$f":"Master20181101!Q84-Master20180614!Q84","v":0},{"$f":"Master20181101!R84-Master20180614!R84","v":0},{"$f":"Master20181101!S84-Master20180614!S84","v":0},{"$f":"Master20181101!T84-Master20180614!T84","v":0},{"$f":"Master20181101!U84-Master20180614!U84","v":0},{"$f":"Master20181101!V84-Master20180614!V84","v":0},{"$f":"Master20181101!W84-Master20180614!W84","v":0},{"$f":"Master20181101!X84-Master20180614!X84","v":0},{"$f":"Master20181101!Y84-Master20180614!Y84","v":0},{"$f":"Master20181101!Z84-Master20180614!Z84","v":0},{"$f":"Master20181101!AA84-Master20180614!AA84","v":0},{"$f":"Master20181101!AB84-Master20180614!AB84","v":0},{"$f":"Master20181101!AC84-Master20180614!AC84","v":0},{"$f":"Master20181101!AD84-Master20180614!AD84","v":0},{"$f":"Master20181101!AE84-Master20180614!AE84","v":0}]
["Central","4-A","HENR","New Kent County",{"$f":"Master20181101!E85-Master20180614!E85","v":0},{"$f":"Master20181101!F85-Master20180614!F85","v":1},{"$f":"Master20181101!G85-Master20180614!G85","v":-3},{"$f":"Master20181101!H85-Master20180614!H85","v":-2},{"$f":"Master20181101!I85-Master20180614!I85","v":-1},{"$f":"Master20181101!J85-Master20180614!J85","v":0},{"$f":"Master20181101!K85-Master20180614!K85","v":0},{"$f":"Master20181101!L85-Master20180614!L85","v":0},{"$f":"Master20181101!M85-Master20180614!M85","v":0},{"$f":"Master20181101!N85-Master20180614!N85","v":0},{"$f":"Master20181101!O85-Master20180614!O85","v":-1},{"$f":"Master20181101!P85-Master20180614!P85","v":0},{"$f":"Master20181101!Q85-Master20180614!Q85","v":0},{"$f":"Master20181101!R85-Master20180614!R85","v":0},{"$f":"Master20181101!S85-Master20180614!S85","v":0},{"$f":"Master20181101!T85-Master20180614!T85","v":0},{"$f":"Master20181101!U85-Master20180614!U85","v":0},{"$f":"Master20181101!V85-Master20180614!V85","v":0},{"$f":"Master20181101!W85-Master20180614!W85","v":0},{"$f":"Master20181101!X85-Master20180614!X85","v":0},{"$f":"Master20181101!Y85-Master20180614!Y85","v":0},{"$f":"Master20181101!Z85-Master20180614!Z85","v":0},{"$f":"Master20181101!AA85-Master20180614!AA85","v":0},{"$f":"Master20181101!AB85-Master20180614!AB85","v":0},{"$f":"Master20181101!AC85-Master20180614!AC85","v":0},{"$f":"Master20181101!AD85-Master20180614!AD85","v":0},{"$f":"Master20181101!AE85-Master20180614!AE85","v":0}]
["Eastern","5-C","HAMP","Newport News City",{"$f":"Master20181101!E86-Master20180614!E86","v":-2},{"$f":"Master20181101!F86-Master20180614!F86","v":0},{"$f":"Master20181101!G86-Master20180614!G86","v":7},{"$f":"Master20181101!H86-Master20180614!H86","v":5},{"$f":"Master20181101!I86-Master20180614!I86","v":-3},{"$f":"Master20181101!J86-Master20180614!J86","v":-3},{"$f":"Master20181101!K86-Master20180614!K86","v":0},{"$f":"Master20181101!L86-Master20180614!L86","v":7},{"$f":"Master20181101!M86-Master20180614!M86","v":0},{"$f":"Master20181101!N86-Master20180614!N86","v":1},{"$f":"Master20181101!O86-Master20180614!O86","v":1},{"$f":"Master20181101!P86-Master20180614!P86","v":2},{"$f":"Master20181101!Q86-Master20180614!Q86","v":0},{"$f":"Master20181101!R86-Master20180614!R86","v":0},{"$f":"Master20181101!S86-Master20180614!S86","v":0},{"$f":"Master20181101!T86-Master20180614!T86","v":0},{"$f":"Master20181101!U86-Master20180614!U86","v":0},{"$f":"Master20181101!V86-Master20180614!V86","v":0},{"$f":"Master20181101!W86-Master20180614!W86","v":1},{"$f":"Master20181101!X86-Master20180614!X86","v":1},{"$f":"Master20181101!Y86-Master20180614!Y86","v":0},{"$f":"Master20181101!Z86-Master20180614!Z86","v":0},{"$f":"Master20181101!AA86-Master20180614!AA86","v":0},{"$f":"Master20181101!AB86-Master20180614!AB86","v":0},{"$f":"Master20181101!AC86-Master20180614!AC86","v":0},{"$f":"Master20181101!AD86-Master20180614!AD86","v":-4},{"$f":"Master20181101!AE86-Master20180614!AE86","v":0}]
["Eastern","5-D","NORF","Norfolk City",{"$f":"Master20181101!E87-Master20180614!E87","v":1},{"$f":"Master20181101!F87-Master20180614!F87","v":1},{"$f":"Master20181101!G87-Master20180614!G87","v":-14},{"$f":"Master20181101!H87-Master20180614!H87","v":-12},{"$f":"Master20181101!I87-Master20180614!I87","v":-5},{"$f":"Master20181101!J87-Master20180614!J87","v":-8},{"$f":"Master20181101!K87-Master20180614!K87","v":1},{"$f":"Master20181101!L87-Master20180614!L87","v":1},{"$f":"Master20181101!M87-Master20180614!M87","v":0},{"$f":"Master20181101!N87-Master20180614!N87","v":-5},{"$f":"Master20181101!O87-Master20180614!O87","v":2},{"$f":"Master20181101!P87-Master20180614!P87","v":2},{"$f":"Master20181101!Q87-Master20180614!Q87","v":0},{"$f":"Master20181101!R87-Master20180614!R87","v":0},{"$f":"Master20181101!S87-Master20180614!S87","v":1},{"$f":"Master20181101!T87-Master20180614!T87","v":0},{"$f":"Master20181101!U87-Master20180614!U87","v":0},{"$f":"Master20181101!V87-Master20180614!V87","v":0},{"$f":"Master20181101!W87-Master20180614!W87","v":0},{"$f":"Master20181101!X87-Master20180614!X87","v":-1},{"$f":"Master20181101!Y87-Master20180614!Y87","v":0},{"$f":"Master20181101!Z87-Master20180614!Z87","v":0},{"$f":"Master20181101!AA87-Master20180614!AA87","v":0},{"$f":"Master20181101!AB87-Master20180614!AB87","v":0},{"$f":"Master20181101!AC87-Master20180614!AC87","v":0},{"$f":"Master20181101!AD87-Master20180614!AD87","v":-1},{"$f":"Master20181101!AE87-Master20180614!AE87","v":0}]
["Eastern","5-B","EAST","Northampton County",{"$f":"Master20181101!E88-Master20180614!E88","v":0},{"$f":"Master20181101!F88-Master20180614!F88","v":0},{"$f":"Master20181101!G88-Master20180614!G88","v":-1},{"$f":"Master20181101!H88-Master20180614!H88","v":-1},{"$f":"Master20181101!I88-Master20180614!I88","v":0},{"$f":"Master20181101!J88-Master20180614!J88","v":-2},{"$f":"Master20181101!K88-Master20180614!K88","v":0},{"$f":"Master20181101!L88-Master20180614!L88","v":1},{"$f":"Master20181101!M88-Master20180614!M88","v":0},{"$f":"Master20181101!N88-Master20180614!N88","v":0},{"$f":"Master20181101!O88-Master20180614!O88","v":0},{"$f":"Master20181101!P88-Master20180614!P88","v":0},{"$f":"Master20181101!Q88-Master20180614!Q88","v":0},{"$f":"Master20181101!R88-Master20180614!R88","v":0},{"$f":"Master20181101!S88-Master20180614!S88","v":0},{"$f":"Master20181101!T88-Master20180614!T88","v":0},{"$f":"Master20181101!U88-Master20180614!U88","v":0},{"$f":"Master20181101!V88-Master20180614!V88","v":0},{"$f":"Master20181101!W88-Master20180614!W88","v":0},{"$f":"Master20181101!X88-Master20180614!X88","v":0},{"$f":"Master20181101!Y88-Master20180614!Y88","v":0},{"$f":"Master20181101!Z88-Master20180614!Z88","v":0},{"$f":"Master20181101!AA88-Master20180614!AA88","v":0},{"$f":"Master20181101!AB88-Master20180614!AB88","v":0},{"$f":"Master20181101!AC88-Master20180614!AC88","v":0},{"$f":"Master20181101!AD88-Master20180614!AD88","v":0},{"$f":"Master20181101!AE88-Master20180614!AE88","v":0}]
["Eastern","5-A","MPNN","Northumberland County",{"$f":"Master20181101!E89-Master20180614!E89","v":0},{"$f":"Master20181101!F89-Master20180614!F89","v":0},{"$f":"Master20181101!G89-Master20180614!G89","v":0},{"$f":"Master20181101!H89-Master20180614!H89","v":0},{"$f":"Master20181101!I89-Master20180614!I89","v":0},{"$f":"Master20181101!J89-Master20180614!J89","v":1},{"$f":"Master20181101!K89-Master20180614!K89","v":0},{"$f":"Master20181101!L89-Master20180614!L89","v":0},{"$f":"Master20181101!M89-Master20180614!M89","v":0},{"$f":"Master20181101!N89-Master20180614!N89","v":-1},{"$f":"Master20181101!O89-Master20180614!O89","v":0},{"$f":"Master20181101!P89-Master20180614!P89","v":0},{"$f":"Master20181101!Q89-Master20180614!Q89","v":0},{"$f":"Master20181101!R89-Master20180614!R89","v":0},{"$f":"Master20181101!S89-Master20180614!S89","v":0},{"$f":"Master20181101!T89-Master20180614!T89","v":0},{"$f":"Master20181101!U89-Master20180614!U89","v":0},{"$f":"Master20181101!V89-Master20180614!V89","v":0},{"$f":"Master20181101!W89-Master20180614!W89","v":0},{"$f":"Master20181101!X89-Master20180614!X89","v":0},{"$f":"Master20181101!Y89-Master20180614!Y89","v":0},{"$f":"Master20181101!Z89-Master20180614!Z89","v":0},{"$f":"Master20181101!AA89-Master20180614!AA89","v":0},{"$f":"Master20181101!AB89-Master20180614!AB89","v":0},{"$f":"Master20181101!AC89-Master20180614!AC89","v":0},{"$f":"Master20181101!AD89-Master20180614!AD89","v":0},{"$f":"Master20181101!AE89-Master20180614!AE89","v":0}]
["Southwestern","3-D","PLD1","Norton City",{"$f":"Master20181101!E90-Master20180614!E90","v":0},{"$f":"Master20181101!F90-Master20180614!F90","v":0},{"$f":"Master20181101!G90-Master20180614!G90","v":0},{"$f":"Master20181101!H90-Master20180614!H90","v":0},{"$f":"Master20181101!I90-Master20180614!I90","v":0},{"$f":"Master20181101!J90-Master20180614!J90","v":0},{"$f":"Master20181101!K90-Master20180614!K90","v":0},{"$f":"Master20181101!L90-Master20180614!L90","v":0},{"$f":"Master20181101!M90-Master20180614!M90","v":0},{"$f":"Master20181101!N90-Master20180614!N90","v":0},{"$f":"Master20181101!O90-Master20180614!O90","v":0},{"$f":"Master20181101!P90-Master20180614!P90","v":0},{"$f":"Master20181101!Q90-Master20180614!Q90","v":0},{"$f":"Master20181101!R90-Master20180614!R90","v":0},{"$f":"Master20181101!S90-Master20180614!S90","v":0},{"$f":"Master20181101!T90-Master20180614!T90","v":0},{"$f":"Master20181101!U90-Master20180614!U90","v":0},{"$f":"Master20181101!V90-Master20180614!V90","v":0},{"$f":"Master20181101!W90-Master20180614!W90","v":0},{"$f":"Master20181101!X90-Master20180614!X90","v":0},{"$f":"Master20181101!Y90-Master20180614!Y90","v":0},{"$f":"Master20181101!Z90-Master20180614!Z90","v":0},{"$f":"Master20181101!AA90-Master20180614!AA90","v":0},{"$f":"Master20181101!AB90-Master20180614!AB90","v":0},{"$f":"Master20181101!AC90-Master20180614!AC90","v":0},{"$f":"Master20181101!AD90-Master20180614!AD90","v":0},{"$f":"Master20181101!AE90-Master20180614!AE90","v":0}]
["Central","4-C","CROS","Nottoway County",{"$f":"Master20181101!E91-Master20180614!E91","v":0},{"$f":"Master20181101!F91-Master20180614!F91","v":0},{"$f":"Master20181101!G91-Master20180614!G91","v":2},{"$f":"Master20181101!H91-Master20180614!H91","v":2},{"$f":"Master20181101!I91-Master20180614!I91","v":0},{"$f":"Master20181101!J91-Master20180614!J91","v":0},{"$f":"Master20181101!K91-Master20180614!K91","v":0},{"$f":"Master20181101!L91-Master20180614!L91","v":1},{"$f":"Master20181101!M91-Master20180614!M91","v":0},{"$f":"Master20181101!N91-Master20180614!N91","v":0},{"$f":"Master20181101!O91-Master20180614!O91","v":0},{"$f":"Master20181101!P91-Master20180614!P91","v":1},{"$f":"Master20181101!Q91-Master20180614!Q91","v":0},{"$f":"Master20181101!R91-Master20180614!R91","v":0},{"$f":"Master20181101!S91-Master20180614!S91","v":0},{"$f":"Master20181101!T91-Master20180614!T91","v":0},{"$f":"Master20181101!U91-Master20180614!U91","v":0},{"$f":"Master20181101!V91-Master20180614!V91","v":0},{"$f":"Master20181101!W91-Master20180614!W91","v":0},{"$f":"Master20181101!X91-Master20180614!X91","v":0},{"$f":"Master20181101!Y91-Master20180614!Y91","v":0},{"$f":"Master20181101!Z91-Master20180614!Z91","v":0},{"$f":"Master20181101!AA91-Master20180614!AA91","v":0},{"$f":"Master20181101!AB91-Master20180614!AB91","v":0},{"$f":"Master20181101!AC91-Master20180614!AC91","v":0},{"$f":"Master20181101!AD91-Master20180614!AD91","v":0},{"$f":"Master20181101!AE91-Master20180614!AE91","v":0}]
["Northern","2-B","RapR","Orange County",{"$f":"Master20181101!E92-Master20180614!E92","v":0},{"$f":"Master20181101!F92-Master20180614!F92","v":1},{"$f":"Master20181101!G92-Master20180614!G92","v":-1},{"$f":"Master20181101!H92-Master20180614!H92","v":0},{"$f":"Master20181101!I92-Master20180614!I92","v":0},{"$f":"Master20181101!J92-Master20180614!J92","v":0},{"$f":"Master20181101!K92-Master20180614!K92","v":-1},{"$f":"Master20181101!L92-Master20180614!L92","v":1},{"$f":"Master20181101!M92-Master20180614!M92","v":0},{"$f":"Master20181101!N92-Master20180614!N92","v":0},{"$f":"Master20181101!O92-Master20180614!O92","v":0},{"$f":"Master20181101!P92-Master20180614!P92","v":0},{"$f":"Master20181101!Q92-Master20180614!Q92","v":0},{"$f":"Master20181101!R92-Master20180614!R92","v":0},{"$f":"Master20181101!S92-Master20180614!S92","v":0},{"$f":"Master20181101!T92-Master20180614!T92","v":0},{"$f":"Master20181101!U92-Master20180614!U92","v":0},{"$f":"Master20181101!V92-Master20180614!V92","v":0},{"$f":"Master20181101!W92-Master20180614!W92","v":0},{"$f":"Master20181101!X92-Master20180614!X92","v":0},{"$f":"Master20181101!Y92-Master20180614!Y92","v":0},{"$f":"Master20181101!Z92-Master20180614!Z92","v":0},{"$f":"Master20181101!AA92-Master20180614!AA92","v":0},{"$f":"Master20181101!AB92-Master20180614!AB92","v":0},{"$f":"Master20181101!AC92-Master20180614!AC92","v":0},{"$f":"Master20181101!AD92-Master20180614!AD92","v":0},{"$f":"Master20181101!AE92-Master20180614!AE92","v":0}]
["Northern","2-D","NW","Page County",{"$f":"Master20181101!E93-Master20180614!E93","v":0},{"$f":"Master20181101!F93-Master20180614!F93","v":0},{"$f":"Master20181101!G93-Master20180614!G93","v":1},{"$f":"Master20181101!H93-Master20180614!H93","v":1},{"$f":"Master20181101!I93-Master20180614!I93","v":1},{"$f":"Master20181101!J93-Master20180614!J93","v":0},{"$f":"Master20181101!K93-Master20180614!K93","v":0},{"$f":"Master20181101!L93-Master20180614!L93","v":1},{"$f":"Master20181101!M93-Master20180614!M93","v":0},{"$f":"Master20181101!N93-Master20180614!N93","v":0},{"$f":"Master20181101!O93-Master20180614!O93","v":0},{"$f":"Master20181101!P93-Master20180614!P93","v":-1},{"$f":"Master20181101!Q93-Master20180614!Q93","v":0},{"$f":"Master20181101!R93-Master20180614!R93","v":0},{"$f":"Master20181101!S93-Master20180614!S93","v":0},{"$f":"Master20181101!T93-Master20180614!T93","v":0},{"$f":"Master20181101!U93-Master20180614!U93","v":0},{"$f":"Master20181101!V93-Master20180614!V93","v":0},{"$f":"Master20181101!W93-Master20180614!W93","v":0},{"$f":"Master20181101!X93-Master20180614!X93","v":0},{"$f":"Master20181101!Y93-Master20180614!Y93","v":0},{"$f":"Master20181101!Z93-Master20180614!Z93","v":0},{"$f":"Master20181101!AA93-Master20180614!AA93","v":0},{"$f":"Master20181101!AB93-Master20180614!AB93","v":0},{"$f":"Master20181101!AC93-Master20180614!AC93","v":0},{"$f":"Master20181101!AD93-Master20180614!AD93","v":0},{"$f":"Master20181101!AE93-Master20180614!AE93","v":0}]
["Southwestern","3-C","PDMT","Patrick County",{"$f":"Master20181101!E94-Master20180614!E94","v":0},{"$f":"Master20181101!F94-Master20180614!F94","v":1},{"$f":"Master20181101!G94-Master20180614!G94","v":-1},{"$f":"Master20181101!H94-Master20180614!H94","v":0},{"$f":"Master20181101!I94-Master20180614!I94","v":-1},{"$f":"Master20181101!J94-Master20180614!J94","v":2},{"$f":"Master20181101!K94-Master20180614!K94","v":-1},{"$f":"Master20181101!L94-Master20180614!L94","v":-1},{"$f":"Master20181101!M94-Master20180614!M94","v":0},{"$f":"Master20181101!N94-Master20180614!N94","v":0},{"$f":"Master20181101!O94-Master20180614!O94","v":0},{"$f":"Master20181101!P94-Master20180614!P94","v":1},{"$f":"Master20181101!Q94-Master20180614!Q94","v":0},{"$f":"Master20181101!R94-Master20180614!R94","v":0},{"$f":"Master20181101!S94-Master20180614!S94","v":-1},{"$f":"Master20181101!T94-Master20180614!T94","v":0},{"$f":"Master20181101!U94-Master20180614!U94","v":0},{"$f":"Master20181101!V94-Master20180614!V94","v":0},{"$f":"Master20181101!W94-Master20180614!W94","v":0},{"$f":"Master20181101!X94-Master20180614!X94","v":0},{"$f":"Master20181101!Y94-Master20180614!Y94","v":0},{"$f":"Master20181101!Z94-Master20180614!Z94","v":0},{"$f":"Master20181101!AA94-Master20180614!AA94","v":0},{"$f":"Master20181101!AB94-Master20180614!AB94","v":0},{"$f":"Master20181101!AC94-Master20180614!AC94","v":0},{"$f":"Master20181101!AD94-Master20180614!AD94","v":0},{"$f":"Master20181101!AE94-Master20180614!AE94","v":0}]
["Central","4-D","D19","Petersburg City",{"$f":"Master20181101!E95-Master20180614!E95","v":0},{"$f":"Master20181101!F95-Master20180614!F95","v":1},{"$f":"Master20181101!G95-Master20180614!G95","v":2},{"$f":"Master20181101!H95-Master20180614!H95","v":3},{"$f":"Master20181101!I95-Master20180614!I95","v":-1},{"$f":"Master20181101!J95-Master20180614!J95","v":-2},{"$f":"Master20181101!K95-Master20180614!K95","v":3},{"$f":"Master20181101!L95-Master20180614!L95","v":2},{"$f":"Master20181101!M95-Master20180614!M95","v":0},{"$f":"Master20181101!N95-Master20180614!N95","v":2},{"$f":"Master20181101!O95-Master20180614!O95","v":-1},{"$f":"Master20181101!P95-Master20180614!P95","v":0},{"$f":"Master20181101!Q95-Master20180614!Q95","v":0},{"$f":"Master20181101!R95-Master20180614!R95","v":0},{"$f":"Master20181101!S95-Master20180614!S95","v":-1},{"$f":"Master20181101!T95-Master20180614!T95","v":0},{"$f":"Master20181101!U95-Master20180614!U95","v":0},{"$f":"Master20181101!V95-Master20180614!V95","v":0},{"$f":"Master20181101!W95-Master20180614!W95","v":0},{"$f":"Master20181101!X95-Master20180614!X95","v":0},{"$f":"Master20181101!Y95-Master20180614!Y95","v":0},{"$f":"Master20181101!Z95-Master20180614!Z95","v":0},{"$f":"Master20181101!AA95-Master20180614!AA95","v":0},{"$f":"Master20181101!AB95-Master20180614!AB95","v":0},{"$f":"Master20181101!AC95-Master20180614!AC95","v":0},{"$f":"Master20181101!AD95-Master20180614!AD95","v":0},{"$f":"Master20181101!AE95-Master20180614!AE95","v":0}]
["Southwestern","3-B","DANV","Pittsylvania County",{"$f":"Master20181101!E96-Master20180614!E96","v":3},{"$f":"Master20181101!F96-Master20180614!F96","v":0},{"$f":"Master20181101!G96-Master20180614!G96","v":-1},{"$f":"Master20181101!H96-Master20180614!H96","v":2},{"$f":"Master20181101!I96-Master20180614!I96","v":-2},{"$f":"Master20181101!J96-Master20180614!J96","v":-1},{"$f":"Master20181101!K96-Master20180614!K96","v":1},{"$f":"Master20181101!L96-Master20180614!L96","v":-2},{"$f":"Master20181101!M96-Master20180614!M96","v":0},{"$f":"Master20181101!N96-Master20180614!N96","v":0},{"$f":"Master20181101!O96-Master20180614!O96","v":0},{"$f":"Master20181101!P96-Master20180614!P96","v":6},{"$f":"Master20181101!Q96-Master20180614!Q96","v":0},{"$f":"Master20181101!R96-Master20180614!R96","v":0},{"$f":"Master20181101!S96-Master20180614!S96","v":0},{"$f":"Master20181101!T96-Master20180614!T96","v":0},{"$f":"Master20181101!U96-Master20180614!U96","v":0},{"$f":"Master20181101!V96-Master20180614!V96","v":0},{"$f":"Master20181101!W96-Master20180614!W96","v":0},{"$f":"Master20181101!X96-Master20180614!X96","v":0},{"$f":"Master20181101!Y96-Master20180614!Y96","v":0},{"$f":"Master20181101!Z96-Master20180614!Z96","v":0},{"$f":"Master20181101!AA96-Master20180614!AA96","v":0},{"$f":"Master20181101!AB96-Master20180614!AB96","v":0},{"$f":"Master20181101!AC96-Master20180614!AC96","v":0},{"$f":"Master20181101!AD96-Master20180614!AD96","v":0},{"$f":"Master20181101!AE96-Master20180614!AE96","v":0}]
["Eastern","5-C","COLO","Poquoson City",{"$f":"Master20181101!E97-Master20180614!E97","v":0},{"$f":"Master20181101!F97-Master20180614!F97","v":0},{"$f":"Master20181101!G97-Master20180614!G97","v":0},{"$f":"Master20181101!H97-Master20180614!H97","v":0},{"$f":"Master20181101!I97-Master20180614!I97","v":0},{"$f":"Master20181101!J97-Master20180614!J97","v":-1},{"$f":"Master20181101!K97-Master20180614!K97","v":0},{"$f":"Master20181101!L97-Master20180614!L97","v":2},{"$f":"Master20181101!M97-Master20180614!M97","v":0},{"$f":"Master20181101!N97-Master20180614!N97","v":0},{"$f":"Master20181101!O97-Master20180614!O97","v":0},{"$f":"Master20181101!P97-Master20180614!P97","v":-1},{"$f":"Master20181101!Q97-Master20180614!Q97","v":0},{"$f":"Master20181101!R97-Master20180614!R97","v":0},{"$f":"Master20181101!S97-Master20180614!S97","v":0},{"$f":"Master20181101!T97-Master20180614!T97","v":0},{"$f":"Master20181101!U97-Master20180614!U97","v":0},{"$f":"Master20181101!V97-Master20180614!V97","v":0},{"$f":"Master20181101!W97-Master20180614!W97","v":0},{"$f":"Master20181101!X97-Master20180614!X97","v":0},{"$f":"Master20181101!Y97-Master20180614!Y97","v":0},{"$f":"Master20181101!Z97-Master20180614!Z97","v":0},{"$f":"Master20181101!AA97-Master20180614!AA97","v":0},{"$f":"Master20181101!AB97-Master20180614!AB97","v":0},{"$f":"Master20181101!AC97-Master20180614!AC97","v":0},{"$f":"Master20181101!AD97-Master20180614!AD97","v":0},{"$f":"Master20181101!AE97-Master20180614!AE97","v":0}]
["Eastern","5-D","PORT","Portsmouth City",{"$f":"Master20181101!E98-Master20180614!E98","v":0},{"$f":"Master20181101!F98-Master20180614!F98","v":0},{"$f":"Master20181101!G98-Master20180614!G98","v":6},{"$f":"Master20181101!H98-Master20180614!H98","v":6},{"$f":"Master20181101!I98-Master20180614!I98","v":0},{"$f":"Master20181101!J98-Master20180614!J98","v":-6},{"$f":"Master20181101!K98-Master20180614!K98","v":4},{"$f":"Master20181101!L98-Master20180614!L98","v":6},{"$f":"Master20181101!M98-Master20180614!M98","v":1},{"$f":"Master20181101!N98-Master20180614!N98","v":0},{"$f":"Master20181101!O98-Master20180614!O98","v":-6},{"$f":"Master20181101!P98-Master20180614!P98","v":7},{"$f":"Master20181101!Q98-Master20180614!Q98","v":0},{"$f":"Master20181101!R98-Master20180614!R98","v":-1},{"$f":"Master20181101!S98-Master20180614!S98","v":0},{"$f":"Master20181101!T98-Master20180614!T98","v":0},{"$f":"Master20181101!U98-Master20180614!U98","v":0},{"$f":"Master20181101!V98-Master20180614!V98","v":0},{"$f":"Master20181101!W98-Master20180614!W98","v":0},{"$f":"Master20181101!X98-Master20180614!X98","v":1},{"$f":"Master20181101!Y98-Master20180614!Y98","v":0},{"$f":"Master20181101!Z98-Master20180614!Z98","v":0},{"$f":"Master20181101!AA98-Master20180614!AA98","v":1},{"$f":"Master20181101!AB98-Master20180614!AB98","v":0},{"$f":"Master20181101!AC98-Master20180614!AC98","v":0},{"$f":"Master20181101!AD98-Master20180614!AD98","v":0},{"$f":"Master20181101!AE98-Master20180614!AE98","v":-1}]
["Central","4-B","GOOC","Powhatan County",{"$f":"Master20181101!E99-Master20180614!E99","v":0},{"$f":"Master20181101!F99-Master20180614!F99","v":0},{"$f":"Master20181101!G99-Master20180614!G99","v":4},{"$f":"Master20181101!H99-Master20180614!H99","v":4},{"$f":"Master20181101!I99-Master20180614!I99","v":0},{"$f":"Master20181101!J99-Master20180614!J99","v":1},{"$f":"Master20181101!K99-Master20180614!K99","v":1},{"$f":"Master20181101!L99-Master20180614!L99","v":2},{"$f":"Master20181101!M99-Master20180614!M99","v":0},{"$f":"Master20181101!N99-Master20180614!N99","v":0},{"$f":"Master20181101!O99-Master20180614!O99","v":0},{"$f":"Master20181101!P99-Master20180614!P99","v":0},{"$f":"Master20181101!Q99-Master20180614!Q99","v":0},{"$f":"Master20181101!R99-Master20180614!R99","v":0},{"$f":"Master20181101!S99-Master20180614!S99","v":1},{"$f":"Master20181101!T99-Master20180614!T99","v":0},{"$f":"Master20181101!U99-Master20180614!U99","v":0},{"$f":"Master20181101!V99-Master20180614!V99","v":0},{"$f":"Master20181101!W99-Master20180614!W99","v":0},{"$f":"Master20181101!X99-Master20180614!X99","v":1},{"$f":"Master20181101!Y99-Master20180614!Y99","v":0},{"$f":"Master20181101!Z99-Master20180614!Z99","v":0},{"$f":"Master20181101!AA99-Master20180614!AA99","v":0},{"$f":"Master20181101!AB99-Master20180614!AB99","v":0},{"$f":"Master20181101!AC99-Master20180614!AC99","v":0},{"$f":"Master20181101!AD99-Master20180614!AD99","v":0},{"$f":"Master20181101!AE99-Master20180614!AE99","v":0}]
["Central","4-C","CROS","Prince Edward County",{"$f":"Master20181101!E100-Master20180614!E100","v":0},{"$f":"Master20181101!F100-Master20180614!F100","v":0},{"$f":"Master20181101!G100-Master20180614!G100","v":-1},{"$f":"Master20181101!H100-Master20180614!H100","v":-1},{"$f":"Master20181101!I100-Master20180614!I100","v":1},{"$f":"Master20181101!J100-Master20180614!J100","v":-2},{"$f":"Master20181101!K100-Master20180614!K100","v":2},{"$f":"Master20181101!L100-Master20180614!L100","v":-2},{"$f":"Master20181101!M100-Master20180614!M100","v":1},{"$f":"Master20181101!N100-Master20180614!N100","v":-1},{"$f":"Master20181101!O100-Master20180614!O100","v":-1},{"$f":"Master20181101!P100-Master20180614!P100","v":1},{"$f":"Master20181101!Q100-Master20180614!Q100","v":0},{"$f":"Master20181101!R100-Master20180614!R100","v":0},{"$f":"Master20181101!S100-Master20180614!S100","v":0},{"$f":"Master20181101!T100-Master20180614!T100","v":0},{"$f":"Master20181101!U100-Master20180614!U100","v":0},{"$f":"Master20181101!V100-Master20180614!V100","v":0},{"$f":"Master20181101!W100-Master20180614!W100","v":0},{"$f":"Master20181101!X100-Master20180614!X100","v":1},{"$f":"Master20181101!Y100-Master20180614!Y100","v":0},{"$f":"Master20181101!Z100-Master20180614!Z100","v":0},{"$f":"Master20181101!AA100-Master20180614!AA100","v":0},{"$f":"Master20181101!AB100-Master20180614!AB100","v":0},{"$f":"Master20181101!AC100-Master20180614!AC100","v":0},{"$f":"Master20181101!AD100-Master20180614!AD100","v":0},{"$f":"Master20181101!AE100-Master20180614!AE100","v":0}]
["Central","4-D","D19","Prince George County",{"$f":"Master20181101!E101-Master20180614!E101","v":0},{"$f":"Master20181101!F101-Master20180614!F101","v":1},{"$f":"Master20181101!G101-Master20180614!G101","v":4},{"$f":"Master20181101!H101-Master20180614!H101","v":5},{"$f":"Master20181101!I101-Master20180614!I101","v":-1},{"$f":"Master20181101!J101-Master20180614!J101","v":-1},{"$f":"Master20181101!K101-Master20180614!K101","v":0},{"$f":"Master20181101!L101-Master20180614!L101","v":2},{"$f":"Master20181101!M101-Master20180614!M101","v":0},{"$f":"Master20181101!N101-Master20180614!N101","v":0},{"$f":"Master20181101!O101-Master20180614!O101","v":3},{"$f":"Master20181101!P101-Master20180614!P101","v":2},{"$f":"Master20181101!Q101-Master20180614!Q101","v":0},{"$f":"Master20181101!R101-Master20180614!R101","v":0},{"$f":"Master20181101!S101-Master20180614!S101","v":1},{"$f":"Master20181101!T101-Master20180614!T101","v":0},{"$f":"Master20181101!U101-Master20180614!U101","v":0},{"$f":"Master20181101!V101-Master20180614!V101","v":0},{"$f":"Master20181101!W101-Master20180614!W101","v":0},{"$f":"Master20181101!X101-Master20180614!X101","v":0},{"$f":"Master20181101!Y101-Master20180614!Y101","v":0},{"$f":"Master20181101!Z101-Master20180614!Z101","v":0},{"$f":"Master20181101!AA101-Master20180614!AA101","v":0},{"$f":"Master20181101!AB101-Master20180614!AB101","v":0},{"$f":"Master20181101!AC101-Master20180614!AC101","v":0},{"$f":"Master20181101!AD101-Master20180614!AD101","v":-1},{"$f":"Master20181101!AE101-Master20180614!AE101","v":1}]
["Northern","2-A","PWC","Prince William County",{"$f":"Master20181101!E102-Master20180614!E102","v":1},{"$f":"Master20181101!F102-Master20180614!F102","v":5},{"$f":"Master20181101!G102-Master20180614!G102","v":13},{"$f":"Master20181101!H102-Master20180614!H102","v":19},{"$f":"Master20181101!I102-Master20180614!I102","v":-1},{"$f":"Master20181101!J102-Master20180614!J102","v":-2},{"$f":"Master20181101!K102-Master20180614!K102","v":2},{"$f":"Master20181101!L102-Master20180614!L102","v":17},{"$f":"Master20181101!M102-Master20180614!M102","v":1},{"$f":"Master20181101!N102-Master20180614!N102","v":4},{"$f":"Master20181101!O102-Master20180614!O102","v":-3},{"$f":"Master20181101!P102-Master20180614!P102","v":1},{"$f":"Master20181101!Q102-Master20180614!Q102","v":0},{"$f":"Master20181101!R102-Master20180614!R102","v":0},{"$f":"Master20181101!S102-Master20180614!S102","v":0},{"$f":"Master20181101!T102-Master20180614!T102","v":0},{"$f":"Master20181101!U102-Master20180614!U102","v":0},{"$f":"Master20181101!V102-Master20180614!V102","v":0},{"$f":"Master20181101!W102-Master20180614!W102","v":0},{"$f":"Master20181101!X102-Master20180614!X102","v":1},{"$f":"Master20181101!Y102-Master20180614!Y102","v":0},{"$f":"Master20181101!Z102-Master20180614!Z102","v":0},{"$f":"Master20181101!AA102-Master20180614!AA102","v":0},{"$f":"Master20181101!AB102-Master20180614!AB102","v":1},{"$f":"Master20181101!AC102-Master20180614!AC102","v":2},{"$f":"Master20181101!AD102-Master20180614!AD102","v":-4},{"$f":"Master20181101!AE102-Master20180614!AE102","v":0}]
["Southwestern","3-C","NRV","Pulaski County",{"$f":"Master20181101!E103-Master20180614!E103","v":0},{"$f":"Master20181101!F103-Master20180614!F103","v":4},{"$f":"Master20181101!G103-Master20180614!G103","v":0},{"$f":"Master20181101!H103-Master20180614!H103","v":4},{"$f":"Master20181101!I103-Master20180614!I103","v":0},{"$f":"Master20181101!J103-Master20180614!J103","v":-3},{"$f":"Master20181101!K103-Master20180614!K103","v":2},{"$f":"Master20181101!L103-Master20180614!L103","v":-3},{"$f":"Master20181101!M103-Master20180614!M103","v":0},{"$f":"Master20181101!N103-Master20180614!N103","v":1},{"$f":"Master20181101!O103-Master20180614!O103","v":5},{"$f":"Master20181101!P103-Master20180614!P103","v":2},{"$f":"Master20181101!Q103-Master20180614!Q103","v":0},{"$f":"Master20181101!R103-Master20180614!R103","v":0},{"$f":"Master20181101!S103-Master20180614!S103","v":0},{"$f":"Master20181101!T103-Master20180614!T103","v":0},{"$f":"Master20181101!U103-Master20180614!U103","v":0},{"$f":"Master20181101!V103-Master20180614!V103","v":0},{"$f":"Master20181101!W103-Master20180614!W103","v":0},{"$f":"Master20181101!X103-Master20180614!X103","v":0},{"$f":"Master20181101!Y103-Master20180614!Y103","v":0},{"$f":"Master20181101!Z103-Master20180614!Z103","v":0},{"$f":"Master20181101!AA103-Master20180614!AA103","v":0},{"$f":"Master20181101!AB103-Master20180614!AB103","v":0},{"$f":"Master20181101!AC103-Master20180614!AC103","v":0},{"$f":"Master20181101!AD103-Master20180614!AD103","v":0},{"$f":"Master20181101!AE103-Master20180614!AE103","v":0}]
["Southwestern","3-C","NRV","Radford City",{"$f":"Master20181101!E104-Master20180614!E104","v":0},{"$f":"Master20181101!F104-Master20180614!F104","v":0},{"$f":"Master20181101!G104-Master20180614!G104","v":-5},{"$f":"Master20181101!H104-Master20180614!H104","v":-5},{"$f":"Master20181101!I104-Master20180614!I104","v":0},{"$f":"Master20181101!J104-Master20180614!J104","v":-4},{"$f":"Master20181101!K104-Master20180614!K104","v":0},{"$f":"Master20181101!L104-Master20180614!L104","v":-2},{"$f":"Master20181101!M104-Master20180614!M104","v":1},{"$f":"Master20181101!N104-Master20180614!N104","v":0},{"$f":"Master20181101!O104-Master20180614!O104","v":0},{"$f":"Master20181101!P104-Master20180614!P104","v":0},{"$f":"Master20181101!Q104-Master20180614!Q104","v":0},{"$f":"Master20181101!R104-Master20180614!R104","v":0},{"$f":"Master20181101!S104-Master20180614!S104","v":-1},{"$f":"Master20181101!T104-Master20180614!T104","v":0},{"$f":"Master20181101!U104-Master20180614!U104","v":0},{"$f":"Master20181101!V104-Master20180614!V104","v":0},{"$f":"Master20181101!W104-Master20180614!W104","v":0},{"$f":"Master20181101!X104-Master20180614!X104","v":0},{"$f":"Master20181101!Y104-Master20180614!Y104","v":0},{"$f":"Master20181101!Z104-Master20180614!Z104","v":0},{"$f":"Master20181101!AA104-Master20180614!AA104","v":0},{"$f":"Master20181101!AB104-Master20180614!AB104","v":0},{"$f":"Master20181101!AC104-Master20180614!AC104","v":0},{"$f":"Master20181101!AD104-Master20180614!AD104","v":0},{"$f":"Master20181101!AE104-Master20180614!AE104","v":-1}]
["Northern","2-B","RapR","Rappahannock County",{"$f":"Master20181101!E105-Master20180614!E105","v":0},{"$f":"Master20181101!F105-Master20180614!F105","v":0},{"$f":"Master20181101!G105-Master20180614!G105","v":0},{"$f":"Master20181101!H105-Master20180614!H105","v":0},{"$f":"Master20181101!I105-Master20180614!I105","v":0},{"$f":"Master20181101!J105-Master20180614!J105","v":0},{"$f":"Master20181101!K105-Master20180614!K105","v":0},{"$f":"Master20181101!L105-Master20180614!L105","v":0},{"$f":"Master20181101!M105-Master20180614!M105","v":0},{"$f":"Master20181101!N105-Master20180614!N105","v":0},{"$f":"Master20181101!O105-Master20180614!O105","v":0},{"$f":"Master20181101!P105-Master20180614!P105","v":0},{"$f":"Master20181101!Q105-Master20180614!Q105","v":0},{"$f":"Master20181101!R105-Master20180614!R105","v":0},{"$f":"Master20181101!S105-Master20180614!S105","v":0},{"$f":"Master20181101!T105-Master20180614!T105","v":0},{"$f":"Master20181101!U105-Master20180614!U105","v":0},{"$f":"Master20181101!V105-Master20180614!V105","v":0},{"$f":"Master20181101!W105-Master20180614!W105","v":0},{"$f":"Master20181101!X105-Master20180614!X105","v":0},{"$f":"Master20181101!Y105-Master20180614!Y105","v":0},{"$f":"Master20181101!Z105-Master20180614!Z105","v":0},{"$f":"Master20181101!AA105-Master20180614!AA105","v":0},{"$f":"Master20181101!AB105-Master20180614!AB105","v":0},{"$f":"Master20181101!AC105-Master20180614!AC105","v":0},{"$f":"Master20181101!AD105-Master20180614!AD105","v":0},{"$f":"Master20181101!AE105-Master20180614!AE105","v":0}]
["Central","4-A","RBHA","Richmond City",{"$f":"Master20181101!E106-Master20180614!E106","v":2},{"$f":"Master20181101!F106-Master20180614!F106","v":-1},{"$f":"Master20181101!G106-Master20180614!G106","v":-5},{"$f":"Master20181101!H106-Master20180614!H106","v":-4},{"$f":"Master20181101!I106-Master20180614!I106","v":2},{"$f":"Master20181101!J106-Master20180614!J106","v":-11},{"$f":"Master20181101!K106-Master20180614!K106","v":1},{"$f":"Master20181101!L106-Master20180614!L106","v":1},{"$f":"Master20181101!M106-Master20180614!M106","v":3},{"$f":"Master20181101!N106-Master20180614!N106","v":1},{"$f":"Master20181101!O106-Master20180614!O106","v":0},{"$f":"Master20181101!P106-Master20180614!P106","v":-1},{"$f":"Master20181101!Q106-Master20180614!Q106","v":0},{"$f":"Master20181101!R106-Master20180614!R106","v":0},{"$f":"Master20181101!S106-Master20180614!S106","v":0},{"$f":"Master20181101!T106-Master20180614!T106","v":0},{"$f":"Master20181101!U106-Master20180614!U106","v":0},{"$f":"Master20181101!V106-Master20180614!V106","v":0},{"$f":"Master20181101!W106-Master20180614!W106","v":0},{"$f":"Master20181101!X106-Master20180614!X106","v":-1},{"$f":"Master20181101!Y106-Master20180614!Y106","v":0},{"$f":"Master20181101!Z106-Master20180614!Z106","v":0},{"$f":"Master20181101!AA106-Master20180614!AA106","v":0},{"$f":"Master20181101!AB106-Master20180614!AB106","v":-1},{"$f":"Master20181101!AC106-Master20180614!AC106","v":3},{"$f":"Master20181101!AD106-Master20180614!AD106","v":-2},{"$f":"Master20181101!AE106-Master20180614!AE106","v":0}]
["Eastern","5-A","MPNN","Richmond County",{"$f":"Master20181101!E107-Master20180614!E107","v":-1},{"$f":"Master20181101!F107-Master20180614!F107","v":1},{"$f":"Master20181101!G107-Master20180614!G107","v":4},{"$f":"Master20181101!H107-Master20180614!H107","v":4},{"$f":"Master20181101!I107-Master20180614!I107","v":2},{"$f":"Master20181101!J107-Master20180614!J107","v":-3},{"$f":"Master20181101!K107-Master20180614!K107","v":2},{"$f":"Master20181101!L107-Master20180614!L107","v":2},{"$f":"Master20181101!M107-Master20180614!M107","v":0},{"$f":"Master20181101!N107-Master20180614!N107","v":-1},{"$f":"Master20181101!O107-Master20180614!O107","v":1},{"$f":"Master20181101!P107-Master20180614!P107","v":1},{"$f":"Master20181101!Q107-Master20180614!Q107","v":0},{"$f":"Master20181101!R107-Master20180614!R107","v":0},{"$f":"Master20181101!S107-Master20180614!S107","v":0},{"$f":"Master20181101!T107-Master20180614!T107","v":0},{"$f":"Master20181101!U107-Master20180614!U107","v":0},{"$f":"Master20181101!V107-Master20180614!V107","v":0},{"$f":"Master20181101!W107-Master20180614!W107","v":0},{"$f":"Master20181101!X107-Master20180614!X107","v":0},{"$f":"Master20181101!Y107-Master20180614!Y107","v":0},{"$f":"Master20181101!Z107-Master20180614!Z107","v":0},{"$f":"Master20181101!AA107-Master20180614!AA107","v":0},{"$f":"Master20181101!AB107-Master20180614!AB107","v":0},{"$f":"Master20181101!AC107-Master20180614!AC107","v":0},{"$f":"Master20181101!AD107-Master20180614!AD107","v":0},{"$f":"Master20181101!AE107-Master20180614!AE107","v":0}]
["Southwestern","3-A","BLUE","Roanoke City",{"$f":"Master20181101!E108-Master20180614!E108","v":0},{"$f":"Master20181101!F108-Master20180614!F108","v":-1},{"$f":"Master20181101!G108-Master20180614!G108","v":-8},{"$f":"Master20181101!H108-Master20180614!H108","v":-9},{"$f":"Master20181101!I108-Master20180614!I108","v":-2},{"$f":"Master20181101!J108-Master20180614!J108","v":-2},{"$f":"Master20181101!K108-Master20180614!K108","v":1},{"$f":"Master20181101!L108-Master20180614!L108","v":2},{"$f":"Master20181101!M108-Master20180614!M108","v":0},{"$f":"Master20181101!N108-Master20180614!N108","v":1},{"$f":"Master20181101!O108-Master20180614!O108","v":-2},{"$f":"Master20181101!P108-Master20180614!P108","v":-7},{"$f":"Master20181101!Q108-Master20180614!Q108","v":0},{"$f":"Master20181101!R108-Master20180614!R108","v":1},{"$f":"Master20181101!S108-Master20180614!S108","v":1},{"$f":"Master20181101!T108-Master20180614!T108","v":0},{"$f":"Master20181101!U108-Master20180614!U108","v":0},{"$f":"Master20181101!V108-Master20180614!V108","v":0},{"$f":"Master20181101!W108-Master20180614!W108","v":0},{"$f":"Master20181101!X108-Master20180614!X108","v":1},{"$f":"Master20181101!Y108-Master20180614!Y108","v":0},{"$f":"Master20181101!Z108-Master20180614!Z108","v":0},{"$f":"Master20181101!AA108-Master20180614!AA108","v":0},{"$f":"Master20181101!AB108-Master20180614!AB108","v":0},{"$f":"Master20181101!AC108-Master20180614!AC108","v":0},{"$f":"Master20181101!AD108-Master20180614!AD108","v":0},{"$f":"Master20181101!AE108-Master20180614!AE108","v":0}]
["Southwestern","3-A","BLUE","Roanoke County",{"$f":"Master20181101!E109-Master20180614!E109","v":1},{"$f":"Master20181101!F109-Master20180614!F109","v":0},{"$f":"Master20181101!G109-Master20180614!G109","v":5},{"$f":"Master20181101!H109-Master20180614!H109","v":6},{"$f":"Master20181101!I109-Master20180614!I109","v":0},{"$f":"Master20181101!J109-Master20180614!J109","v":0},{"$f":"Master20181101!K109-Master20180614!K109","v":2},{"$f":"Master20181101!L109-Master20180614!L109","v":4},{"$f":"Master20181101!M109-Master20180614!M109","v":0},{"$f":"Master20181101!N109-Master20180614!N109","v":0},{"$f":"Master20181101!O109-Master20180614!O109","v":2},{"$f":"Master20181101!P109-Master20180614!P109","v":-2},{"$f":"Master20181101!Q109-Master20180614!Q109","v":0},{"$f":"Master20181101!R109-Master20180614!R109","v":-1},{"$f":"Master20181101!S109-Master20180614!S109","v":1},{"$f":"Master20181101!T109-Master20180614!T109","v":0},{"$f":"Master20181101!U109-Master20180614!U109","v":0},{"$f":"Master20181101!V109-Master20180614!V109","v":0},{"$f":"Master20181101!W109-Master20180614!W109","v":-1},{"$f":"Master20181101!X109-Master20180614!X109","v":1},{"$f":"Master20181101!Y109-Master20180614!Y109","v":0},{"$f":"Master20181101!Z109-Master20180614!Z109","v":0},{"$f":"Master20181101!AA109-Master20180614!AA109","v":0},{"$f":"Master20181101!AB109-Master20180614!AB109","v":0},{"$f":"Master20181101!AC109-Master20180614!AC109","v":1},{"$f":"Master20181101!AD109-Master20180614!AD109","v":0},{"$f":"Master20181101!AE109-Master20180614!AE109","v":0}]
["Western","1-C","ROC","Rockbridge County",{"$f":"Master20181101!E110-Master20180614!E110","v":0},{"$f":"Master20181101!F110-Master20180614!F110","v":0},{"$f":"Master20181101!G110-Master20180614!G110","v":0},{"$f":"Master20181101!H110-Master20180614!H110","v":0},{"$f":"Master20181101!I110-Master20180614!I110","v":0},{"$f":"Master20181101!J110-Master20180614!J110","v":-2},{"$f":"Master20181101!K110-Master20180614!K110","v":-1},{"$f":"Master20181101!L110-Master20180614!L110","v":4},{"$f":"Master20181101!M110-Master20180614!M110","v":0},{"$f":"Master20181101!N110-Master20180614!N110","v":0},{"$f":"Master20181101!O110-Master20180614!O110","v":0},{"$f":"Master20181101!P110-Master20180614!P110","v":-1},{"$f":"Master20181101!Q110-Master20180614!Q110","v":0},{"$f":"Master20181101!R110-Master20180614!R110","v":0},{"$f":"Master20181101!S110-Master20180614!S110","v":0},{"$f":"Master20181101!T110-Master20180614!T110","v":0},{"$f":"Master20181101!U110-Master20180614!U110","v":0},{"$f":"Master20181101!V110-Master20180614!V110","v":0},{"$f":"Master20181101!W110-Master20180614!W110","v":0},{"$f":"Master20181101!X110-Master20180614!X110","v":0},{"$f":"Master20181101!Y110-Master20180614!Y110","v":0},{"$f":"Master20181101!Z110-Master20180614!Z110","v":0},{"$f":"Master20181101!AA110-Master20180614!AA110","v":0},{"$f":"Master20181101!AB110-Master20180614!AB110","v":0},{"$f":"Master20181101!AC110-Master20180614!AC110","v":0},{"$f":"Master20181101!AD110-Master20180614!AD110","v":0},{"$f":"Master20181101!AE110-Master20180614!AE110","v":0}]
["Western","1-B","HARR","Rockingham County",{"$f":"Master20181101!E111-Master20180614!E111","v":-1},{"$f":"Master20181101!F111-Master20180614!F111","v":5},{"$f":"Master20181101!G111-Master20180614!G111","v":2},{"$f":"Master20181101!H111-Master20180614!H111","v":6},{"$f":"Master20181101!I111-Master20180614!I111","v":4},{"$f":"Master20181101!J111-Master20180614!J111","v":5},{"$f":"Master20181101!K111-Master20180614!K111","v":1},{"$f":"Master20181101!L111-Master20180614!L111","v":-7},{"$f":"Master20181101!M111-Master20180614!M111","v":0},{"$f":"Master20181101!N111-Master20180614!N111","v":2},{"$f":"Master20181101!O111-Master20180614!O111","v":-3},{"$f":"Master20181101!P111-Master20180614!P111","v":4},{"$f":"Master20181101!Q111-Master20180614!Q111","v":0},{"$f":"Master20181101!R111-Master20180614!R111","v":0},{"$f":"Master20181101!S111-Master20180614!S111","v":0},{"$f":"Master20181101!T111-Master20180614!T111","v":0},{"$f":"Master20181101!U111-Master20180614!U111","v":0},{"$f":"Master20181101!V111-Master20180614!V111","v":0},{"$f":"Master20181101!W111-Master20180614!W111","v":0},{"$f":"Master20181101!X111-Master20180614!X111","v":1},{"$f":"Master20181101!Y111-Master20180614!Y111","v":0},{"$f":"Master20181101!Z111-Master20180614!Z111","v":0},{"$f":"Master20181101!AA111-Master20180614!AA111","v":0},{"$f":"Master20181101!AB111-Master20180614!AB111","v":0},{"$f":"Master20181101!AC111-Master20180614!AC111","v":0},{"$f":"Master20181101!AD111-Master20180614!AD111","v":-1},{"$f":"Master20181101!AE111-Master20180614!AE111","v":0}]
["Southwestern","3-D","CMT","Russell County",{"$f":"Master20181101!E112-Master20180614!E112","v":-1},{"$f":"Master20181101!F112-Master20180614!F112","v":-1},{"$f":"Master20181101!G112-Master20180614!G112","v":0},{"$f":"Master20181101!H112-Master20180614!H112","v":-2},{"$f":"Master20181101!I112-Master20180614!I112","v":-1},{"$f":"Master20181101!J112-Master20180614!J112","v":0},{"$f":"Master20181101!K112-Master20180614!K112","v":1},{"$f":"Master20181101!L112-Master20180614!L112","v":2},{"$f":"Master20181101!M112-Master20180614!M112","v":-1},{"$f":"Master20181101!N112-Master20180614!N112","v":-2},{"$f":"Master20181101!O112-Master20180614!O112","v":0},{"$f":"Master20181101!P112-Master20180614!P112","v":-1},{"$f":"Master20181101!Q112-Master20180614!Q112","v":0},{"$f":"Master20181101!R112-Master20180614!R112","v":0},{"$f":"Master20181101!S112-Master20180614!S112","v":0},{"$f":"Master20181101!T112-Master20180614!T112","v":0},{"$f":"Master20181101!U112-Master20180614!U112","v":0},{"$f":"Master20181101!V112-Master20180614!V112","v":0},{"$f":"Master20181101!W112-Master20180614!W112","v":0},{"$f":"Master20181101!X112-Master20180614!X112","v":0},{"$f":"Master20181101!Y112-Master20180614!Y112","v":0},{"$f":"Master20181101!Z112-Master20180614!Z112","v":0},{"$f":"Master20181101!AA112-Master20180614!AA112","v":0},{"$f":"Master20181101!AB112-Master20180614!AB112","v":0},{"$f":"Master20181101!AC112-Master20180614!AC112","v":0},{"$f":"Master20181101!AD112-Master20180614!AD112","v":0},{"$f":"Master20181101!AE112-Master20180614!AE112","v":0}]
["Southwestern","3-A","BLUE","Salem City",{"$f":"Master20181101!E113-Master20180614!E113","v":0},{"$f":"Master20181101!F113-Master20180614!F113","v":0},{"$f":"Master20181101!G113-Master20180614!G113","v":0},{"$f":"Master20181101!H113-Master20180614!H113","v":0},{"$f":"Master20181101!I113-Master20180614!I113","v":0},{"$f":"Master20181101!J113-Master20180614!J113","v":2},{"$f":"Master20181101!K113-Master20180614!K113","v":1},{"$f":"Master20181101!L113-Master20180614!L113","v":-3},{"$f":"Master20181101!M113-Master20180614!M113","v":0},{"$f":"Master20181101!N113-Master20180614!N113","v":0},{"$f":"Master20181101!O113-Master20180614!O113","v":0},{"$f":"Master20181101!P113-Master20180614!P113","v":0},{"$f":"Master20181101!Q113-Master20180614!Q113","v":0},{"$f":"Master20181101!R113-Master20180614!R113","v":0},{"$f":"Master20181101!S113-Master20180614!S113","v":0},{"$f":"Master20181101!T113-Master20180614!T113","v":0},{"$f":"Master20181101!U113-Master20180614!U113","v":0},{"$f":"Master20181101!V113-Master20180614!V113","v":0},{"$f":"Master20181101!W113-Master20180614!W113","v":0},{"$f":"Master20181101!X113-Master20180614!X113","v":2},{"$f":"Master20181101!Y113-Master20180614!Y113","v":0},{"$f":"Master20181101!Z113-Master20180614!Z113","v":0},{"$f":"Master20181101!AA113-Master20180614!AA113","v":0},{"$f":"Master20181101!AB113-Master20180614!AB113","v":-1},{"$f":"Master20181101!AC113-Master20180614!AC113","v":0},{"$f":"Master20181101!AD113-Master20180614!AD113","v":0},{"$f":"Master20181101!AE113-Master20180614!AE113","v":0}]
["Southwestern","3-D","PLD1","Scott County",{"$f":"Master20181101!E114-Master20180614!E114","v":0},{"$f":"Master20181101!F114-Master20180614!F114","v":0},{"$f":"Master20181101!G114-Master20180614!G114","v":0},{"$f":"Master20181101!H114-Master20180614!H114","v":0},{"$f":"Master20181101!I114-Master20180614!I114","v":0},{"$f":"Master20181101!J114-Master20180614!J114","v":-1},{"$f":"Master20181101!K114-Master20180614!K114","v":0},{"$f":"Master20181101!L114-Master20180614!L114","v":3},{"$f":"Master20181101!M114-Master20180614!M114","v":0},{"$f":"Master20181101!N114-Master20180614!N114","v":0},{"$f":"Master20181101!O114-Master20180614!O114","v":0},{"$f":"Master20181101!P114-Master20180614!P114","v":-2},{"$f":"Master20181101!Q114-Master20180614!Q114","v":0},{"$f":"Master20181101!R114-Master20180614!R114","v":0},{"$f":"Master20181101!S114-Master20180614!S114","v":0},{"$f":"Master20181101!T114-Master20180614!T114","v":0},{"$f":"Master20181101!U114-Master20180614!U114","v":0},{"$f":"Master20181101!V114-Master20180614!V114","v":0},{"$f":"Master20181101!W114-Master20180614!W114","v":0},{"$f":"Master20181101!X114-Master20180614!X114","v":0},{"$f":"Master20181101!Y114-Master20180614!Y114","v":0},{"$f":"Master20181101!Z114-Master20180614!Z114","v":0},{"$f":"Master20181101!AA114-Master20180614!AA114","v":0},{"$f":"Master20181101!AB114-Master20180614!AB114","v":0},{"$f":"Master20181101!AC114-Master20180614!AC114","v":0},{"$f":"Master20181101!AD114-Master20180614!AD114","v":0},{"$f":"Master20181101!AE114-Master20180614!AE114","v":0}]
["Northern","2-D","NW","Shenandoah County",{"$f":"Master20181101!E115-Master20180614!E115","v":-3},{"$f":"Master20181101!F115-Master20180614!F115","v":2},{"$f":"Master20181101!G115-Master20180614!G115","v":4},{"$f":"Master20181101!H115-Master20180614!H115","v":3},{"$f":"Master20181101!I115-Master20180614!I115","v":0},{"$f":"Master20181101!J115-Master20180614!J115","v":1},{"$f":"Master20181101!K115-Master20180614!K115","v":0},{"$f":"Master20181101!L115-Master20180614!L115","v":0},{"$f":"Master20181101!M115-Master20180614!M115","v":0},{"$f":"Master20181101!N115-Master20180614!N115","v":2},{"$f":"Master20181101!O115-Master20180614!O115","v":-1},{"$f":"Master20181101!P115-Master20180614!P115","v":1},{"$f":"Master20181101!Q115-Master20180614!Q115","v":0},{"$f":"Master20181101!R115-Master20180614!R115","v":-1},{"$f":"Master20181101!S115-Master20180614!S115","v":-1},{"$f":"Master20181101!T115-Master20180614!T115","v":0},{"$f":"Master20181101!U115-Master20180614!U115","v":0},{"$f":"Master20181101!V115-Master20180614!V115","v":0},{"$f":"Master20181101!W115-Master20180614!W115","v":0},{"$f":"Master20181101!X115-Master20180614!X115","v":0},{"$f":"Master20181101!Y115-Master20180614!Y115","v":0},{"$f":"Master20181101!Z115-Master20180614!Z115","v":0},{"$f":"Master20181101!AA115-Master20180614!AA115","v":0},{"$f":"Master20181101!AB115-Master20180614!AB115","v":0},{"$f":"Master20181101!AC115-Master20180614!AC115","v":0},{"$f":"Master20181101!AD115-Master20180614!AD115","v":0},{"$f":"Master20181101!AE115-Master20180614!AE115","v":0}]
["Southwestern","3-D","MTRG","Smyth County",{"$f":"Master20181101!E116-Master20180614!E116","v":0},{"$f":"Master20181101!F116-Master20180614!F116","v":1},{"$f":"Master20181101!G116-Master20180614!G116","v":-3},{"$f":"Master20181101!H116-Master20180614!H116","v":-2},{"$f":"Master20181101!I116-Master20180614!I116","v":0},{"$f":"Master20181101!J116-Master20180614!J116","v":0},{"$f":"Master20181101!K116-Master20180614!K116","v":-1},{"$f":"Master20181101!L116-Master20180614!L116","v":1},{"$f":"Master20181101!M116-Master20180614!M116","v":-1},{"$f":"Master20181101!N116-Master20180614!N116","v":0},{"$f":"Master20181101!O116-Master20180614!O116","v":0},{"$f":"Master20181101!P116-Master20180614!P116","v":-1},{"$f":"Master20181101!Q116-Master20180614!Q116","v":0},{"$f":"Master20181101!R116-Master20180614!R116","v":0},{"$f":"Master20181101!S116-Master20180614!S116","v":0},{"$f":"Master20181101!T116-Master20180614!T116","v":0},{"$f":"Master20181101!U116-Master20180614!U116","v":0},{"$f":"Master20181101!V116-Master20180614!V116","v":0},{"$f":"Master20181101!W116-Master20180614!W116","v":0},{"$f":"Master20181101!X116-Master20180614!X116","v":0},{"$f":"Master20181101!Y116-Master20180614!Y116","v":0},{"$f":"Master20181101!Z116-Master20180614!Z116","v":0},{"$f":"Master20181101!AA116-Master20180614!AA116","v":0},{"$f":"Master20181101!AB116-Master20180614!AB116","v":0},{"$f":"Master20181101!AC116-Master20180614!AC116","v":0},{"$f":"Master20181101!AD116-Master20180614!AD116","v":0},{"$f":"Master20181101!AE116-Master20180614!AE116","v":0}]
["Eastern","5-D","WT","Southampton County",{"$f":"Master20181101!E117-Master20180614!E117","v":0},{"$f":"Master20181101!F117-Master20180614!F117","v":0},{"$f":"Master20181101!G117-Master20180614!G117","v":1},{"$f":"Master20181101!H117-Master20180614!H117","v":1},{"$f":"Master20181101!I117-Master20180614!I117","v":0},{"$f":"Master20181101!J117-Master20180614!J117","v":0},{"$f":"Master20181101!K117-Master20180614!K117","v":0},{"$f":"Master20181101!L117-Master20180614!L117","v":0},{"$f":"Master20181101!M117-Master20180614!M117","v":0},{"$f":"Master20181101!N117-Master20180614!N117","v":0},{"$f":"Master20181101!O117-Master20180614!O117","v":0},{"$f":"Master20181101!P117-Master20180614!P117","v":1},{"$f":"Master20181101!Q117-Master20180614!Q117","v":0},{"$f":"Master20181101!R117-Master20180614!R117","v":0},{"$f":"Master20181101!S117-Master20180614!S117","v":0},{"$f":"Master20181101!T117-Master20180614!T117","v":0},{"$f":"Master20181101!U117-Master20180614!U117","v":0},{"$f":"Master20181101!V117-Master20180614!V117","v":0},{"$f":"Master20181101!W117-Master20180614!W117","v":0},{"$f":"Master20181101!X117-Master20180614!X117","v":0},{"$f":"Master20181101!Y117-Master20180614!Y117","v":0},{"$f":"Master20181101!Z117-Master20180614!Z117","v":0},{"$f":"Master20181101!AA117-Master20180614!AA117","v":0},{"$f":"Master20181101!AB117-Master20180614!AB117","v":0},{"$f":"Master20181101!AC117-Master20180614!AC117","v":0},{"$f":"Master20181101!AD117-Master20180614!AD117","v":0},{"$f":"Master20181101!AE117-Master20180614!AE117","v":0}]
["Northern","2-C","RapA","Spotsylvania County",{"$f":"Master20181101!E118-Master20180614!E118","v":0},{"$f":"Master20181101!F118-Master20180614!F118","v":1},{"$f":"Master20181101!G118-Master20180614!G118","v":10},{"$f":"Master20181101!H118-Master20180614!H118","v":11},{"$f":"Master20181101!I118-Master20180614!I118","v":5},{"$f":"Master20181101!J118-Master20180614!J118","v":3},{"$f":"Master20181101!K118-Master20180614!K118","v":4},{"$f":"Master20181101!L118-Master20180614!L118","v":-2},{"$f":"Master20181101!M118-Master20180614!M118","v":2},{"$f":"Master20181101!N118-Master20180614!N118","v":1},{"$f":"Master20181101!O118-Master20180614!O118","v":2},{"$f":"Master20181101!P118-Master20180614!P118","v":-4},{"$f":"Master20181101!Q118-Master20180614!Q118","v":0},{"$f":"Master20181101!R118-Master20180614!R118","v":0},{"$f":"Master20181101!S118-Master20180614!S118","v":-1},{"$f":"Master20181101!T118-Master20180614!T118","v":0},{"$f":"Master20181101!U118-Master20180614!U118","v":0},{"$f":"Master20181101!V118-Master20180614!V118","v":0},{"$f":"Master20181101!W118-Master20180614!W118","v":0},{"$f":"Master20181101!X118-Master20180614!X118","v":0},{"$f":"Master20181101!Y118-Master20180614!Y118","v":0},{"$f":"Master20181101!Z118-Master20180614!Z118","v":0},{"$f":"Master20181101!AA118-Master20180614!AA118","v":0},{"$f":"Master20181101!AB118-Master20180614!AB118","v":0},{"$f":"Master20181101!AC118-Master20180614!AC118","v":0},{"$f":"Master20181101!AD118-Master20180614!AD118","v":-1},{"$f":"Master20181101!AE118-Master20180614!AE118","v":0}]
["Northern","2-C","RapA","Stafford County",{"$f":"Master20181101!E119-Master20180614!E119","v":-1},{"$f":"Master20181101!F119-Master20180614!F119","v":1},{"$f":"Master20181101!G119-Master20180614!G119","v":-11},{"$f":"Master20181101!H119-Master20180614!H119","v":-11},{"$f":"Master20181101!I119-Master20180614!I119","v":1},{"$f":"Master20181101!J119-Master20180614!J119","v":-1},{"$f":"Master20181101!K119-Master20180614!K119","v":-2},{"$f":"Master20181101!L119-Master20180614!L119","v":-4},{"$f":"Master20181101!M119-Master20180614!M119","v":0},{"$f":"Master20181101!N119-Master20180614!N119","v":1},{"$f":"Master20181101!O119-Master20180614!O119","v":-3},{"$f":"Master20181101!P119-Master20180614!P119","v":-3},{"$f":"Master20181101!Q119-Master20180614!Q119","v":0},{"$f":"Master20181101!R119-Master20180614!R119","v":-1},{"$f":"Master20181101!S119-Master20180614!S119","v":-1},{"$f":"Master20181101!T119-Master20180614!T119","v":0},{"$f":"Master20181101!U119-Master20180614!U119","v":0},{"$f":"Master20181101!V119-Master20180614!V119","v":0},{"$f":"Master20181101!W119-Master20180614!W119","v":0},{"$f":"Master20181101!X119-Master20180614!X119","v":-1},{"$f":"Master20181101!Y119-Master20180614!Y119","v":0},{"$f":"Master20181101!Z119-Master20180614!Z119","v":0},{"$f":"Master20181101!AA119-Master20180614!AA119","v":0},{"$f":"Master20181101!AB119-Master20180614!AB119","v":0},{"$f":"Master20181101!AC119-Master20180614!AC119","v":-1},{"$f":"Master20181101!AD119-Master20180614!AD119","v":-1},{"$f":"Master20181101!AE119-Master20180614!AE119","v":0}]
["Western","1-B","VLY","Staunton City",{"$f":"Master20181101!E120-Master20180614!E120","v":0},{"$f":"Master20181101!F120-Master20180614!F120","v":2},{"$f":"Master20181101!G120-Master20180614!G120","v":-1},{"$f":"Master20181101!H120-Master20180614!H120","v":1},{"$f":"Master20181101!I120-Master20180614!I120","v":-2},{"$f":"Master20181101!J120-Master20180614!J120","v":0},{"$f":"Master20181101!K120-Master20180614!K120","v":0},{"$f":"Master20181101!L120-Master20180614!L120","v":0},{"$f":"Master20181101!M120-Master20180614!M120","v":0},{"$f":"Master20181101!N120-Master20180614!N120","v":-1},{"$f":"Master20181101!O120-Master20180614!O120","v":0},{"$f":"Master20181101!P120-Master20180614!P120","v":4},{"$f":"Master20181101!Q120-Master20180614!Q120","v":0},{"$f":"Master20181101!R120-Master20180614!R120","v":0},{"$f":"Master20181101!S120-Master20180614!S120","v":0},{"$f":"Master20181101!T120-Master20180614!T120","v":0},{"$f":"Master20181101!U120-Master20180614!U120","v":0},{"$f":"Master20181101!V120-Master20180614!V120","v":0},{"$f":"Master20181101!W120-Master20180614!W120","v":0},{"$f":"Master20181101!X120-Master20180614!X120","v":0},{"$f":"Master20181101!Y120-Master20180614!Y120","v":0},{"$f":"Master20181101!Z120-Master20180614!Z120","v":0},{"$f":"Master20181101!AA120-Master20180614!AA120","v":0},{"$f":"Master20181101!AB120-Master20180614!AB120","v":0},{"$f":"Master20181101!AC120-Master20180614!AC120","v":0},{"$f":"Master20181101!AD120-Master20180614!AD120","v":1},{"$f":"Master20181101!AE120-Master20180614!AE120","v":0}]
["Eastern","5-D","WT","Suffolk City",{"$f":"Master20181101!E121-Master20180614!E121","v":0},{"$f":"Master20181101!F121-Master20180614!F121","v":3},{"$f":"Master20181101!G121-Master20180614!G121","v":7},{"$f":"Master20181101!H121-Master20180614!H121","v":10},{"$f":"Master20181101!I121-Master20180614!I121","v":0},{"$f":"Master20181101!J121-Master20180614!J121","v":-2},{"$f":"Master20181101!K121-Master20180614!K121","v":-2},{"$f":"Master20181101!L121-Master20180614!L121","v":5},{"$f":"Master20181101!M121-Master20180614!M121","v":0},{"$f":"Master20181101!N121-Master20180614!N121","v":2},{"$f":"Master20181101!O121-Master20180614!O121","v":4},{"$f":"Master20181101!P121-Master20180614!P121","v":3},{"$f":"Master20181101!Q121-Master20180614!Q121","v":0},{"$f":"Master20181101!R121-Master20180614!R121","v":-1},{"$f":"Master20181101!S121-Master20180614!S121","v":0},{"$f":"Master20181101!T121-Master20180614!T121","v":0},{"$f":"Master20181101!U121-Master20180614!U121","v":0},{"$f":"Master20181101!V121-Master20180614!V121","v":0},{"$f":"Master20181101!W121-Master20180614!W121","v":0},{"$f":"Master20181101!X121-Master20180614!X121","v":1},{"$f":"Master20181101!Y121-Master20180614!Y121","v":0},{"$f":"Master20181101!Z121-Master20180614!Z121","v":0},{"$f":"Master20181101!AA121-Master20180614!AA121","v":0},{"$f":"Master20181101!AB121-Master20180614!AB121","v":0},{"$f":"Master20181101!AC121-Master20180614!AC121","v":0},{"$f":"Master20181101!AD121-Master20180614!AD121","v":0},{"$f":"Master20181101!AE121-Master20180614!AE121","v":-1}]
["Central","4-D","D19","Surry County",{"$f":"Master20181101!E122-Master20180614!E122","v":0},{"$f":"Master20181101!F122-Master20180614!F122","v":0},{"$f":"Master20181101!G122-Master20180614!G122","v":0},{"$f":"Master20181101!H122-Master20180614!H122","v":0},{"$f":"Master20181101!I122-Master20180614!I122","v":0},{"$f":"Master20181101!J122-Master20180614!J122","v":0},{"$f":"Master20181101!K122-Master20180614!K122","v":0},{"$f":"Master20181101!L122-Master20180614!L122","v":0},{"$f":"Master20181101!M122-Master20180614!M122","v":0},{"$f":"Master20181101!N122-Master20180614!N122","v":0},{"$f":"Master20181101!O122-Master20180614!O122","v":0},{"$f":"Master20181101!P122-Master20180614!P122","v":0},{"$f":"Master20181101!Q122-Master20180614!Q122","v":0},{"$f":"Master20181101!R122-Master20180614!R122","v":0},{"$f":"Master20181101!S122-Master20180614!S122","v":0},{"$f":"Master20181101!T122-Master20180614!T122","v":0},{"$f":"Master20181101!U122-Master20180614!U122","v":0},{"$f":"Master20181101!V122-Master20180614!V122","v":0},{"$f":"Master20181101!W122-Master20180614!W122","v":0},{"$f":"Master20181101!X122-Master20180614!X122","v":0},{"$f":"Master20181101!Y122-Master20180614!Y122","v":0},{"$f":"Master20181101!Z122-Master20180614!Z122","v":0},{"$f":"Master20181101!AA122-Master20180614!AA122","v":0},{"$f":"Master20181101!AB122-Master20180614!AB122","v":0},{"$f":"Master20181101!AC122-Master20180614!AC122","v":0},{"$f":"Master20181101!AD122-Master20180614!AD122","v":0},{"$f":"Master20181101!AE122-Master20180614!AE122","v":0}]
["Central","4-D","D19","Sussex County",{"$f":"Master20181101!E123-Master20180614!E123","v":0},{"$f":"Master20181101!F123-Master20180614!F123","v":0},{"$f":"Master20181101!G123-Master20180614!G123","v":1},{"$f":"Master20181101!H123-Master20180614!H123","v":1},{"$f":"Master20181101!I123-Master20180614!I123","v":0},{"$f":"Master20181101!J123-Master20180614!J123","v":-1},{"$f":"Master20181101!K123-Master20180614!K123","v":1},{"$f":"Master20181101!L123-Master20180614!L123","v":2},{"$f":"Master20181101!M123-Master20180614!M123","v":0},{"$f":"Master20181101!N123-Master20180614!N123","v":-1},{"$f":"Master20181101!O123-Master20180614!O123","v":0},{"$f":"Master20181101!P123-Master20180614!P123","v":0},{"$f":"Master20181101!Q123-Master20180614!Q123","v":0},{"$f":"Master20181101!R123-Master20180614!R123","v":0},{"$f":"Master20181101!S123-Master20180614!S123","v":0},{"$f":"Master20181101!T123-Master20180614!T123","v":0},{"$f":"Master20181101!U123-Master20180614!U123","v":0},{"$f":"Master20181101!V123-Master20180614!V123","v":0},{"$f":"Master20181101!W123-Master20180614!W123","v":0},{"$f":"Master20181101!X123-Master20180614!X123","v":0},{"$f":"Master20181101!Y123-Master20180614!Y123","v":0},{"$f":"Master20181101!Z123-Master20180614!Z123","v":0},{"$f":"Master20181101!AA123-Master20180614!AA123","v":0},{"$f":"Master20181101!AB123-Master20180614!AB123","v":0},{"$f":"Master20181101!AC123-Master20180614!AC123","v":0},{"$f":"Master20181101!AD123-Master20180614!AD123","v":0},{"$f":"Master20181101!AE123-Master20180614!AE123","v":0}]
["Southwestern","3-D","CMT","Tazewell County",{"$f":"Master20181101!E124-Master20180614!E124","v":0},{"$f":"Master20181101!F124-Master20180614!F124","v":0},{"$f":"Master20181101!G124-Master20180614!G124","v":-3},{"$f":"Master20181101!H124-Master20180614!H124","v":-3},{"$f":"Master20181101!I124-Master20180614!I124","v":0},{"$f":"Master20181101!J124-Master20180614!J124","v":3},{"$f":"Master20181101!K124-Master20180614!K124","v":-2},{"$f":"Master20181101!L124-Master20180614!L124","v":-4},{"$f":"Master20181101!M124-Master20180614!M124","v":0},{"$f":"Master20181101!N124-Master20180614!N124","v":1},{"$f":"Master20181101!O124-Master20180614!O124","v":0},{"$f":"Master20181101!P124-Master20180614!P124","v":-1},{"$f":"Master20181101!Q124-Master20180614!Q124","v":0},{"$f":"Master20181101!R124-Master20180614!R124","v":0},{"$f":"Master20181101!S124-Master20180614!S124","v":0},{"$f":"Master20181101!T124-Master20180614!T124","v":0},{"$f":"Master20181101!U124-Master20180614!U124","v":0},{"$f":"Master20181101!V124-Master20180614!V124","v":0},{"$f":"Master20181101!W124-Master20180614!W124","v":0},{"$f":"Master20181101!X124-Master20180614!X124","v":0},{"$f":"Master20181101!Y124-Master20180614!Y124","v":0},{"$f":"Master20181101!Z124-Master20180614!Z124","v":0},{"$f":"Master20181101!AA124-Master20180614!AA124","v":0},{"$f":"Master20181101!AB124-Master20180614!AB124","v":0},{"$f":"Master20181101!AC124-Master20180614!AC124","v":0},{"$f":"Master20181101!AD124-Master20180614!AD124","v":-2},{"$f":"Master20181101!AE124-Master20180614!AE124","v":0}]
["Eastern","5-D","VAB","Virginia Beach City",{"$f":"Master20181101!E125-Master20180614!E125","v":3},{"$f":"Master20181101!F125-Master20180614!F125","v":-1},{"$f":"Master20181101!G125-Master20180614!G125","v":-1},{"$f":"Master20181101!H125-Master20180614!H125","v":1},{"$f":"Master20181101!I125-Master20180614!I125","v":-5},{"$f":"Master20181101!J125-Master20180614!J125","v":-13},{"$f":"Master20181101!K125-Master20180614!K125","v":0},{"$f":"Master20181101!L125-Master20180614!L125","v":9},{"$f":"Master20181101!M125-Master20180614!M125","v":2},{"$f":"Master20181101!N125-Master20180614!N125","v":-3},{"$f":"Master20181101!O125-Master20180614!O125","v":1},{"$f":"Master20181101!P125-Master20180614!P125","v":10},{"$f":"Master20181101!Q125-Master20180614!Q125","v":0},{"$f":"Master20181101!R125-Master20180614!R125","v":1},{"$f":"Master20181101!S125-Master20180614!S125","v":-1},{"$f":"Master20181101!T125-Master20180614!T125","v":0},{"$f":"Master20181101!U125-Master20180614!U125","v":0},{"$f":"Master20181101!V125-Master20180614!V125","v":0},{"$f":"Master20181101!W125-Master20180614!W125","v":1},{"$f":"Master20181101!X125-Master20180614!X125","v":2},{"$f":"Master20181101!Y125-Master20180614!Y125","v":0},{"$f":"Master20181101!Z125-Master20180614!Z125","v":0},{"$f":"Master20181101!AA125-Master20180614!AA125","v":0},{"$f":"Master20181101!AB125-Master20180614!AB125","v":0},{"$f":"Master20181101!AC125-Master20180614!AC125","v":0},{"$f":"Master20181101!AD125-Master20180614!AD125","v":-2},{"$f":"Master20181101!AE125-Master20180614!AE125","v":1}]
["Northern","2-D","NW","Warren County",{"$f":"Master20181101!E126-Master20180614!E126","v":0},{"$f":"Master20181101!F126-Master20180614!F126","v":0},{"$f":"Master20181101!G126-Master20180614!G126","v":0},{"$f":"Master20181101!H126-Master20180614!H126","v":0},{"$f":"Master20181101!I126-Master20180614!I126","v":0},{"$f":"Master20181101!J126-Master20180614!J126","v":1},{"$f":"Master20181101!K126-Master20180614!K126","v":-1},{"$f":"Master20181101!L126-Master20180614!L126","v":0},{"$f":"Master20181101!M126-Master20180614!M126","v":0},{"$f":"Master20181101!N126-Master20180614!N126","v":0},{"$f":"Master20181101!O126-Master20180614!O126","v":0},{"$f":"Master20181101!P126-Master20180614!P126","v":0},{"$f":"Master20181101!Q126-Master20180614!Q126","v":0},{"$f":"Master20181101!R126-Master20180614!R126","v":0},{"$f":"Master20181101!S126-Master20180614!S126","v":0},{"$f":"Master20181101!T126-Master20180614!T126","v":0},{"$f":"Master20181101!U126-Master20180614!U126","v":0},{"$f":"Master20181101!V126-Master20180614!V126","v":0},{"$f":"Master20181101!W126-Master20180614!W126","v":0},{"$f":"Master20181101!X126-Master20180614!X126","v":1},{"$f":"Master20181101!Y126-Master20180614!Y126","v":0},{"$f":"Master20181101!Z126-Master20180614!Z126","v":0},{"$f":"Master20181101!AA126-Master20180614!AA126","v":0},{"$f":"Master20181101!AB126-Master20180614!AB126","v":0},{"$f":"Master20181101!AC126-Master20180614!AC126","v":0},{"$f":"Master20181101!AD126-Master20180614!AD126","v":0},{"$f":"Master20181101!AE126-Master20180614!AE126","v":0}]
["Southwestern","3-D","HIGH","Washington County",{"$f":"Master20181101!E127-Master20180614!E127","v":0},{"$f":"Master20181101!F127-Master20180614!F127","v":-2},{"$f":"Master20181101!G127-Master20180614!G127","v":-1},{"$f":"Master20181101!H127-Master20180614!H127","v":-3},{"$f":"Master20181101!I127-Master20180614!I127","v":-2},{"$f":"Master20181101!J127-Master20180614!J127","v":1},{"$f":"Master20181101!K127-Master20180614!K127","v":-1},{"$f":"Master20181101!L127-Master20180614!L127","v":-1},{"$f":"Master20181101!M127-Master20180614!M127","v":1},{"$f":"Master20181101!N127-Master20180614!N127","v":1},{"$f":"Master20181101!O127-Master20180614!O127","v":-1},{"$f":"Master20181101!P127-Master20180614!P127","v":-1},{"$f":"Master20181101!Q127-Master20180614!Q127","v":0},{"$f":"Master20181101!R127-Master20180614!R127","v":0},{"$f":"Master20181101!S127-Master20180614!S127","v":0},{"$f":"Master20181101!T127-Master20180614!T127","v":0},{"$f":"Master20181101!U127-Master20180614!U127","v":0},{"$f":"Master20181101!V127-Master20180614!V127","v":0},{"$f":"Master20181101!W127-Master20180614!W127","v":0},{"$f":"Master20181101!X127-Master20180614!X127","v":1},{"$f":"Master20181101!Y127-Master20180614!Y127","v":0},{"$f":"Master20181101!Z127-Master20180614!Z127","v":0},{"$f":"Master20181101!AA127-Master20180614!AA127","v":0},{"$f":"Master20181101!AB127-Master20180614!AB127","v":0},{"$f":"Master20181101!AC127-Master20180614!AC127","v":1},{"$f":"Master20181101!AD127-Master20180614!AD127","v":-1},{"$f":"Master20181101!AE127-Master20180614!AE127","v":0}]
["Western","1-B","VLY","Waynesboro City",{"$f":"Master20181101!E128-Master20180614!E128","v":0},{"$f":"Master20181101!F128-Master20180614!F128","v":-3},{"$f":"Master20181101!G128-Master20180614!G128","v":0},{"$f":"Master20181101!H128-Master20180614!H128","v":-3},{"$f":"Master20181101!I128-Master20180614!I128","v":0},{"$f":"Master20181101!J128-Master20180614!J128","v":-1},{"$f":"Master20181101!K128-Master20180614!K128","v":1},{"$f":"Master20181101!L128-Master20180614!L128","v":-1},{"$f":"Master20181101!M128-Master20180614!M128","v":0},{"$f":"Master20181101!N128-Master20180614!N128","v":-1},{"$f":"Master20181101!O128-Master20180614!O128","v":0},{"$f":"Master20181101!P128-Master20180614!P128","v":-1},{"$f":"Master20181101!Q128-Master20180614!Q128","v":0},{"$f":"Master20181101!R128-Master20180614!R128","v":0},{"$f":"Master20181101!S128-Master20180614!S128","v":0},{"$f":"Master20181101!T128-Master20180614!T128","v":0},{"$f":"Master20181101!U128-Master20180614!U128","v":0},{"$f":"Master20181101!V128-Master20180614!V128","v":0},{"$f":"Master20181101!W128-Master20180614!W128","v":0},{"$f":"Master20181101!X128-Master20180614!X128","v":0},{"$f":"Master20181101!Y128-Master20180614!Y128","v":0},{"$f":"Master20181101!Z128-Master20180614!Z128","v":0},{"$f":"Master20181101!AA128-Master20180614!AA128","v":0},{"$f":"Master20181101!AB128-Master20180614!AB128","v":0},{"$f":"Master20181101!AC128-Master20180614!AC128","v":0},{"$f":"Master20181101!AD128-Master20180614!AD128","v":0},{"$f":"Master20181101!AE128-Master20180614!AE128","v":0}]
["Eastern","5-A","MPNN","Westmoreland County",{"$f":"Master20181101!E129-Master20180614!E129","v":0},{"$f":"Master20181101!F129-Master20180614!F129","v":0},{"$f":"Master20181101!G129-Master20180614!G129","v":-3},{"$f":"Master20181101!H129-Master20180614!H129","v":-3},{"$f":"Master20181101!I129-Master20180614!I129","v":-1},{"$f":"Master20181101!J129-Master20180614!J129","v":0},{"$f":"Master20181101!K129-Master20180614!K129","v":1},{"$f":"Master20181101!L129-Master20180614!L129","v":0},{"$f":"Master20181101!M129-Master20180614!M129","v":0},{"$f":"Master20181101!N129-Master20180614!N129","v":-1},{"$f":"Master20181101!O129-Master20180614!O129","v":0},{"$f":"Master20181101!P129-Master20180614!P129","v":-2},{"$f":"Master20181101!Q129-Master20180614!Q129","v":0},{"$f":"Master20181101!R129-Master20180614!R129","v":0},{"$f":"Master20181101!S129-Master20180614!S129","v":0},{"$f":"Master20181101!T129-Master20180614!T129","v":0},{"$f":"Master20181101!U129-Master20180614!U129","v":0},{"$f":"Master20181101!V129-Master20180614!V129","v":0},{"$f":"Master20181101!W129-Master20180614!W129","v":0},{"$f":"Master20181101!X129-Master20180614!X129","v":0},{"$f":"Master20181101!Y129-Master20180614!Y129","v":0},{"$f":"Master20181101!Z129-Master20180614!Z129","v":0},{"$f":"Master20181101!AA129-Master20180614!AA129","v":0},{"$f":"Master20181101!AB129-Master20180614!AB129","v":0},{"$f":"Master20181101!AC129-Master20180614!AC129","v":0},{"$f":"Master20181101!AD129-Master20180614!AD129","v":0},{"$f":"Master20181101!AE129-Master20180614!AE129","v":0}]
["Eastern","5-C","COLO","Williamsburg City",{"$f":"Master20181101!E130-Master20180614!E130","v":0},{"$f":"Master20181101!F130-Master20180614!F130","v":1},{"$f":"Master20181101!G130-Master20180614!G130","v":-1},{"$f":"Master20181101!H130-Master20180614!H130","v":0},{"$f":"Master20181101!I130-Master20180614!I130","v":0},{"$f":"Master20181101!J130-Master20180614!J130","v":2},{"$f":"Master20181101!K130-Master20180614!K130","v":0},{"$f":"Master20181101!L130-Master20180614!L130","v":-2},{"$f":"Master20181101!M130-Master20180614!M130","v":0},{"$f":"Master20181101!N130-Master20180614!N130","v":0},{"$f":"Master20181101!O130-Master20180614!O130","v":0},{"$f":"Master20181101!P130-Master20180614!P130","v":0},{"$f":"Master20181101!Q130-Master20180614!Q130","v":0},{"$f":"Master20181101!R130-Master20180614!R130","v":0},{"$f":"Master20181101!S130-Master20180614!S130","v":0},{"$f":"Master20181101!T130-Master20180614!T130","v":0},{"$f":"Master20181101!U130-Master20180614!U130","v":0},{"$f":"Master20181101!V130-Master20180614!V130","v":0},{"$f":"Master20181101!W130-Master20180614!W130","v":0},{"$f":"Master20181101!X130-Master20180614!X130","v":0},{"$f":"Master20181101!Y130-Master20180614!Y130","v":0},{"$f":"Master20181101!Z130-Master20180614!Z130","v":0},{"$f":"Master20181101!AA130-Master20180614!AA130","v":0},{"$f":"Master20181101!AB130-Master20180614!AB130","v":0},{"$f":"Master20181101!AC130-Master20180614!AC130","v":0},{"$f":"Master20181101!AD130-Master20180614!AD130","v":0},{"$f":"Master20181101!AE130-Master20180614!AE130","v":0}]
["Northern","2-D","NW","Winchester City",{"$f":"Master20181101!E131-Master20180614!E131","v":0},{"$f":"Master20181101!F131-Master20180614!F131","v":0},{"$f":"Master20181101!G131-Master20180614!G131","v":-2},{"$f":"Master20181101!H131-Master20180614!H131","v":-2},{"$f":"Master20181101!I131-Master20180614!I131","v":-1},{"$f":"Master20181101!J131-Master20180614!J131","v":-4},{"$f":"Master20181101!K131-Master20180614!K131","v":-2},{"$f":"Master20181101!L131-Master20180614!L131","v":1},{"$f":"Master20181101!M131-Master20180614!M131","v":0},{"$f":"Master20181101!N131-Master20180614!N131","v":1},{"$f":"Master20181101!O131-Master20180614!O131","v":3},{"$f":"Master20181101!P131-Master20180614!P131","v":0},{"$f":"Master20181101!Q131-Master20180614!Q131","v":0},{"$f":"Master20181101!R131-Master20180614!R131","v":-1},{"$f":"Master20181101!S131-Master20180614!S131","v":0},{"$f":"Master20181101!T131-Master20180614!T131","v":0},{"$f":"Master20181101!U131-Master20180614!U131","v":0},{"$f":"Master20181101!V131-Master20180614!V131","v":0},{"$f":"Master20181101!W131-Master20180614!W131","v":0},{"$f":"Master20181101!X131-Master20180614!X131","v":0},{"$f":"Master20181101!Y131-Master20180614!Y131","v":0},{"$f":"Master20181101!Z131-Master20180614!Z131","v":0},{"$f":"Master20181101!AA131-Master20180614!AA131","v":0},{"$f":"Master20181101!AB131-Master20180614!AB131","v":0},{"$f":"Master20181101!AC131-Master20180614!AC131","v":0},{"$f":"Master20181101!AD131-Master20180614!AD131","v":0},{"$f":"Master20181101!AE131-Master20180614!AE131","v":0}]
["Southwestern","3-D","PLD1","Wise County",{"$f":"Master20181101!E132-Master20180614!E132","v":0},{"$f":"Master20181101!F132-Master20180614!F132","v":0},{"$f":"Master20181101!G132-Master20180614!G132","v":4},{"$f":"Master20181101!H132-Master20180614!H132","v":4},{"$f":"Master20181101!I132-Master20180614!I132","v":1},{"$f":"Master20181101!J132-Master20180614!J132","v":4},{"$f":"Master20181101!K132-Master20180614!K132","v":0},{"$f":"Master20181101!L132-Master20180614!L132","v":-1},{"$f":"Master20181101!M132-Master20180614!M132","v":0},{"$f":"Master20181101!N132-Master20180614!N132","v":0},{"$f":"Master20181101!O132-Master20180614!O132","v":-1},{"$f":"Master20181101!P132-Master20180614!P132","v":1},{"$f":"Master20181101!Q132-Master20180614!Q132","v":0},{"$f":"Master20181101!R132-Master20180614!R132","v":0},{"$f":"Master20181101!S132-Master20180614!S132","v":-1},{"$f":"Master20181101!T132-Master20180614!T132","v":0},{"$f":"Master20181101!U132-Master20180614!U132","v":0},{"$f":"Master20181101!V132-Master20180614!V132","v":0},{"$f":"Master20181101!W132-Master20180614!W132","v":0},{"$f":"Master20181101!X132-Master20180614!X132","v":0},{"$f":"Master20181101!Y132-Master20180614!Y132","v":0},{"$f":"Master20181101!Z132-Master20180614!Z132","v":0},{"$f":"Master20181101!AA132-Master20180614!AA132","v":0},{"$f":"Master20181101!AB132-Master20180614!AB132","v":0},{"$f":"Master20181101!AC132-Master20180614!AC132","v":0},{"$f":"Master20181101!AD132-Master20180614!AD132","v":-1},{"$f":"Master20181101!AE132-Master20180614!AE132","v":0}]
["Southwestern","3-C","MTRG","Wythe County",{"$f":"Master20181101!E133-Master20180614!E133","v":0},{"$f":"Master20181101!F133-Master20180614!F133","v":0},{"$f":"Master20181101!G133-Master20180614!G133","v":4},{"$f":"Master20181101!H133-Master20180614!H133","v":4},{"$f":"Master20181101!I133-Master20180614!I133","v":0},{"$f":"Master20181101!J133-Master20180614!J133","v":-5},{"$f":"Master20181101!K133-Master20180614!K133","v":-1},{"$f":"Master20181101!L133-Master20180614!L133","v":1},{"$f":"Master20181101!M133-Master20180614!M133","v":2},{"$f":"Master20181101!N133-Master20180614!N133","v":3},{"$f":"Master20181101!O133-Master20180614!O133","v":5},{"$f":"Master20181101!P133-Master20180614!P133","v":-1},{"$f":"Master20181101!Q133-Master20180614!Q133","v":0},{"$f":"Master20181101!R133-Master20180614!R133","v":0},{"$f":"Master20181101!S133-Master20180614!S133","v":0},{"$f":"Master20181101!T133-Master20180614!T133","v":0},{"$f":"Master20181101!U133-Master20180614!U133","v":0},{"$f":"Master20181101!V133-Master20180614!V133","v":0},{"$f":"Master20181101!W133-Master20180614!W133","v":0},{"$f":"Master20181101!X133-Master20180614!X133","v":0},{"$f":"Master20181101!Y133-Master20180614!Y133","v":0},{"$f":"Master20181101!Z133-Master20180614!Z133","v":0},{"$f":"Master20181101!AA133-Master20180614!AA133","v":0},{"$f":"Master20181101!AB133-Master20180614!AB133","v":0},{"$f":"Master20181101!AC133-Master20180614!AC133","v":0},{"$f":"Master20181101!AD133-Master20180614!AD133","v":0},{"$f":"Master20181101!AE133-Master20180614!AE133","v":0}]
["Eastern","5-C","COLO","York County",{"$f":"Master20181101!E134-Master20180614!E134","v":0},{"$f":"Master20181101!F134-Master20180614!F134","v":-1},{"$f":"Master20181101!G134-Master20180614!G134","v":4},{"$f":"Master20181101!H134-Master20180614!H134","v":3},{"$f":"Master20181101!I134-Master20180614!I134","v":0},{"$f":"Master20181101!J134-Master20180614!J134","v":-2},{"$f":"Master20181101!K134-Master20180614!K134","v":0},{"$f":"Master20181101!L134-Master20180614!L134","v":1},{"$f":"Master20181101!M134-Master20180614!M134","v":0},{"$f":"Master20181101!N134-Master20180614!N134","v":0},{"$f":"Master20181101!O134-Master20180614!O134","v":0},{"$f":"Master20181101!P134-Master20180614!P134","v":4},{"$f":"Master20181101!Q134-Master20180614!Q134","v":0},{"$f":"Master20181101!R134-Master20180614!R134","v":0},{"$f":"Master20181101!S134-Master20180614!S134","v":0},{"$f":"Master20181101!T134-Master20180614!T134","v":0},{"$f":"Master20181101!U134-Master20180614!U134","v":0},{"$f":"Master20181101!V134-Master20180614!V134","v":0},{"$f":"Master20181101!W134-Master20180614!W134","v":0},{"$f":"Master20181101!X134-Master20180614!X134","v":0},{"$f":"Master20181101!Y134-Master20180614!Y134","v":0},{"$f":"Master20181101!Z134-Master20180614!Z134","v":0},{"$f":"Master20181101!AA134-Master20180614!AA134","v":0},{"$f":"Master20181101!AB134-Master20180614!AB134","v":0},{"$f":"Master20181101!AC134-Master20180614!AC134","v":0},{"$f":"Master20181101!AD134-Master20180614!AD134","v":0},{"$f":"Master20181101!AE134-Master20180614!AE134","v":0}]
[]
["DS-Regional Deltas"]
["Central",null,"na","na",{"$f":"Master20181101!E137-Master20180614!E137","v":6},{"$f":"Master20181101!F137-Master20180614!F137","v":18},{"$f":"Master20181101!G137-Master20180614!G137","v":18},{"$f":"Master20181101!H137-Master20180614!H137","v":42},{"$f":"Master20181101!I137-Master20180614!I137","v":0},{"$f":"Master20181101!J137-Master20180614!J137","v":-28},{"$f":"Master20181101!K137-Master20180614!K137","v":3},{"$f":"Master20181101!L137-Master20180614!L137","v":61},{"$f":"Master20181101!M137-Master20180614!M137","v":7},{"$f":"Master20181101!N137-Master20180614!N137","v":9},{"$f":"Master20181101!O137-Master20180614!O137","v":-1},{"$f":"Master20181101!P137-Master20180614!P137","v":-9},{"$f":"Master20181101!Q137-Master20180614!Q137","v":1},{"$f":"Master20181101!R137-Master20180614!R137","v":1},{"$f":"Master20181101!S137-Master20180614!S137","v":3},{"$f":"Master20181101!T137-Master20180614!T137","v":0},{"$f":"Master20181101!U137-Master20180614!U137","v":0},{"$f":"Master20181101!V137-Master20180614!V137","v":0},{"$f":"Master20181101!W137-Master20180614!W137","v":0},{"$f":"Master20181101!X137-Master20180614!X137","v":1},{"$f":"Master20181101!Y137-Master20180614!Y137","v":0},{"$f":"Master20181101!Z137-Master20180614!Z137","v":0},{"$f":"Master20181101!AA137-Master20180614!AA137","v":0},{"$f":"Master20181101!AB137-Master20180614!AB137","v":0},{"$f":"Master20181101!AC137-Master20180614!AC137","v":0},{"$f":"Master20181101!AD137-Master20180614!AD137","v":-1},{"$f":"Master20181101!AE137-Master20180614!AE137","v":1}]
["Eastern",null,"na","na",{"$f":"Master20181101!E138-Master20180614!E138","v":4},{"$f":"Master20181101!F138-Master20180614!F138","v":17},{"$f":"Master20181101!G138-Master20180614!G138","v":20},{"$f":"Master20181101!H138-Master20180614!H138","v":41},{"$f":"Master20181101!I138-Master20180614!I138","v":-10},{"$f":"Master20181101!J138-Master20180614!J138","v":-27},{"$f":"Master20181101!K138-Master20180614!K138","v":6},{"$f":"Master20181101!L138-Master20180614!L138","v":26},{"$f":"Master20181101!M138-Master20180614!M138","v":4},{"$f":"Master20181101!N138-Master20180614!N138","v":-2},{"$f":"Master20181101!O138-Master20180614!O138","v":2},{"$f":"Master20181101!P138-Master20180614!P138","v":42},{"$f":"Master20181101!Q138-Master20180614!Q138","v":0},{"$f":"Master20181101!R138-Master20180614!R138","v":1},{"$f":"Master20181101!S138-Master20180614!S138","v":1},{"$f":"Master20181101!T138-Master20180614!T138","v":0},{"$f":"Master20181101!U138-Master20180614!U138","v":0},{"$f":"Master20181101!V138-Master20180614!V138","v":0},{"$f":"Master20181101!W138-Master20180614!W138","v":1},{"$f":"Master20181101!X138-Master20180614!X138","v":3},{"$f":"Master20181101!Y138-Master20180614!Y138","v":0},{"$f":"Master20181101!Z138-Master20180614!Z138","v":0},{"$f":"Master20181101!AA138-Master20180614!AA138","v":1},{"$f":"Master20181101!AB138-Master20180614!AB138","v":0},{"$f":"Master20181101!AC138-Master20180614!AC138","v":1},{"$f":"Master20181101!AD138-Master20180614!AD138","v":-1},{"$f":"Master20181101!AE138-Master20180614!AE138","v":1}]
["Northern",null,"na","na",{"$f":"Master20181101!E139-Master20180614!E139","v":2},{"$f":"Master20181101!F139-Master20180614!F139","v":51},{"$f":"Master20181101!G139-Master20180614!G139","v":25},{"$f":"Master20181101!H139-Master20180614!H139","v":78},{"$f":"Master20181101!I139-Master20180614!I139","v":5},{"$f":"Master20181101!J139-Master20180614!J139","v":-26},{"$f":"Master20181101!K139-Master20180614!K139","v":-3},{"$f":"Master20181101!L139-Master20180614!L139","v":60},{"$f":"Master20181101!M139-Master20180614!M139","v":6},{"$f":"Master20181101!N139-Master20180614!N139","v":8},{"$f":"Master20181101!O139-Master20180614!O139","v":10},{"$f":"Master20181101!P139-Master20180614!P139","v":18},{"$f":"Master20181101!Q139-Master20180614!Q139","v":0},{"$f":"Master20181101!R139-Master20180614!R139","v":2},{"$f":"Master20181101!S139-Master20180614!S139","v":0},{"$f":"Master20181101!T139-Master20180614!T139","v":0},{"$f":"Master20181101!U139-Master20180614!U139","v":0},{"$f":"Master20181101!V139-Master20180614!V139","v":0},{"$f":"Master20181101!W139-Master20180614!W139","v":1},{"$f":"Master20181101!X139-Master20180614!X139","v":1},{"$f":"Master20181101!Y139-Master20180614!Y139","v":0},{"$f":"Master20181101!Z139-Master20180614!Z139","v":0},{"$f":"Master20181101!AA139-Master20180614!AA139","v":0},{"$f":"Master20181101!AB139-Master20180614!AB139","v":0},{"$f":"Master20181101!AC139-Master20180614!AC139","v":-2},{"$f":"Master20181101!AD139-Master20180614!AD139","v":-2},{"$f":"Master20181101!AE139-Master20180614!AE139","v":0}]
["Southwestern",null,"na","na",{"$f":"Master20181101!E140-Master20180614!E140","v":8},{"$f":"Master20181101!F140-Master20180614!F140","v":10},{"$f":"Master20181101!G140-Master20180614!G140","v":33},{"$f":"Master20181101!H140-Master20180614!H140","v":51},{"$f":"Master20181101!I140-Master20180614!I140","v":-4},{"$f":"Master20181101!J140-Master20180614!J140","v":-21},{"$f":"Master20181101!K140-Master20180614!K140","v":-3},{"$f":"Master20181101!L140-Master20180614!L140","v":28},{"$f":"Master20181101!M140-Master20180614!M140","v":6},{"$f":"Master20181101!N140-Master20180614!N140","v":22},{"$f":"Master20181101!O140-Master20180614!O140","v":27},{"$f":"Master20181101!P140-Master20180614!P140","v":-4},{"$f":"Master20181101!Q140-Master20180614!Q140","v":0},{"$f":"Master20181101!R140-Master20180614!R140","v":1},{"$f":"Master20181101!S140-Master20180614!S140","v":-2},{"$f":"Master20181101!T140-Master20180614!T140","v":0},{"$f":"Master20181101!U140-Master20180614!U140","v":0},{"$f":"Master20181101!V140-Master20180614!V140","v":0},{"$f":"Master20181101!W140-Master20180614!W140","v":0},{"$f":"Master20181101!X140-Master20180614!X140","v":1},{"$f":"Master20181101!Y140-Master20180614!Y140","v":0},{"$f":"Master20181101!Z140-Master20180614!Z140","v":0},{"$f":"Master20181101!AA140-Master20180614!AA140","v":0},{"$f":"Master20181101!AB140-Master20180614!AB140","v":0},{"$f":"Master20181101!AC140-Master20180614!AC140","v":0},{"$f":"Master20181101!AD140-Master20180614!AD140","v":0},{"$f":"Master20181101!AE140-Master20180614!AE140","v":0}]
["Western",null,"na","na",{"$f":"Master20181101!E141-Master20180614!E141","v":3},{"$f":"Master20181101!F141-Master20180614!F141","v":8},{"$f":"Master20181101!G141-Master20180614!G141","v":5},{"$f":"Master20181101!H141-Master20180614!H141","v":16},{"$f":"Master20181101!I141-Master20180614!I141","v":7},{"$f":"Master20181101!J141-Master20180614!J141","v":-20},{"$f":"Master20181101!K141-Master20180614!K141","v":-2},{"$f":"Master20181101!L141-Master20180614!L141","v":16},{"$f":"Master20181101!M141-Master20180614!M141","v":1},{"$f":"Master20181101!N141-Master20180614!N141","v":15},{"$f":"Master20181101!O141-Master20180614!O141","v":1},{"$f":"Master20181101!P141-Master20180614!P141","v":-2},{"$f":"Master20181101!Q141-Master20180614!Q141","v":0},{"$f":"Master20181101!R141-Master20180614!R141","v":0},{"$f":"Master20181101!S141-Master20180614!S141","v":0},{"$f":"Master20181101!T141-Master20180614!T141","v":0},{"$f":"Master20181101!U141-Master20180614!U141","v":0},{"$f":"Master20181101!V141-Master20180614!V141","v":0},{"$f":"Master20181101!W141-Master20180614!W141","v":0},{"$f":"Master20181101!X141-Master20180614!X141","v":0},{"$f":"Master20181101!Y141-Master20180614!Y141","v":0},{"$f":"Master20181101!Z141-Master20180614!Z141","v":0},{"$f":"Master20181101!AA141-Master20180614!AA141","v":0},{"$f":"Master20181101!AB141-Master20180614!AB141","v":0},{"$f":"Master20181101!AC141-Master20180614!AC141","v":-1},{"$f":"Master20181101!AD141-Master20180614!AD141","v":0},{"$f":"Master20181101!AE141-Master20180614!AE141","v":-1}]
["Total nonUnique",null,"na","na",{"$f":"Master20181101!E142-Master20180614!E142","v":23},{"$f":"Master20181101!F142-Master20180614!F142","v":104},{"$f":"Master20181101!G142-Master20180614!G142","v":101},{"$f":"Master20181101!H142-Master20180614!H142","v":228},{"$f":"Master20181101!I142-Master20180614!I142","v":-2},{"$f":"Master20181101!J142-Master20180614!J142","v":-122},{"$f":"Master20181101!K142-Master20180614!K142","v":1},{"$f":"Master20181101!L142-Master20180614!L142","v":191},{"$f":"Master20181101!M142-Master20180614!M142","v":24},{"$f":"Master20181101!N142-Master20180614!N142","v":52},{"$f":"Master20181101!O142-Master20180614!O142","v":39},{"$f":"Master20181101!P142-Master20180614!P142","v":45},{"$f":"Master20181101!Q142-Master20180614!Q142","v":1},{"$f":"Master20181101!R142-Master20180614!R142","v":5},{"$f":"Master20181101!S142-Master20180614!S142","v":2},{"$f":"Master20181101!T142-Master20180614!T142","v":0},{"$f":"Master20181101!U142-Master20180614!U142","v":0},{"$f":"Master20181101!V142-Master20180614!V142","v":0},{"$f":"Master20181101!W142-Master20180614!W142","v":2},{"$f":"Master20181101!X142-Master20180614!X142","v":6},{"$f":"Master20181101!Y142-Master20180614!Y142","v":0},{"$f":"Master20181101!Z142-Master20180614!Z142","v":0},{"$f":"Master20181101!AA142-Master20180614!AA142","v":1},{"$f":"Master20181101!AB142-Master20180614!AB142","v":0},{"$f":"Master20181101!AC142-Master20180614!AC142","v":-2},{"$f":"Master20181101!AD142-Master20180614!AD142","v":-4},{"$f":"Master20181101!AE142-Master20180614!AE142","v":1}]
["Total Unique",null,"na","na",{"$f":"Master20181101!E143-Master20180614!E143","v":23},{"$f":"Master20181101!F143-Master20180614!F143","v":104},{"$f":"Master20181101!G143-Master20180614!G143","v":101},{"$f":"Master20181101!H143-Master20180614!H143","v":228},{"$f":"Master20181101!I143-Master20180614!I143","v":-2},{"$f":"Master20181101!J143-Master20180614!J143","v":-122},{"$f":"Master20181101!K143-Master20180614!K143","v":1},{"$f":"Master20181101!L143-Master20180614!L143","v":191},{"$f":"Master20181101!M143-Master20180614!M143","v":24},{"$f":"Master20181101!N143-Master20180614!N143","v":52},{"$f":"Master20181101!O143-Master20180614!O143","v":39},{"$f":"Master20181101!P143-Master20180614!P143","v":45},{"$f":"Master20181101!Q143-Master20180614!Q143","v":1},{"$f":"Master20181101!R143-Master20180614!R143","v":5},{"$f":"Master20181101!S143-Master20180614!S143","v":2},{"$f":"Master20181101!T143-Master20180614!T143","v":0},{"$f":"Master20181101!U143-Master20180614!U143","v":0},{"$f":"Master20181101!V143-Master20180614!V143","v":0},{"$f":"Master20181101!W143-Master20180614!W143","v":2},{"$f":"Master20181101!X143-Master20180614!X143","v":5},{"$f":"Master20181101!Y143-Master20180614!Y143","v":0},{"$f":"Master20181101!Z143-Master20180614!Z143","v":0},{"$f":"Master20181101!AA143-Master20180614!AA143","v":1},{"$f":"Master20181101!AB143-Master20180614!AB143","v":0},{"$f":"Master20181101!AC143-Master20180614!AC143","v":-1},{"$f":"Master20181101!AD143-Master20180614!AD143","v":-4},{"$f":"Master20181101!AE143-Master20180614!AE143","v":1}]

{"sheet":"MasterDelta20190430","index":5,"n_rows":143,"n_cols":31,"rows_kept":143,"cut":false,"hidden":false,"merged":[]}
["DS Region","SubRegion","CSB"," City/County","BI waiver","FIS waiver","CL waiver","All waivers","SIS\nL1","SIS\nL2","SIS\nL3","SIS\nL4","SIS\nL5","SIS\nL6","SIS\nL7","SIS\nDefault","Benefits Planning","Community Coaching","Community Engagement","Community Guide","Electronic Home-Based Services","Employment and Community Transportation","Independent Living Supports","In-home Supports","Peer Mentoring","Shared Living","Supported Living","Crisis Support Services","Private Duty Nursing","Skilled Nursing","Sponsored Residential"]
["Eastern","5-B","EAST","Accomack County",{"$f":"Master20190430!E2-Master20180614!E2","v":0},{"$f":"Master20190430!F2-Master20180614!F2","v":2},{"$f":"Master20190430!G2-Master20180614!G2","v":-1},{"$f":"Master20190430!H2-Master20180614!H2","v":1},{"$f":"Master20190430!I2-Master20180614!I2","v":1},{"$f":"Master20190430!J2-Master20180614!J2","v":0},{"$f":"Master20190430!K2-Master20180614!K2","v":0},{"$f":"Master20190430!L2-Master20180614!L2","v":3},{"$f":"Master20190430!M2-Master20180614!M2","v":0},{"$f":"Master20190430!N2-Master20180614!N2","v":0},{"$f":"Master20190430!O2-Master20180614!O2","v":0},{"$f":"Master20190430!P2-Master20180614!P2","v":-3},{"$f":"Master20190430!Q2-Master20180614!Q2","v":0},{"$f":"Master20190430!R2-Master20180614!R2","v":0},{"$f":"Master20190430!S2-Master20180614!S2","v":1},{"$f":"Master20190430!T2-Master20180614!T2","v":0},{"$f":"Master20190430!U2-Master20180614!U2","v":0},{"$f":"Master20190430!V2-Master20180614!V2","v":0},{"$f":"Master20190430!W2-Master20180614!W2","v":0},{"$f":"Master20190430!X2-Master20180614!X2","v":0},{"$f":"Master20190430!Y2-Master20180614!Y2","v":0},{"$f":"Master20190430!Z2-Master20180614!Z2","v":0},{"$f":"Master20190430!AA2-Master20180614!AA2","v":0},{"$f":"Master20190430!AB2-Master20180614!AB2","v":0},{"$f":"Master20190430!AC2-Master20180614!AC2","v":0},{"$f":"Master20190430!AD2-Master20180614!AD2","v":0},{"$f":"Master20190430!AE2-Master20180614!AE2","v":-1}]
["Western","1-A","RTEN","Albemarle County",{"$f":"Master20190430!E3-Master20180614!E3","v":2},{"$f":"Master20190430!F3-Master20180614!F3","v":3},{"$f":"Master20190430!G3-Master20180614!G3","v":5},{"$f":"Master20190430!H3-Master20180614!H3","v":10},{"$f":"Master20190430!I3-Master20180614!I3","v":2},{"$f":"Master20190430!J3-Master20180614!J3","v":-2},{"$f":"Master20190430!K3-Master20180614!K3","v":1},{"$f":"Master20190430!L3-Master20180614!L3","v":6},{"$f":"Master20190430!M3-Master20180614!M3","v":0},{"$f":"Master20190430!N3-Master20180614!N3","v":0},{"$f":"Master20190430!O3-Master20180614!O3","v":-3},{"$f":"Master20190430!P3-Master20180614!P3","v":6},{"$f":"Master20190430!Q3-Master20180614!Q3","v":0},{"$f":"Master20190430!R3-Master20180614!R3","v":-1},{"$f":"Master20190430!S3-Master20180614!S3","v":0},{"$f":"Master20190430!T3-Master20180614!T3","v":0},{"$f":"Master20190430!U3-Master20180614!U3","v":0},{"$f":"Master20190430!V3-Master20180614!V3","v":0},{"$f":"Master20190430!W3-Master20180614!W3","v":1},{"$f":"Master20190430!X3-Master20180614!X3","v":0},{"$f":"Master20190430!Y3-Master20180614!Y3","v":0},{"$f":"Master20190430!Z3-Master20180614!Z3","v":0},{"$f":"Master20190430!AA3-Master20180614!AA3","v":0},{"$f":"Master20190430!AB3-Master20180614!AB3","v":0},{"$f":"Master20190430!AC3-Master20180614!AC3","v":0},{"$f":"Master20190430!AD3-Master20180614!AD3","v":-1},{"$f":"Master20190430!AE3-Master20180614!AE3","v":0}]
["Northern","2-A","ALEX","Alexandria City",{"$f":"Master20190430!E4-Master20180614!E4","v":0},{"$f":"Master20190430!F4-Master20180614!F4","v":4},{"$f":"Master20190430!G4-Master20180614!G4","v":-2},{"$f":"Master20190430!H4-Master20180614!H4","v":2},{"$f":"Master20190430!I4-Master20180614!I4","v":0},{"$f":"Master20190430!J4-Master20180614!J4","v":-2},{"$f":"Master20190430!K4-Master20180614!K4","v":2},{"$f":"Master20190430!L4-Master20180614!L4","v":2},{"$f":"Master20190430!M4-Master20180614!M4","v":1},{"$f":"Master20190430!N4-Master20180614!N4","v":-2},{"$f":"Master20190430!O4-Master20180614!O4","v":0},{"$f":"Master20190430!P4-Master20180614!P4","v":1},{"$f":"Master20190430!Q4-Master20180614!Q4","v":0},{"$f":"Master20190430!R4-Master20180614!R4","v":0},{"$f":"Master20190430!S4-Master20180614!S4","v":0},{"$f":"Master20190430!T4-Master20180614!T4","v":0},{"$f":"Master20190430!U4-Master20180614!U4","v":0},{"$f":"Master20190430!V4-Master20180614!V4","v":0},{"$f":"Master20190430!W4-Master20180614!W4","v":0},{"$f":"Master20190430!X4-Master20180614!X4","v":0},{"$f":"Master20190430!Y4-Master20180614!Y4","v":0},{"$f":"Master20190430!Z4-Master20180614!Z4","v":0},{"$f":"Master20190430!AA4-Master20180614!AA4","v":0},{"$f":"Master20190430!AB4-Master20180614!AB4","v":0},{"$f":"Master20190430!AC4-Master20180614!AC4","v":0},{"$f":"Master20190430!AD4-Master20180614!AD4","v":-2},{"$f":"Master20190430!AE4-Master20180614!AE4","v":0}]
["Western","1-C","ALLE","Alleghany County",{"$f":"Master20190430!E5-Master20180614!E5","v":0},{"$f":"Master20190430!F5-Master20180614!F5","v":0},{"$f":"Master20190430!G5-Master20180614!G5","v":-2},{"$f":"Master20190430!H5-Master20180614!H5","v":-2},{"$f":"Master20190430!I5-Master20180614!I5","v":1},{"$f":"Master20190430!J5-Master20180614!J5","v":-4},{"$f":"Master20190430!K5-Master20180614!K5","v":0},{"$f":"Master20190430!L5-Master20180614!L5","v":1},{"$f":"Master20190430!M5-Master20180614!M5","v":0},{"$f":"Master20190430!N5-Master20180614!N5","v":-1},{"$f":"Master20190430!O5-Master20180614!O5","v":0},{"$f":"Master20190430!P5-Master20180614!P5","v":1},{"$f":"Master20190430!Q5-Master20180614!Q5","v":0},{"$f":"Master20190430!R5-Master20180614!R5","v":0},{"$f":"Master20190430!S5-Master20180614!S5","v":0},{"$f":"Master20190430!T5-Master20180614!T5","v":0},{"$f":"Master20190430!U5-Master20180614!U5","v":0},{"$f":"Master20190430!V5-Master20180614!V5","v":0},{"$f":"Master20190430!W5-Master20180614!W5","v":0},{"$f":"Master20190430!X5-Master20180614!X5","v":0},{"$f":"Master20190430!Y5-Master20180614!Y5","v":0},{"$f":"Master20190430!Z5-Master20180614!Z5","v":0},{"$f":"Master20190430!AA5-Master20180614!AA5","v":0},{"$f":"Master20190430!AB5-Master20180614!AB5","v":0},{"$f":"Master20190430!AC5-Master20180614!AC5","v":0},{"$f":"Master20190430!AD5-Master20180614!AD5","v":0},{"$f":"Master20190430!AE5-Master20180614!AE5","v":0}]
["Central","4-B","CROS","Amelia County",{"$f":"Master20190430!E6-Master20180614!E6","v":0},{"$f":"Master20190430!F6-Master20180614!F6","v":0},{"$f":"Master20190430!G6-Master20180614!G6","v":2},{"$f":"Master20190430!H6-Master20180614!H6","v":2},{"$f":"Master20190430!I6-Master20180614!I6","v":1},{"$f":"Master20190430!J6-Master20180614!J6","v":-1},{"$f":"Master20190430!K6-Master20180614!K6","v":0},{"$f":"Master20190430!L6-Master20180614!L6","v":2},{"$f":"Master20190430!M6-Master20180614!M6","v":0},{"$f":"Master20190430!N6-Master20180614!N6","v":1},{"$f":"Master20190430!O6-Master20180614!O6","v":0},{"$f":"Master20190430!P6-Master20180614!P6","v":-1},{"$f":"Master20190430!Q6-Master20180614!Q6","v":0},{"$f":"Master20190430!R6-Master20180614!R6","v":0},{"$f":"Master20190430!S6-Master20180614!S6","v":0},{"$f":"Master20190430!T6-Master20180614!T6","v":0},{"$f":"Master20190430!U6-Master20180614!U6","v":0},{"$f":"Master20190430!V6-Master20180614!V6","v":0},{"$f":"Master20190430!W6-Master20180614!W6","v":0},{"$f":"Master20190430!X6-Master20180614!X6","v":0},{"$f":"Master20190430!Y6-Master20180614!Y6","v":0},{"$f":"Master20190430!Z6-Master20180614!Z6","v":0},{"$f":"Master20190430!AA6-Master20180614!AA6","v":0},{"$f":"Master20190430!AB6-Master20180614!AB6","v":0},{"$f":"Master20190430!AC6-Master20180614!AC6","v":0},{"$f":"Master20190430!AD6-Master20180614!AD6","v":0},{"$f":"Master20190430!AE6-Master20180614!AE6","v":0}]
["Western","1-D","HORI","Amherst County",{"$f":"Master20190430!E7-Master20180614!E7","v":0},{"$f":"Master20190430!F7-Master20180614!F7","v":1},{"$f":"Master20190430!G7-Master20180614!G7","v":15},{"$f":"Master20190430!H7-Master20180614!H7","v":16},{"$f":"Master20190430!I7-Master20180614!I7","v":1},{"$f":"Master20190430!J7-Master20180614!J7","v":-4},{"$f":"Master20190430!K7-Master20180614!K7","v":0},{"$f":"Master20190430!L7-Master20180614!L7","v":6},{"$f":"Master20190430!M7-Master20180614!M7","v":2},{"$f":"Master20190430!N7-Master20180614!N7","v":4},{"$f":"Master20190430!O7-Master20180614!O7","v":7},{"$f":"Master20190430!P7-Master20180614!P7","v":0},{"$f":"Master20190430!Q7-Master20180614!Q7","v":0},{"$f":"Master20190430!R7-Master20180614!R7","v":1},{"$f":"Master20190430!S7-Master20180614!S7","v":0},{"$f":"Master20190430!T7-Master20180614!T7","v":0},{"$f":"Master20190430!U7-Master20180614!U7","v":0},{"$f":"Master20190430!V7-Master20180614!V7","v":0},{"$f":"Master20190430!W7-Master20180614!W7","v":0},{"$f":"Master20190430!X7-Master20180614!X7","v":0},{"$f":"Master20190430!Y7-Master20180614!Y7","v":0},{"$f":"Master20190430!Z7-Master20180614!Z7","v":0},{"$f":"Master20190430!AA7-Master20180614!AA7","v":0},{"$f":"Master20190430!AB7-Master20180614!AB7","v":0},{"$f":"Master20190430!AC7-Master20180614!AC7","v":0},{"$f":"Master20190430!AD7-Master20180614!AD7","v":0},{"$f":"Master20190430!AE7-Master20180614!AE7","v":1}]
["Western","1-D","HORI","Appomattox County",{"$f":"Master20190430!E8-Master20180614!E8","v":-1},{"$f":"Master20190430!F8-Master20180614!F8","v":2},{"$f":"Master20190430!G8-Master20180614!G8","v":-2},{"$f":"Master20190430!H8-Master20180614!H8","v":-1},{"$f":"Master20190430!I8-Master20180614!I8","v":-2},{"$f":"Master20190430!J8-Master20180614!J8","v":-4},{"$f":"Master20190430!K8-Master20180614!K8","v":0},{"$f":"Master20190430!L8-Master20180614!L8","v":0},{"$f":"Master20190430!M8-Master20180614!M8","v":0},{"$f":"Master20190430!N8-Master20180614!N8","v":5},{"$f":"Master20190430!O8-Master20180614!O8","v":0},{"$f":"Master20190430!P8-Master20180614!P8","v":0},{"$f":"Master20190430!Q8-Master20180614!Q8","v":0},{"$f":"Master20190430!R8-Master20180614!R8","v":0},{"$f":"Master20190430!S8-Master20180614!S8","v":1},{"$f":"Master20190430!T8-Master20180614!T8","v":0},{"$f":"Master20190430!U8-Master20180614!U8","v":0},{"$f":"Master20190430!V8-Master20180614!V8","v":0},{"$f":"Master20190430!W8-Master20180614!W8","v":0},{"$f":"Master20190430!X8-Master20180614!X8","v":0},{"$f":"Master20190430!Y8-Master20180614!Y8","v":0},{"$f":"Master20190430!Z8-Master20180614!Z8","v":0},{"$f":"Master20190430!AA8-Master20180614!AA8","v":0},{"$f":"Master20190430!AB8-Master20180614!AB8","v":0},{"$f":"Master20190430!AC8-Master20180614!AC8","v":0},{"$f":"Master20190430!AD8-Master20180614!AD8","v":0},{"$f":"Master20190430!AE8-Master20180614!AE8","v":0}]
["Northern","2-A","ARLI","Arlington County",{"$f":"Master20190430!E9-Master20180614!E9","v":2},{"$f":"Master20190430!F9-Master20180614!F9","v":10},{"$f":"Master20190430!G9-Master20180614!G9","v":3},{"$f":"Master20190430!H9-Master20180614!H9","v":15},{"$f":"Master20190430!I9-Master20180614!I9","v":0},{"$f":"Master20190430!J9-Master20180614!J9","v":2},{"$f":"Master20190430!K9-Master20180614!K9","v":-1},{"$f":"Master20190430!L9-Master20180614!L9","v":5},{"$f":"Master20190430!M9-Master20180614!M9","v":1},{"$f":"Master20190430!N9-Master20180614!N9","v":2},{"$f":"Master20190430!O9-Master20180614!O9","v":0},{"$f":"Master20190430!P9-Master20180614!P9","v":6},{"$f":"Master20190430!Q9-Master20180614!Q9","v":0},{"$f":"Master20190430!R9-Master20180614!R9","v":0},{"$f":"Master20190430!S9-Master20180614!S9","v":0},{"$f":"Master20190430!T9-Master20180614!T9","v":0},{"$f":"Master20190430!U9-Master20180614!U9","v":0},{"$f":"Master20190430!V9-Master20180614!V9","v":0},{"$f":"Master20190430!W9-Master20180614!W9","v":0},{"$f":"Master20190430!X9-Master20180614!X9","v":0},{"$f":"Master20190430!Y9-Master20180614!Y9","v":0},{"$f":"Master20190430!Z9-Master20180614!Z9","v":0},{"$f":"Master20190430!AA9-Master20180614!AA9","v":0},{"$f":"Master20190430!AB9-Master20180614!AB9","v":0},{"$f":"Master20190430!AC9-Master20180614!AC9","v":0},{"$f":"Master20190430!AD9-Master20180614!AD9","v":0},{"$f":"Master20190430!AE9-Master20180614!AE9","v":0}]
["Western","1-B","VLY","Augusta County",{"$f":"Master20190430!E10-Master20180614!E10","v":0},{"$f":"Master20190430!F10-Master20180614!F10","v":4},{"$f":"Master20190430!G10-Master20180614!G10","v":-3},{"$f":"Master20190430!H10-Master20180614!H10","v":1},{"$f":"Master20190430!I10-Master20180614!I10","v":2},{"$f":"Master20190430!J10-Master20180614!J10","v":-4},{"$f":"Master20190430!K10-Master20180614!K10","v":-7},{"$f":"Master20190430!L10-Master20180614!L10","v":-2},{"$f":"Master20190430!M10-Master20180614!M10","v":-1},{"$f":"Master20190430!N10-Master20180614!N10","v":8},{"$f":"Master20190430!O10-Master20180614!O10","v":3},{"$f":"Master20190430!P10-Master20180614!P10","v":2},{"$f":"Master20190430!Q10-Master20180614!Q10","v":0},{"$f":"Master20190430!R10-Master20180614!R10","v":1},{"$f":"Master20190430!S10-Master20180614!S10","v":0},{"$f":"Master20190430!T10-Master20180614!T10","v":0},{"$f":"Master20190430!U10-Master20180614!U10","v":0},{"$f":"Master20190430!V10-Master20180614!V10","v":0},{"$f":"Master20190430!W10-Master20180614!W10","v":0},{"$f":"Master20190430!X10-Master20180614!X10","v":0},{"$f":"Master20190430!Y10-Master20180614!Y10","v":0},{"$f":"Master20190430!Z10-Master20180614!Z10","v":0},{"$f":"Master20190430!AA10-Master20180614!AA10","v":0},{"$f":"Master20190430!AB10-Master20180614!AB10","v":0},{"$f":"Master20190430!AC10-Master20180614!AC10","v":-1},{"$f":"Master20190430!AD10-Master20180614!AD10","v":0},{"$f":"Master20190430!AE10-Master20180614!AE10","v":0}]
["Western","1-C","ROC","Bath County",{"$f":"Master20190430!E11-Master20180614!E11","v":0},{"$f":"Master20190430!F11-Master20180614!F11","v":0},{"$f":"Master20190430!G11-Master20180614!G11","v":1},{"$f":"Master20190430!H11-Master20180614!H11","v":1},{"$f":"Master20190430!I11-Master20180614!I11","v":0},{"$f":"Master20190430!J11-Master20180614!J11","v":0},{"$f":"Master20190430!K11-Master20180614!K11","v":1},{"$f":"Master20190430!L11-Master20180614!L11","v":2},{"$f":"Master20190430!M11-Master20180614!M11","v":0},{"$f":"Master20190430!N11-Master20180614!N11","v":-2},{"$f":"Master20190430!O11-Master20180614!O11","v":0},{"$f":"Master20190430!P11-Master20180614!P11","v":0},{"$f":"Master20190430!Q11-Master20180614!Q11","v":0},{"$f":"Master20190430!R11-Master20180614!R11","v":0},{"$f":"Master20190430!S11-Master20180614!S11","v":0},{"$f":"Master20190430!T11-Master20180614!T11","v":0},{"$f":"Master20190430!U11-Master20180614!U11","v":0},{"$f":"Master20190430!V11-Master20180614!V11","v":0},{"$f":"Master20190430!W11-Master20180614!W11","v":0},{"$f":"Master20190430!X11-Master20180614!X11","v":0},{"$f":"Master20190430!Y11-Master20180614!Y11","v":0},{"$f":"Master20190430!Z11-Master20180614!Z11","v":0},{"$f":"Master20190430!AA11-Master20180614!AA11","v":0},{"$f":"Master20190430!AB11-Master20180614!AB11","v":0},{"$f":"Master20190430!AC11-Master20180614!AC11","v":0},{"$f":"Master20190430!AD11-Master20180614!AD11","v":0},{"$f":"Master20190430!AE11-Master20180614!AE11","v":0}]
["Western","1-D","HORI","Bedford County",{"$f":"Master20190430!E12-Master20180614!E12","v":0},{"$f":"Master20190430!F12-Master20180614!F12","v":5},{"$f":"Master20190430!G12-Master20180614!G12","v":4},{"$f":"Master20190430!H12-Master20180614!H12","v":9},{"$f":"Master20190430!I12-Master20180614!I12","v":1},{"$f":"Master20190430!J12-Master20180614!J12","v":-7},{"$f":"Master20190430!K12-Master20180614!K12","v":1},{"$f":"Master20190430!L12-Master20180614!L12","v":1},{"$f":"Master20190430!M12-Master20180614!M12","v":0},{"$f":"Master20190430!N12-Master20180614!N12","v":13},{"$f":"Master20190430!O12-Master20180614!O12","v":2},{"$f":"Master20190430!P12-Master20180614!P12","v":-2},{"$f":"Master20190430!Q12-Master20180614!Q12","v":0},{"$f":"Master20190430!R12-Master20180614!R12","v":-1},{"$f":"Master20190430!S12-Master20180614!S12","v":1},{"$f":"Master20190430!T12-Master20180614!T12","v":0},{"$f":"Master20190430!U12-Master20180614!U12","v":0},{"$f":"Master20190430!V12-Master20180614!V12","v":0},{"$f":"Master20190430!W12-Master20180614!W12","v":0},{"$f":"Master20190430!X12-Master20180614!X12","v":0},{"$f":"Master20190430!Y12-Master20180614!Y12","v":0},{"$f":"Master20190430!Z12-Master20180614!Z12","v":0},{"$f":"Master20190430!AA12-Master20180614!AA12","v":0},{"$f":"Master20190430!AB12-Master20180614!AB12","v":0},{"$f":"Master20190430!AC12-Master20180614!AC12","v":0},{"$f":"Master20190430!AD12-Master20180614!AD12","v":0},{"$f":"Master20190430!AE12-Master20180614!AE12","v":-2}]
["Southwestern","3-C","MTRG","Bland County",{"$f":"Master20190430!E13-Master20180614!E13","v":0},{"$f":"Master20190430!F13-Master20180614!F13","v":-1},{"$f":"Master20190430!G13-Master20180614!G13","v":1},{"$f":"Master20190430!H13-Master20180614!H13","v":0},{"$f":"Master20190430!I13-Master20180614!I13","v":0},{"$f":"Master20190430!J13-Master20180614!J13","v":0},{"$f":"Master20190430!K13-Master20180614!K13","v":0},{"$f":"Master20190430!L13-Master20180614!L13","v":-1},{"$f":"Master20190430!M13-Master20180614!M13","v":0},{"$f":"Master20190430!N13-Master20180614!N13","v":1},{"$f":"Master20190430!O13-Master20180614!O13","v":1},{"$f":"Master20190430!P13-Master20180614!P13","v":-1},{"$f":"Master20190430!Q13-Master20180614!Q13","v":0},{"$f":"Master20190430!R13-Master20180614!R13","v":0},{"$f":"Master20190430!S13-Master20180614!S13","v":0},{"$f":"Master20190430!T13-Master20180614!T13","v":0},{"$f":"Master20190430!U13-Master20180614!U13","v":0},{"$f":"Master20190430!V13-Master20180614!V13","v":0},{"$f":"Master20190430!W13-Master20180614!W13","v":0},{"$f":"Master20190430!X13-Master20180614!X13","v":0},{"$f":"Master20190430!Y13-Master20180614!Y13","v":0},{"$f":"Master20190430!Z13-Master20180614!Z13","v":0},{"$f":"Master20190430!AA13-Master20180614!AA13","v":0},{"$f":"Master20190430!AB13-Master20180614!AB13","v":0},{"$f":"Master20190430!AC13-Master20180614!AC13","v":0},{"$f":"Master20190430!AD13-Master20180614!AD13","v":0},{"$f":"Master20190430!AE13-Master20180614!AE13","v":0}]
["Southwestern","3-A","BLUE","Botetourt County",{"$f":"Master20190430!E14-Master20180614!E14","v":0},{"$f":"Master20190430!F14-Master20180614!F14","v":3},{"$f":"Master20190430!G14-Master20180614!G14","v":-2},{"$f":"Master20190430!H14-Master20180614!H14","v":1},{"$f":"Master20190430!I14-Master20180614!I14","v":0},{"$f":"Master20190430!J14-Master20180614!J14","v":-3},{"$f":"Master20190430!K14-Master20180614!K14","v":0},{"$f":"Master20190430!L14-Master20180614!L14","v":-1},{"$f":"Master20190430!M14-Master20180614!M14","v":0},{"$f":"Master20190430!N14-Master20180614!N14","v":3},{"$f":"Master20190430!O14-Master20180614!O14","v":0},{"$f":"Master20190430!P14-Master20180614!P14","v":2},{"$f":"Master20190430!Q14-Master20180614!Q14","v":0},{"$f":"Master20190430!R14-Master20180614!R14","v":1},{"$f":"Master20190430!S14-Master20180614!S14","v":1},{"$f":"Master20190430!T14-Master20180614!T14","v":0},{"$f":"Master20190430!U14-Master20180614!U14","v":0},{"$f":"Master20190430!V14-Master20180614!V14","v":0},{"$f":"Master20190430!W14-Master20180614!W14","v":0},{"$f":"Master20190430!X14-Master20180614!X14","v":0},{"$f":"Master20190430!Y14-Master20180614!Y14","v":0},{"$f":"Master20190430!Z14-Master20180614!Z14","v":0},{"$f":"Master20190430!AA14-Master20180614!AA14","v":0},{"$f":"Master20190430!AB14-Master20180614!AB14","v":0},{"$f":"Master20190430!AC14-Master20180614!AC14","v":0},{"$f":"Master20190430!AD14-Master20180614!AD14","v":0},{"$f":"Master20190430!AE14-Master20180614!AE14","v":0}]
["Southwestern","3-D","HIGH","Bristol City",{"$f":"Master20190430!E15-Master20180614!E15","v":0},{"$f":"Master20190430!F15-Master20180614!F15","v":1},{"$f":"Master20190430!G15-Master20180614!G15","v":5},{"$f":"Master20190430!H15-Master20180614!H15","v":6},{"$f":"Master20190430!I15-Master20180614!I15","v":1},{"$f":"Master20190430!J15-Master20180614!J15","v":-3},{"$f":"Master20190430!K15-Master20180614!K15","v":1},{"$f":"Master20190430!L15-Master20180614!L15","v":8},{"$f":"Master20190430!M15-Master20180614!M15","v":0},{"$f":"Master20190430!N15-Master20180614!N15","v":0},{"$f":"Master20190430!O15-Master20180614!O15","v":0},{"$f":"Master20190430!P15-Master20180614!P15","v":-1},{"$f":"Master20190430!Q15-Master20180614!Q15","v":0},{"$f":"Master20190430!R15-Master20180614!R15","v":0},{"$f":"Master20190430!S15-Master20180614!S15","v":1},{"$f":"Master20190430!T15-Master20180614!T15","v":0},{"$f":"Master20190430!U15-Master20180614!U15","v":0},{"$f":"Master20190430!V15-Master20180614!V15","v":0},{"$f":"Master20190430!W15-Master20180614!W15","v":0},{"$f":"Master20190430!X15-Master20180614!X15","v":0},{"$f":"Master20190430!Y15-Master20180614!Y15","v":0},{"$f":"Master20190430!Z15-Master20180614!Z15","v":0},{"$f":"Master20190430!AA15-Master20180614!AA15","v":0},{"$f":"Master20190430!AB15-Master20180614!AB15","v":0},{"$f":"Master20190430!AC15-Master20180614!AC15","v":0},{"$f":"Master20190430!AD15-Master20180614!AD15","v":0},{"$f":"Master20190430!AE15-Master20180614!AE15","v":0}]
["Central","4-D","SS","Brunswick County",{"$f":"Master20190430!E16-Master20180614!E16","v":0},{"$f":"Master20190430!F16-Master20180614!F16","v":0},{"$f":"Master20190430!G16-Master20180614!G16","v":0},{"$f":"Master20190430!H16-Master20180614!H16","v":0},{"$f":"Master20190430!I16-Master20180614!I16","v":-1},{"$f":"Master20190430!J16-Master20180614!J16","v":1},{"$f":"Master20190430!K16-Master20180614!K16","v":0},{"$f":"Master20190430!L16-Master20180614!L16","v":1},{"$f":"Master20190430!M16-Master20180614!M16","v":0},{"$f":"Master20190430!N16-Master20180614!N16","v":0},{"$f":"Master20190430!O16-Master20180614!O16","v":0},{"$f":"Master20190430!P16-Master20180614!P16","v":-1},{"$f":"Master20190430!Q16-Master20180614!Q16","v":0},{"$f":"Master20190430!R16-Master20180614!R16","v":0},{"$f":"Master20190430!S16-Master20180614!S16","v":0},{"$f":"Master20190430!T16-Master20180614!T16","v":0},{"$f":"Master20190430!U16-Master20180614!U16","v":0},{"$f":"Master20190430!V16-Master20180614!V16","v":0},{"$f":"Master20190430!W16-Master20180614!W16","v":0},{"$f":"Master20190430!X16-Master20180614!X16","v":0},{"$f":"Master20190430!Y16-Master20180614!Y16","v":0},{"$f":"Master20190430!Z16-Master20180614!Z16","v":0},{"$f":"Master20190430!AA16-Master20180614!AA16","v":0},{"$f":"Master20190430!AB16-Master20180614!AB16","v":0},{"$f":"Master20190430!AC16-Master20180614!AC16","v":0},{"$f":"Master20190430!AD16-Master20180614!AD16","v":0},{"$f":"Master20190430!AE16-Master20180614!AE16","v":0}]
["Southwestern","3-D","CMT","Buchanan County",{"$f":"Master20190430!E17-Master20180614!E17","v":0},{"$f":"Master20190430!F17-Master20180614!F17","v":1},{"$f":"Master20190430!G17-Master20180614!G17","v":-2},{"$f":"Master20190430!H17-Master20180614!H17","v":-1},{"$f":"Master20190430!I17-Master20180614!I17","v":0},{"$f":"Master20190430!J17-Master20180614!J17","v":-3},{"$f":"Master20190430!K17-Master20180614!K17","v":0},{"$f":"Master20190430!L17-Master20180614!L17","v":2},{"$f":"Master20190430!M17-Master20180614!M17","v":1},{"$f":"Master20190430!N17-Master20180614!N17","v":-2},{"$f":"Master20190430!O17-Master20180614!O17","v":0},{"$f":"Master20190430!P17-Master20180614!P17","v":1},{"$f":"Master20190430!Q17-Master20180614!Q17","v":0},{"$f":"Master20190430!R17-Master20180614!R17","v":0},{"$f":"Master20190430!S17-Master20180614!S17","v":0},{"$f":"Master20190430!T17-Master20180614!T17","v":0},{"$f":"Master20190430!U17-Master20180614!U17","v":0},{"$f":"Master20190430!V17-Master20180614!V17","v":0},{"$f":"Master20190430!W17-Master20180614!W17","v":0},{"$f":"Master20190430!X17-Master20180614!X17","v":0},{"$f":"Master20190430!Y17-Master20180614!Y17","v":0},{"$f":"Master20190430!Z17-Master20180614!Z17","v":0},{"$f":"Master20190430!AA17-Master20180614!AA17","v":0},{"$f":"Master20190430!AB17-Master20180614!AB17","v":0},{"$f":"Master20190430!AC17-Master20180614!AC17","v":0},{"$f":"Master20190430!AD17-Master20180614!AD17","v":0},{"$f":"Master20190430!AE17-Master20180614!AE17","v":0}]
["Central","4-B","CROS","Buckingham County",{"$f":"Master20190430!E18-Master20180614!E18","v":1},{"$f":"Master20190430!F18-Master20180614!F18","v":0},{"$f":"Master20190430!G18-Master20180614!G18","v":0},{"$f":"Master20190430!H18-Master20180614!H18","v":1},{"$f":"Master20190430!I18-Master20180614!I18","v":0},{"$f":"Master20190430!J18-Master20180614!J18","v":1},{"$f":"Master20190430!K18-Master20180614!K18","v":0},{"$f":"Master20190430!L18-Master20180614!L18","v":-1},{"$f":"Master20190430!M18-Master20180614!M18","v":1},{"$f":"Master20190430!N18-Master20180614!N18","v":0},{"$f":"Master20190430!O18-Master20180614!O18","v":0},{"$f":"Master20190430!P18-Master20180614!P18","v":0},{"$f":"Master20190430!Q18-Master20180614!Q18","v":0},{"$f":"Master20190430!R18-Master20180614!R18","v":0},{"$f":"Master20190430!S18-Master20180614!S18","v":0},{"$f":"Master20190430!T18-Master20180614!T18","v":0},{"$f":"Master20190430!U18-Master20180614!U18","v":0},{"$f":"Master20190430!V18-Master20180614!V18","v":0},{"$f":"Master20190430!W18-Master20180614!W18","v":0},{"$f":"Master20190430!X18-Master20180614!X18","v":0},{"$f":"Master20190430!Y18-Master20180614!Y18","v":0},{"$f":"Master20190430!Z18-Master20180614!Z18","v":0},{"$f":"Master20190430!AA18-Master20180614!AA18","v":0},{"$f":"Master20190430!AB18-Master20180614!AB18","v":0},{"$f":"Master20190430!AC18-Master20180614!AC18","v":0},{"$f":"Master20190430!AD18-Master20180614!AD18","v":0},{"$f":"Master20190430!AE18-Master20180614!AE18","v":0}]
["Western","1-C","ROC","Buena Vista City",{"$f":"Master20190430!E19-Master20180614!E19","v":0},{"$f":"Master20190430!F19-Master20180614!F19","v":0},{"$f":"Master20190430!G19-Master20180614!G19","v":1},{"$f":"Master20190430!H19-Master20180614!H19","v":1},{"$f":"Master20190430!I19-Master20180614!I19","v":0},{"$f":"Master20190430!J19-Master20180614!J19","v":0},{"$f":"Master20190430!K19-Master20180614!K19","v":0},{"$f":"Master20190430!L19-Master20180614!L19","v":1},{"$f":"Master20190430!M19-Master20180614!M19","v":0},{"$f":"Master20190430!N19-Master20180614!N19","v":0},{"$f":"Master20190430!O19-Master20180614!O19","v":0},{"$f":"Master20190430!P19-Master20180614!P19","v":0},{"$f":"Master20190430!Q19-Master20180614!Q19","v":0},{"$f":"Master20190430!R19-Master20180614!R19","v":0},{"$f":"Master20190430!S19-Master20180614!S19","v":0},{"$f":"Master20190430!T19-Master20180614!T19","v":0},{"$f":"Master20190430!U19-Master20180614!U19","v":0},{"$f":"Master20190430!V19-Master20180614!V19","v":0},{"$f":"Master20190430!W19-Master20180614!W19","v":0},{"$f":"Master20190430!X19-Master20180614!X19","v":0},{"$f":"Master20190430!Y19-Master20180614!Y19","v":0},{"$f":"Master20190430!Z19-Master20180614!Z19","v":0},{"$f":"Master20190430!AA19-Master20180614!AA19","v":0},{"$f":"Master20190430!AB19-Master20180614!AB19","v":0},{"$f":"Master20190430!AC19-Master20180614!AC19","v":0},{"$f":"Master20190430!AD19-Master20180614!AD19","v":0},{"$f":"Master20190430!AE19-Master20180614!AE19","v":0}]
["Western","1-D","HORI","Campbell County",{"$f":"Master20190430!E20-Master20180614!E20","v":1},{"$f":"Master20190430!F20-Master20180614!F20","v":1},{"$f":"Master20190430!G20-Master20180614!G20","v":8},{"$f":"Master20190430!H20-Master20180614!H20","v":10},{"$f":"Master20190430!I20-Master20180614!I20","v":-1},{"$f":"Master20190430!J20-Master20180614!J20","v":-7},{"$f":"Master20190430!K20-Master20180614!K20","v":2},{"$f":"Master20190430!L20-Master20180614!L20","v":7},{"$f":"Master20190430!M20-Master20180614!M20","v":3},{"$f":"Master20190430!N20-Master20180614!N20","v":6},{"$f":"Master20190430!O20-Master20180614!O20","v":3},{"$f":"Master20190430!P20-Master20180614!P20","v":-3},{"$f":"Master20190430!Q20-Master20180614!Q20","v":0},{"$f":"Master20190430!R20-Master20180614!R20","v":0},{"$f":"Master20190430!S20-Master20180614!S20","v":0},{"$f":"Master20190430!T20-Master20180614!T20","v":0},{"$f":"Master20190430!U20-Master20180614!U20","v":0},{"$f":"Master20190430!V20-Master20180614!V20","v":0},{"$f":"Master20190430!W20-Master20180614!W20","v":0},{"$f":"Master20190430!X20-Master20180614!X20","v":0},{"$f":"Master20190430!Y20-Master20180614!Y20","v":0},{"$f":"Master20190430!Z20-Master20180614!Z20","v":0},{"$f":"Master20190430!AA20-Master20180614!AA20","v":0},{"$f":"Master20190430!AB20-Master20180614!AB20","v":0},{"$f":"Master20190430!AC20-Master20180614!AC20","v":0},{"$f":"Master20190430!AD20-Master20180614!AD20","v":0},{"$f":"Master20190430!AE20-Master20180614!AE20","v":0}]
["Northern","2-C","RapA","Caroline County",{"$f":"Master20190430!E21-Master20180614!E21","v":-1},{"$f":"Master20190430!F21-Master20180614!F21","v":2},{"$f":"Master20190430!G21-Master20180614!G21","v":3},{"$f":"Master20190430!H21-Master20180614!H21","v":4},{"$f":"Master20190430!I21-Master20180614!I21","v":0},{"$f":"Master20190430!J21-Master20180614!J21","v":1},{"$f":"Master20190430!K21-Master20180614!K21","v":0},{"$f":"Master20190430!L21-Master20180614!L21","v":2},{"$f":"Master20190430!M21-Master20180614!M21","v":1},{"$f":"Master20190430!N21-Master20180614!N21","v":2},{"$f":"Master20190430!O21-Master20180614!O21","v":2},{"$f":"Master20190430!P21-Master20180614!P21","v":-4},{"$f":"Master20190430!Q21-Master20180614!Q21","v":0},{"$f":"Master20190430!R21-Master20180614!R21","v":0},{"$f":"Master20190430!S21-Master20180614!S21","v":0},{"$f":"Master20190430!T21-Master20180614!T21","v":0},{"$f":"Master20190430!U21-Master20180614!U21","v":0},{"$f":"Master20190430!V21-Master20180614!V21","v":0},{"$f":"Master20190430!W21-Master20180614!W21","v":0},{"$f":"Master20190430!X21-Master20180614!X21","v":0},{"$f":"Master20190430!Y21-Master20180614!Y21","v":0},{"$f":"Master20190430!Z21-Master20180614!Z21","v":0},{"$f":"Master20190430!AA21-Master20180614!AA21","v":0},{"$f":"Master20190430!AB21-Master20180614!AB21","v":0},{"$f":"Master20190430!AC21-Master20180614!AC21","v":0},{"$f":"Master20190430!AD21-Master20180614!AD21","v":0},{"$f":"Master20190430!AE21-Master20180614!AE21","v":0}]
["Southwestern","3-B","MTRG","Carroll County",{"$f":"Master20190430!E22-Master20180614!E22","v":0},{"$f":"Master20190430!F22-Master20180614!F22","v":4},{"$f":"Master20190430!G22-Master20180614!G22","v":28},{"$f":"Master20190430!H22-Master20180614!H22","v":32},{"$f":"Master20190430!I22-Master20180614!I22","v":-1},{"$f":"Master20190430!J22-Master20180614!J22","v":-8},{"$f":"Master20190430!K22-Master20180614!K22","v":-4},{"$f":"Master20190430!L22-Master20180614!L22","v":9},{"$f":"Master20190430!M22-Master20180614!M22","v":5},{"$f":"Master20190430!N22-Master20180614!N22","v":8},{"$f":"Master20190430!O22-Master20180614!O22","v":17},{"$f":"Master20190430!P22-Master20180614!P22","v":6},{"$f":"Master20190430!Q22-Master20180614!Q22","v":0},{"$f":"Master20190430!R22-Master20180614!R22","v":0},{"$f":"Master20190430!S22-Master20180614!S22","v":0},{"$f":"Master20190430!T22-Master20180614!T22","v":0},{"$f":"Master20190430!U22-Master20180614!U22","v":0},{"$f":"Master20190430!V22-Master20180614!V22","v":0},{"$f":"Master20190430!W22-Master20180614!W22","v":0},{"$f":"Master20190430!X22-Master20180614!X22","v":0},{"$f":"Master20190430!Y22-Master20180614!Y22","v":0},{"$f":"Master20190430!Z22-Master20180614!Z22","v":0},{"$f":"Master20190430!AA22-Master20180614!AA22","v":0},{"$f":"Master20190430!AB22-Master20180614!AB22","v":0},{"$f":"Master20190430!AC22-Master20180614!AC22","v":0},{"$f":"Master20190430!AD22-Master20180614!AD22","v":0},{"$f":"Master20190430!AE22-Master20180614!AE22","v":0}]
["Central","4-A","HENR","Charles City County",{"$f":"Master20190430!E23-Master20180614!E23","v":0},{"$f":"Master20190430!F23-Master20180614!F23","v":0},{"$f":"Master20190430!G23-Master20180614!G23","v":-2},{"$f":"Master20190430!H23-Master20180614!H23","v":-2},{"$f":"Master20190430!I23-Master20180614!I23","v":0},{"$f":"Master20190430!J23-Master20180614!J23","v":-1},{"$f":"Master20190430!K23-Master20180614!K23","v":0},{"$f":"Master20190430!L23-Master20180614!L23","v":-1},{"$f":"Master20190430!M23-Master20180614!M23","v":0},{"$f":"Master20190430!N23-Master20180614!N23","v":0},{"$f":"Master20190430!O23-Master20180614!O23","v":0},{"$f":"Master20190430!P23-Master20180614!P23","v":0},{"$f":"Master20190430!Q23-Master20180614!Q23","v":0},{"$f":"Master20190430!R23-Master20180614!R23","v":0},{"$f":"Master20190430!S23-Master20180614!S23","v":0},{"$f":"Master20190430!T23-Master20180614!T23","v":0},{"$f":"Master20190430!U23-Master20180614!U23","v":0},{"$f":"Master20190430!V23-Master20180614!V23","v":0},{"$f":"Master20190430!W23-Master20180614!W23","v":0},{"$f":"Master20190430!X23-Master20180614!X23","v":0},{"$f":"Master20190430!Y23-Master20180614!Y23","v":0},{"$f":"Master20190430!Z23-Master20180614!Z23","v":0},{"$f":"Master20190430!AA23-Master20180614!AA23","v":0},{"$f":"Master20190430!AB23-Master20180614!AB23","v":0},{"$f":"Master20190430!AC23-Master20180614!AC23","v":0},{"$f":"Master20190430!AD23-Master20180614!AD23","v":0},{"$f":"Master20190430!AE23-Master20180614!AE23","v":0}]
["Central","4-C","CROS","Charlotte County",{"$f":"Master20190430!E24-Master20180614!E24","v":0},{"$f":"Master20190430!F24-Master20180614!F24","v":0},{"$f":"Master20190430!G24-Master20180614!G24","v":-1},{"$f":"Master20190430!H24-Master20180614!H24","v":-1},{"$f":"Master20190430!I24-Master20180614!I24","v":-2},{"$f":"Master20190430!J24-Master20180614!J24","v":0},{"$f":"Master20190430!K24-Master20180614!K24","v":-1},{"$f":"Master20190430!L24-Master20180614!L24","v":0},{"$f":"Master20190430!M24-Master20180614!M24","v":0},{"$f":"Master20190430!N24-Master20180614!N24","v":0},{"$f":"Master20190430!O24-Master20180614!O24","v":0},{"$f":"Master20190430!P24-Master20180614!P24","v":2},{"$f":"Master20190430!Q24-Master20180614!Q24","v":0},{"$f":"Master20190430!R24-Master20180614!R24","v":0},{"$f":"Master20190430!S24-Master20180614!S24","v":1},{"$f":"Master20190430!T24-Master20180614!T24","v":0},{"$f":"Master20190430!U24-Master20180614!U24","v":0},{"$f":"Master20190430!V24-Master20180614!V24","v":0},{"$f":"Master20190430!W24-Master20180614!W24","v":0},{"$f":"Master20190430!X24-Master20180614!X24","v":0},{"$f":"Master20190430!Y24-Master20180614!Y24","v":0},{"$f":"Master20190430!Z24-Master20180614!Z24","v":0},{"$f":"Master20190430!AA24-Master20180614!AA24","v":0},{"$f":"Master20190430!AB24-Master20180614!AB24","v":0},{"$f":"Master20190430!AC24-Master20180614!AC24","v":0},{"$f":"Master20190430!AD24-Master20180614!AD24","v":0},{"$f":"Master20190430!AE24-Master20180614!AE24","v":0}]
["Western","1-A","RTEN","Charlottesville City",{"$f":"Master20190430!E25-Master20180614!E25","v":2},{"$f":"Master20190430!F25-Master20180614!F25","v":2},{"$f":"Master20190430!G25-Master20180614!G25","v":-4},{"$f":"Master20190430!H25-Master20180614!H25","v":0},{"$f":"Master20190430!I25-Master20180614!I25","v":-1},{"$f":"Master20190430!J25-Master20180614!J25","v":3},{"$f":"Master20190430!K25-Master20180614!K25","v":-1},{"$f":"Master20190430!L25-Master20180614!L25","v":-6},{"$f":"Master20190430!M25-Master20180614!M25","v":1},{"$f":"Master20190430!N25-Master20180614!N25","v":3},{"$f":"Master20190430!O25-Master20180614!O25","v":0},{"$f":"Master20190430!P25-Master20180614!P25","v":1},{"$f":"Master20190430!Q25-Master20180614!Q25","v":0},{"$f":"Master20190430!R25-Master20180614!R25","v":0},{"$f":"Master20190430!S25-Master20180614!S25","v":0},{"$f":"Master20190430!T25-Master20180614!T25","v":0},{"$f":"Master20190430!U25-Master20180614!U25","v":0},{"$f":"Master20190430!V25-Master20180614!V25","v":0},{"$f":"Master20190430!W25-Master20180614!W25","v":0},{"$f":"Master20190430!X25-Master20180614!X25","v":0},{"$f":"Master20190430!Y25-Master20180614!Y25","v":0},{"$f":"Master20190430!Z25-Master20180614!Z25","v":0},{"$f":"Master20190430!AA25-Master20180614!AA25","v":0},{"$f":"Master20190430!AB25-Master20180614!AB25","v":0},{"$f":"Master20190430!AC25-Master20180614!AC25","v":0},{"$f":"Master20190430!AD25-Master20180614!AD25","v":0},{"$f":"Master20190430!AE25-Master20180614!AE25","v":0}]
["Eastern","5-D","CHSP","Chesapeake City",{"$f":"Master20190430!E26-Master20180614!E26","v":-1},{"$f":"Master20190430!F26-Master20180614!F26","v":12},{"$f":"Master20190430!G26-Master20180614!G26","v":13},{"$f":"Master20190430!H26-Master20180614!H26","v":24},{"$f":"Master20190430!I26-Master20180614!I26","v":-5},{"$f":"Master20190430!J26-Master20180614!J26","v":-20},{"$f":"Master20190430!K26-Master20180614!K26","v":-1},{"$f":"Master20190430!L26-Master20180614!L26","v":37},{"$f":"Master20190430!M26-Master20180614!M26","v":3},{"$f":"Master20190430!N26-Master20180614!N26","v":4},{"$f":"Master20190430!O26-Master20180614!O26","v":1},{"$f":"Master20190430!P26-Master20180614!P26","v":5},{"$f":"Master20190430!Q26-Master20180614!Q26","v":0},{"$f":"Master20190430!R26-Master20180614!R26","v":2},{"$f":"Master20190430!S26-Master20180614!S26","v":1},{"$f":"Master20190430!T26-Master20180614!T26","v":0},{"$f":"Master20190430!U26-Master20180614!U26","v":0},{"$f":"Master20190430!V26-Master20180614!V26","v":0},{"$f":"Master20190430!W26-Master20180614!W26","v":0},{"$f":"Master20190430!X26-Master20180614!X26","v":2},{"$f":"Master20190430!Y26-Master20180614!Y26","v":0},{"$f":"Master20190430!Z26-Master20180614!Z26","v":0},{"$f":"Master20190430!AA26-Master20180614!AA26","v":0},{"$f":"Master20190430!AB26-Master20180614!AB26","v":0},{"$f":"Master20190430!AC26-Master20180614!AC26","v":3},{"$f":"Master20190430!AD26-Master20180614!AD26","v":0},{"$f":"Master20190430!AE26-Master20180614!AE26","v":1}]
["Central","4-A","CHST","Chesterfield County",{"$f":"Master20190430!E27-Master20180614!E27","v":4},{"$f":"Master20190430!F27-Master20180614!F27","v":18},{"$f":"Master20190430!G27-Master20180614!G27","v":34},{"$f":"Master20190430!H27-Master20180614!H27","v":56},{"$f":"Master20190430!I27-Master20180614!I27","v":2},{"$f":"Master20190430!J27-Master20180614!J27","v":-2},{"$f":"Master20190430!K27-Master20180614!K27","v":-20},{"$f":"Master20190430!L27-Master20180614!L27","v":51},{"$f":"Master20190430!M27-Master20180614!M27","v":11},{"$f":"Master20190430!N27-Master20180614!N27","v":3},{"$f":"Master20190430!O27-Master20180614!O27","v":-3},{"$f":"Master20190430!P27-Master20180614!P27","v":14},{"$f":"Master20190430!Q27-Master20180614!Q27","v":0},{"$f":"Master20190430!R27-Master20180614!R27","v":2},{"$f":"Master20190430!S27-Master20180614!S27","v":0},{"$f":"Master20190430!T27-Master20180614!T27","v":0},{"$f":"Master20190430!U27-Master20180614!U27","v":0},{"$f":"Master20190430!V27-Master20180614!V27","v":0},{"$f":"Master20190430!W27-Master20180614!W27","v":0},{"$f":"Master20190430!X27-Master20180614!X27","v":-1},{"$f":"Master20190430!Y27-Master20180614!Y27","v":0},{"$f":"Master20190430!Z27-Master20180614!Z27","v":0},{"$f":"Master20190430!AA27-Master20180614!AA27","v":1},{"$f":"Master20190430!AB27-Master20180614!AB27","v":0},{"$f":"Master20190430!AC27-Master20180614!AC27","v":0},{"$f":"Master20190430!AD27-Master20180614!AD27","v":-2},{"$f":"Master20190430!AE27-Master20180614!AE27","v":1}]
["Northern","2-D","NW","Clarke County",{"$f":"Master20190430!E28-Master20180614!E28","v":0},{"$f":"Master20190430!F28-Master20180614!F28","v":5},{"$f":"Master20190430!G28-Master20180614!G28","v":1},{"$f":"Master20190430!H28-Master20180614!H28","v":6},{"$f":"Master20190430!I28-Master20180614!I28","v":1},{"$f":"Master20190430!J28-Master20180614!J28","v":0},{"$f":"Master20190430!K28-Master20180614!K28","v":1},{"$f":"Master20190430!L28-Master20180614!L28","v":0},{"$f":"Master20190430!M28-Master20180614!M28","v":0},{"$f":"Master20190430!N28-Master20180614!N28","v":0},{"$f":"Master20190430!O28-Master20180614!O28","v":0},{"$f":"Master20190430!P28-Master20180614!P28","v":4},{"$f":"Master20190430!Q28-Master20180614!Q28","v":0},{"$f":"Master20190430!R28-Master20180614!R28","v":0},{"$f":"Master20190430!S28-Master20180614!S28","v":0},{"$f":"Master20190430!T28-Master20180614!T28","v":0},{"$f":"Master20190430!U28-Master20180614!U28","v":0},{"$f":"Master20190430!V28-Master20180614!V28","v":0},{"$f":"Master20190430!W28-Master20180614!W28","v":0},{"$f":"Master20190430!X28-Master20180614!X28","v":0},{"$f":"Master20190430!Y28-Master20180614!Y28","v":0},{"$f":"Master20190430!Z28-Master20180614!Z28","v":0},{"$f":"Master20190430!AA28-Master20180614!AA28","v":0},{"$f":"Master20190430!AB28-Master20180614!AB28","v":0},{"$f":"Master20190430!AC28-Master20180614!AC28","v":0},{"$f":"Master20190430!AD28-Master20180614!AD28","v":0},{"$f":"Master20190430!AE28-Master20180614!AE28","v":0}]
["Central","4-A","D19","Colonial Heights City",{"$f":"Master20190430!E29-Master20180614!E29","v":0},{"$f":"Master20190430!F29-Master20180614!F29","v":1},{"$f":"Master20190430!G29-Master20180614!G29","v":2},{"$f":"Master20190430!H29-Master20180614!H29","v":3},{"$f":"Master20190430!I29-Master20180614!I29","v":0},{"$f":"Master20190430!J29-Master20180614!J29","v":1},{"$f":"Master20190430!K29-Master20180614!K29","v":0},{"$f":"Master20190430!L29-Master20180614!L29","v":2},{"$f":"Master20190430!M29-Master20180614!M29","v":1},{"$f":"Master20190430!N29-Master20180614!N29","v":0},{"$f":"Master20190430!O29-Master20180614!O29","v":0},{"$f":"Master20190430!P29-Master20180614!P29","v":-1},{"$f":"Master20190430!Q29-Master20180614!Q29","v":0},{"$f":"Master20190430!R29-Master20180614!R29","v":0},{"$f":"Master20190430!S29-Master20180614!S29","v":1},{"$f":"Master20190430!T29-Master20180614!T29","v":0},{"$f":"Master20190430!U29-Master20180614!U29","v":0},{"$f":"Master20190430!V29-Master20180614!V29","v":0},{"$f":"Master20190430!W29-Master20180614!W29","v":0},{"$f":"Master20190430!X29-Master20180614!X29","v":-1},{"$f":"Master20190430!Y29-Master20180614!Y29","v":0},{"$f":"Master20190430!Z29-Master20180614!Z29","v":0},{"$f":"Master20190430!AA29-Master20180614!AA29","v":0},{"$f":"Master20190430!AB29-Master20180614!AB29","v":0},{"$f":"Master20190430!AC29-Master20180614!AC29","v":0},{"$f":"Master20190430!AD29-Master20180614!AD29","v":0},{"$f":"Master20190430!AE29-Master20180614!AE29","v":0}]
["Western","1-C","ALLE","Covington City",{"$f":"Master20190430!E30-Master20180614!E30","v":0},{"$f":"Master20190430!F30-Master20180614!F30","v":0},{"$f":"Master20190430!G30-Master20180614!G30","v":3},{"$f":"Master20190430!H30-Master20180614!H30","v":3},{"$f":"Master20190430!I30-Master20180614!I30","v":0},{"$f":"Master20190430!J30-Master20180614!J30","v":0},{"$f":"Master20190430!K30-Master20180614!K30","v":0},{"$f":"Master20190430!L30-Master20180614!L30","v":0},{"$f":"Master20190430!M30-Master20180614!M30","v":0},{"$f":"Master20190430!N30-Master20180614!N30","v":0},{"$f":"Master20190430!O30-Master20180614!O30","v":0},{"$f":"Master20190430!P30-Master20180614!P30","v":3},{"$f":"Master20190430!Q30-Master20180614!Q30","v":0},{"$f":"Master20190430!R30-Master20180614!R30","v":0},{"$f":"Master20190430!S30-Master20180614!S30","v":0},{"$f":"Master20190430!T30-Master20180614!T30","v":0},{"$f":"Master20190430!U30-Master20180614!U30","v":0},{"$f":"Master20190430!V30-Master20180614!V30","v":0},{"$f":"Master20190430!W30-Master20180614!W30","v":0},{"$f":"Master20190430!X30-Master20180614!X30","v":0},{"$f":"Master20190430!Y30-Master20180614!Y30","v":0},{"$f":"Master20190430!Z30-Master20180614!Z30","v":0},{"$f":"Master20190430!AA30-Master20180614!AA30","v":0},{"$f":"Master20190430!AB30-Master20180614!AB30","v":0},{"$f":"Master20190430!AC30-Master20180614!AC30","v":0},{"$f":"Master20190430!AD30-Master20180614!AD30","v":0},{"$f":"Master20190430!AE30-Master20180614!AE30","v":0}]
["Southwestern","3-A","BLUE","Craig County",{"$f":"Master20190430!E31-Master20180614!E31","v":1},{"$f":"Master20190430!F31-Master20180614!F31","v":0},{"$f":"Master20190430!G31-Master20180614!G31","v":0},{"$f":"Master20190430!H31-Master20180614!H31","v":1},{"$f":"Master20190430!I31-Master20180614!I31","v":1},{"$f":"Master20190430!J31-Master20180614!J31","v":0},{"$f":"Master20190430!K31-Master20180614!K31","v":0},{"$f":"Master20190430!L31-Master20180614!L31","v":0},{"$f":"Master20190430!M31-Master20180614!M31","v":0},{"$f":"Master20190430!N31-Master20180614!N31","v":0},{"$f":"Master20190430!O31-Master20180614!O31","v":0},{"$f":"Master20190430!P31-Master20180614!P31","v":0},{"$f":"Master20190430!Q31-Master20180614!Q31","v":0},{"$f":"Master20190430!R31-Master20180614!R31","v":0},{"$f":"Master20190430!S31-Master20180614!S31","v":0},{"$f":"Master20190430!T31-Master20180614!T31","v":0},{"$f":"Master20190430!U31-Master20180614!U31","v":0},{"$f":"Master20190430!V31-Master20180614!V31","v":0},{"$f":"Master20190430!W31-Master20180614!W31","v":0},{"$f":"Master20190430!X31-Master20180614!X31","v":0},{"$f":"Master20190430!Y31-Master20180614!Y31","v":0},{"$f":"Master20190430!Z31-Master20180614!Z31","v":0},{"$f":"Master20190430!AA31-Master20180614!AA31","v":0},{"$f":"Master20190430!AB31-Master20180614!AB31","v":0},{"$f":"Master20190430!AC31-Master20180614!AC31","v":0},{"$f":"Master20190430!AD31-Master20180614!AD31","v":0},{"$f":"Master20190430!AE31-Master20180614!AE31","v":0}]
["Northern","2-B","RapR","Culpeper County",{"$f":"Master20190430!E32-Master20180614!E32","v":2},{"$f":"Master20190430!F32-Master20180614!F32","v":0},{"$f":"Master20190430!G32-Master20180614!G32","v":5},{"$f":"Master20190430!H32-Master20180614!H32","v":7},{"$f":"Master20190430!I32-Master20180614!I32","v":-1},{"$f":"Master20190430!J32-Master20180614!J32","v":2},{"$f":"Master20190430!K32-Master20180614!K32","v":0},{"$f":"Master20190430!L32-Master20180614!L32","v":3},{"$f":"Master20190430!M32-Master20180614!M32","v":1},{"$f":"Master20190430!N32-Master20180614!N32","v":-1},{"$f":"Master20190430!O32-Master20180614!O32","v":1},{"$f":"Master20190430!P32-Master20180614!P32","v":2},{"$f":"Master20190430!Q32-Master20180614!Q32","v":0},{"$f":"Master20190430!R32-Master20180614!R32","v":0},{"$f":"Master20190430!S32-Master20180614!S32","v":0},{"$f":"Master20190430!T32-Master20180614!T32","v":0},{"$f":"Master20190430!U32-Master20180614!U32","v":0},{"$f":"Master20190430!V32-Master20180614!V32","v":0},{"$f":"Master20190430!W32-Master20180614!W32","v":0},{"$f":"Master20190430!X32-Master20180614!X32","v":0},{"$f":"Master20190430!Y32-Master20180614!Y32","v":0},{"$f":"Master20190430!Z32-Master20180614!Z32","v":0},{"$f":"Master20190430!AA32-Master20180614!AA32","v":0},{"$f":"Master20190430!AB32-Master20180614!AB32","v":0},{"$f":"Master20190430!AC32-Master20180614!AC32","v":0},{"$f":"Master20190430!AD32-Master20180614!AD32","v":0},{"$f":"Master20190430!AE32-Master20180614!AE32","v":0}]
["Central","4-B","CROS","Cumberland County",{"$f":"Master20190430!E33-Master20180614!E33","v":0},{"$f":"Master20190430!F33-Master20180614!F33","v":1},{"$f":"Master20190430!G33-Master20180614!G33","v":-3},{"$f":"Master20190430!H33-Master20180614!H33","v":-2},{"$f":"Master20190430!I33-Master20180614!I33","v":1},{"$f":"Master20190430!J33-Master20180614!J33","v":-6},{"$f":"Master20190430!K33-Master20180614!K33","v":-1},{"$f":"Master20190430!L33-Master20180614!L33","v":2},{"$f":"Master20190430!M33-Master20180614!M33","v":1},{"$f":"Master20190430!N33-Master20180614!N33","v":0},{"$f":"Master20190430!O33-Master20180614!O33","v":0},{"$f":"Master20190430!P33-Master20180614!P33","v":1},{"$f":"Master20190430!Q33-Master20180614!Q33","v":0},{"$f":"Master20190430!R33-Master20180614!R33","v":0},{"$f":"Master20190430!S33-Master20180614!S33","v":0},{"$f":"Master20190430!T33-Master20180614!T33","v":0},{"$f":"Master20190430!U33-Master20180614!U33","v":0},{"$f":"Master20190430!V33-Master20180614!V33","v":0},{"$f":"Master20190430!W33-Master20180614!W33","v":0},{"$f":"Master20190430!X33-Master20180614!X33","v":0},{"$f":"Master20190430!Y33-Master20180614!Y33","v":0},{"$f":"Master20190430!Z33-Master20180614!Z33","v":0},{"$f":"Master20190430!AA33-Master20180614!AA33","v":0},{"$f":"Master20190430!AB33-Master20180614!AB33","v":0},{"$f":"Master20190430!AC33-Master20180614!AC33","v":0},{"$f":"Master20190430!AD33-Master20180614!AD33","v":0},{"$f":"Master20190430!AE33-Master20180614!AE33","v":0}]
["Southwestern","3-B","DANV","Danville City",{"$f":"Master20190430!E34-Master20180614!E34","v":6},{"$f":"Master20190430!F34-Master20180614!F34","v":5},{"$f":"Master20190430!G34-Master20180614!G34","v":3},{"$f":"Master20190430!H34-Master20180614!H34","v":14},{"$f":"Master20190430!I34-Master20180614!I34","v":-1},{"$f":"Master20190430!J34-Master20180614!J34","v":-5},{"$f":"Master20190430!K34-Master20180614!K34","v":1},{"$f":"Master20190430!L34-Master20180614!L34","v":5},{"$f":"Master20190430!M34-Master20180614!M34","v":-1},{"$f":"Master20190430!N34-Master20180614!N34","v":2},{"$f":"Master20190430!O34-Master20180614!O34","v":2},{"$f":"Master20190430!P34-Master20180614!P34","v":11},{"$f":"Master20190430!Q34-Master20180614!Q34","v":0},{"$f":"Master20190430!R34-Master20180614!R34","v":1},{"$f":"Master20190430!S34-Master20180614!S34","v":0},{"$f":"Master20190430!T34-Master20180614!T34","v":0},{"$f":"Master20190430!U34-Master20180614!U34","v":0},{"$f":"Master20190430!V34-Master20180614!V34","v":0},{"$f":"Master20190430!W34-Master20180614!W34","v":2},{"$f":"Master20190430!X34-Master20180614!X34","v":0},{"$f":"Master20190430!Y34-Master20180614!Y34","v":0},{"$f":"Master20190430!Z34-Master20180614!Z34","v":0},{"$f":"Master20190430!AA34-Master20180614!AA34","v":0},{"$f":"Master20190430!AB34-Master20180614!AB34","v":0},{"$f":"Master20190430!AC34-Master20180614!AC34","v":0},{"$f":"Master20190430!AD34-Master20180614!AD34","v":0},{"$f":"Master20190430!AE34-Master20180614!AE34","v":0}]
["Southwestern","3-D","DCBH","Dickenson County",{"$f":"Master20190430!E35-Master20180614!E35","v":0},{"$f":"Master20190430!F35-Master20180614!F35","v":2},{"$f":"Master20190430!G35-Master20180614!G35","v":1},{"$f":"Master20190430!H35-Master20180614!H35","v":3},{"$f":"Master20190430!I35-Master20180614!I35","v":-1},{"$f":"Master20190430!J35-Master20180614!J35","v":-1},{"$f":"Master20190430!K35-Master20180614!K35","v":0},{"$f":"Master20190430!L35-Master20180614!L35","v":2},{"$f":"Master20190430!M35-Master20180614!M35","v":0},{"$f":"Master20190430!N35-Master20180614!N35","v":0},{"$f":"Master20190430!O35-Master20180614!O35","v":0},{"$f":"Master20190430!P35-Master20180614!P35","v":3},{"$f":"Master20190430!Q35-Master20180614!Q35","v":0},{"$f":"Master20190430!R35-Master20180614!R35","v":0},{"$f":"Master20190430!S35-Master20180614!S35","v":0},{"$f":"Master20190430!T35-Master20180614!T35","v":0},{"$f":"Master20190430!U35-Master20180614!U35","v":0},{"$f":"Master20190430!V35-Master20180614!V35","v":0},{"$f":"Master20190430!W35-Master20180614!W35","v":0},{"$f":"Master20190430!X35-Master20180614!X35","v":0},{"$f":"Master20190430!Y35-Master20180614!Y35","v":0},{"$f":"Master20190430!Z35-Master20180614!Z35","v":0},{"$f":"Master20190430!AA35-Master20180614!AA35","v":0},{"$f":"Master20190430!AB35-Master20180614!AB35","v":0},{"$f":"Master20190430!AC35-Master20180614!AC35","v":0},{"$f":"Master20190430!AD35-Master20180614!AD35","v":0},{"$f":"Master20190430!AE35-Master20180614!AE35","v":0}]
["Central","4-D","D19","Dinwiddie County",{"$f":"Master20190430!E36-Master20180614!E36","v":0},{"$f":"Master20190430!F36-Master20180614!F36","v":-1},{"$f":"Master20190430!G36-Master20180614!G36","v":-2},{"$f":"Master20190430!H36-Master20180614!H36","v":-3},{"$f":"Master20190430!I36-Master20180614!I36","v":1},{"$f":"Master20190430!J36-Master20180614!J36","v":-6},{"$f":"Master20190430!K36-Master20180614!K36","v":0},{"$f":"Master20190430!L36-Master20180614!L36","v":8},{"$f":"Master20190430!M36-Master20180614!M36","v":1},{"$f":"Master20190430!N36-Master20180614!N36","v":-1},{"$f":"Master20190430!O36-Master20180614!O36","v":-6},{"$f":"Master20190430!P36-Master20180614!P36","v":0},{"$f":"Master20190430!Q36-Master20180614!Q36","v":0},{"$f":"Master20190430!R36-Master20180614!R36","v":0},{"$f":"Master20190430!S36-Master20180614!S36","v":0},{"$f":"Master20190430!T36-Master20180614!T36","v":0},{"$f":"Master20190430!U36-Master20180614!U36","v":0},{"$f":"Master20190430!V36-Master20180614!V36","v":0},{"$f":"Master20190430!W36-Master20180614!W36","v":0},{"$f":"Master20190430!X36-Master20180614!X36","v":0},{"$f":"Master20190430!Y36-Master20180614!Y36","v":0},{"$f":"Master20190430!Z36-Master20180614!Z36","v":0},{"$f":"Master20190430!AA36-Master20180614!AA36","v":0},{"$f":"Master20190430!AB36-Master20180614!AB36","v":0},{"$f":"Master20190430!AC36-Master20180614!AC36","v":0},{"$f":"Master20190430!AD36-Master20180614!AD36","v":0},{"$f":"Master20190430!AE36-Master20180614!AE36","v":0}]
["Central","4-C","D19","Emporia City",{"$f":"Master20190430!E37-Master20180614!E37","v":0},{"$f":"Master20190430!F37-Master20180614!F37","v":1},{"$f":"Master20190430!G37-Master20180614!G37","v":0},{"$f":"Master20190430!H37-Master20180614!H37","v":1},{"$f":"Master20190430!I37-Master20180614!I37","v":0},{"$f":"Master20190430!J37-Master20180614!J37","v":-1},{"$f":"Master20190430!K37-Master20180614!K37","v":0},{"$f":"Master20190430!L37-Master20180614!L37","v":0},{"$f":"Master20190430!M37-Master20180614!M37","v":0},{"$f":"Master20190430!N37-Master20180614!N37","v":0},{"$f":"Master20190430!O37-Master20180614!O37","v":0},{"$f":"Master20190430!P37-Master20180614!P37","v":2},{"$f":"Master20190430!Q37-Master20180614!Q37","v":0},{"$f":"Master20190430!R37-Master20180614!R37","v":0},{"$f":"Master20190430!S37-Master20180614!S37","v":0},{"$f":"Master20190430!T37-Master20180614!T37","v":0},{"$f":"Master20190430!U37-Master20180614!U37","v":0},{"$f":"Master20190430!V37-Master20180614!V37","v":0},{"$f":"Master20190430!W37-Master20180614!W37","v":0},{"$f":"Master20190430!X37-Master20180614!X37","v":0},{"$f":"Master20190430!Y37-Master20180614!Y37","v":0},{"$f":"Master20190430!Z37-Master20180614!Z37","v":0},{"$f":"Master20190430!AA37-Master20180614!AA37","v":0},{"$f":"Master20190430!AB37-Master20180614!AB37","v":0},{"$f":"Master20190430!AC37-Master20180614!AC37","v":0},{"$f":"Master20190430!AD37-Master20180614!AD37","v":-1},{"$f":"Master20190430!AE37-Master20180614!AE37","v":0}]
["Eastern","5-A","MPNN","Essex County",{"$f":"Master20190430!E38-Master20180614!E38","v":0},{"$f":"Master20190430!F38-Master20180614!F38","v":2},{"$f":"Master20190430!G38-Master20180614!G38","v":1},{"$f":"Master20190430!H38-Master20180614!H38","v":3},{"$f":"Master20190430!I38-Master20180614!I38","v":1},{"$f":"Master20190430!J38-Master20180614!J38","v":1},{"$f":"Master20190430!K38-Master20180614!K38","v":0},{"$f":"Master20190430!L38-Master20180614!L38","v":-1},{"$f":"Master20190430!M38-Master20180614!M38","v":0},{"$f":"Master20190430!N38-Master20180614!N38","v":0},{"$f":"Master20190430!O38-Master20180614!O38","v":0},{"$f":"Master20190430!P38-Master20180614!P38","v":2},{"$f":"Master20190430!Q38-Master20180614!Q38","v":0},{"$f":"Master20190430!R38-Master20180614!R38","v":0},{"$f":"Master20190430!S38-Master20180614!S38","v":0},{"$f":"Master20190430!T38-Master20180614!T38","v":0},{"$f":"Master20190430!U38-Master20180614!U38","v":0},{"$f":"Master20190430!V38-Master20180614!V38","v":0},{"$f":"Master20190430!W38-Master20180614!W38","v":0},{"$f":"Master20190430!X38-Master20180614!X38","v":0},{"$f":"Master20190430!Y38-Master20180614!Y38","v":0},{"$f":"Master20190430!Z38-Master20180614!Z38","v":0},{"$f":"Master20190430!AA38-Master20180614!AA38","v":0},{"$f":"Master20190430!AB38-Master20180614!AB38","v":0},{"$f":"Master20190430!AC38-Master20180614!AC38","v":0},{"$f":"Master20190430!AD38-Master20180614!AD38","v":0},{"$f":"Master20190430!AE38-Master20180614!AE38","v":0}]
["Northern","2-A","FFFC","Fairfax City",{"$f":"Master20190430!E39-Master20180614!E39","v":0},{"$f":"Master20190430!F39-Master20180614!F39","v":0},{"$f":"Master20190430!G39-Master20180614!G39","v":-1},{"$f":"Master20190430!H39-Master20180614!H39","v":-1},{"$f":"Master20190430!I39-Master20180614!I39","v":0},{"$f":"Master20190430!J39-Master20180614!J39","v":0},{"$f":"Master20190430!K39-Master20180614!K39","v":0},{"$f":"Master20190430!L39-Master20180614!L39","v":-1},{"$f":"Master20190430!M39-Master20180614!M39","v":0},{"$f":"Master20190430!N39-Master20180614!N39","v":0},{"$f":"Master20190430!O39-Master20180614!O39","v":0},{"$f":"Master20190430!P39-Master20180614!P39","v":0},{"$f":"Master20190430!Q39-Master20180614!Q39","v":0},{"$f":"Master20190430!R39-Master20180614!R39","v":0},{"$f":"Master20190430!S39-Master20180614!S39","v":0},{"$f":"Master20190430!T39-Master20180614!T39","v":0},{"$f":"Master20190430!U39-Master20180614!U39","v":0},{"$f":"Master20190430!V39-Master20180614!V39","v":0},{"$f":"Master20190430!W39-Master20180614!W39","v":0},{"$f":"Master20190430!X39-Master20180614!X39","v":0},{"$f":"Master20190430!Y39-Master20180614!Y39","v":0},{"$f":"Master20190430!Z39-Master20180614!Z39","v":0},{"$f":"Master20190430!AA39-Master20180614!AA39","v":0},{"$f":"Master20190430!AB39-Master20180614!AB39","v":0},{"$f":"Master20190430!AC39-Master20180614!AC39","v":0},{"$f":"Master20190430!AD39-Master20180614!AD39","v":0},{"$f":"Master20190430!AE39-Master20180614!AE39","v":0}]
["Northern","2-A","FFFC","Fairfax County",{"$f":"Master20190430!E40-Master20180614!E40","v":1},{"$f":"Master20190430!F40-Master20180614!F40","v":71},{"$f":"Master20190430!G40-Master20180614!G40","v":27},{"$f":"Master20190430!H40-Master20180614!H40","v":99},{"$f":"Master20190430!I40-Master20180614!I40","v":4},{"$f":"Master20190430!J40-Master20180614!J40","v":-37},{"$f":"Master20190430!K40-Master20180614!K40","v":8},{"$f":"Master20190430!L40-Master20180614!L40","v":51},{"$f":"Master20190430!M40-Master20180614!M40","v":6},{"$f":"Master20190430!N40-Master20180614!N40","v":3},{"$f":"Master20190430!O40-Master20180614!O40","v":-6},{"$f":"Master20190430!P40-Master20180614!P40","v":70},{"$f":"Master20190430!Q40-Master20180614!Q40","v":0},{"$f":"Master20190430!R40-Master20180614!R40","v":2},{"$f":"Master20190430!S40-Master20180614!S40","v":0},{"$f":"Master20190430!T40-Master20180614!T40","v":0},{"$f":"Master20190430!U40-Master20180614!U40","v":0},{"$f":"Master20190430!V40-Master20180614!V40","v":0},{"$f":"Master20190430!W40-Master20180614!W40","v":1},{"$f":"Master20190430!X40-Master20180614!X40","v":0},{"$f":"Master20190430!Y40-Master20180614!Y40","v":0},{"$f":"Master20190430!Z40-Master20180614!Z40","v":0},{"$f":"Master20190430!AA40-Master20180614!AA40","v":0},{"$f":"Master20190430!AB40-Master20180614!AB40","v":-1},{"$f":"Master20190430!AC40-Master20180614!AC40","v":-1},{"$f":"Master20190430!AD40-Master20180614!AD40","v":-18},{"$f":"Master20190430!AE40-Master20180614!AE40","v":1}]
["Northern","2-A","FFFC","Falls Church City",{"$f":"Master20190430!E41-Master20180614!E41","v":0},{"$f":"Master20190430!F41-Master20180614!F41","v":1},{"$f":"Master20190430!G41-Master20180614!G41","v":-1},{"$f":"Master20190430!H41-Master20180614!H41","v":0},{"$f":"Master20190430!I41-Master20180614!I41","v":0},{"$f":"Master20190430!J41-Master20180614!J41","v":0},{"$f":"Master20190430!K41-Master20180614!K41","v":1},{"$f":"Master20190430!L41-Master20180614!L41","v":0},{"$f":"Master20190430!M41-Master20180614!M41","v":0},{"$f":"Master20190430!N41-Master20180614!N41","v":0},{"$f":"Master20190430!O41-Master20180614!O41","v":0},{"$f":"Master20190430!P41-Master20180614!P41","v":-1},{"$f":"Master20190430!Q41-Master20180614!Q41","v":0},{"$f":"Master20190430!R41-Master20180614!R41","v":0},{"$f":"Master20190430!S41-Master20180614!S41","v":0},{"$f":"Master20190430!T41-Master20180614!T41","v":0},{"$f":"Master20190430!U41-Master20180614!U41","v":0},{"$f":"Master20190430!V41-Master20180614!V41","v":0},{"$f":"Master20190430!W41-Master20180614!W41","v":0},{"$f":"Master20190430!X41-Master20180614!X41","v":0},{"$f":"Master20190430!Y41-Master20180614!Y41","v":0},{"$f":"Master20190430!Z41-Master20180614!Z41","v":0},{"$f":"Master20190430!AA41-Master20180614!AA41","v":0},{"$f":"Master20190430!AB41-Master20180614!AB41","v":0},{"$f":"Master20190430!AC41-Master20180614!AC41","v":0},{"$f":"Master20190430!AD41-Master20180614!AD41","v":-1},{"$f":"Master20190430!AE41-Master20180614!AE41","v":0}]
["Northern","2-B","RapR","Fauquier County",{"$f":"Master20190430!E42-Master20180614!E42","v":0},{"$f":"Master20190430!F42-Master20180614!F42","v":4},{"$f":"Master20190430!G42-Master20180614!G42","v":-2},{"$f":"Master20190430!H42-Master20180614!H42","v":2},{"$f":"Master20190430!I42-Master20180614!I42","v":1},{"$f":"Master20190430!J42-Master20180614!J42","v":-1},{"$f":"Master20190430!K42-Master20180614!K42","v":0},{"$f":"Master20190430!L42-Master20180614!L42","v":-4},{"$f":"Master20190430!M42-Master20180614!M42","v":1},{"$f":"Master20190430!N42-Master20180614!N42","v":0},{"$f":"Master20190430!O42-Master20180614!O42","v":2},{"$f":"Master20190430!P42-Master20180614!P42","v":3},{"$f":"Master20190430!Q42-Master20180614!Q42","v":0},{"$f":"Master20190430!R42-Master20180614!R42","v":0},{"$f":"Master20190430!S42-Master20180614!S42","v":0},{"$f":"Master20190430!T42-Master20180614!T42","v":0},{"$f":"Master20190430!U42-Master20180614!U42","v":0},{"$f":"Master20190430!V42-Master20180614!V42","v":0},{"$f":"Master20190430!W42-Master20180614!W42","v":0},{"$f":"Master20190430!X42-Master20180614!X42","v":-1},{"$f":"Master20190430!Y42-Master20180614!Y42","v":0},{"$f":"Master20190430!Z42-Master20180614!Z42","v":0},{"$f":"Master20190430!AA42-Master20180614!AA42","v":0},{"$f":"Master20190430!AB42-Master20180614!AB42","v":0},{"$f":"Master20190430!AC42-Master20180614!AC42","v":0},{"$f":"Master20190430!AD42-Master20180614!AD42","v":-1},{"$f":"Master20190430!AE42-Master20180614!AE42","v":0}]
["Southwestern","3-C","NRV","Floyd County",{"$f":"Master20190430!E43-Master20180614!E43","v":0},{"$f":"Master20190430!F43-Master20180614!F43","v":0},{"$f":"Master20190430!G43-Master20180614!G43","v":1},{"$f":"Master20190430!H43-Master20180614!H43","v":1},{"$f":"Master20190430!I43-Master20180614!I43","v":1},{"$f":"Master20190430!J43-Master20180614!J43","v":1},{"$f":"Master20190430!K43-Master20180614!K43","v":-2},{"$f":"Master20190430!L43-Master20180614!L43","v":-1},{"$f":"Master20190430!M43-Master20180614!M43","v":0},{"$f":"Master20190430!N43-Master20180614!N43","v":0},{"$f":"Master20190430!O43-Master20180614!O43","v":1},{"$f":"Master20190430!P43-Master20180614!P43","v":1},{"$f":"Master20190430!Q43-Master20180614!Q43","v":0},{"$f":"Master20190430!R43-Master20180614!R43","v":0},{"$f":"Master20190430!S43-Master20180614!S43","v":0},{"$f":"Master20190430!T43-Master20180614!T43","v":0},{"$f":"Master20190430!U43-Master20180614!U43","v":0},{"$f":"Master20190430!V43-Master20180614!V43","v":0},{"$f":"Master20190430!W43-Master20180614!W43","v":0},{"$f":"Master20190430!X43-Master20180614!X43","v":0},{"$f":"Master20190430!Y43-Master20180614!Y43","v":0},{"$f":"Master20190430!Z43-Master20180614!Z43","v":0},{"$f":"Master20190430!AA43-Master20180614!AA43","v":0},{"$f":"Master20190430!AB43-Master20180614!AB43","v":0},{"$f":"Master20190430!AC43-Master20180614!AC43","v":0},{"$f":"Master20190430!AD43-Master20180614!AD43","v":0},{"$f":"Master20190430!AE43-Master20180614!AE43","v":1}]
["Western","1-A","RTEN","Fluvanna County",{"$f":"Master20190430!E44-Master20180614!E44","v":-1},{"$f":"Master20190430!F44-Master20180614!F44","v":0},{"$f":"Master20190430!G44-Master20180614!G44","v":0},{"$f":"Master20190430!H44-Master20180614!H44","v":-1},{"$f":"Master20190430!I44-Master20180614!I44","v":0},{"$f":"Master20190430!J44-Master20180614!J44","v":0},{"$f":"Master20190430!K44-Master20180614!K44","v":0},{"$f":"Master20190430!L44-Master20180614!L44","v":-1},{"$f":"Master20190430!M44-Master20180614!M44","v":0},{"$f":"Master20190430!N44-Master20180614!N44","v":0},{"$f":"Master20190430!O44-Master20180614!O44","v":0},{"$f":"Master20190430!P44-Master20180614!P44","v":0},{"$f":"Master20190430!Q44-Master20180614!Q44","v":0},{"$f":"Master20190430!R44-Master20180614!R44","v":0},{"$f":"Master20190430!S44-Master20180614!S44","v":0},{"$f":"Master20190430!T44-Master20180614!T44","v":0},{"$f":"Master20190430!U44-Master20180614!U44","v":0},{"$f":"Master20190430!V44-Master20180614!V44","v":0},{"$f":"Master20190430!W44-Master20180614!W44","v":0},{"$f":"Master20190430!X44-Master20180614!X44","v":0},{"$f":"Master20190430!Y44-Master20180614!Y44","v":0},{"$f":"Master20190430!Z44-Master20180614!Z44","v":0},{"$f":"Master20190430!AA44-Master20180614!AA44","v":0},{"$f":"Master20190430!AB44-Master20180614!AB44","v":0},{"$f":"Master20190430!AC44-Master20180614!AC44","v":0},{"$f":"Master20190430!AD44-Master20180614!AD44","v":0},{"$f":"Master20190430!AE44-Master20180614!AE44","v":0}]
["Eastern","5-D","WT","Franklin City",{"$f":"Master20190430!E45-Master20180614!E45","v":0},{"$f":"Master20190430!F45-Master20180614!F45","v":-1},{"$f":"Master20190430!G45-Master20180614!G45","v":-1},{"$f":"Master20190430!H45-Master20180614!H45","v":-2},{"$f":"Master20190430!I45-Master20180614!I45","v":-1},{"$f":"Master20190430!J45-Master20180614!J45","v":-2},{"$f":"Master20190430!K45-Master20180614!K45","v":0},{"$f":"Master20190430!L45-Master20180614!L45","v":1},{"$f":"Master20190430!M45-Master20180614!M45","v":0},{"$f":"Master20190430!N45-Master20180614!N45","v":0},{"$f":"Master20190430!O45-Master20180614!O45","v":0},{"$f":"Master20190430!P45-Master20180614!P45","v":0},{"$f":"Master20190430!Q45-Master20180614!Q45","v":0},{"$f":"Master20190430!R45-Master20180614!R45","v":0},{"$f":"Master20190430!S45-Master20180614!S45","v":0},{"$f":"Master20190430!T45-Master20180614!T45","v":0},{"$f":"Master20190430!U45-Master20180614!U45","v":0},{"$f":"Master20190430!V45-Master20180614!V45","v":0},{"$f":"Master20190430!W45-Master20180614!W45","v":0},{"$f":"Master20190430!X45-Master20180614!X45","v":0},{"$f":"Master20190430!Y45-Master20180614!Y45","v":0},{"$f":"Master20190430!Z45-Master20180614!Z45","v":0},{"$f":"Master20190430!AA45-Master20180614!AA45","v":0},{"$f":"Master20190430!AB45-Master20180614!AB45","v":0},{"$f":"Master20190430!AC45-Master20180614!AC45","v":-1},{"$f":"Master20190430!AD45-Master20180614!AD45","v":-1},{"$f":"Master20190430!AE45-Master20180614!AE45","v":0}]
["Southwestern","3-A","PDMT","Franklin County",{"$f":"Master20190430!E46-Master20180614!E46","v":-1},{"$f":"Master20190430!F46-Master20180614!F46","v":3},{"$f":"Master20190430!G46-Master20180614!G46","v":3},{"$f":"Master20190430!H46-Master20180614!H46","v":5},{"$f":"Master20190430!I46-Master20180614!I46","v":-4},{"$f":"Master20190430!J46-Master20180614!J46","v":0},{"$f":"Master20190430!K46-Master20180614!K46","v":-2},{"$f":"Master20190430!L46-Master20180614!L46","v":1},{"$f":"Master20190430!M46-Master20180614!M46","v":1},{"$f":"Master20190430!N46-Master20180614!N46","v":5},{"$f":"Master20190430!O46-Master20180614!O46","v":0},{"$f":"Master20190430!P46-Master20180614!P46","v":4},{"$f":"Master20190430!Q46-Master20180614!Q46","v":0},{"$f":"Master20190430!R46-Master20180614!R46","v":0},{"$f":"Master20190430!S46-Master20180614!S46","v":0},{"$f":"Master20190430!T46-Master20180614!T46","v":0},{"$f":"Master20190430!U46-Master20180614!U46","v":0},{"$f":"Master20190430!V46-Master20180614!V46","v":0},{"$f":"Master20190430!W46-Master20180614!W46","v":0},{"$f":"Master20190430!X46-Master20180614!X46","v":0},{"$f":"Master20190430!Y46-Master20180614!Y46","v":0},{"$f":"Master20190430!Z46-Master20180614!Z46","v":0},{"$f":"Master20190430!AA46-Master20180614!AA46","v":0},{"$f":"Master20190430!AB46-Master20180614!AB46","v":0},{"$f":"Master20190430!AC46-Master20180614!AC46","v":0},{"$f":"Master20190430!AD46-Master20180614!AD46","v":0},{"$f":"Master20190430!AE46-Master20180614!AE46","v":0}]
["Northern","2-D","NW","Frederick County",{"$f":"Master20190430!E47-Master20180614!E47","v":0},{"$f":"Master20190430!F47-Master20180614!F47","v":5},{"$f":"Master20190430!G47-Master20180614!G47","v":1},{"$f":"Master20190430!H47-Master20180614!H47","v":6},{"$f":"Master20190430!I47-Master20180614!I47","v":1},{"$f":"Master20190430!J47-Master20180614!J47","v":-3},{"$f":"Master20190430!K47-Master20180614!K47","v":-2},{"$f":"Master20190430!L47-Master20180614!L47","v":6},{"$f":"Master20190430!M47-Master20180614!M47","v":0},{"$f":"Master20190430!N47-Master20180614!N47","v":3},{"$f":"Master20190430!O47-Master20180614!O47","v":-2},{"$f":"Master20190430!P47-Master20180614!P47","v":3},{"$f":"Master20190430!Q47-Master20180614!Q47","v":0},{"$f":"Master20190430!R47-Master20180614!R47","v":0},{"$f":"Master20190430!S47-Master20180614!S47","v":0},{"$f":"Master20190430!T47-Master20180614!T47","v":0},{"$f":"Master20190430!U47-Master20180614!U47","v":0},{"$f":"Master20190430!V47-Master20180614!V47","v":0},{"$f":"Master20190430!W47-Master20180614!W47","v":0},{"$f":"Master20190430!X47-Master20180614!X47","v":0},{"$f":"Master20190430!Y47-Master20180614!Y47","v":0},{"$f":"Master20190430!Z47-Master20180614!Z47","v":0},{"$f":"Master20190430!AA47-Master20180614!AA47","v":0},{"$f":"Master20190430!AB47-Master20180614!AB47","v":0},{"$f":"Master20190430!AC47-Master20180614!AC47","v":0},{"$f":"Master20190430!AD47-Master20180614!AD47","v":0},{"$f":"Master20190430!AE47-Master20180614!AE47","v":0}]
["Northern","2-C","RapA","Fredericksburg City",{"$f":"Master20190430!E48-Master20180614!E48","v":0},{"$f":"Master20190430!F48-Master20180614!F48","v":1},{"$f":"Master20190430!G48-Master20180614!G48","v":0},{"$f":"Master20190430!H48-Master20180614!H48","v":1},{"$f":"Master20190430!I48-Master20180614!I48","v":4},{"$f":"Master20190430!J48-Master20180614!J48","v":-1},{"$f":"Master20190430!K48-Master20180614!K48","v":0},{"$f":"Master20190430!L48-Master20180614!L48","v":0},{"$f":"Master20190430!M48-Master20180614!M48","v":1},{"$f":"Master20190430!N48-Master20180614!N48","v":-2},{"$f":"Master20190430!O48-Master20180614!O48","v":-1},{"$f":"Master20190430!P48-Master20180614!P48","v":0},{"$f":"Master20190430!Q48-Master20180614!Q48","v":0},{"$f":"Master20190430!R48-Master20180614!R48","v":0},{"$f":"Master20190430!S48-Master20180614!S48","v":0},{"$f":"Master20190430!T48-Master20180614!T48","v":0},{"$f":"Master20190430!U48-Master20180614!U48","v":0},{"$f":"Master20190430!V48-Master20180614!V48","v":0},{"$f":"Master20190430!W48-Master20180614!W48","v":0},{"$f":"Master20190430!X48-Master20180614!X48","v":0},{"$f":"Master20190430!Y48-Master20180614!Y48","v":0},{"$f":"Master20190430!Z48-Master20180614!Z48","v":0},{"$f":"Master20190430!AA48-Master20180614!AA48","v":0},{"$f":"Master20190430!AB48-Master20180614!AB48","v":0},{"$f":"Master20190430!AC48-Master20180614!AC48","v":-3},{"$f":"Master20190430!AD48-Master20180614!AD48","v":0},{"$f":"Master20190430!AE48-Master20180614!AE48","v":0}]
["Southwestern","3-B","MTRG","Galax City",{"$f":"Master20190430!E49-Master20180614!E49","v":0},{"$f":"Master20190430!F49-Master20180614!F49","v":0},{"$f":"Master20190430!G49-Master20180614!G49","v":2},{"$f":"Master20190430!H49-Master20180614!H49","v":2},{"$f":"Master20190430!I49-Master20180614!I49","v":0},{"$f":"Master20190430!J49-Master20180614!J49","v":-1},{"$f":"Master20190430!K49-Master20180614!K49","v":-1},{"$f":"Master20190430!L49-Master20180614!L49","v":0},{"$f":"Master20190430!M49-Master20180614!M49","v":0},{"$f":"Master20190430!N49-Master20180614!N49","v":1},{"$f":"Master20190430!O49-Master20180614!O49","v":3},{"$f":"Master20190430!P49-Master20180614!P49","v":0},{"$f":"Master20190430!Q49-Master20180614!Q49","v":0},{"$f":"Master20190430!R49-Master20180614!R49","v":0},{"$f":"Master20190430!S49-Master20180614!S49","v":2},{"$f":"Master20190430!T49-Master20180614!T49","v":0},{"$f":"Master20190430!U49-Master20180614!U49","v":0},{"$f":"Master20190430!V49-Master20180614!V49","v":0},{"$f":"Master20190430!W49-Master20180614!W49","v":0},{"$f":"Master20190430!X49-Master20180614!X49","v":0},{"$f":"Master20190430!Y49-Master20180614!Y49","v":0},{"$f":"Master20190430!Z49-Master20180614!Z49","v":0},{"$f":"Master20190430!AA49-Master20180614!AA49","v":0},{"$f":"Master20190430!AB49-Master20180614!AB49","v":0},{"$f":"Master20190430!AC49-Master20180614!AC49","v":0},{"$f":"Master20190430!AD49-Master20180614!AD49","v":0},{"$f":"Master20190430!AE49-Master20180614!AE49","v":0}]
["Southwestern","3-A","NRV","Giles County",{"$f":"Master20190430!E50-Master20180614!E50","v":0},{"$f":"Master20190430!F50-Master20180614!F50","v":-1},{"$f":"Master20190430!G50-Master20180614!G50","v":3},{"$f":"Master20190430!H50-Master20180614!H50","v":2},{"$f":"Master20190430!I50-Master20180614!I50","v":1},{"$f":"Master20190430!J50-Master20180614!J50","v":0},{"$f":"Master20190430!K50-Master20180614!K50","v":0},{"$f":"Master20190430!L50-Master20180614!L50","v":3},{"$f":"Master20190430!M50-Master20180614!M50","v":0},{"$f":"Master20190430!N50-Master20180614!N50","v":0},{"$f":"Master20190430!O50-Master20180614!O50","v":-2},{"$f":"Master20190430!P50-Master20180614!P50","v":0},{"$f":"Master20190430!Q50-Master20180614!Q50","v":0},{"$f":"Master20190430!R50-Master20180614!R50","v":0},{"$f":"Master20190430!S50-Master20180614!S50","v":0},{"$f":"Master20190430!T50-Master20180614!T50","v":0},{"$f":"Master20190430!U50-Master20180614!U50","v":0},{"$f":"Master20190430!V50-Master20180614!V50","v":0},{"$f":"Master20190430!W50-Master20180614!W50","v":0},{"$f":"Master20190430!X50-Master20180614!X50","v":0},{"$f":"Master20190430!Y50-Master20180614!Y50","v":0},{"$f":"Master20190430!Z50-Master20180614!Z50","v":0},{"$f":"Master20190430!AA50-Master20180614!AA50","v":0},{"$f":"Master20190430!AB50-Master20180614!AB50","v":1},{"$f":"Master20190430!AC50-Master20180614!AC50","v":0},{"$f":"Master20190430!AD50-Master20180614!AD50","v":0},{"$f":"Master20190430!AE50-Master20180614!AE50","v":0}]
["Eastern","5-A","MPNN","Gloucester County",{"$f":"Master20190430!E51-Master20180614!E51","v":0},{"$f":"Master20190430!F51-Master20180614!F51","v":3},{"$f":"Master20190430!G51-Master20180614!G51","v":1},{"$f":"Master20190430!H51-Master20180614!H51","v":4},{"$f":"Master20190430!I51-Master20180614!I51","v":-1},{"$f":"Master20190430!J51-Master20180614!J51","v":1},{"$f":"Master20190430!K51-Master20180614!K51","v":-1},{"$f":"Master20190430!L51-Master20180614!L51","v":0},{"$f":"Master20190430!M51-Master20180614!M51","v":2},{"$f":"Master20190430!N51-Master20180614!N51","v":-4},{"$f":"Master20190430!O51-Master20180614!O51","v":0},{"$f":"Master20190430!P51-Master20180614!P51","v":7},{"$f":"Master20190430!Q51-Master20180614!Q51","v":0},{"$f":"Master20190430!R51-Master20180614!R51","v":0},{"$f":"Master20190430!S51-Master20180614!S51","v":0},{"$f":"Master20190430!T51-Master20180614!T51","v":0},{"$f":"Master20190430!U51-Master20180614!U51","v":0},{"$f":"Master20190430!V51-Master20180614!V51","v":0},{"$f":"Master20190430!W51-Master20180614!W51","v":0},{"$f":"Master20190430!X51-Master20180614!X51","v":0},{"$f":"Master20190430!Y51-Master20180614!Y51","v":0},{"$f":"Master20190430!Z51-Master20180614!Z51","v":0},{"$f":"Master20190430!AA51-Master20180614!AA51","v":0},{"$f":"Master20190430!AB51-Master20180614!AB51","v":0},{"$f":"Master20190430!AC51-Master20180614!AC51","v":-1},{"$f":"Master20190430!AD51-Master20180614!AD51","v":-1},{"$f":"Master20190430!AE51-Master20180614!AE51","v":0}]
["Central","4-B","GOOC","Goochland County",{"$f":"Master20190430!E52-Master20180614!E52","v":0},{"$f":"Master20190430!F52-Master20180614!F52","v":0},{"$f":"Master20190430!G52-Master20180614!G52","v":1},{"$f":"Master20190430!H52-Master20180614!H52","v":1},{"$f":"Master20190430!I52-Master20180614!I52","v":0},{"$f":"Master20190430!J52-Master20180614!J52","v":0},{"$f":"Master20190430!K52-Master20180614!K52","v":0},{"$f":"Master20190430!L52-Master20180614!L52","v":0},{"$f":"Master20190430!M52-Master20180614!M52","v":1},{"$f":"Master20190430!N52-Master20180614!N52","v":-1},{"$f":"Master20190430!O52-Master20180614!O52","v":0},{"$f":"Master20190430!P52-Master20180614!P52","v":1},{"$f":"Master20190430!Q52-Master20180614!Q52","v":0},{"$f":"Master20190430!R52-Master20180614!R52","v":0},{"$f":"Master20190430!S52-Master20180614!S52","v":0},{"$f":"Master20190430!T52-Master20180614!T52","v":0},{"$f":"Master20190430!U52-Master20180614!U52","v":0},{"$f":"Master20190430!V52-Master20180614!V52","v":0},{"$f":"Master20190430!W52-Master20180614!W52","v":0},{"$f":"Master20190430!X52-Master20180614!X52","v":0},{"$f":"Master20190430!Y52-Master20180614!Y52","v":0},{"$f":"Master20190430!Z52-Master20180614!Z52","v":0},{"$f":"Master20190430!AA52-Master20180614!AA52","v":0},{"$f":"Master20190430!AB52-Master20180614!AB52","v":0},{"$f":"Master20190430!AC52-Master20180614!AC52","v":0},{"$f":"Master20190430!AD52-Master20180614!AD52","v":0},{"$f":"Master20190430!AE52-Master20180614!AE52","v":0}]
["Southwestern","3-B","MTRG","Grayson County",{"$f":"Master20190430!E53-Master20180614!E53","v":0},{"$f":"Master20190430!F53-Master20180614!F53","v":0},{"$f":"Master20190430!G53-Master20180614!G53","v":0},{"$f":"Master20190430!H53-Master20180614!H53","v":0},{"$f":"Master20190430!I53-Master20180614!I53","v":-1},{"$f":"Master20190430!J53-Master20180614!J53","v":-2},{"$f":"Master20190430!K53-Master20180614!K53","v":0},{"$f":"Master20190430!L53-Master20180614!L53","v":2},{"$f":"Master20190430!M53-Master20180614!M53","v":1},{"$f":"Master20190430!N53-Master20180614!N53","v":0},{"$f":"Master20190430!O53-Master20180614!O53","v":0},{"$f":"Master20190430!P53-Master20180614!P53","v":0},{"$f":"Master20190430!Q53-Master20180614!Q53","v":0},{"$f":"Master20190430!R53-Master20180614!R53","v":0},{"$f":"Master20190430!S53-Master20180614!S53","v":0},{"$f":"Master20190430!T53-Master20180614!T53","v":0},{"$f":"Master20190430!U53-Master20180614!U53","v":0},{"$f":"Master20190430!V53-Master20180614!V53","v":0},{"$f":"Master20190430!W53-Master20180614!W53","v":0},{"$f":"Master20190430!X53-Master20180614!X53","v":0},{"$f":"Master20190430!Y53-Master20180614!Y53","v":0},{"$f":"Master20190430!Z53-Master20180614!Z53","v":0},{"$f":"Master20190430!AA53-Master20180614!AA53","v":0},{"$f":"Master20190430!AB53-Master20180614!AB53","v":0},{"$f":"Master20190430!AC53-Master20180614!AC53","v":0},{"$f":"Master20190430!AD53-Master20180614!AD53","v":0},{"$f":"Master20190430!AE53-Master20180614!AE53","v":0}]
["Western","1-A","RTEN","Greene County",{"$f":"Master20190430!E54-Master20180614!E54","v":0},{"$f":"Master20190430!F54-Master20180614!F54","v":3},{"$f":"Master20190430!G54-Master20180614!G54","v":0},{"$f":"Master20190430!H54-Master20180614!H54","v":3},{"$f":"Master20190430!I54-Master20180614!I54","v":1},{"$f":"Master20190430!J54-Master20180614!J54","v":-3},{"$f":"Master20190430!K54-Master20180614!K54","v":0},{"$f":"Master20190430!L54-Master20180614!L54","v":2},{"$f":"Master20190430!M54-Master20180614!M54","v":1},{"$f":"Master20190430!N54-Master20180614!N54","v":-1},{"$f":"Master20190430!O54-Master20180614!O54","v":0},{"$f":"Master20190430!P54-Master20180614!P54","v":3},{"$f":"Master20190430!Q54-Master20180614!Q54","v":0},{"$f":"Master20190430!R54-Master20180614!R54","v":0},{"$f":"Master20190430!S54-Master20180614!S54","v":0},{"$f":"Master20190430!T54-Master20180614!T54","v":0},{"$f":"Master20190430!U54-Master20180614!U54","v":0},{"$f":"Master20190430!V54-Master20180614!V54","v":0},{"$f":"Master20190430!W54-Master20180614!W54","v":0},{"$f":"Master20190430!X54-Master20180614!X54","v":0},{"$f":"Master20190430!Y54-Master20180614!Y54","v":0},{"$f":"Master20190430!Z54-Master20180614!Z54","v":0},{"$f":"Master20190430!AA54-Master20180614!AA54","v":0},{"$f":"Master20190430!AB54-Master20180614!AB54","v":0},{"$f":"Master20190430!AC54-Master20180614!AC54","v":0},{"$f":"Master20190430!AD54-Master20180614!AD54","v":0},{"$f":"Master20190430!AE54-Master20180614!AE54","v":0}]
["Central","4-D","D19","Greensville County",{"$f":"Master20190430!E55-Master20180614!E55","v":0},{"$f":"Master20190430!F55-Master20180614!F55","v":1},{"$f":"Master20190430!G55-Master20180614!G55","v":0},{"$f":"Master20190430!H55-Master20180614!H55","v":1},{"$f":"Master20190430!I55-Master20180614!I55","v":0},{"$f":"Master20190430!J55-Master20180614!J55","v":-1},{"$f":"Master20190430!K55-Master20180614!K55","v":0},{"$f":"Master20190430!L55-Master20180614!L55","v":1},{"$f":"Master20190430!M55-Master20180614!M55","v":1},{"$f":"Master20190430!N55-Master20180614!N55","v":0},{"$f":"Master20190430!O55-Master20180614!O55","v":0},{"$f":"Master20190430!P55-Master20180614!P55","v":0},{"$f":"Master20190430!Q55-Master20180614!Q55","v":0},{"$f":"Master20190430!R55-Master20180614!R55","v":0},{"$f":"Master20190430!S55-Master20180614!S55","v":0},{"$f":"Master20190430!T55-Master20180614!T55","v":0},{"$f":"Master20190430!U55-Master20180614!U55","v":0},{"$f":"Master20190430!V55-Master20180614!V55","v":0},{"$f":"Master20190430!W55-Master20180614!W55","v":0},{"$f":"Master20190430!X55-Master20180614!X55","v":0},{"$f":"Master20190430!Y55-Master20180614!Y55","v":0},{"$f":"Master20190430!Z55-Master20180614!Z55","v":0},{"$f":"Master20190430!AA55-Master20180614!AA55","v":0},{"$f":"Master20190430!AB55-Master20180614!AB55","v":0},{"$f":"Master20190430!AC55-Master20180614!AC55","v":0},{"$f":"Master20190430!AD55-Master20180614!AD55","v":0},{"$f":"Master20190430!AE55-Master20180614!AE55","v":0}]
["Central","4-C","SS","Halifax County",{"$f":"Master20190430!E56-Master20180614!E56","v":0},{"$f":"Master20190430!F56-Master20180614!F56","v":1},{"$f":"Master20190430!G56-Master20180614!G56","v":5},{"$f":"Master20190430!H56-Master20180614!H56","v":6},{"$f":"Master20190430!I56-Master20180614!I56","v":0},{"$f":"Master20190430!J56-Master20180614!J56","v":0},{"$f":"Master20190430!K56-Master20180614!K56","v":-3},{"$f":"Master20190430!L56-Master20180614!L56","v":7},{"$f":"Master20190430!M56-Master20180614!M56","v":-1},{"$f":"Master20190430!N56-Master20180614!N56","v":1},{"$f":"Master20190430!O56-Master20180614!O56","v":0},{"$f":"Master20190430!P56-Master20180614!P56","v":2},{"$f":"Master20190430!Q56-Master20180614!Q56","v":0},{"$f":"Master20190430!R56-Master20180614!R56","v":1},{"$f":"Master20190430!S56-Master20180614!S56","v":0},{"$f":"Master20190430!T56-Master20180614!T56","v":0},{"$f":"Master20190430!U56-Master20180614!U56","v":0},{"$f":"Master20190430!V56-Master20180614!V56","v":0},{"$f":"Master20190430!W56-Master20180614!W56","v":0},{"$f":"Master20190430!X56-Master20180614!X56","v":0},{"$f":"Master20190430!Y56-Master20180614!Y56","v":0},{"$f":"Master20190430!Z56-Master20180614!Z56","v":0},{"$f":"Master20190430!AA56-Master20180614!AA56","v":0},{"$f":"Master20190430!AB56-Master20180614!AB56","v":0},{"$f":"Master20190430!AC56-Master20180614!AC56","v":0},{"$f":"Master20190430!AD56-Master20180614!AD56","v":0},{"$f":"Master20190430!AE56-Master20180614!AE56","v":0}]
["Eastern","5-C","HAMP","Hampton City",{"$f":"Master20190430!E57-Master20180614!E57","v":1},{"$f":"Master20190430!F57-Master20180614!F57","v":14},{"$f":"Master20190430!G57-Master20180614!G57","v":5},{"$f":"Master20190430!H57-Master20180614!H57","v":20},{"$f":"Master20190430!I57-Master20180614!I57","v":-5},{"$f":"Master20190430!J57-Master20180614!J57","v":-1},{"$f":"Master20190430!K57-Master20180614!K57","v":1},{"$f":"Master20190430!L57-Master20180614!L57","v":10},{"$f":"Master20190430!M57-Master20180614!M57","v":4},{"$f":"Master20190430!N57-Master20180614!N57","v":-1},{"$f":"Master20190430!O57-Master20180614!O57","v":3},{"$f":"Master20190430!P57-Master20180614!P57","v":9},{"$f":"Master20190430!Q57-Master20180614!Q57","v":0},{"$f":"Master20190430!R57-Master20180614!R57","v":0},{"$f":"Master20190430!S57-Master20180614!S57","v":1},{"$f":"Master20190430!T57-Master20180614!T57","v":0},{"$f":"Master20190430!U57-Master20180614!U57","v":0},{"$f":"Master20190430!V57-Master20180614!V57","v":0},{"$f":"Master20190430!W57-Master20180614!W57","v":0},{"$f":"Master20190430!X57-Master20180614!X57","v":-1},{"$f":"Master20190430!Y57-Master20180614!Y57","v":0},{"$f":"Master20190430!Z57-Master20180614!Z57","v":0},{"$f":"Master20190430!AA57-Master20180614!AA57","v":0},{"$f":"Master20190430!AB57-Master20180614!AB57","v":-1},{"$f":"Master20190430!AC57-Master20180614!AC57","v":1},{"$f":"Master20190430!AD57-Master20180614!AD57","v":-1},{"$f":"Master20190430!AE57-Master20180614!AE57","v":1}]
["Central","4-A","HANO","Hanover County",{"$f":"Master20190430!E58-Master20180614!E58","v":1},{"$f":"Master20190430!F58-Master20180614!F58","v":9},{"$f":"Master20190430!G58-Master20180614!G58","v":0},{"$f":"Master20190430!H58-Master20180614!H58","v":10},{"$f":"Master20190430!I58-Master20180614!I58","v":3},{"$f":"Master20190430!J58-Master20180614!J58","v":-5},{"$f":"Master20190430!K58-Master20180614!K58","v":1},{"$f":"Master20190430!L58-Master20180614!L58","v":9},{"$f":"Master20190430!M58-Master20180614!M58","v":3},{"$f":"Master20190430!N58-Master20180614!N58","v":5},{"$f":"Master20190430!O58-Master20180614!O58","v":1},{"$f":"Master20190430!P58-Master20180614!P58","v":-7},{"$f":"Master20190430!Q58-Master20180614!Q58","v":0},{"$f":"Master20190430!R58-Master20180614!R58","v":0},{"$f":"Master20190430!S58-Master20180614!S58","v":1},{"$f":"Master20190430!T58-Master20180614!T58","v":0},{"$f":"Master20190430!U58-Master20180614!U58","v":0},{"$f":"Master20190430!V58-Master20180614!V58","v":0},{"$f":"Master20190430!W58-Master20180614!W58","v":0},{"$f":"Master20190430!X58-Master20180614!X58","v":0},{"$f":"Master20190430!Y58-Master20180614!Y58","v":0},{"$f":"Master20190430!Z58-Master20180614!Z58","v":0},{"$f":"Master20190430!AA58-Master20180614!AA58","v":0},{"$f":"Master20190430!AB58-Master20180614!AB58","v":0},{"$f":"Master20190430!AC58-Master20180614!AC58","v":-1},{"$f":"Master20190430!AD58-Master20180614!AD58","v":-1},{"$f":"Master20190430!AE58-Master20180614!AE58","v":1}]
["Western","1-B","HARR","Harrisonburg City",{"$f":"Master20190430!E59-Master20180614!E59","v":2},{"$f":"Master20190430!F59-Master20180614!F59","v":2},{"$f":"Master20190430!G59-Master20180614!G59","v":-4},{"$f":"Master20190430!H59-Master20180614!H59","v":0},{"$f":"Master20190430!I59-Master20180614!I59","v":4},{"$f":"Master20190430!J59-Master20180614!J59","v":-4},{"$f":"Master20190430!K59-Master20180614!K59","v":-1},{"$f":"Master20190430!L59-Master20180614!L59","v":0},{"$f":"Master20190430!M59-Master20180614!M59","v":-1},{"$f":"Master20190430!N59-Master20180614!N59","v":0},{"$f":"Master20190430!O59-Master20180614!O59","v":-1},{"$f":"Master20190430!P59-Master20180614!P59","v":3},{"$f":"Master20190430!Q59-Master20180614!Q59","v":0},{"$f":"Master20190430!R59-Master20180614!R59","v":0},{"$f":"Master20190430!S59-Master20180614!S59","v":0},{"$f":"Master20190430!T59-Master20180614!T59","v":0},{"$f":"Master20190430!U59-Master20180614!U59","v":0},{"$f":"Master20190430!V59-Master20180614!V59","v":0},{"$f":"Master20190430!W59-Master20180614!W59","v":0},{"$f":"Master20190430!X59-Master20180614!X59","v":0},{"$f":"Master20190430!Y59-Master20180614!Y59","v":0},{"$f":"Master20190430!Z59-Master20180614!Z59","v":0},{"$f":"Master20190430!AA59-Master20180614!AA59","v":0},{"$f":"Master20190430!AB59-Master20180614!AB59","v":0},{"$f":"Master20190430!AC59-Master20180614!AC59","v":0},{"$f":"Master20190430!AD59-Master20180614!AD59","v":0},{"$f":"Master20190430!AE59-Master20180614!AE59","v":0}]
["Central","4-A","HENR","Henrico County",{"$f":"Master20190430!E60-Master20180614!E60","v":3},{"$f":"Master20190430!F60-Master20180614!F60","v":15},{"$f":"Master20190430!G60-Master20180614!G60","v":16},{"$f":"Master20190430!H60-Master20180614!H60","v":34},{"$f":"Master20190430!I60-Master20180614!I60","v":3},{"$f":"Master20190430!J60-Master20180614!J60","v":-25},{"$f":"Master20190430!K60-Master20180614!K60","v":-4},{"$f":"Master20190430!L60-Master20180614!L60","v":49},{"$f":"Master20190430!M60-Master20180614!M60","v":4},{"$f":"Master20190430!N60-Master20180614!N60","v":2},{"$f":"Master20190430!O60-Master20180614!O60","v":0},{"$f":"Master20190430!P60-Master20180614!P60","v":5},{"$f":"Master20190430!Q60-Master20180614!Q60","v":1},{"$f":"Master20190430!R60-Master20180614!R60","v":0},{"$f":"Master20190430!S60-Master20180614!S60","v":-1},{"$f":"Master20190430!T60-Master20180614!T60","v":0},{"$f":"Master20190430!U60-Master20180614!U60","v":0},{"$f":"Master20190430!V60-Master20180614!V60","v":0},{"$f":"Master20190430!W60-Master20180614!W60","v":0},{"$f":"Master20190430!X60-Master20180614!X60","v":-1},{"$f":"Master20190430!Y60-Master20180614!Y60","v":0},{"$f":"Master20190430!Z60-Master20180614!Z60","v":1},{"$f":"Master20190430!AA60-Master20180614!AA60","v":-1},{"$f":"Master20190430!AB60-Master20180614!AB60","v":0},{"$f":"Master20190430!AC60-Master20180614!AC60","v":0},{"$f":"Master20190430!AD60-Master20180614!AD60","v":-1},{"$f":"Master20190430!AE60-Master20180614!AE60","v":1}]
["Southwestern","3-B","PDMT","Henry County",{"$f":"Master20190430!E61-Master20180614!E61","v":1},{"$f":"Master20190430!F61-Master20180614!F61","v":4},{"$f":"Master20190430!G61-Master20180614!G61","v":9},{"$f":"Master20190430!H61-Master20180614!H61","v":14},{"$f":"Master20190430!I61-Master20180614!I61","v":-1},{"$f":"Master20190430!J61-Master20180614!J61","v":-1},{"$f":"Master20190430!K61-Master20180614!K61","v":0},{"$f":"Master20190430!L61-Master20180614!L61","v":4},{"$f":"Master20190430!M61-Master20180614!M61","v":0},{"$f":"Master20190430!N61-Master20180614!N61","v":2},{"$f":"Master20190430!O61-Master20180614!O61","v":5},{"$f":"Master20190430!P61-Master20180614!P61","v":5},{"$f":"Master20190430!Q61-Master20180614!Q61","v":0},{"$f":"Master20190430!R61-Master20180614!R61","v":0},{"$f":"Master20190430!S61-Master20180614!S61","v":0},{"$f":"Master20190430!T61-Master20180614!T61","v":0},{"$f":"Master20190430!U61-Master20180614!U61","v":0},{"$f":"Master20190430!V61-Master20180614!V61","v":0},{"$f":"Master20190430!W61-Master20180614!W61","v":0},{"$f":"Master20190430!X61-Master20180614!X61","v":0},{"$f":"Master20190430!Y61-Master20180614!Y61","v":0},{"$f":"Master20190430!Z61-Master20180614!Z61","v":0},{"$f":"Master20190430!AA61-Master20180614!AA61","v":0},{"$f":"Master20190430!AB61-Master20180614!AB61","v":0},{"$f":"Master20190430!AC61-Master20180614!AC61","v":0},{"$f":"Master20190430!AD61-Master20180614!AD61","v":0},{"$f":"Master20190430!AE61-Master20180614!AE61","v":0}]
["Western","1-B","VLY","Highland County",{"$f":"Master20190430!E62-Master20180614!E62","v":0},{"$f":"Master20190430!F62-Master20180614!F62","v":0},{"$f":"Master20190430!G62-Master20180614!G62","v":1},{"$f":"Master20190430!H62-Master20180614!H62","v":1},{"$f":"Master20190430!I62-Master20180614!I62","v":0},{"$f":"Master20190430!J62-Master20180614!J62","v":-1},{"$f":"Master20190430!K62-Master20180614!K62","v":0},{"$f":"Master20190430!L62-Master20180614!L62","v":2},{"$f":"Master20190430!M62-Master20180614!M62","v":0},{"$f":"Master20190430!N62-Master20180614!N62","v":0},{"$f":"Master20190430!O62-Master20180614!O62","v":0},{"$f":"Master20190430!P62-Master20180614!P62","v":0},{"$f":"Master20190430!Q62-Master20180614!Q62","v":0},{"$f":"Master20190430!R62-Master20180614!R62","v":0},{"$f":"Master20190430!S62-Master20180614!S62","v":0},{"$f":"Master20190430!T62-Master20180614!T62","v":0},{"$f":"Master20190430!U62-Master20180614!U62","v":0},{"$f":"Master20190430!V62-Master20180614!V62","v":0},{"$f":"Master20190430!W62-Master20180614!W62","v":0},{"$f":"Master20190430!X62-Master20180614!X62","v":0},{"$f":"Master20190430!Y62-Master20180614!Y62","v":0},{"$f":"Master20190430!Z62-Master20180614!Z62","v":0},{"$f":"Master20190430!AA62-Master20180614!AA62","v":0},{"$f":"Master20190430!AB62-Master20180614!AB62","v":0},{"$f":"Master20190430!AC62-Master20180614!AC62","v":0},{"$f":"Master20190430!AD62-Master20180614!AD62","v":0},{"$f":"Master20190430!AE62-Master20180614!AE62","v":0}]
["Central","4-D","D19","Hopewell City",{"$f":"Master20190430!E63-Master20180614!E63","v":0},{"$f":"Master20190430!F63-Master20180614!F63","v":2},{"$f":"Master20190430!G63-Master20180614!G63","v":2},{"$f":"Master20190430!H63-Master20180614!H63","v":4},{"$f":"Master20190430!I63-Master20180614!I63","v":-1},{"$f":"Master20190430!J63-Master20180614!J63","v":-1},{"$f":"Master20190430!K63-Master20180614!K63","v":1},{"$f":"Master20190430!L63-Master20180614!L63","v":2},{"$f":"Master20190430!M63-Master20180614!M63","v":1},{"$f":"Master20190430!N63-Master20180614!N63","v":-1},{"$f":"Master20190430!O63-Master20180614!O63","v":0},{"$f":"Master20190430!P63-Master20180614!P63","v":3},{"$f":"Master20190430!Q63-Master20180614!Q63","v":0},{"$f":"Master20190430!R63-Master20180614!R63","v":0},{"$f":"Master20190430!S63-Master20180614!S63","v":0},{"$f":"Master20190430!T63-Master20180614!T63","v":0},{"$f":"Master20190430!U63-Master20180614!U63","v":0},{"$f":"Master20190430!V63-Master20180614!V63","v":0},{"$f":"Master20190430!W63-Master20180614!W63","v":0},{"$f":"Master20190430!X63-Master20180614!X63","v":0},{"$f":"Master20190430!Y63-Master20180614!Y63","v":0},{"$f":"Master20190430!Z63-Master20180614!Z63","v":0},{"$f":"Master20190430!AA63-Master20180614!AA63","v":0},{"$f":"Master20190430!AB63-Master20180614!AB63","v":0},{"$f":"Master20190430!AC63-Master20180614!AC63","v":0},{"$f":"Master20190430!AD63-Master20180614!AD63","v":0},{"$f":"Master20190430!AE63-Master20180614!AE63","v":0}]
["Eastern","5-D","WT","Isle of Wight County",{"$f":"Master20190430!E64-Master20180614!E64","v":0},{"$f":"Master20190430!F64-Master20180614!F64","v":2},{"$f":"Master20190430!G64-Master20180614!G64","v":2},{"$f":"Master20190430!H64-Master20180614!H64","v":4},{"$f":"Master20190430!I64-Master20180614!I64","v":1},{"$f":"Master20190430!J64-Master20180614!J64","v":2},{"$f":"Master20190430!K64-Master20180614!K64","v":0},{"$f":"Master20190430!L64-Master20180614!L64","v":1},{"$f":"Master20190430!M64-Master20180614!M64","v":0},{"$f":"Master20190430!N64-Master20180614!N64","v":-1},{"$f":"Master20190430!O64-Master20180614!O64","v":0},{"$f":"Master20190430!P64-Master20180614!P64","v":1},{"$f":"Master20190430!Q64-Master20180614!Q64","v":0},{"$f":"Master20190430!R64-Master20180614!R64","v":0},{"$f":"Master20190430!S64-Master20180614!S64","v":0},{"$f":"Master20190430!T64-Master20180614!T64","v":0},{"$f":"Master20190430!U64-Master20180614!U64","v":0},{"$f":"Master20190430!V64-Master20180614!V64","v":0},{"$f":"Master20190430!W64-Master20180614!W64","v":0},{"$f":"Master20190430!X64-Master20180614!X64","v":0},{"$f":"Master20190430!Y64-Master20180614!Y64","v":0},{"$f":"Master20190430!Z64-Master20180614!Z64","v":0},{"$f":"Master20190430!AA64-Master20180614!AA64","v":0},{"$f":"Master20190430!AB64-Master20180614!AB64","v":0},{"$f":"Master20190430!AC64-Master20180614!AC64","v":0},{"$f":"Master20190430!AD64-Master20180614!AD64","v":1},{"$f":"Master20190430!AE64-Master20180614!AE64","v":0}]
["Eastern","5-C","COLO","James City County",{"$f":"Master20190430!E65-Master20180614!E65","v":0},{"$f":"Master20190430!F65-Master20180614!F65","v":7},{"$f":"Master20190430!G65-Master20180614!G65","v":4},{"$f":"Master20190430!H65-Master20180614!H65","v":11},{"$f":"Master20190430!I65-Master20180614!I65","v":0},{"$f":"Master20190430!J65-Master20180614!J65","v":1},{"$f":"Master20190430!K65-Master20180614!K65","v":0},{"$f":"Master20190430!L65-Master20180614!L65","v":2},{"$f":"Master20190430!M65-Master20180614!M65","v":0},{"$f":"Master20190430!N65-Master20180614!N65","v":0},{"$f":"Master20190430!O65-Master20180614!O65","v":0},{"$f":"Master20190430!P65-Master20180614!P65","v":8},{"$f":"Master20190430!Q65-Master20180614!Q65","v":0},{"$f":"Master20190430!R65-Master20180614!R65","v":0},{"$f":"Master20190430!S65-Master20180614!S65","v":0},{"$f":"Master20190430!T65-Master20180614!T65","v":0},{"$f":"Master20190430!U65-Master20180614!U65","v":0},{"$f":"Master20190430!V65-Master20180614!V65","v":0},{"$f":"Master20190430!W65-Master20180614!W65","v":0},{"$f":"Master20190430!X65-Master20180614!X65","v":0},{"$f":"Master20190430!Y65-Master20180614!Y65","v":0},{"$f":"Master20190430!Z65-Master20180614!Z65","v":0},{"$f":"Master20190430!AA65-Master20180614!AA65","v":0},{"$f":"Master20190430!AB65-Master20180614!AB65","v":0},{"$f":"Master20190430!AC65-Master20180614!AC65","v":0},{"$f":"Master20190430!AD65-Master20180614!AD65","v":0},{"$f":"Master20190430!AE65-Master20180614!AE65","v":0}]
["Eastern","5-A","MPNN","King and Queen County",{"$f":"Master20190430!E66-Master20180614!E66","v":0},{"$f":"Master20190430!F66-Master20180614!F66","v":0},{"$f":"Master20190430!G66-Master20180614!G66","v":0},{"$f":"Master20190430!H66-Master20180614!H66","v":0},{"$f":"Master20190430!I66-Master20180614!I66","v":0},{"$f":"Master20190430!J66-Master20180614!J66","v":0},{"$f":"Master20190430!K66-Master20180614!K66","v":0},{"$f":"Master20190430!L66-Master20180614!L66","v":0},{"$f":"Master20190430!M66-Master20180614!M66","v":0},{"$f":"Master20190430!N66-Master20180614!N66","v":0},{"$f":"Master20190430!O66-Master20180614!O66","v":0},{"$f":"Master20190430!P66-Master20180614!P66","v":0},{"$f":"Master20190430!Q66-Master20180614!Q66","v":0},{"$f":"Master20190430!R66-Master20180614!R66","v":0},{"$f":"Master20190430!S66-Master20180614!S66","v":0},{"$f":"Master20190430!T66-Master20180614!T66","v":0},{"$f":"Master20190430!U66-Master20180614!U66","v":0},{"$f":"Master20190430!V66-Master20180614!V66","v":0},{"$f":"Master20190430!W66-Master20180614!W66","v":0},{"$f":"Master20190430!X66-Master20180614!X66","v":0},{"$f":"Master20190430!Y66-Master20180614!Y66","v":0},{"$f":"Master20190430!Z66-Master20180614!Z66","v":0},{"$f":"Master20190430!AA66-Master20180614!AA66","v":0},{"$f":"Master20190430!AB66-Master20180614!AB66","v":0},{"$f":"Master20190430!AC66-Master20180614!AC66","v":0},{"$f":"Master20190430!AD66-Master20180614!AD66","v":0},{"$f":"Master20190430!AE66-Master20180614!AE66","v":0}]
["Northern","2-C","RapA","King George County",{"$f":"Master20190430!E67-Master20180614!E67","v":0},{"$f":"Master20190430!F67-Master20180614!F67","v":2},{"$f":"Master20190430!G67-Master20180614!G67","v":-2},{"$f":"Master20190430!H67-Master20180614!H67","v":0},{"$f":"Master20190430!I67-Master20180614!I67","v":0},{"$f":"Master20190430!J67-Master20180614!J67","v":0},{"$f":"Master20190430!K67-Master20180614!K67","v":-1},{"$f":"Master20190430!L67-Master20180614!L67","v":1},{"$f":"Master20190430!M67-Master20180614!M67","v":0},{"$f":"Master20190430!N67-Master20180614!N67","v":0},{"$f":"Master20190430!O67-Master20180614!O67","v":1},{"$f":"Master20190430!P67-Master20180614!P67","v":-1},{"$f":"Master20190430!Q67-Master20180614!Q67","v":0},{"$f":"Master20190430!R67-Master20180614!R67","v":0},{"$f":"Master20190430!S67-Master20180614!S67","v":0},{"$f":"Master20190430!T67-Master20180614!T67","v":0},{"$f":"Master20190430!U67-Master20180614!U67","v":0},{"$f":"Master20190430!V67-Master20180614!V67","v":0},{"$f":"Master20190430!W67-Master20180614!W67","v":0},{"$f":"Master20190430!X67-Master20180614!X67","v":0},{"$f":"Master20190430!Y67-Master20180614!Y67","v":0},{"$f":"Master20190430!Z67-Master20180614!Z67","v":0},{"$f":"Master20190430!AA67-Master20180614!AA67","v":0},{"$f":"Master20190430!AB67-Master20180614!AB67","v":0},{"$f":"Master20190430!AC67-Master20180614!AC67","v":0},{"$f":"Master20190430!AD67-Master20180614!AD67","v":0},{"$f":"Master20190430!AE67-Master20180614!AE67","v":0}]
["Eastern","5-A","MPNN","King William County",{"$f":"Master20190430!E68-Master20180614!E68","v":0},{"$f":"Master20190430!F68-Master20180614!F68","v":3},{"$f":"Master20190430!G68-Master20180614!G68","v":1},{"$f":"Master20190430!H68-Master20180614!H68","v":4},{"$f":"Master20190430!I68-Master20180614!I68","v":0},{"$f":"Master20190430!J68-Master20180614!J68","v":2},{"$f":"Master20190430!K68-Master20180614!K68","v":0},{"$f":"Master20190430!L68-Master20180614!L68","v":-1},{"$f":"Master20190430!M68-Master20180614!M68","v":-1},{"$f":"Master20190430!N68-Master20180614!N68","v":3},{"$f":"Master20190430!O68-Master20180614!O68","v":0},{"$f":"Master20190430!P68-Master20180614!P68","v":1},{"$f":"Master20190430!Q68-Master20180614!Q68","v":0},{"$f":"Master20190430!R68-Master20180614!R68","v":0},{"$f":"Master20190430!S68-Master20180614!S68","v":0},{"$f":"Master20190430!T68-Master20180614!T68","v":0},{"$f":"Master20190430!U68-Master20180614!U68","v":0},{"$f":"Master20190430!V68-Master20180614!V68","v":0},{"$f":"Master20190430!W68-Master20180614!W68","v":0},{"$f":"Master20190430!X68-Master20180614!X68","v":0},{"$f":"Master20190430!Y68-Master20180614!Y68","v":0},{"$f":"Master20190430!Z68-Master20180614!Z68","v":0},{"$f":"Master20190430!AA68-Master20180614!AA68","v":0},{"$f":"Master20190430!AB68-Master20180614!AB68","v":0},{"$f":"Master20190430!AC68-Master20180614!AC68","v":0},{"$f":"Master20190430!AD68-Master20180614!AD68","v":0},{"$f":"Master20190430!AE68-Master20180614!AE68","v":0}]
["Eastern","5-A","MPNN","Lancaster County",{"$f":"Master20190430!E69-Master20180614!E69","v":0},{"$f":"Master20190430!F69-Master20180614!F69","v":0},{"$f":"Master20190430!G69-Master20180614!G69","v":-1},{"$f":"Master20190430!H69-Master20180614!H69","v":-1},{"$f":"Master20190430!I69-Master20180614!I69","v":-1},{"$f":"Master20190430!J69-Master20180614!J69","v":0},{"$f":"Master20190430!K69-Master20180614!K69","v":0},{"$f":"Master20190430!L69-Master20180614!L69","v":0},{"$f":"Master20190430!M69-Master20180614!M69","v":0},{"$f":"Master20190430!N69-Master20180614!N69","v":0},{"$f":"Master20190430!O69-Master20180614!O69","v":0},{"$f":"Master20190430!P69-Master20180614!P69","v":0},{"$f":"Master20190430!Q69-Master20180614!Q69","v":0},{"$f":"Master20190430!R69-Master20180614!R69","v":0},{"$f":"Master20190430!S69-Master20180614!S69","v":0},{"$f":"Master20190430!T69-Master20180614!T69","v":0},{"$f":"Master20190430!U69-Master20180614!U69","v":0},{"$f":"Master20190430!V69-Master20180614!V69","v":0},{"$f":"Master20190430!W69-Master20180614!W69","v":0},{"$f":"Master20190430!X69-Master20180614!X69","v":0},{"$f":"Master20190430!Y69-Master20180614!Y69","v":0},{"$f":"Master20190430!Z69-Master20180614!Z69","v":0},{"$f":"Master20190430!AA69-Master20180614!AA69","v":0},{"$f":"Master20190430!AB69-Master20180614!AB69","v":0},{"$f":"Master20190430!AC69-Master20180614!AC69","v":0},{"$f":"Master20190430!AD69-Master20180614!AD69","v":0},{"$f":"Master20190430!AE69-Master20180614!AE69","v":0}]
["Southwestern","3-D","PLD1","Lee County",{"$f":"Master20190430!E70-Master20180614!E70","v":0},{"$f":"Master20190430!F70-Master20180614!F70","v":1},{"$f":"Master20190430!G70-Master20180614!G70","v":-1},{"$f":"Master20190430!H70-Master20180614!H70","v":0},{"$f":"Master20190430!I70-Master20180614!I70","v":-2},{"$f":"Master20190430!J70-Master20180614!J70","v":5},{"$f":"Master20190430!K70-Master20180614!K70","v":-1},{"$f":"Master20190430!L70-Master20180614!L70","v":0},{"$f":"Master20190430!M70-Master20180614!M70","v":0},{"$f":"Master20190430!N70-Master20180614!N70","v":0},{"$f":"Master20190430!O70-Master20180614!O70","v":-1},{"$f":"Master20190430!P70-Master20180614!P70","v":-1},{"$f":"Master20190430!Q70-Master20180614!Q70","v":0},{"$f":"Master20190430!R70-Master20180614!R70","v":0},{"$f":"Master20190430!S70-Master20180614!S70","v":0},{"$f":"Master20190430!T70-Master20180614!T70","v":0},{"$f":"Master20190430!U70-Master20180614!U70","v":0},{"$f":"Master20190430!V70-Master20180614!V70","v":0},{"$f":"Master20190430!W70-Master20180614!W70","v":0},{"$f":"Master20190430!X70-Master20180614!X70","v":0},{"$f":"Master20190430!Y70-Master20180614!Y70","v":0},{"$f":"Master20190430!Z70-Master20180614!Z70","v":0},{"$f":"Master20190430!AA70-Master20180614!AA70","v":0},{"$f":"Master20190430!AB70-Master20180614!AB70","v":0},{"$f":"Master20190430!AC70-Master20180614!AC70","v":0},{"$f":"Master20190430!AD70-Master20180614!AD70","v":0},{"$f":"Master20190430!AE70-Master20180614!AE70","v":0}]
["Western","1-C","ROC","Lexington City",{"$f":"Master20190430!E71-Master20180614!E71","v":0},{"$f":"Master20190430!F71-Master20180614!F71","v":-1},{"$f":"Master20190430!G71-Master20180614!G71","v":1},{"$f":"Master20190430!H71-Master20180614!H71","v":0},{"$f":"Master20190430!I71-Master20180614!I71","v":0},{"$f":"Master20190430!J71-Master20180614!J71","v":0},{"$f":"Master20190430!K71-Master20180614!K71","v":0},{"$f":"Master20190430!L71-Master20180614!L71","v":0},{"$f":"Master20190430!M71-Master20180614!M71","v":0},{"$f":"Master20190430!N71-Master20180614!N71","v":0},{"$f":"Master20190430!O71-Master20180614!O71","v":0},{"$f":"Master20190430!P71-Master20180614!P71","v":0},{"$f":"Master20190430!Q71-Master20180614!Q71","v":0},{"$f":"Master20190430!R71-Master20180614!R71","v":0},{"$f":"Master20190430!S71-Master20180614!S71","v":0},{"$f":"Master20190430!T71-Master20180614!T71","v":0},{"$f":"Master20190430!U71-Master20180614!U71","v":0},{"$f":"Master20190430!V71-Master20180614!V71","v":0},{"$f":"Master20190430!W71-Master20180614!W71","v":0},{"$f":"Master20190430!X71-Master20180614!X71","v":0},{"$f":"Master20190430!Y71-Master20180614!Y71","v":0},{"$f":"Master20190430!Z71-Master20180614!Z71","v":0},{"$f":"Master20190430!AA71-Master20180614!AA71","v":0},{"$f":"Master20190430!AB71-Master20180614!AB71","v":0},{"$f":"Master20190430!AC71-Master20180614!AC71","v":0},{"$f":"Master20190430!AD71-Master20180614!AD71","v":0},{"$f":"Master20190430!AE71-Master20180614!AE71","v":0}]
["Northern","2-A","LOUD","Loudoun County",{"$f":"Master20190430!E72-Master20180614!E72","v":1},{"$f":"Master20190430!F72-Master20180614!F72","v":18},{"$f":"Master20190430!G72-Master20180614!G72","v":1},{"$f":"Master20190430!H72-Master20180614!H72","v":20},{"$f":"Master20190430!I72-Master20180614!I72","v":2},{"$f":"Master20190430!J72-Master20180614!J72","v":-14},{"$f":"Master20190430!K72-Master20180614!K72","v":2},{"$f":"Master20190430!L72-Master20180614!L72","v":14},{"$f":"Master20190430!M72-Master20180614!M72","v":1},{"$f":"Master20190430!N72-Master20180614!N72","v":2},{"$f":"Master20190430!O72-Master20180614!O72","v":2},{"$f":"Master20190430!P72-Master20180614!P72","v":11},{"$f":"Master20190430!Q72-Master20180614!Q72","v":0},{"$f":"Master20190430!R72-Master20180614!R72","v":0},{"$f":"Master20190430!S72-Master20180614!S72","v":0},{"$f":"Master20190430!T72-Master20180614!T72","v":0},{"$f":"Master20190430!U72-Master20180614!U72","v":0},{"$f":"Master20190430!V72-Master20180614!V72","v":0},{"$f":"Master20190430!W72-Master20180614!W72","v":0},{"$f":"Master20190430!X72-Master20180614!X72","v":2},{"$f":"Master20190430!Y72-Master20180614!Y72","v":0},{"$f":"Master20190430!Z72-Master20180614!Z72","v":0},{"$f":"Master20190430!AA72-Master20180614!AA72","v":0},{"$f":"Master20190430!AB72-Master20180614!AB72","v":0},{"$f":"Master20190430!AC72-Master20180614!AC72","v":1},{"$f":"Master20190430!AD72-Master20180614!AD72","v":0},{"$f":"Master20190430!AE72-Master20180614!AE72","v":0}]
["Western","1-A","RTEN","Louisa County",{"$f":"Master20190430!E73-Master20180614!E73","v":-1},{"$f":"Master20190430!F73-Master20180614!F73","v":2},{"$f":"Master20190430!G73-Master20180614!G73","v":0},{"$f":"Master20190430!H73-Master20180614!H73","v":1},{"$f":"Master20190430!I73-Master20180614!I73","v":-2},{"$f":"Master20190430!J73-Master20180614!J73","v":-1},{"$f":"Master20190430!K73-Master20180614!K73","v":0},{"$f":"Master20190430!L73-Master20180614!L73","v":2},{"$f":"Master20190430!M73-Master20180614!M73","v":0},{"$f":"Master20190430!N73-Master20180614!N73","v":1},{"$f":"Master20190430!O73-Master20180614!O73","v":0},{"$f":"Master20190430!P73-Master20180614!P73","v":1},{"$f":"Master20190430!Q73-Master20180614!Q73","v":0},{"$f":"Master20190430!R73-Master20180614!R73","v":0},{"$f":"Master20190430!S73-Master20180614!S73","v":0},{"$f":"Master20190430!T73-Master20180614!T73","v":0},{"$f":"Master20190430!U73-Master20180614!U73","v":0},{"$f":"Master20190430!V73-Master20180614!V73","v":0},{"$f":"Master20190430!W73-Master20180614!W73","v":0},{"$f":"Master20190430!X73-Master20180614!X73","v":0},{"$f":"Master20190430!Y73-Master20180614!Y73","v":0},{"$f":"Master20190430!Z73-Master20180614!Z73","v":0},{"$f":"Master20190430!AA73-Master20180614!AA73","v":0},{"$f":"Master20190430!AB73-Master20180614!AB73","v":0},{"$f":"Master20190430!AC73-Master20180614!AC73","v":0},{"$f":"Master20190430!AD73-Master20180614!AD73","v":0},{"$f":"Master20190430!AE73-Master20180614!AE73","v":0}]
["Central","4-C","CROS","Lunenburg County",{"$f":"Master20190430!E74-Master20180614!E74","v":0},{"$f":"Master20190430!F74-Master20180614!F74","v":1},{"$f":"Master20190430!G74-Master20180614!G74","v":0},{"$f":"Master20190430!H74-Master20180614!H74","v":1},{"$f":"Master20190430!I74-Master20180614!I74","v":-2},{"$f":"Master20190430!J74-Master20180614!J74","v":2},{"$f":"Master20190430!K74-Master20180614!K74","v":0},{"$f":"Master20190430!L74-Master20180614!L74","v":1},{"$f":"Master20190430!M74-Master20180614!M74","v":0},{"$f":"Master20190430!N74-Master20180614!N74","v":0},{"$f":"Master20190430!O74-Master20180614!O74","v":0},{"$f":"Master20190430!P74-Master20180614!P74","v":0},{"$f":"Master20190430!Q74-Master20180614!Q74","v":0},{"$f":"Master20190430!R74-Master20180614!R74","v":0},{"$f":"Master20190430!S74-Master20180614!S74","v":0},{"$f":"Master20190430!T74-Master20180614!T74","v":0},{"$f":"Master20190430!U74-Master20180614!U74","v":0},{"$f":"Master20190430!V74-Master20180614!V74","v":0},{"$f":"Master20190430!W74-Master20180614!W74","v":0},{"$f":"Master20190430!X74-Master20180614!X74","v":0},{"$f":"Master20190430!Y74-Master20180614!Y74","v":0},{"$f":"Master20190430!Z74-Master20180614!Z74","v":0},{"$f":"Master20190430!AA74-Master20180614!AA74","v":0},{"$f":"Master20190430!AB74-Master20180614!AB74","v":0},{"$f":"Master20190430!AC74-Master20180614!AC74","v":0},{"$f":"Master20190430!AD74-Master20180614!AD74","v":0},{"$f":"Master20190430!AE74-Master20180614!AE74","v":0}]
["Western","1-D","HORI","Lynchburg City",{"$f":"Master20190430!E75-Master20180614!E75","v":0},{"$f":"Master20190430!F75-Master20180614!F75","v":5},{"$f":"Master20190430!G75-Master20180614!G75","v":-2},{"$f":"Master20190430!H75-Master20180614!H75","v":3},{"$f":"Master20190430!I75-Master20180614!I75","v":-2},{"$f":"Master20190430!J75-Master20180614!J75","v":-2},{"$f":"Master20190430!K75-Master20180614!K75","v":-4},{"$f":"Master20190430!L75-Master20180614!L75","v":1},{"$f":"Master20190430!M75-Master20180614!M75","v":2},{"$f":"Master20190430!N75-Master20180614!N75","v":3},{"$f":"Master20190430!O75-Master20180614!O75","v":2},{"$f":"Master20190430!P75-Master20180614!P75","v":3},{"$f":"Master20190430!Q75-Master20180614!Q75","v":0},{"$f":"Master20190430!R75-Master20180614!R75","v":0},{"$f":"Master20190430!S75-Master20180614!S75","v":-2},{"$f":"Master20190430!T75-Master20180614!T75","v":0},{"$f":"Master20190430!U75-Master20180614!U75","v":0},{"$f":"Master20190430!V75-Master20180614!V75","v":0},{"$f":"Master20190430!W75-Master20180614!W75","v":0},{"$f":"Master20190430!X75-Master20180614!X75","v":-1},{"$f":"Master20190430!Y75-Master20180614!Y75","v":0},{"$f":"Master20190430!Z75-Master20180614!Z75","v":0},{"$f":"Master20190430!AA75-Master20180614!AA75","v":0},{"$f":"Master20190430!AB75-Master20180614!AB75","v":0},{"$f":"Master20190430!AC75-Master20180614!AC75","v":0},{"$f":"Master20190430!AD75-Master20180614!AD75","v":0},{"$f":"Master20190430!AE75-Master20180614!AE75","v":1}]
["Northern","2-B","RapR","Madison County",{"$f":"Master20190430!E76-Master20180614!E76","v":0},{"$f":"Master20190430!F76-Master20180614!F76","v":0},{"$f":"Master20190430!G76-Master20180614!G76","v":5},{"$f":"Master20190430!H76-Master20180614!H76","v":5},{"$f":"Master20190430!I76-Master20180614!I76","v":-3},{"$f":"Master20190430!J76-Master20180614!J76","v":2},{"$f":"Master20190430!K76-Master20180614!K76","v":1},{"$f":"Master20190430!L76-Master20180614!L76","v":3},{"$f":"Master20190430!M76-Master20180614!M76","v":0},{"$f":"Master20190430!N76-Master20180614!N76","v":0},{"$f":"Master20190430!O76-Master20180614!O76","v":0},{"$f":"Master20190430!P76-Master20180614!P76","v":2},{"$f":"Master20190430!Q76-Master20180614!Q76","v":0},{"$f":"Master20190430!R76-Master20180614!R76","v":0},{"$f":"Master20190430!S76-Master20180614!S76","v":0},{"$f":"Master20190430!T76-Master20180614!T76","v":0},{"$f":"Master20190430!U76-Master20180614!U76","v":0},{"$f":"Master20190430!V76-Master20180614!V76","v":0},{"$f":"Master20190430!W76-Master20180614!W76","v":0},{"$f":"Master20190430!X76-Master20180614!X76","v":0},{"$f":"Master20190430!Y76-Master20180614!Y76","v":0},{"$f":"Master20190430!Z76-Master20180614!Z76","v":0},{"$f":"Master20190430!AA76-Master20180614!AA76","v":0},{"$f":"Master20190430!AB76-Master20180614!AB76","v":0},{"$f":"Master20190430!AC76-Master20180614!AC76","v":0},{"$f":"Master20190430!AD76-Master20180614!AD76","v":0},{"$f":"Master20190430!AE76-Master20180614!AE76","v":-1}]
["Northern","2-A","PWC","Manassas City",{"$f":"Master20190430!E77-Master20180614!E77","v":0},{"$f":"Master20190430!F77-Master20180614!F77","v":-2},{"$f":"Master20190430!G77-Master20180614!G77","v":-2},{"$f":"Master20190430!H77-Master20180614!H77","v":-4},{"$f":"Master20190430!I77-Master20180614!I77","v":-1},{"$f":"Master20190430!J77-Master20180614!J77","v":3},{"$f":"Master20190430!K77-Master20180614!K77","v":-2},{"$f":"Master20190430!L77-Master20180614!L77","v":-3},{"$f":"Master20190430!M77-Master20180614!M77","v":0},{"$f":"Master20190430!N77-Master20180614!N77","v":-1},{"$f":"Master20190430!O77-Master20180614!O77","v":0},{"$f":"Master20190430!P77-Master20180614!P77","v":0},{"$f":"Master20190430!Q77-Master20180614!Q77","v":0},{"$f":"Master20190430!R77-Master20180614!R77","v":0},{"$f":"Master20190430!S77-Master20180614!S77","v":0},{"$f":"Master20190430!T77-Master20180614!T77","v":0},{"$f":"Master20190430!U77-Master20180614!U77","v":0},{"$f":"Master20190430!V77-Master20180614!V77","v":0},{"$f":"Master20190430!W77-Master20180614!W77","v":0},{"$f":"Master20190430!X77-Master20180614!X77","v":0},{"$f":"Master20190430!Y77-Master20180614!Y77","v":0},{"$f":"Master20190430!Z77-Master20180614!Z77","v":0},{"$f":"Master20190430!AA77-Master20180614!AA77","v":0},{"$f":"Master20190430!AB77-Master20180614!AB77","v":0},{"$f":"Master20190430!AC77-Master20180614!AC77","v":0},{"$f":"Master20190430!AD77-Master20180614!AD77","v":0},{"$f":"Master20190430!AE77-Master20180614!AE77","v":0}]
["Northern","2-A","PWC","Manassas Park City",{"$f":"Master20190430!E78-Master20180614!E78","v":0},{"$f":"Master20190430!F78-Master20180614!F78","v":0},{"$f":"Master20190430!G78-Master20180614!G78","v":-1},{"$f":"Master20190430!H78-Master20180614!H78","v":-1},{"$f":"Master20190430!I78-Master20180614!I78","v":0},{"$f":"Master20190430!J78-Master20180614!J78","v":0},{"$f":"Master20190430!K78-Master20180614!K78","v":0},{"$f":"Master20190430!L78-Master20180614!L78","v":0},{"$f":"Master20190430!M78-Master20180614!M78","v":0},{"$f":"Master20190430!N78-Master20180614!N78","v":0},{"$f":"Master20190430!O78-Master20180614!O78","v":-1},{"$f":"Master20190430!P78-Master20180614!P78","v":0},{"$f":"Master20190430!Q78-Master20180614!Q78","v":0},{"$f":"Master20190430!R78-Master20180614!R78","v":0},{"$f":"Master20190430!S78-Master20180614!S78","v":0},{"$f":"Master20190430!T78-Master20180614!T78","v":0},{"$f":"Master20190430!U78-Master20180614!U78","v":0},{"$f":"Master20190430!V78-Master20180614!V78","v":0},{"$f":"Master20190430!W78-Master20180614!W78","v":0},{"$f":"Master20190430!X78-Master20180614!X78","v":0},{"$f":"Master20190430!Y78-Master20180614!Y78","v":0},{"$f":"Master20190430!Z78-Master20180614!Z78","v":0},{"$f":"Master20190430!AA78-Master20180614!AA78","v":0},{"$f":"Master20190430!AB78-Master20180614!AB78","v":0},{"$f":"Master20190430!AC78-Master20180614!AC78","v":0},{"$f":"Master20190430!AD78-Master20180614!AD78","v":0},{"$f":"Master20190430!AE78-Master20180614!AE78","v":0}]
["Southwestern","3-B","PDMT","Martinsville City",{"$f":"Master20190430!E79-Master20180614!E79","v":0},{"$f":"Master20190430!F79-Master20180614!F79","v":0},{"$f":"Master20190430!G79-Master20180614!G79","v":-8},{"$f":"Master20190430!H79-Master20180614!H79","v":-8},{"$f":"Master20190430!I79-Master20180614!I79","v":-3},{"$f":"Master20190430!J79-Master20180614!J79","v":-8},{"$f":"Master20190430!K79-Master20180614!K79","v":-1},{"$f":"Master20190430!L79-Master20180614!L79","v":2},{"$f":"Master20190430!M79-Master20180614!M79","v":1},{"$f":"Master20190430!N79-Master20180614!N79","v":1},{"$f":"Master20190430!O79-Master20180614!O79","v":0},{"$f":"Master20190430!P79-Master20180614!P79","v":0},{"$f":"Master20190430!Q79-Master20180614!Q79","v":0},{"$f":"Master20190430!R79-Master20180614!R79","v":0},{"$f":"Master20190430!S79-Master20180614!S79","v":1},{"$f":"Master20190430!T79-Master20180614!T79","v":0},{"$f":"Master20190430!U79-Master20180614!U79","v":0},{"$f":"Master20190430!V79-Master20180614!V79","v":0},{"$f":"Master20190430!W79-Master20180614!W79","v":0},{"$f":"Master20190430!X79-Master20180614!X79","v":0},{"$f":"Master20190430!Y79-Master20180614!Y79","v":0},{"$f":"Master20190430!Z79-Master20180614!Z79","v":0},{"$f":"Master20190430!AA79-Master20180614!AA79","v":0},{"$f":"Master20190430!AB79-Master20180614!AB79","v":0},{"$f":"Master20190430!AC79-Master20180614!AC79","v":0},{"$f":"Master20190430!AD79-Master20180614!AD79","v":0},{"$f":"Master20190430!AE79-Master20180614!AE79","v":0}]
["Eastern","5-A","MPNN","Mathews County",{"$f":"Master20190430!E80-Master20180614!E80","v":0},{"$f":"Master20190430!F80-Master20180614!F80","v":0},{"$f":"Master20190430!G80-Master20180614!G80","v":-5},{"$f":"Master20190430!H80-Master20180614!H80","v":-5},{"$f":"Master20190430!I80-Master20180614!I80","v":-1},{"$f":"Master20190430!J80-Master20180614!J80","v":4},{"$f":"Master20190430!K80-Master20180614!K80","v":1},{"$f":"Master20190430!L80-Master20180614!L80","v":-8},{"$f":"Master20190430!M80-Master20180614!M80","v":-1},{"$f":"Master20190430!N80-Master20180614!N80","v":0},{"$f":"Master20190430!O80-Master20180614!O80","v":0},{"$f":"Master20190430!P80-Master20180614!P80","v":0},{"$f":"Master20190430!Q80-Master20180614!Q80","v":0},{"$f":"Master20190430!R80-Master20180614!R80","v":0},{"$f":"Master20190430!S80-Master20180614!S80","v":-1},{"$f":"Master20190430!T80-Master20180614!T80","v":0},{"$f":"Master20190430!U80-Master20180614!U80","v":0},{"$f":"Master20190430!V80-Master20180614!V80","v":0},{"$f":"Master20190430!W80-Master20180614!W80","v":0},{"$f":"Master20190430!X80-Master20180614!X80","v":0},{"$f":"Master20190430!Y80-Master20180614!Y80","v":0},{"$f":"Master20190430!Z80-Master20180614!Z80","v":0},{"$f":"Master20190430!AA80-Master20180614!AA80","v":0},{"$f":"Master20190430!AB80-Master20180614!AB80","v":0},{"$f":"Master20190430!AC80-Master20180614!AC80","v":0},{"$f":"Master20190430!AD80-Master20180614!AD80","v":0},{"$f":"Master20190430!AE80-Master20180614!AE80","v":0}]
["Central","4-C","SS","Mecklenburg County",{"$f":"Master20190430!E81-Master20180614!E81","v":0},{"$f":"Master20190430!F81-Master20180614!F81","v":3},{"$f":"Master20190430!G81-Master20180614!G81","v":0},{"$f":"Master20190430!H81-Master20180614!H81","v":3},{"$f":"Master20190430!I81-Master20180614!I81","v":1},{"$f":"Master20190430!J81-Master20180614!J81","v":-1},{"$f":"Master20190430!K81-Master20180614!K81","v":-2},{"$f":"Master20190430!L81-Master20180614!L81","v":2},{"$f":"Master20190430!M81-Master20180614!M81","v":-1},{"$f":"Master20190430!N81-Master20180614!N81","v":2},{"$f":"Master20190430!O81-Master20180614!O81","v":-1},{"$f":"Master20190430!P81-Master20180614!P81","v":3},{"$f":"Master20190430!Q81-Master20180614!Q81","v":0},{"$f":"Master20190430!R81-Master20180614!R81","v":0},{"$f":"Master20190430!S81-Master20180614!S81","v":0},{"$f":"Master20190430!T81-Master20180614!T81","v":0},{"$f":"Master20190430!U81-Master20180614!U81","v":0},{"$f":"Master20190430!V81-Master20180614!V81","v":0},{"$f":"Master20190430!W81-Master20180614!W81","v":0},{"$f":"Master20190430!X81-Master20180614!X81","v":0},{"$f":"Master20190430!Y81-Master20180614!Y81","v":0},{"$f":"Master20190430!Z81-Master20180614!Z81","v":0},{"$f":"Master20190430!AA81-Master20180614!AA81","v":0},{"$f":"Master20190430!AB81-Master20180614!AB81","v":0},{"$f":"Master20190430!AC81-Master20180614!AC81","v":0},{"$f":"Master20190430!AD81-Master20180614!AD81","v":1},{"$f":"Master20190430!AE81-Master20180614!AE81","v":0}]
["Eastern","5-A","MPNN","Middlesex County",{"$f":"Master20190430!E82-Master20180614!E82","v":0},{"$f":"Master20190430!F82-Master20180614!F82","v":1},{"$f":"Master20190430!G82-Master20180614!G82","v":0},{"$f":"Master20190430!H82-Master20180614!H82","v":1},{"$f":"Master20190430!I82-Master20180614!I82","v":1},{"$f":"Master20190430!J82-Master20180614!J82","v":0},{"$f":"Master20190430!K82-Master20180614!K82","v":0},{"$f":"Master20190430!L82-Master20180614!L82","v":0},{"$f":"Master20190430!M82-Master20180614!M82","v":0},{"$f":"Master20190430!N82-Master20180614!N82","v":0},{"$f":"Master20190430!O82-Master20180614!O82","v":0},{"$f":"Master20190430!P82-Master20180614!P82","v":0},{"$f":"Master20190430!Q82-Master20180614!Q82","v":0},{"$f":"Master20190430!R82-Master20180614!R82","v":0},{"$f":"Master20190430!S82-Master20180614!S82","v":0},{"$f":"Master20190430!T82-Master20180614!T82","v":0},{"$f":"Master20190430!U82-Master20180614!U82","v":0},{"$f":"Master20190430!V82-Master20180614!V82","v":0},{"$f":"Master20190430!W82-Master20180614!W82","v":0},{"$f":"Master20190430!X82-Master20180614!X82","v":0},{"$f":"Master20190430!Y82-Master20180614!Y82","v":0},{"$f":"Master20190430!Z82-Master20180614!Z82","v":0},{"$f":"Master20190430!AA82-Master20180614!AA82","v":0},{"$f":"Master20190430!AB82-Master20180614!AB82","v":0},{"$f":"Master20190430!AC82-Master20180614!AC82","v":0},{"$f":"Master20190430!AD82-Master20180614!AD82","v":0},{"$f":"Master20190430!AE82-Master20180614!AE82","v":0}]
["Southwestern","3-A","NRV","Montgomery County",{"$f":"Master20190430!E83-Master20180614!E83","v":1},{"$f":"Master20190430!F83-Master20180614!F83","v":7},{"$f":"Master20190430!G83-Master20180614!G83","v":3},{"$f":"Master20190430!H83-Master20180614!H83","v":11},{"$f":"Master20190430!I83-Master20180614!I83","v":2},{"$f":"Master20190430!J83-Master20180614!J83","v":-1},{"$f":"Master20190430!K83-Master20180614!K83","v":0},{"$f":"Master20190430!L83-Master20180614!L83","v":2},{"$f":"Master20190430!M83-Master20180614!M83","v":1},{"$f":"Master20190430!N83-Master20180614!N83","v":1},{"$f":"Master20190430!O83-Master20180614!O83","v":6},{"$f":"Master20190430!P83-Master20180614!P83","v":0},{"$f":"Master20190430!Q83-Master20180614!Q83","v":0},{"$f":"Master20190430!R83-Master20180614!R83","v":0},{"$f":"Master20190430!S83-Master20180614!S83","v":0},{"$f":"Master20190430!T83-Master20180614!T83","v":0},{"$f":"Master20190430!U83-Master20180614!U83","v":0},{"$f":"Master20190430!V83-Master20180614!V83","v":0},{"$f":"Master20190430!W83-Master20180614!W83","v":0},{"$f":"Master20190430!X83-Master20180614!X83","v":-1},{"$f":"Master20190430!Y83-Master20180614!Y83","v":0},{"$f":"Master20190430!Z83-Master20180614!Z83","v":0},{"$f":"Master20190430!AA83-Master20180614!AA83","v":0},{"$f":"Master20190430!AB83-Master20180614!AB83","v":0},{"$f":"Master20190430!AC83-Master20180614!AC83","v":0},{"$f":"Master20190430!AD83-Master20180614!AD83","v":0},{"$f":"Master20190430!AE83-Master20180614!AE83","v":0}]
["Western","1-A","RTEN","Nelson County",{"$f":"Master20190430!E84-Master20180614!E84","v":0},{"$f":"Master20190430!F84-Master20180614!F84","v":0},{"$f":"Master20190430!G84-Master20180614!G84","v":0},{"$f":"Master20190430!H84-Master20180614!H84","v":0},{"$f":"Master20190430!I84-Master20180614!I84","v":1},{"$f":"Master20190430!J84-Master20180614!J84","v":-3},{"$f":"Master20190430!K84-Master20180614!K84","v":0},{"$f":"Master20190430!L84-Master20180614!L84","v":2},{"$f":"Master20190430!M84-Master20180614!M84","v":0},{"$f":"Master20190430!N84-Master20180614!N84","v":0},{"$f":"Master20190430!O84-Master20180614!O84","v":1},{"$f":"Master20190430!P84-Master20180614!P84","v":-1},{"$f":"Master20190430!Q84-Master20180614!Q84","v":0},{"$f":"Master20190430!R84-Master20180614!R84","v":0},{"$f":"Master20190430!S84-Master20180614!S84","v":0},{"$f":"Master20190430!T84-Master20180614!T84","v":0},{"$f":"Master20190430!U84-Master20180614!U84","v":0},{"$f":"Master20190430!V84-Master20180614!V84","v":0},{"$f":"Master20190430!W84-Master20180614!W84","v":0},{"$f":"Master20190430!X84-Master20180614!X84","v":0},{"$f":"Master20190430!Y84-Master20180614!Y84","v":0},{"$f":"Master20190430!Z84-Master20180614!Z84","v":0},{"$f":"Master20190430!AA84-Master20180614!AA84","v":0},{"$f":"Master20190430!AB84-Master20180614!AB84","v":0},{"$f":"Master20190430!AC84-Master20180614!AC84","v":0},{"$f":"Master20190430!AD84-Master20180614!AD84","v":0},{"$f":"Master20190430!AE84-Master20180614!AE84","v":0}]
["Central","4-A","HENR","New Kent County",{"$f":"Master20190430!E85-Master20180614!E85","v":0},{"$f":"Master20190430!F85-Master20180614!F85","v":2},{"$f":"Master20190430!G85-Master20180614!G85","v":-4},{"$f":"Master20190430!H85-Master20180614!H85","v":-2},{"$f":"Master20190430!I85-Master20180614!I85","v":-2},{"$f":"Master20190430!J85-Master20180614!J85","v":0},{"$f":"Master20190430!K85-Master20180614!K85","v":0},{"$f":"Master20190430!L85-Master20180614!L85","v":1},{"$f":"Master20190430!M85-Master20180614!M85","v":1},{"$f":"Master20190430!N85-Master20180614!N85","v":0},{"$f":"Master20190430!O85-Master20180614!O85","v":-2},{"$f":"Master20190430!P85-Master20180614!P85","v":0},{"$f":"Master20190430!Q85-Master20180614!Q85","v":0},{"$f":"Master20190430!R85-Master20180614!R85","v":0},{"$f":"Master20190430!S85-Master20180614!S85","v":0},{"$f":"Master20190430!T85-Master20180614!T85","v":0},{"$f":"Master20190430!U85-Master20180614!U85","v":0},{"$f":"Master20190430!V85-Master20180614!V85","v":0},{"$f":"Master20190430!W85-Master20180614!W85","v":0},{"$f":"Master20190430!X85-Master20180614!X85","v":0},{"$f":"Master20190430!Y85-Master20180614!Y85","v":0},{"$f":"Master20190430!Z85-Master20180614!Z85","v":0},{"$f":"Master20190430!AA85-Master20180614!AA85","v":0},{"$f":"Master20190430!AB85-Master20180614!AB85","v":0},{"$f":"Master20190430!AC85-Master20180614!AC85","v":0},{"$f":"Master20190430!AD85-Master20180614!AD85","v":0},{"$f":"Master20190430!AE85-Master20180614!AE85","v":0}]
["Eastern","5-C","HAMP","Newport News City",{"$f":"Master20190430!E86-Master20180614!E86","v":-2},{"$f":"Master20190430!F86-Master20180614!F86","v":10},{"$f":"Master20190430!G86-Master20180614!G86","v":14},{"$f":"Master20190430!H86-Master20180614!H86","v":22},{"$f":"Master20190430!I86-Master20180614!I86","v":-5},{"$f":"Master20190430!J86-Master20180614!J86","v":-1},{"$f":"Master20190430!K86-Master20180614!K86","v":-1},{"$f":"Master20190430!L86-Master20180614!L86","v":12},{"$f":"Master20190430!M86-Master20180614!M86","v":-1},{"$f":"Master20190430!N86-Master20180614!N86","v":6},{"$f":"Master20190430!O86-Master20180614!O86","v":1},{"$f":"Master20190430!P86-Master20180614!P86","v":11},{"$f":"Master20190430!Q86-Master20180614!Q86","v":0},{"$f":"Master20190430!R86-Master20180614!R86","v":0},{"$f":"Master20190430!S86-Master20180614!S86","v":0},{"$f":"Master20190430!T86-Master20180614!T86","v":0},{"$f":"Master20190430!U86-Master20180614!U86","v":0},{"$f":"Master20190430!V86-Master20180614!V86","v":0},{"$f":"Master20190430!W86-Master20180614!W86","v":1},{"$f":"Master20190430!X86-Master20180614!X86","v":0},{"$f":"Master20190430!Y86-Master20180614!Y86","v":0},{"$f":"Master20190430!Z86-Master20180614!Z86","v":0},{"$f":"Master20190430!AA86-Master20180614!AA86","v":0},{"$f":"Master20190430!AB86-Master20180614!AB86","v":0},{"$f":"Master20190430!AC86-Master20180614!AC86","v":0},{"$f":"Master20190430!AD86-Master20180614!AD86","v":-5},{"$f":"Master20190430!AE86-Master20180614!AE86","v":0}]
["Eastern","5-D","NORF","Norfolk City",{"$f":"Master20190430!E87-Master20180614!E87","v":1},{"$f":"Master20190430!F87-Master20180614!F87","v":11},{"$f":"Master20190430!G87-Master20180614!G87","v":-21},{"$f":"Master20190430!H87-Master20180614!H87","v":-9},{"$f":"Master20190430!I87-Master20180614!I87","v":-14},{"$f":"Master20190430!J87-Master20180614!J87","v":-36},{"$f":"Master20190430!K87-Master20180614!K87","v":-2},{"$f":"Master20190430!L87-Master20180614!L87","v":27},{"$f":"Master20190430!M87-Master20180614!M87","v":2},{"$f":"Master20190430!N87-Master20180614!N87","v":-1},{"$f":"Master20190430!O87-Master20180614!O87","v":2},{"$f":"Master20190430!P87-Master20180614!P87","v":13},{"$f":"Master20190430!Q87-Master20180614!Q87","v":0},{"$f":"Master20190430!R87-Master20180614!R87","v":0},{"$f":"Master20190430!S87-Master20180614!S87","v":1},{"$f":"Master20190430!T87-Master20180614!T87","v":0},{"$f":"Master20190430!U87-Master20180614!U87","v":0},{"$f":"Master20190430!V87-Master20180614!V87","v":0},{"$f":"Master20190430!W87-Master20180614!W87","v":0},{"$f":"Master20190430!X87-Master20180614!X87","v":-2},{"$f":"Master20190430!Y87-Master20180614!Y87","v":0},{"$f":"Master20190430!Z87-Master20180614!Z87","v":0},{"$f":"Master20190430!AA87-Master20180614!AA87","v":0},{"$f":"Master20190430!AB87-Master20180614!AB87","v":0},{"$f":"Master20190430!AC87-Master20180614!AC87","v":1},{"$f":"Master20190430!AD87-Master20180614!AD87","v":0},{"$f":"Master20190430!AE87-Master20180614!AE87","v":0}]
["Eastern","5-B","EAST","Northampton County",{"$f":"Master20190430!E88-Master20180614!E88","v":0},{"$f":"Master20190430!F88-Master20180614!F88","v":0},{"$f":"Master20190430!G88-Master20180614!G88","v":-2},{"$f":"Master20190430!H88-Master20180614!H88","v":-2},{"$f":"Master20190430!I88-Master20180614!I88","v":0},{"$f":"Master20190430!J88-Master20180614!J88","v":-3},{"$f":"Master20190430!K88-Master20180614!K88","v":0},{"$f":"Master20190430!L88-Master20180614!L88","v":2},{"$f":"Master20190430!M88-Master20180614!M88","v":0},{"$f":"Master20190430!N88-Master20180614!N88","v":0},{"$f":"Master20190430!O88-Master20180614!O88","v":0},{"$f":"Master20190430!P88-Master20180614!P88","v":-1},{"$f":"Master20190430!Q88-Master20180614!Q88","v":0},{"$f":"Master20190430!R88-Master20180614!R88","v":0},{"$f":"Master20190430!S88-Master20180614!S88","v":0},{"$f":"Master20190430!T88-Master20180614!T88","v":0},{"$f":"Master20190430!U88-Master20180614!U88","v":0},{"$f":"Master20190430!V88-Master20180614!V88","v":0},{"$f":"Master20190430!W88-Master20180614!W88","v":0},{"$f":"Master20190430!X88-Master20180614!X88","v":0},{"$f":"Master20190430!Y88-Master20180614!Y88","v":0},{"$f":"Master20190430!Z88-Master20180614!Z88","v":0},{"$f":"Master20190430!AA88-Master20180614!AA88","v":0},{"$f":"Master20190430!AB88-Master20180614!AB88","v":0},{"$f":"Master20190430!AC88-Master20180614!AC88","v":0},{"$f":"Master20190430!AD88-Master20180614!AD88","v":0},{"$f":"Master20190430!AE88-Master20180614!AE88","v":0}]
["Eastern","5-A","MPNN","Northumberland County",{"$f":"Master20190430!E89-Master20180614!E89","v":0},{"$f":"Master20190430!F89-Master20180614!F89","v":0},{"$f":"Master20190430!G89-Master20180614!G89","v":0},{"$f":"Master20190430!H89-Master20180614!H89","v":0},{"$f":"Master20190430!I89-Master20180614!I89","v":0},{"$f":"Master20190430!J89-Master20180614!J89","v":1},{"$f":"Master20190430!K89-Master20180614!K89","v":0},{"$f":"Master20190430!L89-Master20180614!L89","v":0},{"$f":"Master20190430!M89-Master20180614!M89","v":0},{"$f":"Master20190430!N89-Master20180614!N89","v":-1},{"$f":"Master20190430!O89-Master20180614!O89","v":0},{"$f":"Master20190430!P89-Master20180614!P89","v":0},{"$f":"Master20190430!Q89-Master20180614!Q89","v":0},{"$f":"Master20190430!R89-Master20180614!R89","v":0},{"$f":"Master20190430!S89-Master20180614!S89","v":0},{"$f":"Master20190430!T89-Master20180614!T89","v":0},{"$f":"Master20190430!U89-Master20180614!U89","v":0},{"$f":"Master20190430!V89-Master20180614!V89","v":0},{"$f":"Master20190430!W89-Master20180614!W89","v":0},{"$f":"Master20190430!X89-Master20180614!X89","v":0},{"$f":"Master20190430!Y89-Master20180614!Y89","v":0},{"$f":"Master20190430!Z89-Master20180614!Z89","v":0},{"$f":"Master20190430!AA89-Master20180614!AA89","v":0},{"$f":"Master20190430!AB89-Master20180614!AB89","v":0},{"$f":"Master20190430!AC89-Master20180614!AC89","v":0},{"$f":"Master20190430!AD89-Master20180614!AD89","v":0},{"$f":"Master20190430!AE89-Master20180614!AE89","v":0}]
["Southwestern","3-D","PLD1","Norton City",{"$f":"Master20190430!E90-Master20180614!E90","v":0},{"$f":"Master20190430!F90-Master20180614!F90","v":0},{"$f":"Master20190430!G90-Master20180614!G90","v":-1},{"$f":"Master20190430!H90-Master20180614!H90","v":-1},{"$f":"Master20190430!I90-Master20180614!I90","v":0},{"$f":"Master20190430!J90-Master20180614!J90","v":-1},{"$f":"Master20190430!K90-Master20180614!K90","v":0},{"$f":"Master20190430!L90-Master20180614!L90","v":0},{"$f":"Master20190430!M90-Master20180614!M90","v":0},{"$f":"Master20190430!N90-Master20180614!N90","v":0},{"$f":"Master20190430!O90-Master20180614!O90","v":0},{"$f":"Master20190430!P90-Master20180614!P90","v":0},{"$f":"Master20190430!Q90-Master20180614!Q90","v":0},{"$f":"Master20190430!R90-Master20180614!R90","v":0},{"$f":"Master20190430!S90-Master20180614!S90","v":0},{"$f":"Master20190430!T90-Master20180614!T90","v":0},{"$f":"Master20190430!U90-Master20180614!U90","v":0},{"$f":"Master20190430!V90-Master20180614!V90","v":0},{"$f":"Master20190430!W90-Master20180614!W90","v":0},{"$f":"Master20190430!X90-Master20180614!X90","v":0},{"$f":"Master20190430!Y90-Master20180614!Y90","v":0},{"$f":"Master20190430!Z90-Master20180614!Z90","v":0},{"$f":"Master20190430!AA90-Master20180614!AA90","v":0},{"$f":"Master20190430!AB90-Master20180614!AB90","v":0},{"$f":"Master20190430!AC90-Master20180614!AC90","v":0},{"$f":"Master20190430!AD90-Master20180614!AD90","v":0},{"$f":"Master20190430!AE90-Master20180614!AE90","v":0}]
["Central","4-C","CROS","Nottoway County",{"$f":"Master20190430!E91-Master20180614!E91","v":0},{"$f":"Master20190430!F91-Master20180614!F91","v":2},{"$f":"Master20190430!G91-Master20180614!G91","v":2},{"$f":"Master20190430!H91-Master20180614!H91","v":4},{"$f":"Master20190430!I91-Master20180614!I91","v":0},{"$f":"Master20190430!J91-Master20180614!J91","v":0},{"$f":"Master20190430!K91-Master20180614!K91","v":0},{"$f":"Master20190430!L91-Master20180614!L91","v":0},{"$f":"Master20190430!M91-Master20180614!M91","v":1},{"$f":"Master20190430!N91-Master20180614!N91","v":0},{"$f":"Master20190430!O91-Master20180614!O91","v":0},{"$f":"Master20190430!P91-Master20180614!P91","v":3},{"$f":"Master20190430!Q91-Master20180614!Q91","v":0},{"$f":"Master20190430!R91-Master20180614!R91","v":0},{"$f":"Master20190430!S91-Master20180614!S91","v":0},{"$f":"Master20190430!T91-Master20180614!T91","v":0},{"$f":"Master20190430!U91-Master20180614!U91","v":0},{"$f":"Master20190430!V91-Master20180614!V91","v":0},{"$f":"Master20190430!W91-Master20180614!W91","v":0},{"$f":"Master20190430!X91-Master20180614!X91","v":0},{"$f":"Master20190430!Y91-Master20180614!Y91","v":0},{"$f":"Master20190430!Z91-Master20180614!Z91","v":0},{"$f":"Master20190430!AA91-Master20180614!AA91","v":0},{"$f":"Master20190430!AB91-Master20180614!AB91","v":0},{"$f":"Master20190430!AC91-Master20180614!AC91","v":0},{"$f":"Master20190430!AD91-Master20180614!AD91","v":0},{"$f":"Master20190430!AE91-Master20180614!AE91","v":0}]
["Northern","2-B","RapR","Orange County",{"$f":"Master20190430!E92-Master20180614!E92","v":0},{"$f":"Master20190430!F92-Master20180614!F92","v":2},{"$f":"Master20190430!G92-Master20180614!G92","v":0},{"$f":"Master20190430!H92-Master20180614!H92","v":2},{"$f":"Master20190430!I92-Master20180614!I92","v":2},{"$f":"Master20190430!J92-Master20180614!J92","v":-1},{"$f":"Master20190430!K92-Master20180614!K92","v":-1},{"$f":"Master20190430!L92-Master20180614!L92","v":1},{"$f":"Master20190430!M92-Master20180614!M92","v":0},{"$f":"Master20190430!N92-Master20180614!N92","v":0},{"$f":"Master20190430!O92-Master20180614!O92","v":0},{"$f":"Master20190430!P92-Master20180614!P92","v":1},{"$f":"Master20190430!Q92-Master20180614!Q92","v":0},{"$f":"Master20190430!R92-Master20180614!R92","v":0},{"$f":"Master20190430!S92-Master20180614!S92","v":-1},{"$f":"Master20190430!T92-Master20180614!T92","v":0},{"$f":"Master20190430!U92-Master20180614!U92","v":0},{"$f":"Master20190430!V92-Master20180614!V92","v":0},{"$f":"Master20190430!W92-Master20180614!W92","v":0},{"$f":"Master20190430!X92-Master20180614!X92","v":0},{"$f":"Master20190430!Y92-Master20180614!Y92","v":0},{"$f":"Master20190430!Z92-Master20180614!Z92","v":0},{"$f":"Master20190430!AA92-Master20180614!AA92","v":0},{"$f":"Master20190430!AB92-Master20180614!AB92","v":0},{"$f":"Master20190430!AC92-Master20180614!AC92","v":0},{"$f":"Master20190430!AD92-Master20180614!AD92","v":0},{"$f":"Master20190430!AE92-Master20180614!AE92","v":0}]
["Northern","2-D","NW","Page County",{"$f":"Master20190430!E93-Master20180614!E93","v":0},{"$f":"Master20190430!F93-Master20180614!F93","v":0},{"$f":"Master20190430!G93-Master20180614!G93","v":2},{"$f":"Master20190430!H93-Master20180614!H93","v":2},{"$f":"Master20190430!I93-Master20180614!I93","v":1},{"$f":"Master20190430!J93-Master20180614!J93","v":0},{"$f":"Master20190430!K93-Master20180614!K93","v":0},{"$f":"Master20190430!L93-Master20180614!L93","v":1},{"$f":"Master20190430!M93-Master20180614!M93","v":0},{"$f":"Master20190430!N93-Master20180614!N93","v":0},{"$f":"Master20190430!O93-Master20180614!O93","v":1},{"$f":"Master20190430!P93-Master20180614!P93","v":-1},{"$f":"Master20190430!Q93-Master20180614!Q93","v":0},{"$f":"Master20190430!R93-Master20180614!R93","v":0},{"$f":"Master20190430!S93-Master20180614!S93","v":0},{"$f":"Master20190430!T93-Master20180614!T93","v":0},{"$f":"Master20190430!U93-Master20180614!U93","v":0},{"$f":"Master20190430!V93-Master20180614!V93","v":0},{"$f":"Master20190430!W93-Master20180614!W93","v":0},{"$f":"Master20190430!X93-Master20180614!X93","v":0},{"$f":"Master20190430!Y93-Master20180614!Y93","v":0},{"$f":"Master20190430!Z93-Master20180614!Z93","v":0},{"$f":"Master20190430!AA93-Master20180614!AA93","v":0},{"$f":"Master20190430!AB93-Master20180614!AB93","v":0},{"$f":"Master20190430!AC93-Master20180614!AC93","v":0},{"$f":"Master20190430!AD93-Master20180614!AD93","v":0},{"$f":"Master20190430!AE93-Master20180614!AE93","v":0}]
["Southwestern","3-C","PDMT","Patrick County",{"$f":"Master20190430!E94-Master20180614!E94","v":0},{"$f":"Master20190430!F94-Master20180614!F94","v":1},{"$f":"Master20190430!G94-Master20180614!G94","v":-4},{"$f":"Master20190430!H94-Master20180614!H94","v":-3},{"$f":"Master20190430!I94-Master20180614!I94","v":-1},{"$f":"Master20190430!J94-Master20180614!J94","v":1},{"$f":"Master20190430!K94-Master20180614!K94","v":-1},{"$f":"Master20190430!L94-Master20180614!L94","v":-1},{"$f":"Master20190430!M94-Master20180614!M94","v":0},{"$f":"Master20190430!N94-Master20180614!N94","v":0},{"$f":"Master20190430!O94-Master20180614!O94","v":-1},{"$f":"Master20190430!P94-Master20180614!P94","v":0},{"$f":"Master20190430!Q94-Master20180614!Q94","v":0},{"$f":"Master20190430!R94-Master20180614!R94","v":0},{"$f":"Master20190430!S94-Master20180614!S94","v":-1},{"$f":"Master20190430!T94-Master20180614!T94","v":0},{"$f":"Master20190430!U94-Master20180614!U94","v":0},{"$f":"Master20190430!V94-Master20180614!V94","v":0},{"$f":"Master20190430!W94-Master20180614!W94","v":0},{"$f":"Master20190430!X94-Master20180614!X94","v":0},{"$f":"Master20190430!Y94-Master20180614!Y94","v":0},{"$f":"Master20190430!Z94-Master20180614!Z94","v":0},{"$f":"Master20190430!AA94-Master20180614!AA94","v":0},{"$f":"Master20190430!AB94-Master20180614!AB94","v":0},{"$f":"Master20190430!AC94-Master20180614!AC94","v":0},{"$f":"Master20190430!AD94-Master20180614!AD94","v":0},{"$f":"Master20190430!AE94-Master20180614!AE94","v":0}]
["Central","4-D","D19","Petersburg City",{"$f":"Master20190430!E95-Master20180614!E95","v":0},{"$f":"Master20190430!F95-Master20180614!F95","v":3},{"$f":"Master20190430!G95-Master20180614!G95","v":4},{"$f":"Master20190430!H95-Master20180614!H95","v":7},{"$f":"Master20190430!I95-Master20180614!I95","v":-3},{"$f":"Master20190430!J95-Master20180614!J95","v":-6},{"$f":"Master20190430!K95-Master20180614!K95","v":-2},{"$f":"Master20190430!L95-Master20180614!L95","v":3},{"$f":"Master20190430!M95-Master20180614!M95","v":7},{"$f":"Master20190430!N95-Master20180614!N95","v":4},{"$f":"Master20190430!O95-Master20180614!O95","v":0},{"$f":"Master20190430!P95-Master20180614!P95","v":4},{"$f":"Master20190430!Q95-Master20180614!Q95","v":0},{"$f":"Master20190430!R95-Master20180614!R95","v":0},{"$f":"Master20190430!S95-Master20180614!S95","v":-1},{"$f":"Master20190430!T95-Master20180614!T95","v":0},{"$f":"Master20190430!U95-Master20180614!U95","v":0},{"$f":"Master20190430!V95-Master20180614!V95","v":0},{"$f":"Master20190430!W95-Master20180614!W95","v":0},{"$f":"Master20190430!X95-Master20180614!X95","v":0},{"$f":"Master20190430!Y95-Master20180614!Y95","v":0},{"$f":"Master20190430!Z95-Master20180614!Z95","v":0},{"$f":"Master20190430!AA95-Master20180614!AA95","v":0},{"$f":"Master20190430!AB95-Master20180614!AB95","v":0},{"$f":"Master20190430!AC95-Master20180614!AC95","v":0},{"$f":"Master20190430!AD95-Master20180614!AD95","v":0},{"$f":"Master20190430!AE95-Master20180614!AE95","v":0}]
["Southwestern","3-B","DANV","Pittsylvania County",{"$f":"Master20190430!E96-Master20180614!E96","v":4},{"$f":"Master20190430!F96-Master20180614!F96","v":1},{"$f":"Master20190430!G96-Master20180614!G96","v":-3},{"$f":"Master20190430!H96-Master20180614!H96","v":2},{"$f":"Master20190430!I96-Master20180614!I96","v":-2},{"$f":"Master20190430!J96-Master20180614!J96","v":2},{"$f":"Master20190430!K96-Master20180614!K96","v":-1},{"$f":"Master20190430!L96-Master20180614!L96","v":-7},{"$f":"Master20190430!M96-Master20180614!M96","v":1},{"$f":"Master20190430!N96-Master20180614!N96","v":-2},{"$f":"Master20190430!O96-Master20180614!O96","v":0},{"$f":"Master20190430!P96-Master20180614!P96","v":11},{"$f":"Master20190430!Q96-Master20180614!Q96","v":0},{"$f":"Master20190430!R96-Master20180614!R96","v":0},{"$f":"Master20190430!S96-Master20180614!S96","v":0},{"$f":"Master20190430!T96-Master20180614!T96","v":0},{"$f":"Master20190430!U96-Master20180614!U96","v":0},{"$f":"Master20190430!V96-Master20180614!V96","v":0},{"$f":"Master20190430!W96-Master20180614!W96","v":0},{"$f":"Master20190430!X96-Master20180614!X96","v":0},{"$f":"Master20190430!Y96-Master20180614!Y96","v":0},{"$f":"Master20190430!Z96-Master20180614!Z96","v":0},{"$f":"Master20190430!AA96-Master20180614!AA96","v":0},{"$f":"Master20190430!AB96-Master20180614!AB96","v":0},{"$f":"Master20190430!AC96-Master20180614!AC96","v":0},{"$f":"Master20190430!AD96-Master20180614!AD96","v":0},{"$f":"Master20190430!AE96-Master20180614!AE96","v":0}]
["Eastern","5-C","COLO","Poquoson City",{"$f":"Master20190430!E97-Master20180614!E97","v":0},{"$f":"Master20190430!F97-Master20180614!F97","v":0},{"$f":"Master20190430!G97-Master20180614!G97","v":-2},{"$f":"Master20190430!H97-Master20180614!H97","v":-2},{"$f":"Master20190430!I97-Master20180614!I97","v":0},{"$f":"Master20190430!J97-Master20180614!J97","v":-1},{"$f":"Master20190430!K97-Master20180614!K97","v":0},{"$f":"Master20190430!L97-Master20180614!L97","v":0},{"$f":"Master20190430!M97-Master20180614!M97","v":0},{"$f":"Master20190430!N97-Master20180614!N97","v":0},{"$f":"Master20190430!O97-Master20180614!O97","v":0},{"$f":"Master20190430!P97-Master20180614!P97","v":-1},{"$f":"Master20190430!Q97-Master20180614!Q97","v":0},{"$f":"Master20190430!R97-Master20180614!R97","v":0},{"$f":"Master20190430!S97-Master20180614!S97","v":0},{"$f":"Master20190430!T97-Master20180614!T97","v":0},{"$f":"Master20190430!U97-Master20180614!U97","v":0},{"$f":"Master20190430!V97-Master20180614!V97","v":0},{"$f":"Master20190430!W97-Master20180614!W97","v":0},{"$f":"Master20190430!X97-Master20180614!X97","v":0},{"$f":"Master20190430!Y97-Master20180614!Y97","v":0},{"$f":"Master20190430!Z97-Master20180614!Z97","v":0},{"$f":"Master20190430!AA97-Master20180614!AA97","v":0},{"$f":"Master20190430!AB97-Master20180614!AB97","v":0},{"$f":"Master20190430!AC97-Master20180614!AC97","v":0},{"$f":"Master20190430!AD97-Master20180614!AD97","v":0},{"$f":"Master20190430!AE97-Master20180614!AE97","v":0}]
["Eastern","5-D","PORT","Portsmouth City",{"$f":"Master20190430!E98-Master20180614!E98","v":0},{"$f":"Master20190430!F98-Master20180614!F98","v":0},{"$f":"Master20190430!G98-Master20180614!G98","v":3},{"$f":"Master20190430!H98-Master20180614!H98","v":3},{"$f":"Master20190430!I98-Master20180614!I98","v":-3},{"$f":"Master20190430!J98-Master20180614!J98","v":-18},{"$f":"Master20190430!K98-Master20180614!K98","v":5},{"$f":"Master20190430!L98-Master20180614!L98","v":22},{"$f":"Master20190430!M98-Master20180614!M98","v":5},{"$f":"Master20190430!N98-Master20180614!N98","v":-3},{"$f":"Master20190430!O98-Master20180614!O98","v":-8},{"$f":"Master20190430!P98-Master20180614!P98","v":3},{"$f":"Master20190430!Q98-Master20180614!Q98","v":0},{"$f":"Master20190430!R98-Master20180614!R98","v":-1},{"$f":"Master20190430!S98-Master20180614!S98","v":1},{"$f":"Master20190430!T98-Master20180614!T98","v":0},{"$f":"Master20190430!U98-Master20180614!U98","v":0},{"$f":"Master20190430!V98-Master20180614!V98","v":0},{"$f":"Master20190430!W98-Master20180614!W98","v":0},{"$f":"Master20190430!X98-Master20180614!X98","v":1},{"$f":"Master20190430!Y98-Master20180614!Y98","v":0},{"$f":"Master20190430!Z98-Master20180614!Z98","v":0},{"$f":"Master20190430!AA98-Master20180614!AA98","v":1},{"$f":"Master20190430!AB98-Master20180614!AB98","v":0},{"$f":"Master20190430!AC98-Master20180614!AC98","v":1},{"$f":"Master20190430!AD98-Master20180614!AD98","v":0},{"$f":"Master20190430!AE98-Master20180614!AE98","v":0}]
["Central","4-B","GOOC","Powhatan County",{"$f":"Master20190430!E99-Master20180614!E99","v":0},{"$f":"Master20190430!F99-Master20180614!F99","v":3},{"$f":"Master20190430!G99-Master20180614!G99","v":6},{"$f":"Master20190430!H99-Master20180614!H99","v":9},{"$f":"Master20190430!I99-Master20180614!I99","v":0},{"$f":"Master20190430!J99-Master20180614!J99","v":1},{"$f":"Master20190430!K99-Master20180614!K99","v":0},{"$f":"Master20190430!L99-Master20180614!L99","v":2},{"$f":"Master20190430!M99-Master20180614!M99","v":1},{"$f":"Master20190430!N99-Master20180614!N99","v":1},{"$f":"Master20190430!O99-Master20180614!O99","v":2},{"$f":"Master20190430!P99-Master20180614!P99","v":2},{"$f":"Master20190430!Q99-Master20180614!Q99","v":0},{"$f":"Master20190430!R99-Master20180614!R99","v":0},{"$f":"Master20190430!S99-Master20180614!S99","v":1},{"$f":"Master20190430!T99-Master20180614!T99","v":0},{"$f":"Master20190430!U99-Master20180614!U99","v":0},{"$f":"Master20190430!V99-Master20180614!V99","v":0},{"$f":"Master20190430!W99-Master20180614!W99","v":0},{"$f":"Master20190430!X99-Master20180614!X99","v":0},{"$f":"Master20190430!Y99-Master20180614!Y99","v":0},{"$f":"Master20190430!Z99-Master20180614!Z99","v":0},{"$f":"Master20190430!AA99-Master20180614!AA99","v":0},{"$f":"Master20190430!AB99-Master20180614!AB99","v":0},{"$f":"Master20190430!AC99-Master20180614!AC99","v":0},{"$f":"Master20190430!AD99-Master20180614!AD99","v":0},{"$f":"Master20190430!AE99-Master20180614!AE99","v":0}]
["Central","4-C","CROS","Prince Edward County",{"$f":"Master20190430!E100-Master20180614!E100","v":0},{"$f":"Master20190430!F100-Master20180614!F100","v":-1},{"$f":"Master20190430!G100-Master20180614!G100","v":-1},{"$f":"Master20190430!H100-Master20180614!H100","v":-2},{"$f":"Master20190430!I100-Master20180614!I100","v":2},{"$f":"Master20190430!J100-Master20180614!J100","v":-1},{"$f":"Master20190430!K100-Master20180614!K100","v":-2},{"$f":"Master20190430!L100-Master20180614!L100","v":-1},{"$f":"Master20190430!M100-Master20180614!M100","v":2},{"$f":"Master20190430!N100-Master20180614!N100","v":-1},{"$f":"Master20190430!O100-Master20180614!O100","v":-3},{"$f":"Master20190430!P100-Master20180614!P100","v":2},{"$f":"Master20190430!Q100-Master20180614!Q100","v":0},{"$f":"Master20190430!R100-Master20180614!R100","v":0},{"$f":"Master20190430!S100-Master20180614!S100","v":0},{"$f":"Master20190430!T100-Master20180614!T100","v":0},{"$f":"Master20190430!U100-Master20180614!U100","v":0},{"$f":"Master20190430!V100-Master20180614!V100","v":0},{"$f":"Master20190430!W100-Master20180614!W100","v":0},{"$f":"Master20190430!X100-Master20180614!X100","v":0},{"$f":"Master20190430!Y100-Master20180614!Y100","v":0},{"$f":"Master20190430!Z100-Master20180614!Z100","v":0},{"$f":"Master20190430!AA100-Master20180614!AA100","v":0},{"$f":"Master20190430!AB100-Master20180614!AB100","v":0},{"$f":"Master20190430!AC100-Master20180614!AC100","v":0},{"$f":"Master20190430!AD100-Master20180614!AD100","v":0},{"$f":"Master20190430!AE100-Master20180614!AE100","v":0}]
["Central","4-D","D19","Prince George County",{"$f":"Master20190430!E101-Master20180614!E101","v":0},{"$f":"Master20190430!F101-Master20180614!F101","v":2},{"$f":"Master20190430!G101-Master20180614!G101","v":8},{"$f":"Master20190430!H101-Master20180614!H101","v":10},{"$f":"Master20190430!I101-Master20180614!I101","v":-2},{"$f":"Master20190430!J101-Master20180614!J101","v":-6},{"$f":"Master20190430!K101-Master20180614!K101","v":-3},{"$f":"Master20190430!L101-Master20180614!L101","v":13},{"$f":"Master20190430!M101-Master20180614!M101","v":1},{"$f":"Master20190430!N101-Master20180614!N101","v":0},{"$f":"Master20190430!O101-Master20180614!O101","v":4},{"$f":"Master20190430!P101-Master20180614!P101","v":3},{"$f":"Master20190430!Q101-Master20180614!Q101","v":0},{"$f":"Master20190430!R101-Master20180614!R101","v":0},{"$f":"Master20190430!S101-Master20180614!S101","v":2},{"$f":"Master20190430!T101-Master20180614!T101","v":0},{"$f":"Master20190430!U101-Master20180614!U101","v":0},{"$f":"Master20190430!V101-Master20180614!V101","v":0},{"$f":"Master20190430!W101-Master20180614!W101","v":0},{"$f":"Master20190430!X101-Master20180614!X101","v":0},{"$f":"Master20190430!Y101-Master20180614!Y101","v":0},{"$f":"Master20190430!Z101-Master20180614!Z101","v":0},{"$f":"Master20190430!AA101-Master20180614!AA101","v":0},{"$f":"Master20190430!AB101-Master20180614!AB101","v":0},{"$f":"Master20190430!AC101-Master20180614!AC101","v":0},{"$f":"Master20190430!AD101-Master20180614!AD101","v":-1},{"$f":"Master20190430!AE101-Master20180614!AE101","v":1}]
["Northern","2-A","PWC","Prince William County",{"$f":"Master20190430!E102-Master20180614!E102","v":0},{"$f":"Master20190430!F102-Master20180614!F102","v":27},{"$f":"Master20190430!G102-Master20180614!G102","v":10},{"$f":"Master20190430!H102-Master20180614!H102","v":37},{"$f":"Master20190430!I102-Master20180614!I102","v":-4},{"$f":"Master20190430!J102-Master20180614!J102","v":0},{"$f":"Master20190430!K102-Master20180614!K102","v":-1},{"$f":"Master20190430!L102-Master20180614!L102","v":38},{"$f":"Master20190430!M102-Master20180614!M102","v":0},{"$f":"Master20190430!N102-Master20180614!N102","v":1},{"$f":"Master20190430!O102-Master20180614!O102","v":-10},{"$f":"Master20190430!P102-Master20180614!P102","v":13},{"$f":"Master20190430!Q102-Master20180614!Q102","v":1},{"$f":"Master20190430!R102-Master20180614!R102","v":0},{"$f":"Master20190430!S102-Master20180614!S102","v":0},{"$f":"Master20190430!T102-Master20180614!T102","v":0},{"$f":"Master20190430!U102-Master20180614!U102","v":0},{"$f":"Master20190430!V102-Master20180614!V102","v":0},{"$f":"Master20190430!W102-Master20180614!W102","v":0},{"$f":"Master20190430!X102-Master20180614!X102","v":-1},{"$f":"Master20190430!Y102-Master20180614!Y102","v":0},{"$f":"Master20190430!Z102-Master20180614!Z102","v":0},{"$f":"Master20190430!AA102-Master20180614!AA102","v":0},{"$f":"Master20190430!AB102-Master20180614!AB102","v":2},{"$f":"Master20190430!AC102-Master20180614!AC102","v":-1},{"$f":"Master20190430!AD102-Master20180614!AD102","v":-5},{"$f":"Master20190430!AE102-Master20180614!AE102","v":0}]
["Southwestern","3-C","NRV","Pulaski County",{"$f":"Master20190430!E103-Master20180614!E103","v":0},{"$f":"Master20190430!F103-Master20180614!F103","v":10},{"$f":"Master20190430!G103-Master20180614!G103","v":-3},{"$f":"Master20190430!H103-Master20180614!H103","v":7},{"$f":"Master20190430!I103-Master20180614!I103","v":0},{"$f":"Master20190430!J103-Master20180614!J103","v":-5},{"$f":"Master20190430!K103-Master20180614!K103","v":3},{"$f":"Master20190430!L103-Master20180614!L103","v":-5},{"$f":"Master20190430!M103-Master20180614!M103","v":0},{"$f":"Master20190430!N103-Master20180614!N103","v":0},{"$f":"Master20190430!O103-Master20180614!O103","v":7},{"$f":"Master20190430!P103-Master20180614!P103","v":7},{"$f":"Master20190430!Q103-Master20180614!Q103","v":0},{"$f":"Master20190430!R103-Master20180614!R103","v":0},{"$f":"Master20190430!S103-Master20180614!S103","v":0},{"$f":"Master20190430!T103-Master20180614!T103","v":0},{"$f":"Master20190430!U103-Master20180614!U103","v":0},{"$f":"Master20190430!V103-Master20180614!V103","v":0},{"$f":"Master20190430!W103-Master20180614!W103","v":0},{"$f":"Master20190430!X103-Master20180614!X103","v":0},{"$f":"Master20190430!Y103-Master20180614!Y103","v":0},{"$f":"Master20190430!Z103-Master20180614!Z103","v":0},{"$f":"Master20190430!AA103-Master20180614!AA103","v":0},{"$f":"Master20190430!AB103-Master20180614!AB103","v":0},{"$f":"Master20190430!AC103-Master20180614!AC103","v":0},{"$f":"Master20190430!AD103-Master20180614!AD103","v":0},{"$f":"Master20190430!AE103-Master20180614!AE103","v":0}]
["Southwestern","3-C","NRV","Radford City",{"$f":"Master20190430!E104-Master20180614!E104","v":0},{"$f":"Master20190430!F104-Master20180614!F104","v":0},{"$f":"Master20190430!G104-Master20180614!G104","v":-4},{"$f":"Master20190430!H104-Master20180614!H104","v":-4},{"$f":"Master20190430!I104-Master20180614!I104","v":0},{"$f":"Master20190430!J104-Master20180614!J104","v":-4},{"$f":"Master20190430!K104-Master20180614!K104","v":0},{"$f":"Master20190430!L104-Master20180614!L104","v":-1},{"$f":"Master20190430!M104-Master20180614!M104","v":1},{"$f":"Master20190430!N104-Master20180614!N104","v":0},{"$f":"Master20190430!O104-Master20180614!O104","v":0},{"$f":"Master20190430!P104-Master20180614!P104","v":0},{"$f":"Master20190430!Q104-Master20180614!Q104","v":0},{"$f":"Master20190430!R104-Master20180614!R104","v":1},{"$f":"Master20190430!S104-Master20180614!S104","v":-1},{"$f":"Master20190430!T104-Master20180614!T104","v":0},{"$f":"Master20190430!U104-Master20180614!U104","v":0},{"$f":"Master20190430!V104-Master20180614!V104","v":0},{"$f":"Master20190430!W104-Master20180614!W104","v":0},{"$f":"Master20190430!X104-Master20180614!X104","v":0},{"$f":"Master20190430!Y104-Master20180614!Y104","v":0},{"$f":"Master20190430!Z104-Master20180614!Z104","v":0},{"$f":"Master20190430!AA104-Master20180614!AA104","v":0},{"$f":"Master20190430!AB104-Master20180614!AB104","v":1},{"$f":"Master20190430!AC104-Master20180614!AC104","v":0},{"$f":"Master20190430!AD104-Master20180614!AD104","v":0},{"$f":"Master20190430!AE104-Master20180614!AE104","v":-1}]
["Northern","2-B","RapR","Rappahannock County",{"$f":"Master20190430!E105-Master20180614!E105","v":0},{"$f":"Master20190430!F105-Master20180614!F105","v":0},{"$f":"Master20190430!G105-Master20180614!G105","v":1},{"$f":"Master20190430!H105-Master20180614!H105","v":1},{"$f":"Master20190430!I105-Master20180614!I105","v":0},{"$f":"Master20190430!J105-Master20180614!J105","v":0},{"$f":"Master20190430!K105-Master20180614!K105","v":-1},{"$f":"Master20190430!L105-Master20180614!L105","v":1},{"$f":"Master20190430!M105-Master20180614!M105","v":0},{"$f":"Master20190430!N105-Master20180614!N105","v":0},{"$f":"Master20190430!O105-Master20180614!O105","v":0},{"$f":"Master20190430!P105-Master20180614!P105","v":1},{"$f":"Master20190430!Q105-Master20180614!Q105","v":0},{"$f":"Master20190430!R105-Master20180614!R105","v":0},{"$f":"Master20190430!S105-Master20180614!S105","v":0},{"$f":"Master20190430!T105-Master20180614!T105","v":0},{"$f":"Master20190430!U105-Master20180614!U105","v":0},{"$f":"Master20190430!V105-Master20180614!V105","v":0},{"$f":"Master20190430!W105-Master20180614!W105","v":0},{"$f":"Master20190430!X105-Master20180614!X105","v":0},{"$f":"Master20190430!Y105-Master20180614!Y105","v":0},{"$f":"Master20190430!Z105-Master20180614!Z105","v":0},{"$f":"Master20190430!AA105-Master20180614!AA105","v":0},{"$f":"Master20190430!AB105-Master20180614!AB105","v":0},{"$f":"Master20190430!AC105-Master20180614!AC105","v":0},{"$f":"Master20190430!AD105-Master20180614!AD105","v":0},{"$f":"Master20190430!AE105-Master20180614!AE105","v":0}]
["Central","4-A","RBHA","Richmond City",{"$f":"Master20190430!E106-Master20180614!E106","v":2},{"$f":"Master20190430!F106-Master20180614!F106","v":5},{"$f":"Master20190430!G106-Master20180614!G106","v":-5},{"$f":"Master20190430!H106-Master20180614!H106","v":2},{"$f":"Master20190430!I106-Master20180614!I106","v":0},{"$f":"Master20190430!J106-Master20180614!J106","v":-22},{"$f":"Master20190430!K106-Master20180614!K106","v":-2},{"$f":"Master20190430!L106-Master20180614!L106","v":24},{"$f":"Master20190430!M106-Master20180614!M106","v":2},{"$f":"Master20190430!N106-Master20180614!N106","v":0},{"$f":"Master20190430!O106-Master20180614!O106","v":-3},{"$f":"Master20190430!P106-Master20180614!P106","v":3},{"$f":"Master20190430!Q106-Master20180614!Q106","v":0},{"$f":"Master20190430!R106-Master20180614!R106","v":0},{"$f":"Master20190430!S106-Master20180614!S106","v":0},{"$f":"Master20190430!T106-Master20180614!T106","v":0},{"$f":"Master20190430!U106-Master20180614!U106","v":0},{"$f":"Master20190430!V106-Master20180614!V106","v":0},{"$f":"Master20190430!W106-Master20180614!W106","v":0},{"$f":"Master20190430!X106-Master20180614!X106","v":-1},{"$f":"Master20190430!Y106-Master20180614!Y106","v":0},{"$f":"Master20190430!Z106-Master20180614!Z106","v":0},{"$f":"Master20190430!AA106-Master20180614!AA106","v":0},{"$f":"Master20190430!AB106-Master20180614!AB106","v":-1},{"$f":"Master20190430!AC106-Master20180614!AC106","v":0},{"$f":"Master20190430!AD106-Master20180614!AD106","v":-2},{"$f":"Master20190430!AE106-Master20180614!AE106","v":0}]
["Eastern","5-A","MPNN","Richmond County",{"$f":"Master20190430!E107-Master20180614!E107","v":-1},{"$f":"Master20190430!F107-Master20180614!F107","v":7},{"$f":"Master20190430!G107-Master20180614!G107","v":-1},{"$f":"Master20190430!H107-Master20180614!H107","v":5},{"$f":"Master20190430!I107-Master20180614!I107","v":2},{"$f":"Master20190430!J107-Master20180614!J107","v":-7},{"$f":"Master20190430!K107-Master20180614!K107","v":2},{"$f":"Master20190430!L107-Master20180614!L107","v":2},{"$f":"Master20190430!M107-Master20180614!M107","v":0},{"$f":"Master20190430!N107-Master20180614!N107","v":0},{"$f":"Master20190430!O107-Master20180614!O107","v":2},{"$f":"Master20190430!P107-Master20180614!P107","v":4},{"$f":"Master20190430!Q107-Master20180614!Q107","v":0},{"$f":"Master20190430!R107-Master20180614!R107","v":0},{"$f":"Master20190430!S107-Master20180614!S107","v":0},{"$f":"Master20190430!T107-Master20180614!T107","v":0},{"$f":"Master20190430!U107-Master20180614!U107","v":0},{"$f":"Master20190430!V107-Master20180614!V107","v":0},{"$f":"Master20190430!W107-Master20180614!W107","v":0},{"$f":"Master20190430!X107-Master20180614!X107","v":0},{"$f":"Master20190430!Y107-Master20180614!Y107","v":0},{"$f":"Master20190430!Z107-Master20180614!Z107","v":0},{"$f":"Master20190430!AA107-Master20180614!AA107","v":0},{"$f":"Master20190430!AB107-Master20180614!AB107","v":0},{"$f":"Master20190430!AC107-Master20180614!AC107","v":0},{"$f":"Master20190430!AD107-Master20180614!AD107","v":0},{"$f":"Master20190430!AE107-Master20180614!AE107","v":0}]
["Southwestern","3-A","BLUE","Roanoke City",{"$f":"Master20190430!E108-Master20180614!E108","v":1},{"$f":"Master20190430!F108-Master20180614!F108","v":4},{"$f":"Master20190430!G108-Master20180614!G108","v":-6},{"$f":"Master20190430!H108-Master20180614!H108","v":-1},{"$f":"Master20190430!I108-Master20180614!I108","v":-2},{"$f":"Master20190430!J108-Master20180614!J108","v":-4},{"$f":"Master20190430!K108-Master20180614!K108","v":2},{"$f":"Master20190430!L108-Master20180614!L108","v":1},{"$f":"Master20190430!M108-Master20180614!M108","v":0},{"$f":"Master20190430!N108-Master20180614!N108","v":2},{"$f":"Master20190430!O108-Master20180614!O108","v":-1},{"$f":"Master20190430!P108-Master20180614!P108","v":1},{"$f":"Master20190430!Q108-Master20180614!Q108","v":0},{"$f":"Master20190430!R108-Master20180614!R108","v":1},{"$f":"Master20190430!S108-Master20180614!S108","v":2},{"$f":"Master20190430!T108-Master20180614!T108","v":0},{"$f":"Master20190430!U108-Master20180614!U108","v":0},{"$f":"Master20190430!V108-Master20180614!V108","v":0},{"$f":"Master20190430!W108-Master20180614!W108","v":0},{"$f":"Master20190430!X108-Master20180614!X108","v":1},{"$f":"Master20190430!Y108-Master20180614!Y108","v":0},{"$f":"Master20190430!Z108-Master20180614!Z108","v":0},{"$f":"Master20190430!AA108-Master20180614!AA108","v":0},{"$f":"Master20190430!AB108-Master20180614!AB108","v":0},{"$f":"Master20190430!AC108-Master20180614!AC108","v":0},{"$f":"Master20190430!AD108-Master20180614!AD108","v":0},{"$f":"Master20190430!AE108-Master20180614!AE108","v":0}]
["Southwestern","3-A","BLUE","Roanoke County",{"$f":"Master20190430!E109-Master20180614!E109","v":1},{"$f":"Master20190430!F109-Master20180614!F109","v":4},{"$f":"Master20190430!G109-Master20180614!G109","v":3},{"$f":"Master20190430!H109-Master20180614!H109","v":8},{"$f":"Master20190430!I109-Master20180614!I109","v":3},{"$f":"Master20190430!J109-Master20180614!J109","v":-10},{"$f":"Master20190430!K109-Master20180614!K109","v":2},{"$f":"Master20190430!L109-Master20180614!L109","v":8},{"$f":"Master20190430!M109-Master20180614!M109","v":0},{"$f":"Master20190430!N109-Master20180614!N109","v":-1},{"$f":"Master20190430!O109-Master20180614!O109","v":1},{"$f":"Master20190430!P109-Master20180614!P109","v":5},{"$f":"Master20190430!Q109-Master20180614!Q109","v":0},{"$f":"Master20190430!R109-Master20180614!R109","v":-1},{"$f":"Master20190430!S109-Master20180614!S109","v":1},{"$f":"Master20190430!T109-Master20180614!T109","v":0},{"$f":"Master20190430!U109-Master20180614!U109","v":0},{"$f":"Master20190430!V109-Master20180614!V109","v":0},{"$f":"Master20190430!W109-Master20180614!W109","v":0},{"$f":"Master20190430!X109-Master20180614!X109","v":0},{"$f":"Master20190430!Y109-Master20180614!Y109","v":0},{"$f":"Master20190430!Z109-Master20180614!Z109","v":0},{"$f":"Master20190430!AA109-Master20180614!AA109","v":0},{"$f":"Master20190430!AB109-Master20180614!AB109","v":0},{"$f":"Master20190430!AC109-Master20180614!AC109","v":0},{"$f":"Master20190430!AD109-Master20180614!AD109","v":-1},{"$f":"Master20190430!AE109-Master20180614!AE109","v":0}]
["Western","1-C","ROC","Rockbridge County",{"$f":"Master20190430!E110-Master20180614!E110","v":0},{"$f":"Master20190430!F110-Master20180614!F110","v":2},{"$f":"Master20190430!G110-Master20180614!G110","v":2},{"$f":"Master20190430!H110-Master20180614!H110","v":4},{"$f":"Master20190430!I110-Master20180614!I110","v":0},{"$f":"Master20190430!J110-Master20180614!J110","v":-5},{"$f":"Master20190430!K110-Master20180614!K110","v":-1},{"$f":"Master20190430!L110-Master20180614!L110","v":7},{"$f":"Master20190430!M110-Master20180614!M110","v":0},{"$f":"Master20190430!N110-Master20180614!N110","v":1},{"$f":"Master20190430!O110-Master20180614!O110","v":0},{"$f":"Master20190430!P110-Master20180614!P110","v":2},{"$f":"Master20190430!Q110-Master20180614!Q110","v":0},{"$f":"Master20190430!R110-Master20180614!R110","v":0},{"$f":"Master20190430!S110-Master20180614!S110","v":0},{"$f":"Master20190430!T110-Master20180614!T110","v":0},{"$f":"Master20190430!U110-Master20180614!U110","v":0},{"$f":"Master20190430!V110-Master20180614!V110","v":0},{"$f":"Master20190430!W110-Master20180614!W110","v":0},{"$f":"Master20190430!X110-Master20180614!X110","v":0},{"$f":"Master20190430!Y110-Master20180614!Y110","v":0},{"$f":"Master20190430!Z110-Master20180614!Z110","v":0},{"$f":"Master20190430!AA110-Master20180614!AA110","v":0},{"$f":"Master20190430!AB110-Master20180614!AB110","v":0},{"$f":"Master20190430!AC110-Master20180614!AC110","v":0},{"$f":"Master20190430!AD110-Master20180614!AD110","v":0},{"$f":"Master20190430!AE110-Master20180614!AE110","v":0}]
["Western","1-B","HARR","Rockingham County",{"$f":"Master20190430!E111-Master20180614!E111","v":-1},{"$f":"Master20190430!F111-Master20180614!F111","v":5},{"$f":"Master20190430!G111-Master20180614!G111","v":0},{"$f":"Master20190430!H111-Master20180614!H111","v":4},{"$f":"Master20190430!I111-Master20180614!I111","v":4},{"$f":"Master20190430!J111-Master20180614!J111","v":0},{"$f":"Master20190430!K111-Master20180614!K111","v":2},{"$f":"Master20190430!L111-Master20180614!L111","v":-4},{"$f":"Master20190430!M111-Master20180614!M111","v":0},{"$f":"Master20190430!N111-Master20180614!N111","v":2},{"$f":"Master20190430!O111-Master20180614!O111","v":-6},{"$f":"Master20190430!P111-Master20180614!P111","v":6},{"$f":"Master20190430!Q111-Master20180614!Q111","v":0},{"$f":"Master20190430!R111-Master20180614!R111","v":1},{"$f":"Master20190430!S111-Master20180614!S111","v":0},{"$f":"Master20190430!T111-Master20180614!T111","v":0},{"$f":"Master20190430!U111-Master20180614!U111","v":0},{"$f":"Master20190430!V111-Master20180614!V111","v":0},{"$f":"Master20190430!W111-Master20180614!W111","v":0},{"$f":"Master20190430!X111-Master20180614!X111","v":0},{"$f":"Master20190430!Y111-Master20180614!Y111","v":0},{"$f":"Master20190430!Z111-Master20180614!Z111","v":0},{"$f":"Master20190430!AA111-Master20180614!AA111","v":0},{"$f":"Master20190430!AB111-Master20180614!AB111","v":0},{"$f":"Master20190430!AC111-Master20180614!AC111","v":0},{"$f":"Master20190430!AD111-Master20180614!AD111","v":-1},{"$f":"Master20190430!AE111-Master20180614!AE111","v":0}]
["Southwestern","3-D","CMT","Russell County",{"$f":"Master20190430!E112-Master20180614!E112","v":-1},{"$f":"Master20190430!F112-Master20180614!F112","v":0},{"$f":"Master20190430!G112-Master20180614!G112","v":3},{"$f":"Master20190430!H112-Master20180614!H112","v":2},{"$f":"Master20190430!I112-Master20180614!I112","v":-1},{"$f":"Master20190430!J112-Master20180614!J112","v":-3},{"$f":"Master20190430!K112-Master20180614!K112","v":0},{"$f":"Master20190430!L112-Master20180614!L112","v":5},{"$f":"Master20190430!M112-Master20180614!M112","v":-1},{"$f":"Master20190430!N112-Master20180614!N112","v":0},{"$f":"Master20190430!O112-Master20180614!O112","v":2},{"$f":"Master20190430!P112-Master20180614!P112","v":0},{"$f":"Master20190430!Q112-Master20180614!Q112","v":0},{"$f":"Master20190430!R112-Master20180614!R112","v":0},{"$f":"Master20190430!S112-Master20180614!S112","v":0},{"$f":"Master20190430!T112-Master20180614!T112","v":0},{"$f":"Master20190430!U112-Master20180614!U112","v":0},{"$f":"Master20190430!V112-Master20180614!V112","v":0},{"$f":"Master20190430!W112-Master20180614!W112","v":0},{"$f":"Master20190430!X112-Master20180614!X112","v":0},{"$f":"Master20190430!Y112-Master20180614!Y112","v":0},{"$f":"Master20190430!Z112-Master20180614!Z112","v":0},{"$f":"Master20190430!AA112-Master20180614!AA112","v":0},{"$f":"Master20190430!AB112-Master20180614!AB112","v":0},{"$f":"Master20190430!AC112-Master20180614!AC112","v":0},{"$f":"Master20190430!AD112-Master20180614!AD112","v":0},{"$f":"Master20190430!AE112-Master20180614!AE112","v":0}]
["Southwestern","3-A","BLUE","Salem City",{"$f":"Master20190430!E113-Master20180614!E113","v":0},{"$f":"Master20190430!F113-Master20180614!F113","v":0},{"$f":"Master20190430!G113-Master20180614!G113","v":2},{"$f":"Master20190430!H113-Master20180614!H113","v":2},{"$f":"Master20190430!I113-Master20180614!I113","v":1},{"$f":"Master20190430!J113-Master20180614!J113","v":1},{"$f":"Master20190430!K113-Master20180614!K113","v":1},{"$f":"Master20190430!L113-Master20180614!L113","v":2},{"$f":"Master20190430!M113-Master20180614!M113","v":0},{"$f":"Master20190430!N113-Master20180614!N113","v":-2},{"$f":"Master20190430!O113-Master20180614!O113","v":-1},{"$f":"Master20190430!P113-Master20180614!P113","v":0},{"$f":"Master20190430!Q113-Master20180614!Q113","v":0},{"$f":"Master20190430!R113-Master20180614!R113","v":1},{"$f":"Master20190430!S113-Master20180614!S113","v":1},{"$f":"Master20190430!T113-Master20180614!T113","v":0},{"$f":"Master20190430!U113-Master20180614!U113","v":0},{"$f":"Master20190430!V113-Master20180614!V113","v":0},{"$f":"Master20190430!W113-Master20180614!W113","v":0},{"$f":"Master20190430!X113-Master20180614!X113","v":1},{"$f":"Master20190430!Y113-Master20180614!Y113","v":0},{"$f":"Master20190430!Z113-Master20180614!Z113","v":0},{"$f":"Master20190430!AA113-Master20180614!AA113","v":0},{"$f":"Master20190430!AB113-Master20180614!AB113","v":-1},{"$f":"Master20190430!AC113-Master20180614!AC113","v":0},{"$f":"Master20190430!AD113-Master20180614!AD113","v":-1},{"$f":"Master20190430!AE113-Master20180614!AE113","v":0}]
["Southwestern","3-D","PLD1","Scott County",{"$f":"Master20190430!E114-Master20180614!E114","v":0},{"$f":"Master20190430!F114-Master20180614!F114","v":0},{"$f":"Master20190430!G114-Master20180614!G114","v":-5},{"$f":"Master20190430!H114-Master20180614!H114","v":-5},{"$f":"Master20190430!I114-Master20180614!I114","v":-1},{"$f":"Master20190430!J114-Master20180614!J114","v":-6},{"$f":"Master20190430!K114-Master20180614!K114","v":0},{"$f":"Master20190430!L114-Master20180614!L114","v":4},{"$f":"Master20190430!M114-Master20180614!M114","v":0},{"$f":"Master20190430!N114-Master20180614!N114","v":0},{"$f":"Master20190430!O114-Master20180614!O114","v":0},{"$f":"Master20190430!P114-Master20180614!P114","v":-2},{"$f":"Master20190430!Q114-Master20180614!Q114","v":0},{"$f":"Master20190430!R114-Master20180614!R114","v":0},{"$f":"Master20190430!S114-Master20180614!S114","v":0},{"$f":"Master20190430!T114-Master20180614!T114","v":0},{"$f":"Master20190430!U114-Master20180614!U114","v":0},{"$f":"Master20190430!V114-Master20180614!V114","v":0},{"$f":"Master20190430!W114-Master20180614!W114","v":0},{"$f":"Master20190430!X114-Master20180614!X114","v":0},{"$f":"Master20190430!Y114-Master20180614!Y114","v":0},{"$f":"Master20190430!Z114-Master20180614!Z114","v":0},{"$f":"Master20190430!AA114-Master20180614!AA114","v":0},{"$f":"Master20190430!AB114-Master20180614!AB114","v":0},{"$f":"Master20190430!AC114-Master20180614!AC114","v":0},{"$f":"Master20190430!AD114-Master20180614!AD114","v":0},{"$f":"Master20190430!AE114-Master20180614!AE114","v":0}]
["Northern","2-D","NW","Shenandoah County",{"$f":"Master20190430!E115-Master20180614!E115","v":-3},{"$f":"Master20190430!F115-Master20180614!F115","v":4},{"$f":"Master20190430!G115-Master20180614!G115","v":5},{"$f":"Master20190430!H115-Master20180614!H115","v":6},{"$f":"Master20190430!I115-Master20180614!I115","v":2},{"$f":"Master20190430!J115-Master20180614!J115","v":-3},{"$f":"Master20190430!K115-Master20180614!K115","v":-1},{"$f":"Master20190430!L115-Master20180614!L115","v":4},{"$f":"Master20190430!M115-Master20180614!M115","v":0},{"$f":"Master20190430!N115-Master20180614!N115","v":4},{"$f":"Master20190430!O115-Master20180614!O115","v":-4},{"$f":"Master20190430!P115-Master20180614!P115","v":4},{"$f":"Master20190430!Q115-Master20180614!Q115","v":0},{"$f":"Master20190430!R115-Master20180614!R115","v":0},{"$f":"Master20190430!S115-Master20180614!S115","v":-1},{"$f":"Master20190430!T115-Master20180614!T115","v":0},{"$f":"Master20190430!U115-Master20180614!U115","v":0},{"$f":"Master20190430!V115-Master20180614!V115","v":0},{"$f":"Master20190430!W115-Master20180614!W115","v":0},{"$f":"Master20190430!X115-Master20180614!X115","v":0},{"$f":"Master20190430!Y115-Master20180614!Y115","v":0},{"$f":"Master20190430!Z115-Master20180614!Z115","v":0},{"$f":"Master20190430!AA115-Master20180614!AA115","v":0},{"$f":"Master20190430!AB115-Master20180614!AB115","v":0},{"$f":"Master20190430!AC115-Master20180614!AC115","v":0},{"$f":"Master20190430!AD115-Master20180614!AD115","v":0},{"$f":"Master20190430!AE115-Master20180614!AE115","v":0}]
["Southwestern","3-D","MTRG","Smyth County",{"$f":"Master20190430!E116-Master20180614!E116","v":0},{"$f":"Master20190430!F116-Master20180614!F116","v":2},{"$f":"Master20190430!G116-Master20180614!G116","v":-2},{"$f":"Master20190430!H116-Master20180614!H116","v":0},{"$f":"Master20190430!I116-Master20180614!I116","v":1},{"$f":"Master20190430!J116-Master20180614!J116","v":-1},{"$f":"Master20190430!K116-Master20180614!K116","v":-1},{"$f":"Master20190430!L116-Master20180614!L116","v":0},{"$f":"Master20190430!M116-Master20180614!M116","v":-1},{"$f":"Master20190430!N116-Master20180614!N116","v":1},{"$f":"Master20190430!O116-Master20180614!O116","v":3},{"$f":"Master20190430!P116-Master20180614!P116","v":-2},{"$f":"Master20190430!Q116-Master20180614!Q116","v":0},{"$f":"Master20190430!R116-Master20180614!R116","v":0},{"$f":"Master20190430!S116-Master20180614!S116","v":0},{"$f":"Master20190430!T116-Master20180614!T116","v":0},{"$f":"Master20190430!U116-Master20180614!U116","v":0},{"$f":"Master20190430!V116-Master20180614!V116","v":0},{"$f":"Master20190430!W116-Master20180614!W116","v":0},{"$f":"Master20190430!X116-Master20180614!X116","v":0},{"$f":"Master20190430!Y116-Master20180614!Y116","v":0},{"$f":"Master20190430!Z116-Master20180614!Z116","v":0},{"$f":"Master20190430!AA116-Master20180614!AA116","v":0},{"$f":"Master20190430!AB116-Master20180614!AB116","v":0},{"$f":"Master20190430!AC116-Master20180614!AC116","v":0},{"$f":"Master20190430!AD116-Master20180614!AD116","v":0},{"$f":"Master20190430!AE116-Master20180614!AE116","v":0}]
["Eastern","5-D","WT","Southampton County",{"$f":"Master20190430!E117-Master20180614!E117","v":0},{"$f":"Master20190430!F117-Master20180614!F117","v":1},{"$f":"Master20190430!G117-Master20180614!G117","v":2},{"$f":"Master20190430!H117-Master20180614!H117","v":3},{"$f":"Master20190430!I117-Master20180614!I117","v":0},{"$f":"Master20190430!J117-Master20180614!J117","v":0},{"$f":"Master20190430!K117-Master20180614!K117","v":0},{"$f":"Master20190430!L117-Master20180614!L117","v":1},{"$f":"Master20190430!M117-Master20180614!M117","v":1},{"$f":"Master20190430!N117-Master20180614!N117","v":0},{"$f":"Master20190430!O117-Master20180614!O117","v":0},{"$f":"Master20190430!P117-Master20180614!P117","v":1},{"$f":"Master20190430!Q117-Master20180614!Q117","v":0},{"$f":"Master20190430!R117-Master20180614!R117","v":0},{"$f":"Master20190430!S117-Master20180614!S117","v":0},{"$f":"Master20190430!T117-Master20180614!T117","v":0},{"$f":"Master20190430!U117-Master20180614!U117","v":0},{"$f":"Master20190430!V117-Master20180614!V117","v":0},{"$f":"Master20190430!W117-Master20180614!W117","v":0},{"$f":"Master20190430!X117-Master20180614!X117","v":0},{"$f":"Master20190430!Y117-Master20180614!Y117","v":0},{"$f":"Master20190430!Z117-Master20180614!Z117","v":0},{"$f":"Master20190430!AA117-Master20180614!AA117","v":0},{"$f":"Master20190430!AB117-Master20180614!AB117","v":0},{"$f":"Master20190430!AC117-Master20180614!AC117","v":0},{"$f":"Master20190430!AD117-Master20180614!AD117","v":0},{"$f":"Master20190430!AE117-Master20180614!AE117","v":0}]
["Northern","2-C","RapA","Spotsylvania County",{"$f":"Master20190430!E118-Master20180614!E118","v":0},{"$f":"Master20190430!F118-Master20180614!F118","v":11},{"$f":"Master20190430!G118-Master20180614!G118","v":11},{"$f":"Master20190430!H118-Master20180614!H118","v":22},{"$f":"Master20190430!I118-Master20180614!I118","v":8},{"$f":"Master20190430!J118-Master20180614!J118","v":-2},{"$f":"Master20190430!K118-Master20180614!K118","v":4},{"$f":"Master20190430!L118-Master20180614!L118","v":6},{"$f":"Master20190430!M118-Master20180614!M118","v":0},{"$f":"Master20190430!N118-Master20180614!N118","v":4},{"$f":"Master20190430!O118-Master20180614!O118","v":-2},{"$f":"Master20190430!P118-Master20180614!P118","v":4},{"$f":"Master20190430!Q118-Master20180614!Q118","v":1},{"$f":"Master20190430!R118-Master20180614!R118","v":1},{"$f":"Master20190430!S118-Master20180614!S118","v":0},{"$f":"Master20190430!T118-Master20180614!T118","v":0},{"$f":"Master20190430!U118-Master20180614!U118","v":0},{"$f":"Master20190430!V118-Master20180614!V118","v":0},{"$f":"Master20190430!W118-Master20180614!W118","v":0},{"$f":"Master20190430!X118-Master20180614!X118","v":1},{"$f":"Master20190430!Y118-Master20180614!Y118","v":0},{"$f":"Master20190430!Z118-Master20180614!Z118","v":0},{"$f":"Master20190430!AA118-Master20180614!AA118","v":0},{"$f":"Master20190430!AB118-Master20180614!AB118","v":0},{"$f":"Master20190430!AC118-Master20180614!AC118","v":0},{"$f":"Master20190430!AD118-Master20180614!AD118","v":-1},{"$f":"Master20190430!AE118-Master20180614!AE118","v":0}]
["Northern","2-C","RapA","Stafford County",{"$f":"Master20190430!E119-Master20180614!E119","v":-2},{"$f":"Master20190430!F119-Master20180614!F119","v":9},{"$f":"Master20190430!G119-Master20180614!G119","v":-10},{"$f":"Master20190430!H119-Master20180614!H119","v":-3},{"$f":"Master20190430!I119-Master20180614!I119","v":2},{"$f":"Master20190430!J119-Master20180614!J119","v":-7},{"$f":"Master20190430!K119-Master20180614!K119","v":-1},{"$f":"Master20190430!L119-Master20180614!L119","v":-9},{"$f":"Master20190430!M119-Master20180614!M119","v":6},{"$f":"Master20190430!N119-Master20180614!N119","v":2},{"$f":"Master20190430!O119-Master20180614!O119","v":-4},{"$f":"Master20190430!P119-Master20180614!P119","v":8},{"$f":"Master20190430!Q119-Master20180614!Q119","v":0},{"$f":"Master20190430!R119-Master20180614!R119","v":-1},{"$f":"Master20190430!S119-Master20180614!S119","v":0},{"$f":"Master20190430!T119-Master20180614!T119","v":0},{"$f":"Master20190430!U119-Master20180614!U119","v":0},{"$f":"Master20190430!V119-Master20180614!V119","v":0},{"$f":"Master20190430!W119-Master20180614!W119","v":0},{"$f":"Master20190430!X119-Master20180614!X119","v":-1},{"$f":"Master20190430!Y119-Master20180614!Y119","v":0},{"$f":"Master20190430!Z119-Master20180614!Z119","v":0},{"$f":"Master20190430!AA119-Master20180614!AA119","v":0},{"$f":"Master20190430!AB119-Master20180614!AB119","v":0},{"$f":"Master20190430!AC119-Master20180614!AC119","v":1},{"$f":"Master20190430!AD119-Master20180614!AD119","v":-1},{"$f":"Master20190430!AE119-Master20180614!AE119","v":0}]
["Western","1-B","VLY","Staunton City",{"$f":"Master20190430!E120-Master20180614!E120","v":0},{"$f":"Master20190430!F120-Master20180614!F120","v":4},{"$f":"Master20190430!G120-Master20180614!G120","v":-1},{"$f":"Master20190430!H120-Master20180614!H120","v":3},{"$f":"Master20190430!I120-Master20180614!I120","v":-2},{"$f":"Master20190430!J120-Master20180614!J120","v":1},{"$f":"Master20190430!K120-Master20180614!K120","v":1},{"$f":"Master20190430!L120-Master20180614!L120","v":-2},{"$f":"Master20190430!M120-Master20180614!M120","v":1},{"$f":"Master20190430!N120-Master20180614!N120","v":-1},{"$f":"Master20190430!O120-Master20180614!O120","v":-1},{"$f":"Master20190430!P120-Master20180614!P120","v":6},{"$f":"Master20190430!Q120-Master20180614!Q120","v":0},{"$f":"Master20190430!R120-Master20180614!R120","v":0},{"$f":"Master20190430!S120-Master20180614!S120","v":0},{"$f":"Master20190430!T120-Master20180614!T120","v":0},{"$f":"Master20190430!U120-Master20180614!U120","v":0},{"$f":"Master20190430!V120-Master20180614!V120","v":0},{"$f":"Master20190430!W120-Master20180614!W120","v":0},{"$f":"Master20190430!X120-Master20180614!X120","v":-1},{"$f":"Master20190430!Y120-Master20180614!Y120","v":0},{"$f":"Master20190430!Z120-Master20180614!Z120","v":0},{"$f":"Master20190430!AA120-Master20180614!AA120","v":0},{"$f":"Master20190430!AB120-Master20180614!AB120","v":0},{"$f":"Master20190430!AC120-Master20180614!AC120","v":0},{"$f":"Master20190430!AD120-Master20180614!AD120","v":1},{"$f":"Master20190430!AE120-Master20180614!AE120","v":0}]
["Eastern","5-D","WT","Suffolk City",{"$f":"Master20190430!E121-Master20180614!E121","v":0},{"$f":"Master20190430!F121-Master20180614!F121","v":5},{"$f":"Master20190430!G121-Master20180614!G121","v":6},{"$f":"Master20190430!H121-Master20180614!H121","v":11},{"$f":"Master20190430!I121-Master20180614!I121","v":1},{"$f":"Master20190430!J121-Master20180614!J121","v":-9},{"$f":"Master20190430!K121-Master20180614!K121","v":0},{"$f":"Master20190430!L121-Master20180614!L121","v":6},{"$f":"Master20190430!M121-Master20180614!M121","v":0},{"$f":"Master20190430!N121-Master20180614!N121","v":1},{"$f":"Master20190430!O121-Master20180614!O121","v":2},{"$f":"Master20190430!P121-Master20180614!P121","v":10},{"$f":"Master20190430!Q121-Master20180614!Q121","v":0},{"$f":"Master20190430!R121-Master20180614!R121","v":0},{"$f":"Master20190430!S121-Master20180614!S121","v":0},{"$f":"Master20190430!T121-Master20180614!T121","v":0},{"$f":"Master20190430!U121-Master20180614!U121","v":0},{"$f":"Master20190430!V121-Master20180614!V121","v":0},{"$f":"Master20190430!W121-Master20180614!W121","v":0},{"$f":"Master20190430!X121-Master20180614!X121","v":-1},{"$f":"Master20190430!Y121-Master20180614!Y121","v":0},{"$f":"Master20190430!Z121-Master20180614!Z121","v":0},{"$f":"Master20190430!AA121-Master20180614!AA121","v":0},{"$f":"Master20190430!AB121-Master20180614!AB121","v":0},{"$f":"Master20190430!AC121-Master20180614!AC121","v":0},{"$f":"Master20190430!AD121-Master20180614!AD121","v":0},{"$f":"Master20190430!AE121-Master20180614!AE121","v":0}]
["Central","4-D","D19","Surry County",{"$f":"Master20190430!E122-Master20180614!E122","v":0},{"$f":"Master20190430!F122-Master20180614!F122","v":0},{"$f":"Master20190430!G122-Master20180614!G122","v":1},{"$f":"Master20190430!H122-Master20180614!H122","v":1},{"$f":"Master20190430!I122-Master20180614!I122","v":0},{"$f":"Master20190430!J122-Master20180614!J122","v":0},{"$f":"Master20190430!K122-Master20180614!K122","v":0},{"$f":"Master20190430!L122-Master20180614!L122","v":0},{"$f":"Master20190430!M122-Master20180614!M122","v":0},{"$f":"Master20190430!N122-Master20180614!N122","v":1},{"$f":"Master20190430!O122-Master20180614!O122","v":0},{"$f":"Master20190430!P122-Master20180614!P122","v":0},{"$f":"Master20190430!Q122-Master20180614!Q122","v":0},{"$f":"Master20190430!R122-Master20180614!R122","v":0},{"$f":"Master20190430!S122-Master20180614!S122","v":0},{"$f":"Master20190430!T122-Master20180614!T122","v":0},{"$f":"Master20190430!U122-Master20180614!U122","v":0},{"$f":"Master20190430!V122-Master20180614!V122","v":0},{"$f":"Master20190430!W122-Master20180614!W122","v":0},{"$f":"Master20190430!X122-Master20180614!X122","v":0},{"$f":"Master20190430!Y122-Master20180614!Y122","v":0},{"$f":"Master20190430!Z122-Master20180614!Z122","v":0},{"$f":"Master20190430!AA122-Master20180614!AA122","v":0},{"$f":"Master20190430!AB122-Master20180614!AB122","v":0},{"$f":"Master20190430!AC122-Master20180614!AC122","v":0},{"$f":"Master20190430!AD122-Master20180614!AD122","v":0},{"$f":"Master20190430!AE122-Master20180614!AE122","v":0}]
["Central","4-D","D19","Sussex County",{"$f":"Master20190430!E123-Master20180614!E123","v":0},{"$f":"Master20190430!F123-Master20180614!F123","v":1},{"$f":"Master20190430!G123-Master20180614!G123","v":2},{"$f":"Master20190430!H123-Master20180614!H123","v":3},{"$f":"Master20190430!I123-Master20180614!I123","v":-1},{"$f":"Master20190430!J123-Master20180614!J123","v":-6},{"$f":"Master20190430!K123-Master20180614!K123","v":2},{"$f":"Master20190430!L123-Master20180614!L123","v":7},{"$f":"Master20190430!M123-Master20180614!M123","v":1},{"$f":"Master20190430!N123-Master20180614!N123","v":-1},{"$f":"Master20190430!O123-Master20180614!O123","v":1},{"$f":"Master20190430!P123-Master20180614!P123","v":0},{"$f":"Master20190430!Q123-Master20180614!Q123","v":0},{"$f":"Master20190430!R123-Master20180614!R123","v":0},{"$f":"Master20190430!S123-Master20180614!S123","v":0},{"$f":"Master20190430!T123-Master20180614!T123","v":0},{"$f":"Master20190430!U123-Master20180614!U123","v":0},{"$f":"Master20190430!V123-Master20180614!V123","v":0},{"$f":"Master20190430!W123-Master20180614!W123","v":0},{"$f":"Master20190430!X123-Master20180614!X123","v":0},{"$f":"Master20190430!Y123-Master20180614!Y123","v":0},{"$f":"Master20190430!Z123-Master20180614!Z123","v":0},{"$f":"Master20190430!AA123-Master20180614!AA123","v":0},{"$f":"Master20190430!AB123-Master20180614!AB123","v":0},{"$f":"Master20190430!AC123-Master20180614!AC123","v":0},{"$f":"Master20190430!AD123-Master20180614!AD123","v":0},{"$f":"Master20190430!AE123-Master20180614!AE123","v":0}]
["Southwestern","3-D","CMT","Tazewell County",{"$f":"Master20190430!E124-Master20180614!E124","v":1},{"$f":"Master20190430!F124-Master20180614!F124","v":4},{"$f":"Master20190430!G124-Master20180614!G124","v":-5},{"$f":"Master20190430!H124-Master20180614!H124","v":0},{"$f":"Master20190430!I124-Master20180614!I124","v":-1},{"$f":"Master20190430!J124-Master20180614!J124","v":-2},{"$f":"Master20190430!K124-Master20180614!K124","v":-3},{"$f":"Master20190430!L124-Master20180614!L124","v":0},{"$f":"Master20190430!M124-Master20180614!M124","v":0},{"$f":"Master20190430!N124-Master20180614!N124","v":3},{"$f":"Master20190430!O124-Master20180614!O124","v":-1},{"$f":"Master20190430!P124-Master20180614!P124","v":4},{"$f":"Master20190430!Q124-Master20180614!Q124","v":0},{"$f":"Master20190430!R124-Master20180614!R124","v":0},{"$f":"Master20190430!S124-Master20180614!S124","v":0},{"$f":"Master20190430!T124-Master20180614!T124","v":0},{"$f":"Master20190430!U124-Master20180614!U124","v":0},{"$f":"Master20190430!V124-Master20180614!V124","v":0},{"$f":"Master20190430!W124-Master20180614!W124","v":0},{"$f":"Master20190430!X124-Master20180614!X124","v":0},{"$f":"Master20190430!Y124-Master20180614!Y124","v":0},{"$f":"Master20190430!Z124-Master20180614!Z124","v":0},{"$f":"Master20190430!AA124-Master20180614!AA124","v":0},{"$f":"Master20190430!AB124-Master20180614!AB124","v":0},{"$f":"Master20190430!AC124-Master20180614!AC124","v":-1},{"$f":"Master20190430!AD124-Master20180614!AD124","v":-2},{"$f":"Master20190430!AE124-Master20180614!AE124","v":0}]
["Eastern","5-D","VAB","Virginia Beach City",{"$f":"Master20190430!E125-Master20180614!E125","v":6},{"$f":"Master20190430!F125-Master20180614!F125","v":20},{"$f":"Master20190430!G125-Master20180614!G125","v":13},{"$f":"Master20190430!H125-Master20180614!H125","v":39},{"$f":"Master20190430!I125-Master20180614!I125","v":-9},{"$f":"Master20190430!J125-Master20180614!J125","v":-36},{"$f":"Master20190430!K125-Master20180614!K125","v":-7},{"$f":"Master20190430!L125-Master20180614!L125","v":57},{"$f":"Master20190430!M125-Master20180614!M125","v":3},{"$f":"Master20190430!N125-Master20180614!N125","v":-3},{"$f":"Master20190430!O125-Master20180614!O125","v":2},{"$f":"Master20190430!P125-Master20180614!P125","v":32},{"$f":"Master20190430!Q125-Master20180614!Q125","v":0},{"$f":"Master20190430!R125-Master20180614!R125","v":1},{"$f":"Master20190430!S125-Master20180614!S125","v":-1},{"$f":"Master20190430!T125-Master20180614!T125","v":0},{"$f":"Master20190430!U125-Master20180614!U125","v":0},{"$f":"Master20190430!V125-Master20180614!V125","v":0},{"$f":"Master20190430!W125-Master20180614!W125","v":2},{"$f":"Master20190430!X125-Master20180614!X125","v":3},{"$f":"Master20190430!Y125-Master20180614!Y125","v":0},{"$f":"Master20190430!Z125-Master20180614!Z125","v":0},{"$f":"Master20190430!AA125-Master20180614!AA125","v":0},{"$f":"Master20190430!AB125-Master20180614!AB125","v":0},{"$f":"Master20190430!AC125-Master20180614!AC125","v":-1},{"$f":"Master20190430!AD125-Master20180614!AD125","v":-4},{"$f":"Master20190430!AE125-Master20180614!AE125","v":1}]
["Northern","2-D","NW","Warren County",{"$f":"Master20190430!E126-Master20180614!E126","v":0},{"$f":"Master20190430!F126-Master20180614!F126","v":1},{"$f":"Master20190430!G126-Master20180614!G126","v":1},{"$f":"Master20190430!H126-Master20180614!H126","v":2},{"$f":"Master20190430!I126-Master20180614!I126","v":0},{"$f":"Master20190430!J126-Master20180614!J126","v":0},{"$f":"Master20190430!K126-Master20180614!K126","v":0},{"$f":"Master20190430!L126-Master20180614!L126","v":1},{"$f":"Master20190430!M126-Master20180614!M126","v":0},{"$f":"Master20190430!N126-Master20180614!N126","v":-1},{"$f":"Master20190430!O126-Master20180614!O126","v":0},{"$f":"Master20190430!P126-Master20180614!P126","v":2},{"$f":"Master20190430!Q126-Master20180614!Q126","v":0},{"$f":"Master20190430!R126-Master20180614!R126","v":0},{"$f":"Master20190430!S126-Master20180614!S126","v":0},{"$f":"Master20190430!T126-Master20180614!T126","v":0},{"$f":"Master20190430!U126-Master20180614!U126","v":0},{"$f":"Master20190430!V126-Master20180614!V126","v":0},{"$f":"Master20190430!W126-Master20180614!W126","v":0},{"$f":"Master20190430!X126-Master20180614!X126","v":0},{"$f":"Master20190430!Y126-Master20180614!Y126","v":0},{"$f":"Master20190430!Z126-Master20180614!Z126","v":0},{"$f":"Master20190430!AA126-Master20180614!AA126","v":0},{"$f":"Master20190430!AB126-Master20180614!AB126","v":0},{"$f":"Master20190430!AC126-Master20180614!AC126","v":0},{"$f":"Master20190430!AD126-Master20180614!AD126","v":0},{"$f":"Master20190430!AE126-Master20180614!AE126","v":0}]
["Southwestern","3-D","HIGH","Washington County",{"$f":"Master20190430!E127-Master20180614!E127","v":0},{"$f":"Master20190430!F127-Master20180614!F127","v":1},{"$f":"Master20190430!G127-Master20180614!G127","v":-4},{"$f":"Master20190430!H127-Master20180614!H127","v":-3},{"$f":"Master20190430!I127-Master20180614!I127","v":-2},{"$f":"Master20190430!J127-Master20180614!J127","v":-1},{"$f":"Master20190430!K127-Master20180614!K127","v":-1},{"$f":"Master20190430!L127-Master20180614!L127","v":-1},{"$f":"Master20190430!M127-Master20180614!M127","v":0},{"$f":"Master20190430!N127-Master20180614!N127","v":0},{"$f":"Master20190430!O127-Master20180614!O127","v":-1},{"$f":"Master20190430!P127-Master20180614!P127","v":3},{"$f":"Master20190430!Q127-Master20180614!Q127","v":0},{"$f":"Master20190430!R127-Master20180614!R127","v":0},{"$f":"Master20190430!S127-Master20180614!S127","v":0},{"$f":"Master20190430!T127-Master20180614!T127","v":0},{"$f":"Master20190430!U127-Master20180614!U127","v":0},{"$f":"Master20190430!V127-Master20180614!V127","v":0},{"$f":"Master20190430!W127-Master20180614!W127","v":0},{"$f":"Master20190430!X127-Master20180614!X127","v":1},{"$f":"Master20190430!Y127-Master20180614!Y127","v":0},{"$f":"Master20190430!Z127-Master20180614!Z127","v":0},{"$f":"Master20190430!AA127-Master20180614!AA127","v":0},{"$f":"Master20190430!AB127-Master20180614!AB127","v":0},{"$f":"Master20190430!AC127-Master20180614!AC127","v":0},{"$f":"Master20190430!AD127-Master20180614!AD127","v":-1},{"$f":"Master20190430!AE127-Master20180614!AE127","v":0}]
["Western","1-B","VLY","Waynesboro City",{"$f":"Master20190430!E128-Master20180614!E128","v":0},{"$f":"Master20190430!F128-Master20180614!F128","v":-1},{"$f":"Master20190430!G128-Master20180614!G128","v":-1},{"$f":"Master20190430!H128-Master20180614!H128","v":-2},{"$f":"Master20190430!I128-Master20180614!I128","v":1},{"$f":"Master20190430!J128-Master20180614!J128","v":0},{"$f":"Master20190430!K128-Master20180614!K128","v":2},{"$f":"Master20190430!L128-Master20180614!L128","v":-5},{"$f":"Master20190430!M128-Master20180614!M128","v":0},{"$f":"Master20190430!N128-Master20180614!N128","v":-1},{"$f":"Master20190430!O128-Master20180614!O128","v":0},{"$f":"Master20190430!P128-Master20180614!P128","v":1},{"$f":"Master20190430!Q128-Master20180614!Q128","v":0},{"$f":"Master20190430!R128-Master20180614!R128","v":1},{"$f":"Master20190430!S128-Master20180614!S128","v":0},{"$f":"Master20190430!T128-Master20180614!T128","v":0},{"$f":"Master20190430!U128-Master20180614!U128","v":0},{"$f":"Master20190430!V128-Master20180614!V128","v":0},{"$f":"Master20190430!W128-Master20180614!W128","v":0},{"$f":"Master20190430!X128-Master20180614!X128","v":0},{"$f":"Master20190430!Y128-Master20180614!Y128","v":0},{"$f":"Master20190430!Z128-Master20180614!Z128","v":0},{"$f":"Master20190430!AA128-Master20180614!AA128","v":0},{"$f":"Master20190430!AB128-Master20180614!AB128","v":0},{"$f":"Master20190430!AC128-Master20180614!AC128","v":0},{"$f":"Master20190430!AD128-Master20180614!AD128","v":0},{"$f":"Master20190430!AE128-Master20180614!AE128","v":0}]
["Eastern","5-A","MPNN","Westmoreland County",{"$f":"Master20190430!E129-Master20180614!E129","v":0},{"$f":"Master20190430!F129-Master20180614!F129","v":1},{"$f":"Master20190430!G129-Master20180614!G129","v":-2},{"$f":"Master20190430!H129-Master20180614!H129","v":-1},{"$f":"Master20190430!I129-Master20180614!I129","v":-2},{"$f":"Master20190430!J129-Master20180614!J129","v":3},{"$f":"Master20190430!K129-Master20180614!K129","v":1},{"$f":"Master20190430!L129-Master20180614!L129","v":1},{"$f":"Master20190430!M129-Master20180614!M129","v":0},{"$f":"Master20190430!N129-Master20180614!N129","v":-1},{"$f":"Master20190430!O129-Master20180614!O129","v":0},{"$f":"Master20190430!P129-Master20180614!P129","v":-3},{"$f":"Master20190430!Q129-Master20180614!Q129","v":0},{"$f":"Master20190430!R129-Master20180614!R129","v":0},{"$f":"Master20190430!S129-Master20180614!S129","v":0},{"$f":"Master20190430!T129-Master20180614!T129","v":0},{"$f":"Master20190430!U129-Master20180614!U129","v":0},{"$f":"Master20190430!V129-Master20180614!V129","v":0},{"$f":"Master20190430!W129-Master20180614!W129","v":0},{"$f":"Master20190430!X129-Master20180614!X129","v":0},{"$f":"Master20190430!Y129-Master20180614!Y129","v":0},{"$f":"Master20190430!Z129-Master20180614!Z129","v":0},{"$f":"Master20190430!AA129-Master20180614!AA129","v":0},{"$f":"Master20190430!AB129-Master20180614!AB129","v":0},{"$f":"Master20190430!AC129-Master20180614!AC129","v":0},{"$f":"Master20190430!AD129-Master20180614!AD129","v":0},{"$f":"Master20190430!AE129-Master20180614!AE129","v":0}]
["Eastern","5-C","COLO","Williamsburg City",{"$f":"Master20190430!E130-Master20180614!E130","v":0},{"$f":"Master20190430!F130-Master20180614!F130","v":2},{"$f":"Master20190430!G130-Master20180614!G130","v":-1},{"$f":"Master20190430!H130-Master20180614!H130","v":1},{"$f":"Master20190430!I130-Master20180614!I130","v":0},{"$f":"Master20190430!J130-Master20180614!J130","v":0},{"$f":"Master20190430!K130-Master20180614!K130","v":0},{"$f":"Master20190430!L130-Master20180614!L130","v":-1},{"$f":"Master20190430!M130-Master20180614!M130","v":0},{"$f":"Master20190430!N130-Master20180614!N130","v":1},{"$f":"Master20190430!O130-Master20180614!O130","v":0},{"$f":"Master20190430!P130-Master20180614!P130","v":1},{"$f":"Master20190430!Q130-Master20180614!Q130","v":0},{"$f":"Master20190430!R130-Master20180614!R130","v":0},{"$f":"Master20190430!S130-Master20180614!S130","v":0},{"$f":"Master20190430!T130-Master20180614!T130","v":0},{"$f":"Master20190430!U130-Master20180614!U130","v":0},{"$f":"Master20190430!V130-Master20180614!V130","v":0},{"$f":"Master20190430!W130-Master20180614!W130","v":0},{"$f":"Master20190430!X130-Master20180614!X130","v":0},{"$f":"Master20190430!Y130-Master20180614!Y130","v":0},{"$f":"Master20190430!Z130-Master20180614!Z130","v":0},{"$f":"Master20190430!AA130-Master20180614!AA130","v":0},{"$f":"Master20190430!AB130-Master20180614!AB130","v":0},{"$f":"Master20190430!AC130-Master20180614!AC130","v":0},{"$f":"Master20190430!AD130-Master20180614!AD130","v":0},{"$f":"Master20190430!AE130-Master20180614!AE130","v":0}]
["Northern","2-D","NW","Winchester City",{"$f":"Master20190430!E131-Master20180614!E131","v":0},{"$f":"Master20190430!F131-Master20180614!F131","v":1},{"$f":"Master20190430!G131-Master20180614!G131","v":-2},{"$f":"Master20190430!H131-Master20180614!H131","v":-1},{"$f":"Master20190430!I131-Master20180614!I131","v":0},{"$f":"Master20190430!J131-Master20180614!J131","v":-6},{"$f":"Master20190430!K131-Master20180614!K131","v":-1},{"$f":"Master20190430!L131-Master20180614!L131","v":1},{"$f":"Master20190430!M131-Master20180614!M131","v":0},{"$f":"Master20190430!N131-Master20180614!N131","v":2},{"$f":"Master20190430!O131-Master20180614!O131","v":1},{"$f":"Master20190430!P131-Master20180614!P131","v":2},{"$f":"Master20190430!Q131-Master20180614!Q131","v":0},{"$f":"Master20190430!R131-Master20180614!R131","v":-1},{"$f":"Master20190430!S131-Master20180614!S131","v":0},{"$f":"Master20190430!T131-Master20180614!T131","v":0},{"$f":"Master20190430!U131-Master20180614!U131","v":0},{"$f":"Master20190430!V131-Master20180614!V131","v":0},{"$f":"Master20190430!W131-Master20180614!W131","v":0},{"$f":"Master20190430!X131-Master20180614!X131","v":0},{"$f":"Master20190430!Y131-Master20180614!Y131","v":0},{"$f":"Master20190430!Z131-Master20180614!Z131","v":0},{"$f":"Master20190430!AA131-Master20180614!AA131","v":0},{"$f":"Master20190430!AB131-Master20180614!AB131","v":0},{"$f":"Master20190430!AC131-Master20180614!AC131","v":0},{"$f":"Master20190430!AD131-Master20180614!AD131","v":0},{"$f":"Master20190430!AE131-Master20180614!AE131","v":0}]
["Southwestern","3-D","PLD1","Wise County",{"$f":"Master20190430!E132-Master20180614!E132","v":0},{"$f":"Master20190430!F132-Master20180614!F132","v":1},{"$f":"Master20190430!G132-Master20180614!G132","v":3},{"$f":"Master20190430!H132-Master20180614!H132","v":4},{"$f":"Master20190430!I132-Master20180614!I132","v":1},{"$f":"Master20190430!J132-Master20180614!J132","v":-2},{"$f":"Master20190430!K132-Master20180614!K132","v":0},{"$f":"Master20190430!L132-Master20180614!L132","v":3},{"$f":"Master20190430!M132-Master20180614!M132","v":0},{"$f":"Master20190430!N132-Master20180614!N132","v":0},{"$f":"Master20190430!O132-Master20180614!O132","v":0},{"$f":"Master20190430!P132-Master20180614!P132","v":2},{"$f":"Master20190430!Q132-Master20180614!Q132","v":0},{"$f":"Master20190430!R132-Master20180614!R132","v":0},{"$f":"Master20190430!S132-Master20180614!S132","v":0},{"$f":"Master20190430!T132-Master20180614!T132","v":0},{"$f":"Master20190430!U132-Master20180614!U132","v":0},{"$f":"Master20190430!V132-Master20180614!V132","v":0},{"$f":"Master20190430!W132-Master20180614!W132","v":0},{"$f":"Master20190430!X132-Master20180614!X132","v":0},{"$f":"Master20190430!Y132-Master20180614!Y132","v":0},{"$f":"Master20190430!Z132-Master20180614!Z132","v":0},{"$f":"Master20190430!AA132-Master20180614!AA132","v":0},{"$f":"Master20190430!AB132-Master20180614!AB132","v":0},{"$f":"Master20190430!AC132-Master20180614!AC132","v":0},{"$f":"Master20190430!AD132-Master20180614!AD132","v":-1},{"$f":"Master20190430!AE132-Master20180614!AE132","v":0}]
["Southwestern","3-C","MTRG","Wythe County",{"$f":"Master20190430!E133-Master20180614!E133","v":0},{"$f":"Master20190430!F133-Master20180614!F133","v":1},{"$f":"Master20190430!G133-Master20180614!G133","v":8},{"$f":"Master20190430!H133-Master20180614!H133","v":9},{"$f":"Master20190430!I133-Master20180614!I133","v":-1},{"$f":"Master20190430!J133-Master20180614!J133","v":-4},{"$f":"Master20190430!K133-Master20180614!K133","v":0},{"$f":"Master20190430!L133-Master20180614!L133","v":1},{"$f":"Master20190430!M133-Master20180614!M133","v":3},{"$f":"Master20190430!N133-Master20180614!N133","v":4},{"$f":"Master20190430!O133-Master20180614!O133","v":6},{"$f":"Master20190430!P133-Master20180614!P133","v":0},{"$f":"Master20190430!Q133-Master20180614!Q133","v":0},{"$f":"Master20190430!R133-Master20180614!R133","v":0},{"$f":"Master20190430!S133-Master20180614!S133","v":0},{"$f":"Master20190430!T133-Master20180614!T133","v":0},{"$f":"Master20190430!U133-Master20180614!U133","v":0},{"$f":"Master20190430!V133-Master20180614!V133","v":0},{"$f":"Master20190430!W133-Master20180614!W133","v":0},{"$f":"Master20190430!X133-Master20180614!X133","v":0},{"$f":"Master20190430!Y133-Master20180614!Y133","v":0},{"$f":"Master20190430!Z133-Master20180614!Z133","v":0},{"$f":"Master20190430!AA133-Master20180614!AA133","v":0},{"$f":"Master20190430!AB133-Master20180614!AB133","v":0},{"$f":"Master20190430!AC133-Master20180614!AC133","v":0},{"$f":"Master20190430!AD133-Master20180614!AD133","v":0},{"$f":"Master20190430!AE133-Master20180614!AE133","v":0}]
["Eastern","5-C","COLO","York County",{"$f":"Master20190430!E134-Master20180614!E134","v":0},{"$f":"Master20190430!F134-Master20180614!F134","v":0},{"$f":"Master20190430!G134-Master20180614!G134","v":5},{"$f":"Master20190430!H134-Master20180614!H134","v":5},{"$f":"Master20190430!I134-Master20180614!I134","v":0},{"$f":"Master20190430!J134-Master20180614!J134","v":-2},{"$f":"Master20190430!K134-Master20180614!K134","v":0},{"$f":"Master20190430!L134-Master20180614!L134","v":4},{"$f":"Master20190430!M134-Master20180614!M134","v":0},{"$f":"Master20190430!N134-Master20180614!N134","v":1},{"$f":"Master20190430!O134-Master20180614!O134","v":0},{"$f":"Master20190430!P134-Master20180614!P134","v":2},{"$f":"Master20190430!Q134-Master20180614!Q134","v":0},{"$f":"Master20190430!R134-Master20180614!R134","v":0},{"$f":"Master20190430!S134-Master20180614!S134","v":0},{"$f":"Master20190430!T134-Master20180614!T134","v":0},{"$f":"Master20190430!U134-Master20180614!U134","v":0},{"$f":"Master20190430!V134-Master20180614!V134","v":0},{"$f":"Master20190430!W134-Master20180614!W134","v":0},{"$f":"Master20190430!X134-Master20180614!X134","v":0},{"$f":"Master20190430!Y134-Master20180614!Y134","v":0},{"$f":"Master20190430!Z134-Master20180614!Z134","v":0},{"$f":"Master20190430!AA134-Master20180614!AA134","v":0},{"$f":"Master20190430!AB134-Master20180614!AB134","v":0},{"$f":"Master20190430!AC134-Master20180614!AC134","v":0},{"$f":"Master20190430!AD134-Master20180614!AD134","v":0},{"$f":"Master20190430!AE134-Master20180614!AE134","v":0}]
[]
["DS-Regional Deltas - Unique"]
["Central",null,"na","na",{"$f":"Master20190430!E144-Master20180614!E137","v":11},{"$f":"Master20190430!F144-Master20180614!F137","v":67},{"$f":"Master20190430!G144-Master20180614!G137","v":116},{"$f":"Master20190430!H144-Master20180614!H137","v":194},{"$f":"Master20190430!I144-Master20180614!I137","v":2},{"$f":"Master20190430!J144-Master20180614!J137","v":-68},{"$f":"Master20190430!K144-Master20180614!K137","v":-21},{"$f":"Master20190430!L144-Master20180614!L137","v":195},{"$f":"Master20190430!M144-Master20180614!M137","v":40},{"$f":"Master20190430!N144-Master20180614!N137","v":10},{"$f":"Master20190430!O144-Master20180614!O137","v":-5},{"$f":"Master20190430!P144-Master20180614!P137","v":41},{"$f":"Master20190430!Q144-Master20180614!Q137","v":1},{"$f":"Master20190430!R144-Master20180614!R137","v":3},{"$f":"Master20190430!S144-Master20180614!S137","v":4},{"$f":"Master20190430!T144-Master20180614!T137","v":0},{"$f":"Master20190430!U144-Master20180614!U137","v":0},{"$f":"Master20190430!V144-Master20180614!V137","v":0},{"$f":"Master20190430!W144-Master20180614!W137","v":0},{"$f":"Master20190430!X144-Master20180614!X137","v":1},{"$f":"Master20190430!Y144-Master20180614!Y137","v":0},{"$f":"Master20190430!Z144-Master20180614!Z137","v":1},{"$f":"Master20190430!AA144-Master20180614!AA137","v":0},{"$f":"Master20190430!AB144-Master20180614!AB137","v":0},{"$f":"Master20190430!AC144-Master20180614!AC137","v":0},{"$f":"Master20190430!AD144-Master20180614!AD137","v":0},{"$f":"Master20190430!AE144-Master20180614!AE137","v":1}]
["Eastern",null,"na","na",{"$f":"Master20190430!E145-Master20180614!E138","v":5},{"$f":"Master20190430!F145-Master20180614!F138","v":107},{"$f":"Master20190430!G145-Master20180614!G138","v":-3},{"$f":"Master20190430!H145-Master20180614!H138","v":109},{"$f":"Master20190430!I145-Master20180614!I138","v":-40},{"$f":"Master20190430!J145-Master20180614!J138","v":-136},{"$f":"Master20190430!K145-Master20180614!K138","v":-7},{"$f":"Master20190430!L145-Master20180614!L138","v":159},{"$f":"Master20190430!M145-Master20180614!M138","v":16},{"$f":"Master20190430!N145-Master20180614!N138","v":12},{"$f":"Master20190430!O145-Master20180614!O138","v":0},{"$f":"Master20190430!P145-Master20180614!P138","v":105},{"$f":"Master20190430!Q145-Master20180614!Q138","v":0},{"$f":"Master20190430!R145-Master20180614!R138","v":4},{"$f":"Master20190430!S145-Master20180614!S138","v":2},{"$f":"Master20190430!T145-Master20180614!T138","v":0},{"$f":"Master20190430!U145-Master20180614!U138","v":0},{"$f":"Master20190430!V145-Master20180614!V138","v":0},{"$f":"Master20190430!W145-Master20180614!W138","v":1},{"$f":"Master20190430!X145-Master20180614!X138","v":7},{"$f":"Master20190430!Y145-Master20180614!Y138","v":0},{"$f":"Master20190430!Z145-Master20180614!Z138","v":0},{"$f":"Master20190430!AA145-Master20180614!AA138","v":1},{"$f":"Master20190430!AB145-Master20180614!AB138","v":0},{"$f":"Master20190430!AC145-Master20180614!AC138","v":5},{"$f":"Master20190430!AD145-Master20180614!AD138","v":0},{"$f":"Master20190430!AE145-Master20180614!AE138","v":3}]
["Northern",null,"na","na",{"$f":"Master20190430!E146-Master20180614!E139","v":0},{"$f":"Master20190430!F146-Master20180614!F139","v":175},{"$f":"Master20190430!G146-Master20180614!G139","v":81},{"$f":"Master20190430!H146-Master20180614!H139","v":256},{"$f":"Master20190430!I146-Master20180614!I139","v":18},{"$f":"Master20190430!J146-Master20180614!J139","v":-65},{"$f":"Master20190430!K146-Master20180614!K139","v":7},{"$f":"Master20190430!L146-Master20180614!L139","v":143},{"$f":"Master20190430!M146-Master20180614!M139","v":19},{"$f":"Master20190430!N146-Master20180614!N139","v":20},{"$f":"Master20190430!O146-Master20180614!O139","v":-14},{"$f":"Master20190430!P146-Master20180614!P139","v":128},{"$f":"Master20190430!Q146-Master20180614!Q139","v":2},{"$f":"Master20190430!R146-Master20180614!R139","v":3},{"$f":"Master20190430!S146-Master20180614!S139","v":1},{"$f":"Master20190430!T146-Master20180614!T139","v":0},{"$f":"Master20190430!U146-Master20180614!U139","v":0},{"$f":"Master20190430!V146-Master20180614!V139","v":0},{"$f":"Master20190430!W146-Master20180614!W139","v":1},{"$f":"Master20190430!X146-Master20180614!X139","v":3},{"$f":"Master20190430!Y146-Master20180614!Y139","v":0},{"$f":"Master20190430!Z146-Master20180614!Z139","v":0},{"$f":"Master20190430!AA146-Master20180614!AA139","v":0},{"$f":"Master20190430!AB146-Master20180614!AB139","v":2},{"$f":"Master20190430!AC146-Master20180614!AC139","v":3},{"$f":"Master20190430!AD146-Master20180614!AD139","v":-1},{"$f":"Master20190430!AE146-Master20180614!AE139","v":1}]
["Southwestern",null,"na","na",{"$f":"Master20190430!E147-Master20180614!E140","v":13},{"$f":"Master20190430!F147-Master20180614!F140","v":59},{"$f":"Master20190430!G147-Master20180614!G140","v":1},{"$f":"Master20190430!H147-Master20180614!H140","v":73},{"$f":"Master20190430!I147-Master20180614!I140","v":-14},{"$f":"Master20190430!J147-Master20180614!J140","v":-70},{"$f":"Master20190430!K147-Master20180614!K140","v":-14},{"$f":"Master20190430!L147-Master20180614!L140","v":30},{"$f":"Master20190430!M147-Master20180614!M140","v":11},{"$f":"Master20190430!N147-Master20180614!N140","v":28},{"$f":"Master20190430!O147-Master20180614!O140","v":44},{"$f":"Master20190430!P147-Master20180614!P140","v":58},{"$f":"Master20190430!Q147-Master20180614!Q140","v":0},{"$f":"Master20190430!R147-Master20180614!R140","v":3},{"$f":"Master20190430!S147-Master20180614!S140","v":2},{"$f":"Master20190430!T147-Master20180614!T140","v":0},{"$f":"Master20190430!U147-Master20180614!U140","v":0},{"$f":"Master20190430!V147-Master20180614!V140","v":0},{"$f":"Master20190430!W147-Master20180614!W140","v":2},{"$f":"Master20190430!X147-Master20180614!X140","v":2},{"$f":"Master20190430!Y147-Master20180614!Y140","v":0},{"$f":"Master20190430!Z147-Master20180614!Z140","v":0},{"$f":"Master20190430!AA147-Master20180614!AA140","v":0},{"$f":"Master20190430!AB147-Master20180614!AB140","v":0},{"$f":"Master20190430!AC147-Master20180614!AC140","v":0},{"$f":"Master20190430!AD147-Master20180614!AD140","v":1},{"$f":"Master20190430!AE147-Master20180614!AE140","v":0}]
["Western",null,"na","na",{"$f":"Master20190430!E148-Master20180614!E141","v":3},{"$f":"Master20190430!F148-Master20180614!F141","v":36},{"$f":"Master20190430!G148-Master20180614!G141","v":8},{"$f":"Master20190430!H148-Master20180614!H141","v":47},{"$f":"Master20190430!I148-Master20180614!I141","v":8},{"$f":"Master20190430!J148-Master20180614!J141","v":-50},{"$f":"Master20190430!K148-Master20180614!K141","v":-8},{"$f":"Master20190430!L148-Master20180614!L141","v":23},{"$f":"Master20190430!M148-Master20180614!M141","v":9},{"$f":"Master20190430!N148-Master20180614!N141","v":31},{"$f":"Master20190430!O148-Master20180614!O141","v":3},{"$f":"Master20190430!P148-Master20180614!P141","v":31},{"$f":"Master20190430!Q148-Master20180614!Q141","v":0},{"$f":"Master20190430!R148-Master20180614!R141","v":1},{"$f":"Master20190430!S148-Master20180614!S141","v":0},{"$f":"Master20190430!T148-Master20180614!T141","v":0},{"$f":"Master20190430!U148-Master20180614!U141","v":0},{"$f":"Master20190430!V148-Master20180614!V141","v":0},{"$f":"Master20190430!W148-Master20180614!W141","v":1},{"$f":"Master20190430!X148-Master20180614!X141","v":0},{"$f":"Master20190430!Y148-Master20180614!Y141","v":0},{"$f":"Master20190430!Z148-Master20180614!Z141","v":0},{"$f":"Master20190430!AA148-Master20180614!AA141","v":0},{"$f":"Master20190430!AB148-Master20180614!AB141","v":0},{"$f":"Master20190430!AC148-Master20180614!AC141","v":-1},{"$f":"Master20190430!AD148-Master20180614!AD141","v":0},{"$f":"Master20190430!AE148-Master20180614!AE141","v":0}]
["Total nonUnique",null,"na","na","na","na","na","na","na","na","na","na","na","na","na","na",{"$f":"Master20190430!Q142-Master20180614!Q142","v":3},{"$f":"Master20190430!R142-Master20180614!R142","v":28},{"$f":"Master20190430!S142-Master20180614!S142","v":53},{"$f":"Master20190430!T142-Master20180614!T142","v":0},{"$f":"Master20190430!U142-Master20180614!U142","v":0},{"$f":"Master20190430!V142-Master20180614!V142","v":0},{"$f":"Master20190430!W142-Master20180614!W142","v":6},{"$f":"Master20190430!X142-Master20180614!X142","v":28},{"$f":"Master20190430!Y142-Master20180614!Y142","v":0},{"$f":"Master20190430!Z142-Master20180614!Z142","v":1},{"$f":"Master20190430!AA142-Master20180614!AA142","v":2},{"$f":"Master20190430!AB142-Master20180614!AB142","v":4},{"$f":"Master20190430!AC142-Master20180614!AC142","v":19},{"$f":"Master20190430!AD142-Master20180614!AD142","v":13},{"$f":"Master20190430!AE142-Master20180614!AE142","v":33}]
["Total Unique",null,"na","na",{"$f":"Master20190430!E149-Master20180614!E143","v":32},{"$f":"Master20190430!F149-Master20180614!F143","v":444},{"$f":"Master20190430!G149-Master20180614!G143","v":203},{"$f":"Master20190430!H149-Master20180614!H143","v":679},{"$f":"Master20190430!I149-Master20180614!I143","v":-26},{"$f":"Master20190430!J149-Master20180614!J143","v":-389},{"$f":"Master20190430!K149-Master20180614!K143","v":-43},{"$f":"Master20190430!L149-Master20180614!L143","v":550},{"$f":"Master20190430!M149-Master20180614!M143","v":95},{"$f":"Master20190430!N149-Master20180614!N143","v":101},{"$f":"Master20190430!O149-Master20180614!O143","v":28},{"$f":"Master20190430!P149-Master20180614!P143","v":363},{"$f":"Master20190430!Q149-Master20180614!Q143","v":3},{"$f":"Master20190430!R149-Master20180614!R143","v":14},{"$f":"Master20190430!S149-Master20180614!S143","v":8},{"$f":"Master20190430!T149-Master20180614!T143","v":0},{"$f":"Master20190430!U149-Master20180614!U143","v":0},{"$f":"Master20190430!V149-Master20180614!V143","v":0},{"$f":"Master20190430!W149-Master20180614!W143","v":5},{"$f":"Master20190430!X149-Master20180614!X143","v":12},{"$f":"Master20190430!Y149-Master20180614!Y143","v":0},{"$f":"Master20190430!Z149-Master20180614!Z143","v":1},{"$f":"Master20190430!AA149-Master20180614!AA143","v":1},{"$f":"Master20190430!AB149-Master20180614!AB143","v":2},{"$f":"Master20190430!AC149-Master20180614!AC143","v":8},{"$f":"Master20190430!AD149-Master20180614!AD143","v":-1},{"$f":"Master20190430!AE149-Master20180614!AE143","v":5}]

{"sheet":"MasterDelta20191031","index":6,"n_rows":168,"n_cols":31,"rows_kept":168,"cut":false,"hidden":false,"merged":[]}
["DS Region","SubRegion","CSB"," City/County","BI waiver","FIS waiver","CL waiver","All waivers","SIS\nL1","SIS\nL2","SIS\nL3","SIS\nL4","SIS\nL5","SIS\nL6","SIS\nL7","SIS\nDefault","Benefits Planning","Community Coaching","Community Engagement","Community Guide","Electronic Home-Based Services","Employment and Community Transportation","Independent Living Supports","In-home Supports","Peer Mentoring","Shared Living","Supported Living","Crisis Support Services","Private Duty Nursing","Skilled Nursing","Sponsored Residential"]
["Eastern","5-B","EAST","Accomack County",{"$f":"Master20191031!E2-Master20180614!E2","v":0},{"$f":"Master20191031!F2-Master20180614!F2","v":2},{"$f":"Master20191031!G2-Master20180614!G2","v":3},{"$f":"Master20191031!H2-Master20180614!H2","v":5},{"$f":"Master20191031!I2-Master20180614!I2","v":-3},{"$f":"Master20191031!J2-Master20180614!J2","v":-3},{"$f":"Master20191031!K2-Master20180614!K2","v":0},{"$f":"Master20191031!L2-Master20180614!L2","v":10},{"$f":"Master20191031!M2-Master20180614!M2","v":0},{"$f":"Master20191031!N2-Master20180614!N2","v":1},{"$f":"Master20191031!O2-Master20180614!O2","v":0},{"$f":"Master20191031!P2-Master20180614!P2","v":0},{"$f":"Master20191031!Q2-Master20180614!Q2","v":0},{"$f":"Master20191031!R2-Master20180614!R2","v":0},{"$f":"Master20191031!S2-Master20180614!S2","v":0},{"$f":"Master20191031!T2-Master20180614!T2","v":0},{"$f":"Master20191031!U2-Master20180614!U2","v":0},{"$f":"Master20191031!V2-Master20180614!V2","v":0},{"$f":"Master20191031!W2-Master20180614!W2","v":0},{"$f":"Master20191031!X2-Master20180614!X2","v":0},{"$f":"Master20191031!Y2-Master20180614!Y2","v":0},{"$f":"Master20191031!Z2-Master20180614!Z2","v":0},{"$f":"Master20191031!AA2-Master20180614!AA2","v":0},{"$f":"Master20191031!AB2-Master20180614!AB2","v":0},{"$f":"Master20191031!AC2-Master20180614!AC2","v":0},{"$f":"Master20191031!AD2-Master20180614!AD2","v":0},{"$f":"Master20191031!AE2-Master20180614!AE2","v":-1}]
["Western","1-A","RTEN","Albemarle County",{"$f":"Master20191031!E3-Master20180614!E3","v":2},{"$f":"Master20191031!F3-Master20180614!F3","v":10},{"$f":"Master20191031!G3-Master20180614!G3","v":12},{"$f":"Master20191031!H3-Master20180614!H3","v":24},{"$f":"Master20191031!I3-Master20180614!I3","v":4},{"$f":"Master20191031!J3-Master20180614!J3","v":-6},{"$f":"Master20191031!K3-Master20180614!K3","v":1},{"$f":"Master20191031!L3-Master20180614!L3","v":13},{"$f":"Master20191031!M3-Master20180614!M3","v":1},{"$f":"Master20191031!N3-Master20180614!N3","v":0},{"$f":"Master20191031!O3-Master20180614!O3","v":-3},{"$f":"Master20191031!P3-Master20180614!P3","v":14},{"$f":"Master20191031!Q3-Master20180614!Q3","v":0},{"$f":"Master20191031!R3-Master20180614!R3","v":1},{"$f":"Master20191031!S3-Master20180614!S3","v":0},{"$f":"Master20191031!T3-Master20180614!T3","v":0},{"$f":"Master20191031!U3-Master20180614!U3","v":0},{"$f":"Master20191031!V3-Master20180614!V3","v":0},{"$f":"Master20191031!W3-Master20180614!W3","v":1},{"$f":"Master20191031!X3-Master20180614!X3","v":0},{"$f":"Master20191031!Y3-Master20180614!Y3","v":0},{"$f":"Master20191031!Z3-Master20180614!Z3","v":0},{"$f":"Master20191031!AA3-Master20180614!AA3","v":0},{"$f":"Master20191031!AB3-Master20180614!AB3","v":0},{"$f":"Master20191031!AC3-Master20180614!AC3","v":0},{"$f":"Master20191031!AD3-Master20180614!AD3","v":-2},{"$f":"Master20191031!AE3-Master20180614!AE3","v":0}]
["Northern","2-A","ALEX","Alexandria City",{"$f":"Master20191031!E4-Master20180614!E4","v":0},{"$f":"Master20191031!F4-Master20180614!F4","v":12},{"$f":"Master20191031!G4-Master20180614!G4","v":-6},{"$f":"Master20191031!H4-Master20180614!H4","v":6},{"$f":"Master20191031!I4-Master20180614!I4","v":-2},{"$f":"Master20191031!J4-Master20180614!J4","v":1},{"$f":"Master20191031!K4-Master20180614!K4","v":1},{"$f":"Master20191031!L4-Master20180614!L4","v":1},{"$f":"Master20191031!M4-Master20180614!M4","v":1},{"$f":"Master20191031!N4-Master20180614!N4","v":-2},{"$f":"Master20191031!O4-Master20180614!O4","v":-2},{"$f":"Master20191031!P4-Master20180614!P4","v":8},{"$f":"Master20191031!Q4-Master20180614!Q4","v":0},{"$f":"Master20191031!R4-Master20180614!R4","v":0},{"$f":"Master20191031!S4-Master20180614!S4","v":0},{"$f":"Master20191031!T4-Master20180614!T4","v":0},{"$f":"Master20191031!U4-Master20180614!U4","v":0},{"$f":"Master20191031!V4-Master20180614!V4","v":0},{"$f":"Master20191031!W4-Master20180614!W4","v":0},{"$f":"Master20191031!X4-Master20180614!X4","v":1},{"$f":"Master20191031!Y4-Master20180614!Y4","v":0},{"$f":"Master20191031!Z4-Master20180614!Z4","v":0},{"$f":"Master20191031!AA4-Master20180614!AA4","v":0},{"$f":"Master20191031!AB4-Master20180614!AB4","v":0},{"$f":"Master20191031!AC4-Master20180614!AC4","v":0},{"$f":"Master20191031!AD4-Master20180614!AD4","v":-2},{"$f":"Master20191031!AE4-Master20180614!AE4","v":0}]
["Western","1-C","ALLE","Alleghany County",{"$f":"Master20191031!E5-Master20180614!E5","v":0},{"$f":"Master20191031!F5-Master20180614!F5","v":-1},{"$f":"Master20191031!G5-Master20180614!G5","v":0},{"$f":"Master20191031!H5-Master20180614!H5","v":-1},{"$f":"Master20191031!I5-Master20180614!I5","v":1},{"$f":"Master20191031!J5-Master20180614!J5","v":-4},{"$f":"Master20191031!K5-Master20180614!K5","v":0},{"$f":"Master20191031!L5-Master20180614!L5","v":1},{"$f":"Master20191031!M5-Master20180614!M5","v":0},{"$f":"Master20191031!N5-Master20180614!N5","v":-1},{"$f":"Master20191031!O5-Master20180614!O5","v":0},{"$f":"Master20191031!P5-Master20180614!P5","v":2},{"$f":"Master20191031!Q5-Master20180614!Q5","v":0},{"$f":"Master20191031!R5-Master20180614!R5","v":-1},{"$f":"Master20191031!S5-Master20180614!S5","v":0},{"$f":"Master20191031!T5-Master20180614!T5","v":0},{"$f":"Master20191031!U5-Master20180614!U5","v":0},{"$f":"Master20191031!V5-Master20180614!V5","v":0},{"$f":"Master20191031!W5-Master20180614!W5","v":0},{"$f":"Master20191031!X5-Master20180614!X5","v":0},{"$f":"Master20191031!Y5-Master20180614!Y5","v":0},{"$f":"Master20191031!Z5-Master20180614!Z5","v":0},{"$f":"Master20191031!AA5-Master20180614!AA5","v":0},{"$f":"Master20191031!AB5-Master20180614!AB5","v":0},{"$f":"Master20191031!AC5-Master20180614!AC5","v":0},{"$f":"Master20191031!AD5-Master20180614!AD5","v":0},{"$f":"Master20191031!AE5-Master20180614!AE5","v":0}]
["Central","4-B","CROS","Amelia County",{"$f":"Master20191031!E6-Master20180614!E6","v":0},{"$f":"Master20191031!F6-Master20180614!F6","v":0},{"$f":"Master20191031!G6-Master20180614!G6","v":0},{"$f":"Master20191031!H6-Master20180614!H6","v":0},{"$f":"Master20191031!I6-Master20180614!I6","v":0},{"$f":"Master20191031!J6-Master20180614!J6","v":-2},{"$f":"Master20191031!K6-Master20180614!K6","v":0},{"$f":"Master20191031!L6-Master20180614!L6","v":4},{"$f":"Master20191031!M6-Master20180614!M6","v":0},{"$f":"Master20191031!N6-Master20180614!N6","v":-1},{"$f":"Master20191031!O6-Master20180614!O6","v":0},{"$f":"Master20191031!P6-Master20180614!P6","v":-1},{"$f":"Master20191031!Q6-Master20180614!Q6","v":0},{"$f":"Master20191031!R6-Master20180614!R6","v":0},{"$f":"Master20191031!S6-Master20180614!S6","v":0},{"$f":"Master20191031!T6-Master20180614!T6","v":0},{"$f":"Master20191031!U6-Master20180614!U6","v":0},{"$f":"Master20191031!V6-Master20180614!V6","v":0},{"$f":"Master20191031!W6-Master20180614!W6","v":0},{"$f":"Master20191031!X6-Master20180614!X6","v":0},{"$f":"Master20191031!Y6-Master20180614!Y6","v":0},{"$f":"Master20191031!Z6-Master20180614!Z6","v":0},{"$f":"Master20191031!AA6-Master20180614!AA6","v":0},{"$f":"Master20191031!AB6-Master20180614!AB6","v":0},{"$f":"Master20191031!AC6-Master20180614!AC6","v":0},{"$f":"Master20191031!AD6-Master20180614!AD6","v":0},{"$f":"Master20191031!AE6-Master20180614!AE6","v":0}]
["Western","1-D","HORI","Amherst County",{"$f":"Master20191031!E7-Master20180614!E7","v":0},{"$f":"Master20191031!F7-Master20180614!F7","v":5},{"$f":"Master20191031!G7-Master20180614!G7","v":19},{"$f":"Master20191031!H7-Master20180614!H7","v":24},{"$f":"Master20191031!I7-Master20180614!I7","v":0},{"$f":"Master20191031!J7-Master20180614!J7","v":-10},{"$f":"Master20191031!K7-Master20180614!K7","v":1},{"$f":"Master20191031!L7-Master20180614!L7","v":14},{"$f":"Master20191031!M7-Master20180614!M7","v":2},{"$f":"Master20191031!N7-Master20180614!N7","v":4},{"$f":"Master20191031!O7-Master20180614!O7","v":10},{"$f":"Master20191031!P7-Master20180614!P7","v":3},{"$f":"Master20191031!Q7-Master20180614!Q7","v":0},{"$f":"Master20191031!R7-Master20180614!R7","v":1},{"$f":"Master20191031!S7-Master20180614!S7","v":0},{"$f":"Master20191031!T7-Master20180614!T7","v":0},{"$f":"Master20191031!U7-Master20180614!U7","v":0},{"$f":"Master20191031!V7-Master20180614!V7","v":0},{"$f":"Master20191031!W7-Master20180614!W7","v":0},{"$f":"Master20191031!X7-Master20180614!X7","v":0},{"$f":"Master20191031!Y7-Master20180614!Y7","v":0},{"$f":"Master20191031!Z7-Master20180614!Z7","v":0},{"$f":"Master20191031!AA7-Master20180614!AA7","v":0},{"$f":"Master20191031!AB7-Master20180614!AB7","v":0},{"$f":"Master20191031!AC7-Master20180614!AC7","v":0},{"$f":"Master20191031!AD7-Master20180614!AD7","v":-1},{"$f":"Master20191031!AE7-Master20180614!AE7","v":1}]
["Western","1-D","HORI","Appomattox County",{"$f":"Master20191031!E8-Master20180614!E8","v":-1},{"$f":"Master20191031!F8-Master20180614!F8","v":3},{"$f":"Master20191031!G8-Master20180614!G8","v":0},{"$f":"Master20191031!H8-Master20180614!H8","v":2},{"$f":"Master20191031!I8-Master20180614!I8","v":-2},{"$f":"Master20191031!J8-Master20180614!J8","v":-5},{"$f":"Master20191031!K8-Master20180614!K8","v":0},{"$f":"Master20191031!L8-Master20180614!L8","v":0},{"$f":"Master20191031!M8-Master20180614!M8","v":1},{"$f":"Master20191031!N8-Master20180614!N8","v":5},{"$f":"Master20191031!O8-Master20180614!O8","v":2},{"$f":"Master20191031!P8-Master20180614!P8","v":1},{"$f":"Master20191031!Q8-Master20180614!Q8","v":0},{"$f":"Master20191031!R8-Master20180614!R8","v":-1},{"$f":"Master20191031!S8-Master20180614!S8","v":0},{"$f":"Master20191031!T8-Master20180614!T8","v":0},{"$f":"Master20191031!U8-Master20180614!U8","v":0},{"$f":"Master20191031!V8-Master20180614!V8","v":0},{"$f":"Master20191031!W8-Master20180614!W8","v":0},{"$f":"Master20191031!X8-Master20180614!X8","v":0},{"$f":"Master20191031!Y8-Master20180614!Y8","v":0},{"$f":"Master20191031!Z8-Master20180614!Z8","v":0},{"$f":"Master20191031!AA8-Master20180614!AA8","v":0},{"$f":"Master20191031!AB8-Master20180614!AB8","v":0},{"$f":"Master20191031!AC8-Master20180614!AC8","v":0},{"$f":"Master20191031!AD8-Master20180614!AD8","v":0},{"$f":"Master20191031!AE8-Master20180614!AE8","v":0}]
["Northern","2-A","ARLI","Arlington County",{"$f":"Master20191031!E9-Master20180614!E9","v":2},{"$f":"Master20191031!F9-Master20180614!F9","v":26},{"$f":"Master20191031!G9-Master20180614!G9","v":5},{"$f":"Master20191031!H9-Master20180614!H9","v":33},{"$f":"Master20191031!I9-Master20180614!I9","v":-2},{"$f":"Master20191031!J9-Master20180614!J9","v":0},{"$f":"Master20191031!K9-Master20180614!K9","v":-2},{"$f":"Master20191031!L9-Master20180614!L9","v":4},{"$f":"Master20191031!M9-Master20180614!M9","v":4},{"$f":"Master20191031!N9-Master20180614!N9","v":3},{"$f":"Master20191031!O9-Master20180614!O9","v":4},{"$f":"Master20191031!P9-Master20180614!P9","v":22},{"$f":"Master20191031!Q9-Master20180614!Q9","v":0},{"$f":"Master20191031!R9-Master20180614!R9","v":0},{"$f":"Master20191031!S9-Master20180614!S9","v":0},{"$f":"Master20191031!T9-Master20180614!T9","v":0},{"$f":"Master20191031!U9-Master20180614!U9","v":0},{"$f":"Master20191031!V9-Master20180614!V9","v":0},{"$f":"Master20191031!W9-Master20180614!W9","v":0},{"$f":"Master20191031!X9-Master20180614!X9","v":1},{"$f":"Master20191031!Y9-Master20180614!Y9","v":0},{"$f":"Master20191031!Z9-Master20180614!Z9","v":0},{"$f":"Master20191031!AA9-Master20180614!AA9","v":0},{"$f":"Master20191031!AB9-Master20180614!AB9","v":0},{"$f":"Master20191031!AC9-Master20180614!AC9","v":0},{"$f":"Master20191031!AD9-Master20180614!AD9","v":0},{"$f":"Master20191031!AE9-Master20180614!AE9","v":0}]
["Western","1-B","VLY","Augusta County",{"$f":"Master20191031!E10-Master20180614!E10","v":1},{"$f":"Master20191031!F10-Master20180614!F10","v":9},{"$f":"Master20191031!G10-Master20180614!G10","v":2},{"$f":"Master20191031!H10-Master20180614!H10","v":12},{"$f":"Master20191031!I10-Master20180614!I10","v":2},{"$f":"Master20191031!J10-Master20180614!J10","v":-3},{"$f":"Master20191031!K10-Master20180614!K10","v":-7},{"$f":"Master20191031!L10-Master20180614!L10","v":0},{"$f":"Master20191031!M10-Master20180614!M10","v":-1},{"$f":"Master20191031!N10-Master20180614!N10","v":8},{"$f":"Master20191031!O10-Master20180614!O10","v":6},{"$f":"Master20191031!P10-Master20180614!P10","v":7},{"$f":"Master20191031!Q10-Master20180614!Q10","v":0},{"$f":"Master20191031!R10-Master20180614!R10","v":1},{"$f":"Master20191031!S10-Master20180614!S10","v":0},{"$f":"Master20191031!T10-Master20180614!T10","v":0},{"$f":"Master20191031!U10-Master20180614!U10","v":0},{"$f":"Master20191031!V10-Master20180614!V10","v":0},{"$f":"Master20191031!W10-Master20180614!W10","v":0},{"$f":"Master20191031!X10-Master20180614!X10","v":0},{"$f":"Master20191031!Y10-Master20180614!Y10","v":0},{"$f":"Master20191031!Z10-Master20180614!Z10","v":0},{"$f":"Master20191031!AA10-Master20180614!AA10","v":0},{"$f":"Master20191031!AB10-Master20180614!AB10","v":0},{"$f":"Master20191031!AC10-Master20180614!AC10","v":-1},{"$f":"Master20191031!AD10-Master20180614!AD10","v":0},{"$f":"Master20191031!AE10-Master20180614!AE10","v":0}]
["Western","1-C","ROC","Bath County",{"$f":"Master20191031!E11-Master20180614!E11","v":0},{"$f":"Master20191031!F11-Master20180614!F11","v":0},{"$f":"Master20191031!G11-Master20180614!G11","v":0},{"$f":"Master20191031!H11-Master20180614!H11","v":0},{"$f":"Master20191031!I11-Master20180614!I11","v":0},{"$f":"Master20191031!J11-Master20180614!J11","v":0},{"$f":"Master20191031!K11-Master20180614!K11","v":1},{"$f":"Master20191031!L11-Master20180614!L11","v":1},{"$f":"Master20191031!M11-Master20180614!M11","v":0},{"$f":"Master20191031!N11-Master20180614!N11","v":-2},{"$f":"Master20191031!O11-Master20180614!O11","v":0},{"$f":"Master20191031!P11-Master20180614!P11","v":0},{"$f":"Master20191031!Q11-Master20180614!Q11","v":0},{"$f":"Master20191031!R11-Master20180614!R11","v":0},{"$f":"Master20191031!S11-Master20180614!S11","v":0},{"$f":"Master20191031!T11-Master20180614!T11","v":0},{"$f":"Master20191031!U11-Master20180614!U11","v":0},{"$f":"Master20191031!V11-Master20180614!V11","v":0},{"$f":"Master20191031!W11-Master20180614!W11","v":0},{"$f":"Master20191031!X11-Master20180614!X11","v":0},{"$f":"Master20191031!Y11-Master20180614!Y11","v":0},{"$f":"Master20191031!Z11-Master20180614!Z11","v":0},{"$f":"Master20191031!AA11-Master20180614!AA11","v":0},{"$f":"Master20191031!AB11-Master20180614!AB11","v":0},{"$f":"Master20191031!AC11-Master20180614!AC11","v":0},{"$f":"Master20191031!AD11-Master20180614!AD11","v":0},{"$f":"Master20191031!AE11-Master20180614!AE11","v":0}]
["Western","1-D","HORI","Bedford County",{"$f":"Master20191031!E12-Master20180614!E12","v":0},{"$f":"Master20191031!F12-Master20180614!F12","v":8},{"$f":"Master20191031!G12-Master20180614!G12","v":6},{"$f":"Master20191031!H12-Master20180614!H12","v":14},{"$f":"Master20191031!I12-Master20180614!I12","v":0},{"$f":"Master20191031!J12-Master20180614!J12","v":-11},{"$f":"Master20191031!K12-Master20180614!K12","v":-1},{"$f":"Master20191031!L12-Master20180614!L12","v":-4},{"$f":"Master20191031!M12-Master20180614!M12","v":4},{"$f":"Master20191031!N12-Master20180614!N12","v":15},{"$f":"Master20191031!O12-Master20180614!O12","v":7},{"$f":"Master20191031!P12-Master20180614!P12","v":4},{"$f":"Master20191031!Q12-Master20180614!Q12","v":0},{"$f":"Master20191031!R12-Master20180614!R12","v":-1},{"$f":"Master20191031!S12-Master20180614!S12","v":1},{"$f":"Master20191031!T12-Master20180614!T12","v":0},{"$f":"Master20191031!U12-Master20180614!U12","v":0},{"$f":"Master20191031!V12-Master20180614!V12","v":0},{"$f":"Master20191031!W12-Master20180614!W12","v":0},{"$f":"Master20191031!X12-Master20180614!X12","v":0},{"$f":"Master20191031!Y12-Master20180614!Y12","v":0},{"$f":"Master20191031!Z12-Master20180614!Z12","v":0},{"$f":"Master20191031!AA12-Master20180614!AA12","v":0},{"$f":"Master20191031!AB12-Master20180614!AB12","v":0},{"$f":"Master20191031!AC12-Master20180614!AC12","v":0},{"$f":"Master20191031!AD12-Master20180614!AD12","v":0},{"$f":"Master20191031!AE12-Master20180614!AE12","v":-2}]
["Southwestern","3-C","MTRG","Bland County",{"$f":"Master20191031!E13-Master20180614!E13","v":0},{"$f":"Master20191031!F13-Master20180614!F13","v":0},{"$f":"Master20191031!G13-Master20180614!G13","v":1},{"$f":"Master20191031!H13-Master20180614!H13","v":1},{"$f":"Master20191031!I13-Master20180614!I13","v":0},{"$f":"Master20191031!J13-Master20180614!J13","v":0},{"$f":"Master20191031!K13-Master20180614!K13","v":0},{"$f":"Master20191031!L13-Master20180614!L13","v":-1},{"$f":"Master20191031!M13-Master20180614!M13","v":0},{"$f":"Master20191031!N13-Master20180614!N13","v":1},{"$f":"Master20191031!O13-Master20180614!O13","v":1},{"$f":"Master20191031!P13-Master20180614!P13","v":0},{"$f":"Master20191031!Q13-Master20180614!Q13","v":0},{"$f":"Master20191031!R13-Master20180614!R13","v":0},{"$f":"Master20191031!S13-Master20180614!S13","v":0},{"$f":"Master20191031!T13-Master20180614!T13","v":0},{"$f":"Master20191031!U13-Master20180614!U13","v":0},{"$f":"Master20191031!V13-Master20180614!V13","v":0},{"$f":"Master20191031!W13-Master20180614!W13","v":0},{"$f":"Master20191031!X13-Master20180614!X13","v":0},{"$f":"Master20191031!Y13-Master20180614!Y13","v":0},{"$f":"Master20191031!Z13-Master20180614!Z13","v":0},{"$f":"Master20191031!AA13-Master20180614!AA13","v":0},{"$f":"Master20191031!AB13-Master20180614!AB13","v":0},{"$f":"Master20191031!AC13-Master20180614!AC13","v":0},{"$f":"Master20191031!AD13-Master20180614!AD13","v":0},{"$f":"Master20191031!AE13-Master20180614!AE13","v":0}]
["Southwestern","3-A","BLUE","Botetourt County",{"$f":"Master20191031!E14-Master20180614!E14","v":0},{"$f":"Master20191031!F14-Master20180614!F14","v":5},{"$f":"Master20191031!G14-Master20180614!G14","v":-3},{"$f":"Master20191031!H14-Master20180614!H14","v":2},{"$f":"Master20191031!I14-Master20180614!I14","v":0},{"$f":"Master20191031!J14-Master20180614!J14","v":-4},{"$f":"Master20191031!K14-Master20180614!K14","v":1},{"$f":"Master20191031!L14-Master20180614!L14","v":-5},{"$f":"Master20191031!M14-Master20180614!M14","v":0},{"$f":"Master20191031!N14-Master20180614!N14","v":6},{"$f":"Master20191031!O14-Master20180614!O14","v":0},{"$f":"Master20191031!P14-Master20180614!P14","v":4},{"$f":"Master20191031!Q14-Master20180614!Q14","v":0},{"$f":"Master20191031!R14-Master20180614!R14","v":1},{"$f":"Master20191031!S14-Master20180614!S14","v":2},{"$f":"Master20191031!T14-Master20180614!T14","v":0},{"$f":"Master20191031!U14-Master20180614!U14","v":0},{"$f":"Master20191031!V14-Master20180614!V14","v":0},{"$f":"Master20191031!W14-Master20180614!W14","v":0},{"$f":"Master20191031!X14-Master20180614!X14","v":0},{"$f":"Master20191031!Y14-Master20180614!Y14","v":0},{"$f":"Master20191031!Z14-Master20180614!Z14","v":0},{"$f":"Master20191031!AA14-Master20180614!AA14","v":0},{"$f":"Master20191031!AB14-Master20180614!AB14","v":0},{"$f":"Master20191031!AC14-Master20180614!AC14","v":0},{"$f":"Master20191031!AD14-Master20180614!AD14","v":0},{"$f":"Master20191031!AE14-Master20180614!AE14","v":0}]
["Southwestern","3-D","HIGH","Bristol City",{"$f":"Master20191031!E15-Master20180614!E15","v":0},{"$f":"Master20191031!F15-Master20180614!F15","v":2},{"$f":"Master20191031!G15-Master20180614!G15","v":5},{"$f":"Master20191031!H15-Master20180614!H15","v":7},{"$f":"Master20191031!I15-Master20180614!I15","v":1},{"$f":"Master20191031!J15-Master20180614!J15","v":-3},{"$f":"Master20191031!K15-Master20180614!K15","v":0},{"$f":"Master20191031!L15-Master20180614!L15","v":6},{"$f":"Master20191031!M15-Master20180614!M15","v":1},{"$f":"Master20191031!N15-Master20180614!N15","v":0},{"$f":"Master20191031!O15-Master20180614!O15","v":0},{"$f":"Master20191031!P15-Master20180614!P15","v":2},{"$f":"Master20191031!Q15-Master20180614!Q15","v":0},{"$f":"Master20191031!R15-Master20180614!R15","v":0},{"$f":"Master20191031!S15-Master20180614!S15","v":1},{"$f":"Master20191031!T15-Master20180614!T15","v":0},{"$f":"Master20191031!U15-Master20180614!U15","v":0},{"$f":"Master20191031!V15-Master20180614!V15","v":0},{"$f":"Master20191031!W15-Master20180614!W15","v":0},{"$f":"Master20191031!X15-Master20180614!X15","v":0},{"$f":"Master20191031!Y15-Master20180614!Y15","v":0},{"$f":"Master20191031!Z15-Master20180614!Z15","v":0},{"$f":"Master20191031!AA15-Master20180614!AA15","v":0},{"$f":"Master20191031!AB15-Master20180614!AB15","v":0},{"$f":"Master20191031!AC15-Master20180614!AC15","v":0},{"$f":"Master20191031!AD15-Master20180614!AD15","v":0},{"$f":"Master20191031!AE15-Master20180614!AE15","v":0}]
["Central","4-D","SS","Brunswick County",{"$f":"Master20191031!E16-Master20180614!E16","v":0},{"$f":"Master20191031!F16-Master20180614!F16","v":0},{"$f":"Master20191031!G16-Master20180614!G16","v":0},{"$f":"Master20191031!H16-Master20180614!H16","v":0},{"$f":"Master20191031!I16-Master20180614!I16","v":-1},{"$f":"Master20191031!J16-Master20180614!J16","v":0},{"$f":"Master20191031!K16-Master20180614!K16","v":0},{"$f":"Master20191031!L16-Master20180614!L16","v":1},{"$f":"Master20191031!M16-Master20180614!M16","v":0},{"$f":"Master20191031!N16-Master20180614!N16","v":0},{"$f":"Master20191031!O16-Master20180614!O16","v":0},{"$f":"Master20191031!P16-Master20180614!P16","v":0},{"$f":"Master20191031!Q16-Master20180614!Q16","v":0},{"$f":"Master20191031!R16-Master20180614!R16","v":0},{"$f":"Master20191031!S16-Master20180614!S16","v":0},{"$f":"Master20191031!T16-Master20180614!T16","v":0},{"$f":"Master20191031!U16-Master20180614!U16","v":0},{"$f":"Master20191031!V16-Master20180614!V16","v":0},{"$f":"Master20191031!W16-Master20180614!W16","v":0},{"$f":"Master20191031!X16-Master20180614!X16","v":0},{"$f":"Master20191031!Y16-Master20180614!Y16","v":0},{"$f":"Master20191031!Z16-Master20180614!Z16","v":0},{"$f":"Master20191031!AA16-Master20180614!AA16","v":0},{"$f":"Master20191031!AB16-Master20180614!AB16","v":0},{"$f":"Master20191031!AC16-Master20180614!AC16","v":0},{"$f":"Master20191031!AD16-Master20180614!AD16","v":0},{"$f":"Master20191031!AE16-Master20180614!AE16","v":0}]
["Southwestern","3-D","CMT","Buchanan County",{"$f":"Master20191031!E17-Master20180614!E17","v":0},{"$f":"Master20191031!F17-Master20180614!F17","v":2},{"$f":"Master20191031!G17-Master20180614!G17","v":-3},{"$f":"Master20191031!H17-Master20180614!H17","v":-1},{"$f":"Master20191031!I17-Master20180614!I17","v":0},{"$f":"Master20191031!J17-Master20180614!J17","v":-4},{"$f":"Master20191031!K17-Master20180614!K17","v":0},{"$f":"Master20191031!L17-Master20180614!L17","v":2},{"$f":"Master20191031!M17-Master20180614!M17","v":0},{"$f":"Master20191031!N17-Master20180614!N17","v":-2},{"$f":"Master20191031!O17-Master20180614!O17","v":0},{"$f":"Master20191031!P17-Master20180614!P17","v":3},{"$f":"Master20191031!Q17-Master20180614!Q17","v":0},{"$f":"Master20191031!R17-Master20180614!R17","v":0},{"$f":"Master20191031!S17-Master20180614!S17","v":0},{"$f":"Master20191031!T17-Master20180614!T17","v":0},{"$f":"Master20191031!U17-Master20180614!U17","v":0},{"$f":"Master20191031!V17-Master20180614!V17","v":0},{"$f":"Master20191031!W17-Master20180614!W17","v":0},{"$f":"Master20191031!X17-Master20180614!X17","v":0},{"$f":"Master20191031!Y17-Master20180614!Y17","v":0},{"$f":"Master20191031!Z17-Master20180614!Z17","v":0},{"$f":"Master20191031!AA17-Master20180614!AA17","v":0},{"$f":"Master20191031!AB17-Master20180614!AB17","v":0},{"$f":"Master20191031!AC17-Master20180614!AC17","v":0},{"$f":"Master20191031!AD17-Master20180614!AD17","v":0},{"$f":"Master20191031!AE17-Master20180614!AE17","v":0}]
["Central","4-B","CROS","Buckingham County",{"$f":"Master20191031!E18-Master20180614!E18","v":1},{"$f":"Master20191031!F18-Master20180614!F18","v":-1},{"$f":"Master20191031!G18-Master20180614!G18","v":1},{"$f":"Master20191031!H18-Master20180614!H18","v":1},{"$f":"Master20191031!I18-Master20180614!I18","v":-1},{"$f":"Master20191031!J18-Master20180614!J18","v":3},{"$f":"Master20191031!K18-Master20180614!K18","v":0},{"$f":"Master20191031!L18-Master20180614!L18","v":-2},{"$f":"Master20191031!M18-Master20180614!M18","v":1},{"$f":"Master20191031!N18-Master20180614!N18","v":1},{"$f":"Master20191031!O18-Master20180614!O18","v":0},{"$f":"Master20191031!P18-Master20180614!P18","v":-1},{"$f":"Master20191031!Q18-Master20180614!Q18","v":0},{"$f":"Master20191031!R18-Master20180614!R18","v":0},{"$f":"Master20191031!S18-Master20180614!S18","v":0},{"$f":"Master20191031!T18-Master20180614!T18","v":0},{"$f":"Master20191031!U18-Master20180614!U18","v":0},{"$f":"Master20191031!V18-Master20180614!V18","v":0},{"$f":"Master20191031!W18-Master20180614!W18","v":0},{"$f":"Master20191031!X18-Master20180614!X18","v":0},{"$f":"Master20191031!Y18-Master20180614!Y18","v":0},{"$f":"Master20191031!Z18-Master20180614!Z18","v":0},{"$f":"Master20191031!AA18-Master20180614!AA18","v":0},{"$f":"Master20191031!AB18-Master20180614!AB18","v":0},{"$f":"Master20191031!AC18-Master20180614!AC18","v":0},{"$f":"Master20191031!AD18-Master20180614!AD18","v":0},{"$f":"Master20191031!AE18-Master20180614!AE18","v":0}]
["Western","1-C","ROC","Buena Vista City",{"$f":"Master20191031!E19-Master20180614!E19","v":0},{"$f":"Master20191031!F19-Master20180614!F19","v":0},{"$f":"Master20191031!G19-Master20180614!G19","v":1},{"$f":"Master20191031!H19-Master20180614!H19","v":1},{"$f":"Master20191031!I19-Master20180614!I19","v":0},{"$f":"Master20191031!J19-Master20180614!J19","v":0},{"$f":"Master20191031!K19-Master20180614!K19","v":0},{"$f":"Master20191031!L19-Master20180614!L19","v":1},{"$f":"Master20191031!M19-Master20180614!M19","v":0},{"$f":"Master20191031!N19-Master20180614!N19","v":0},{"$f":"Master20191031!O19-Master20180614!O19","v":0},{"$f":"Master20191031!P19-Master20180614!P19","v":0},{"$f":"Master20191031!Q19-Master20180614!Q19","v":0},{"$f":"Master20191031!R19-Master20180614!R19","v":0},{"$f":"Master20191031!S19-Master20180614!S19","v":0},{"$f":"Master20191031!T19-Master20180614!T19","v":0},{"$f":"Master20191031!U19-Master20180614!U19","v":0},{"$f":"Master20191031!V19-Master20180614!V19","v":0},{"$f":"Master20191031!W19-Master20180614!W19","v":0},{"$f":"Master20191031!X19-Master20180614!X19","v":0},{"$f":"Master20191031!Y19-Master20180614!Y19","v":0},{"$f":"Master20191031!Z19-Master20180614!Z19","v":0},{"$f":"Master20191031!AA19-Master20180614!AA19","v":0},{"$f":"Master20191031!AB19-Master20180614!AB19","v":0},{"$f":"Master20191031!AC19-Master20180614!AC19","v":0},{"$f":"Master20191031!AD19-Master20180614!AD19","v":0},{"$f":"Master20191031!AE19-Master20180614!AE19","v":0}]
["Western","1-D","HORI","Campbell County",{"$f":"Master20191031!E20-Master20180614!E20","v":1},{"$f":"Master20191031!F20-Master20180614!F20","v":4},{"$f":"Master20191031!G20-Master20180614!G20","v":18},{"$f":"Master20191031!H20-Master20180614!H20","v":23},{"$f":"Master20191031!I20-Master20180614!I20","v":-1},{"$f":"Master20191031!J20-Master20180614!J20","v":-8},{"$f":"Master20191031!K20-Master20180614!K20","v":3},{"$f":"Master20191031!L20-Master20180614!L20","v":7},{"$f":"Master20191031!M20-Master20180614!M20","v":3},{"$f":"Master20191031!N20-Master20180614!N20","v":12},{"$f":"Master20191031!O20-Master20180614!O20","v":7},{"$f":"Master20191031!P20-Master20180614!P20","v":0},{"$f":"Master20191031!Q20-Master20180614!Q20","v":0},{"$f":"Master20191031!R20-Master20180614!R20","v":0},{"$f":"Master20191031!S20-Master20180614!S20","v":0},{"$f":"Master20191031!T20-Master20180614!T20","v":0},{"$f":"Master20191031!U20-Master20180614!U20","v":0},{"$f":"Master20191031!V20-Master20180614!V20","v":0},{"$f":"Master20191031!W20-Master20180614!W20","v":0},{"$f":"Master20191031!X20-Master20180614!X20","v":0},{"$f":"Master20191031!Y20-Master20180614!Y20","v":0},{"$f":"Master20191031!Z20-Master20180614!Z20","v":0},{"$f":"Master20191031!AA20-Master20180614!AA20","v":0},{"$f":"Master20191031!AB20-Master20180614!AB20","v":0},{"$f":"Master20191031!AC20-Master20180614!AC20","v":0},{"$f":"Master20191031!AD20-Master20180614!AD20","v":0},{"$f":"Master20191031!AE20-Master20180614!AE20","v":0}]
["Northern","2-C","RapA","Caroline County",{"$f":"Master20191031!E21-Master20180614!E21","v":-2},{"$f":"Master20191031!F21-Master20180614!F21","v":1},{"$f":"Master20191031!G21-Master20180614!G21","v":5},{"$f":"Master20191031!H21-Master20180614!H21","v":4},{"$f":"Master20191031!I21-Master20180614!I21","v":2},{"$f":"Master20191031!J21-Master20180614!J21","v":-1},{"$f":"Master20191031!K21-Master20180614!K21","v":0},{"$f":"Master20191031!L21-Master20180614!L21","v":1},{"$f":"Master20191031!M21-Master20180614!M21","v":2},{"$f":"Master20191031!N21-Master20180614!N21","v":3},{"$f":"Master20191031!O21-Master20180614!O21","v":2},{"$f":"Master20191031!P21-Master20180614!P21","v":-5},{"$f":"Master20191031!Q21-Master20180614!Q21","v":0},{"$f":"Master20191031!R21-Master20180614!R21","v":0},{"$f":"Master20191031!S21-Master20180614!S21","v":-1},{"$f":"Master20191031!T21-Master20180614!T21","v":0},{"$f":"Master20191031!U21-Master20180614!U21","v":0},{"$f":"Master20191031!V21-Master20180614!V21","v":0},{"$f":"Master20191031!W21-Master20180614!W21","v":0},{"$f":"Master20191031!X21-Master20180614!X21","v":0},{"$f":"Master20191031!Y21-Master20180614!Y21","v":0},{"$f":"Master20191031!Z21-Master20180614!Z21","v":0},{"$f":"Master20191031!AA21-Master20180614!AA21","v":0},{"$f":"Master20191031!AB21-Master20180614!AB21","v":0},{"$f":"Master20191031!AC21-Master20180614!AC21","v":0},{"$f":"Master20191031!AD21-Master20180614!AD21","v":0},{"$f":"Master20191031!AE21-Master20180614!AE21","v":0}]
["Southwestern","3-B","MTRG","Carroll County",{"$f":"Master20191031!E22-Master20180614!E22","v":-1},{"$f":"Master20191031!F22-Master20180614!F22","v":6},{"$f":"Master20191031!G22-Master20180614!G22","v":32},{"$f":"Master20191031!H22-Master20180614!H22","v":37},{"$f":"Master20191031!I22-Master20180614!I22","v":-1},{"$f":"Master20191031!J22-Master20180614!J22","v":-15},{"$f":"Master20191031!K22-Master20180614!K22","v":-1},{"$f":"Master20191031!L22-Master20180614!L22","v":10},{"$f":"Master20191031!M22-Master20180614!M22","v":9},{"$f":"Master20191031!N22-Master20180614!N22","v":7},{"$f":"Master20191031!O22-Master20180614!O22","v":21},{"$f":"Master20191031!P22-Master20180614!P22","v":7},{"$f":"Master20191031!Q22-Master20180614!Q22","v":0},{"$f":"Master20191031!R22-Master20180614!R22","v":0},{"$f":"Master20191031!S22-Master20180614!S22","v":0},{"$f":"Master20191031!T22-Master20180614!T22","v":0},{"$f":"Master20191031!U22-Master20180614!U22","v":0},{"$f":"Master20191031!V22-Master20180614!V22","v":0},{"$f":"Master20191031!W22-Master20180614!W22","v":0},{"$f":"Master20191031!X22-Master20180614!X22","v":0},{"$f":"Master20191031!Y22-Master20180614!Y22","v":0},{"$f":"Master20191031!Z22-Master20180614!Z22","v":0},{"$f":"Master20191031!AA22-Master20180614!AA22","v":0},{"$f":"Master20191031!AB22-Master20180614!AB22","v":0},{"$f":"Master20191031!AC22-Master20180614!AC22","v":0},{"$f":"Master20191031!AD22-Master20180614!AD22","v":0},{"$f":"Master20191031!AE22-Master20180614!AE22","v":0}]
["Central","4-A","HENR","Charles City County",{"$f":"Master20191031!E23-Master20180614!E23","v":0},{"$f":"Master20191031!F23-Master20180614!F23","v":0},{"$f":"Master20191031!G23-Master20180614!G23","v":-2},{"$f":"Master20191031!H23-Master20180614!H23","v":-2},{"$f":"Master20191031!I23-Master20180614!I23","v":0},{"$f":"Master20191031!J23-Master20180614!J23","v":-1},{"$f":"Master20191031!K23-Master20180614!K23","v":0},{"$f":"Master20191031!L23-Master20180614!L23","v":-1},{"$f":"Master20191031!M23-Master20180614!M23","v":0},{"$f":"Master20191031!N23-Master20180614!N23","v":0},{"$f":"Master20191031!O23-Master20180614!O23","v":0},{"$f":"Master20191031!P23-Master20180614!P23","v":0},{"$f":"Master20191031!Q23-Master20180614!Q23","v":0},{"$f":"Master20191031!R23-Master20180614!R23","v":0},{"$f":"Master20191031!S23-Master20180614!S23","v":-1},{"$f":"Master20191031!T23-Master20180614!T23","v":0},{"$f":"Master20191031!U23-Master20180614!U23","v":0},{"$f":"Master20191031!V23-Master20180614!V23","v":0},{"$f":"Master20191031!W23-Master20180614!W23","v":0},{"$f":"Master20191031!X23-Master20180614!X23","v":0},{"$f":"Master20191031!Y23-Master20180614!Y23","v":0},{"$f":"Master20191031!Z23-Master20180614!Z23","v":0},{"$f":"Master20191031!AA23-Master20180614!AA23","v":0},{"$f":"Master20191031!AB23-Master20180614!AB23","v":0},{"$f":"Master20191031!AC23-Master20180614!AC23","v":0},{"$f":"Master20191031!AD23-Master20180614!AD23","v":0},{"$f":"Master20191031!AE23-Master20180614!AE23","v":0}]
["Central","4-C","CROS","Charlotte County",{"$f":"Master20191031!E24-Master20180614!E24","v":0},{"$f":"Master20191031!F24-Master20180614!F24","v":1},{"$f":"Master20191031!G24-Master20180614!G24","v":-4},{"$f":"Master20191031!H24-Master20180614!H24","v":-3},{"$f":"Master20191031!I24-Master20180614!I24","v":-3},{"$f":"Master20191031!J24-Master20180614!J24","v":2},{"$f":"Master20191031!K24-Master20180614!K24","v":-2},{"$f":"Master20191031!L24-Master20180614!L24","v":0},{"$f":"Master20191031!M24-Master20180614!M24","v":0},{"$f":"Master20191031!N24-Master20180614!N24","v":-1},{"$f":"Master20191031!O24-Master20180614!O24","v":0},{"$f":"Master20191031!P24-Master20180614!P24","v":1},{"$f":"Master20191031!Q24-Master20180614!Q24","v":0},{"$f":"Master20191031!R24-Master20180614!R24","v":0},{"$f":"Master20191031!S24-Master20180614!S24","v":1},{"$f":"Master20191031!T24-Master20180614!T24","v":0},{"$f":"Master20191031!U24-Master20180614!U24","v":0},{"$f":"Master20191031!V24-Master20180614!V24","v":0},{"$f":"Master20191031!W24-Master20180614!W24","v":0},{"$f":"Master20191031!X24-Master20180614!X24","v":0},{"$f":"Master20191031!Y24-Master20180614!Y24","v":0},{"$f":"Master20191031!Z24-Master20180614!Z24","v":0},{"$f":"Master20191031!AA24-Master20180614!AA24","v":0},{"$f":"Master20191031!AB24-Master20180614!AB24","v":0},{"$f":"Master20191031!AC24-Master20180614!AC24","v":0},{"$f":"Master20191031!AD24-Master20180614!AD24","v":0},{"$f":"Master20191031!AE24-Master20180614!AE24","v":0}]
["Western","1-A","RTEN","Charlottesville City",{"$f":"Master20191031!E25-Master20180614!E25","v":1},{"$f":"Master20191031!F25-Master20180614!F25","v":8},{"$f":"Master20191031!G25-Master20180614!G25","v":-5},{"$f":"Master20191031!H25-Master20180614!H25","v":4},{"$f":"Master20191031!I25-Master20180614!I25","v":4},{"$f":"Master20191031!J25-Master20180614!J25","v":0},{"$f":"Master20191031!K25-Master20180614!K25","v":-2},{"$f":"Master20191031!L25-Master20180614!L25","v":-5},{"$f":"Master20191031!M25-Master20180614!M25","v":0},{"$f":"Master20191031!N25-Master20180614!N25","v":4},{"$f":"Master20191031!O25-Master20180614!O25","v":0},{"$f":"Master20191031!P25-Master20180614!P25","v":3},{"$f":"Master20191031!Q25-Master20180614!Q25","v":0},{"$f":"Master20191031!R25-Master20180614!R25","v":0},{"$f":"Master20191031!S25-Master20180614!S25","v":0},{"$f":"Master20191031!T25-Master20180614!T25","v":0},{"$f":"Master20191031!U25-Master20180614!U25","v":0},{"$f":"Master20191031!V25-Master20180614!V25","v":0},{"$f":"Master20191031!W25-Master20180614!W25","v":0},{"$f":"Master20191031!X25-Master20180614!X25","v":0},{"$f":"Master20191031!Y25-Master20180614!Y25","v":0},{"$f":"Master20191031!Z25-Master20180614!Z25","v":0},{"$f":"Master20191031!AA25-Master20180614!AA25","v":0},{"$f":"Master20191031!AB25-Master20180614!AB25","v":0},{"$f":"Master20191031!AC25-Master20180614!AC25","v":0},{"$f":"Master20191031!AD25-Master20180614!AD25","v":0},{"$f":"Master20191031!AE25-Master20180614!AE25","v":0}]
["Eastern","5-D","CHSP","Chesapeake City",{"$f":"Master20191031!E26-Master20180614!E26","v":1},{"$f":"Master20191031!F26-Master20180614!F26","v":28},{"$f":"Master20191031!G26-Master20180614!G26","v":20},{"$f":"Master20191031!H26-Master20180614!H26","v":49},{"$f":"Master20191031!I26-Master20180614!I26","v":-6},{"$f":"Master20191031!J26-Master20180614!J26","v":-29},{"$f":"Master20191031!K26-Master20180614!K26","v":0},{"$f":"Master20191031!L26-Master20180614!L26","v":56},{"$f":"Master20191031!M26-Master20180614!M26","v":8},{"$f":"Master20191031!N26-Master20180614!N26","v":4},{"$f":"Master20191031!O26-Master20180614!O26","v":0},{"$f":"Master20191031!P26-Master20180614!P26","v":16},{"$f":"Master20191031!Q26-Master20180614!Q26","v":0},{"$f":"Master20191031!R26-Master20180614!R26","v":1},{"$f":"Master20191031!S26-Master20180614!S26","v":2},{"$f":"Master20191031!T26-Master20180614!T26","v":0},{"$f":"Master20191031!U26-Master20180614!U26","v":0},{"$f":"Master20191031!V26-Master20180614!V26","v":0},{"$f":"Master20191031!W26-Master20180614!W26","v":1},{"$f":"Master20191031!X26-Master20180614!X26","v":3},{"$f":"Master20191031!Y26-Master20180614!Y26","v":0},{"$f":"Master20191031!Z26-Master20180614!Z26","v":0},{"$f":"Master20191031!AA26-Master20180614!AA26","v":0},{"$f":"Master20191031!AB26-Master20180614!AB26","v":0},{"$f":"Master20191031!AC26-Master20180614!AC26","v":2},{"$f":"Master20191031!AD26-Master20180614!AD26","v":1},{"$f":"Master20191031!AE26-Master20180614!AE26","v":1}]
["Central","4-A","CHST","Chesterfield County",{"$f":"Master20191031!E27-Master20180614!E27","v":5},{"$f":"Master20191031!F27-Master20180614!F27","v":46},{"$f":"Master20191031!G27-Master20180614!G27","v":70},{"$f":"Master20191031!H27-Master20180614!H27","v":121},{"$f":"Master20191031!I27-Master20180614!I27","v":9},{"$f":"Master20191031!J27-Master20180614!J27","v":19},{"$f":"Master20191031!K27-Master20180614!K27","v":-31},{"$f":"Master20191031!L27-Master20180614!L27","v":72},{"$f":"Master20191031!M27-Master20180614!M27","v":17},{"$f":"Master20191031!N27-Master20180614!N27","v":3},{"$f":"Master20191031!O27-Master20180614!O27","v":0},{"$f":"Master20191031!P27-Master20180614!P27","v":32},{"$f":"Master20191031!Q27-Master20180614!Q27","v":0},{"$f":"Master20191031!R27-Master20180614!R27","v":2},{"$f":"Master20191031!S27-Master20180614!S27","v":-2},{"$f":"Master20191031!T27-Master20180614!T27","v":0},{"$f":"Master20191031!U27-Master20180614!U27","v":0},{"$f":"Master20191031!V27-Master20180614!V27","v":0},{"$f":"Master20191031!W27-Master20180614!W27","v":1},{"$f":"Master20191031!X27-Master20180614!X27","v":-1},{"$f":"Master20191031!Y27-Master20180614!Y27","v":0},{"$f":"Master20191031!Z27-Master20180614!Z27","v":0},{"$f":"Master20191031!AA27-Master20180614!AA27","v":1},{"$f":"Master20191031!AB27-Master20180614!AB27","v":-1},{"$f":"Master20191031!AC27-Master20180614!AC27","v":0},{"$f":"Master20191031!AD27-Master20180614!AD27","v":-3},{"$f":"Master20191031!AE27-Master20180614!AE27","v":1}]
["Northern","2-D","NW","Clarke County",{"$f":"Master20191031!E28-Master20180614!E28","v":0},{"$f":"Master20191031!F28-Master20180614!F28","v":3},{"$f":"Master20191031!G28-Master20180614!G28","v":2},{"$f":"Master20191031!H28-Master20180614!H28","v":5},{"$f":"Master20191031!I28-Master20180614!I28","v":1},{"$f":"Master20191031!J28-Master20180614!J28","v":0},{"$f":"Master20191031!K28-Master20180614!K28","v":1},{"$f":"Master20191031!L28-Master20180614!L28","v":1},{"$f":"Master20191031!M28-Master20180614!M28","v":0},{"$f":"Master20191031!N28-Master20180614!N28","v":0},{"$f":"Master20191031!O28-Master20180614!O28","v":0},{"$f":"Master20191031!P28-Master20180614!P28","v":2},{"$f":"Master20191031!Q28-Master20180614!Q28","v":0},{"$f":"Master20191031!R28-Master20180614!R28","v":0},{"$f":"Master20191031!S28-Master20180614!S28","v":0},{"$f":"Master20191031!T28-Master20180614!T28","v":0},{"$f":"Master20191031!U28-Master20180614!U28","v":0},{"$f":"Master20191031!V28-Master20180614!V28","v":0},{"$f":"Master20191031!W28-Master20180614!W28","v":0},{"$f":"Master20191031!X28-Master20180614!X28","v":0},{"$f":"Master20191031!Y28-Master20180614!Y28","v":0},{"$f":"Master20191031!Z28-Master20180614!Z28","v":0},{"$f":"Master20191031!AA28-Master20180614!AA28","v":0},{"$f":"Master20191031!AB28-Master20180614!AB28","v":0},{"$f":"Master20191031!AC28-Master20180614!AC28","v":0},{"$f":"Master20191031!AD28-Master20180614!AD28","v":0},{"$f":"Master20191031!AE28-Master20180614!AE28","v":0}]
["Central","4-A","D19","Colonial Heights City",{"$f":"Master20191031!E29-Master20180614!E29","v":0},{"$f":"Master20191031!F29-Master20180614!F29","v":3},{"$f":"Master20191031!G29-Master20180614!G29","v":6},{"$f":"Master20191031!H29-Master20180614!H29","v":9},{"$f":"Master20191031!I29-Master20180614!I29","v":0},{"$f":"Master20191031!J29-Master20180614!J29","v":1},{"$f":"Master20191031!K29-Master20180614!K29","v":0},{"$f":"Master20191031!L29-Master20180614!L29","v":2},{"$f":"Master20191031!M29-Master20180614!M29","v":1},{"$f":"Master20191031!N29-Master20180614!N29","v":1},{"$f":"Master20191031!O29-Master20180614!O29","v":1},{"$f":"Master20191031!P29-Master20180614!P29","v":3},{"$f":"Master20191031!Q29-Master20180614!Q29","v":0},{"$f":"Master20191031!R29-Master20180614!R29","v":0},{"$f":"Master20191031!S29-Master20180614!S29","v":2},{"$f":"Master20191031!T29-Master20180614!T29","v":0},{"$f":"Master20191031!U29-Master20180614!U29","v":0},{"$f":"Master20191031!V29-Master20180614!V29","v":0},{"$f":"Master20191031!W29-Master20180614!W29","v":0},{"$f":"Master20191031!X29-Master20180614!X29","v":-1},{"$f":"Master20191031!Y29-Master20180614!Y29","v":0},{"$f":"Master20191031!Z29-Master20180614!Z29","v":0},{"$f":"Master20191031!AA29-Master20180614!AA29","v":0},{"$f":"Master20191031!AB29-Master20180614!AB29","v":0},{"$f":"Master20191031!AC29-Master20180614!AC29","v":0},{"$f":"Master20191031!AD29-Master20180614!AD29","v":0},{"$f":"Master20191031!AE29-Master20180614!AE29","v":0}]
["Western","1-C","ALLE","Covington City",{"$f":"Master20191031!E30-Master20180614!E30","v":0},{"$f":"Master20191031!F30-Master20180614!F30","v":0},{"$f":"Master20191031!G30-Master20180614!G30","v":3},{"$f":"Master20191031!H30-Master20180614!H30","v":3},{"$f":"Master20191031!I30-Master20180614!I30","v":0},{"$f":"Master20191031!J30-Master20180614!J30","v":0},{"$f":"Master20191031!K30-Master20180614!K30","v":0},{"$f":"Master20191031!L30-Master20180614!L30","v":1},{"$f":"Master20191031!M30-Master20180614!M30","v":0},{"$f":"Master20191031!N30-Master20180614!N30","v":0},{"$f":"Master20191031!O30-Master20180614!O30","v":0},{"$f":"Master20191031!P30-Master20180614!P30","v":2},{"$f":"Master20191031!Q30-Master20180614!Q30","v":0},{"$f":"Master20191031!R30-Master20180614!R30","v":0},{"$f":"Master20191031!S30-Master20180614!S30","v":0},{"$f":"Master20191031!T30-Master20180614!T30","v":0},{"$f":"Master20191031!U30-Master20180614!U30","v":0},{"$f":"Master20191031!V30-Master20180614!V30","v":0},{"$f":"Master20191031!W30-Master20180614!W30","v":0},{"$f":"Master20191031!X30-Master20180614!X30","v":0},{"$f":"Master20191031!Y30-Master20180614!Y30","v":0},{"$f":"Master20191031!Z30-Master20180614!Z30","v":0},{"$f":"Master20191031!AA30-Master20180614!AA30","v":0},{"$f":"Master20191031!AB30-Master20180614!AB30","v":0},{"$f":"Master20191031!AC30-Master20180614!AC30","v":0},{"$f":"Master20191031!AD30-Master20180614!AD30","v":0},{"$f":"Master20191031!AE30-Master20180614!AE30","v":0}]
["Southwestern","3-A","BLUE","Craig County",{"$f":"Master20191031!E31-Master20180614!E31","v":1},{"$f":"Master20191031!F31-Master20180614!F31","v":0},{"$f":"Master20191031!G31-Master20180614!G31","v":-2},{"$f":"Master20191031!H31-Master20180614!H31","v":-1},{"$f":"Master20191031!I31-Master20180614!I31","v":1},{"$f":"Master20191031!J31-Master20180614!J31","v":0},{"$f":"Master20191031!K31-Master20180614!K31","v":0},{"$f":"Master20191031!L31-Master20180614!L31","v":0},{"$f":"Master20191031!M31-Master20180614!M31","v":0},{"$f":"Master20191031!N31-Master20180614!N31","v":0},{"$f":"Master20191031!O31-Master20180614!O31","v":-1},{"$f":"Master20191031!P31-Master20180614!P31","v":-1},{"$f":"Master20191031!Q31-Master20180614!Q31","v":0},{"$f":"Master20191031!R31-Master20180614!R31","v":0},{"$f":"Master20191031!S31-Master20180614!S31","v":0},{"$f":"Master20191031!T31-Master20180614!T31","v":0},{"$f":"Master20191031!U31-Master20180614!U31","v":0},{"$f":"Master20191031!V31-Master20180614!V31","v":0},{"$f":"Master20191031!W31-Master20180614!W31","v":0},{"$f":"Master20191031!X31-Master20180614!X31","v":0},{"$f":"Master20191031!Y31-Master20180614!Y31","v":0},{"$f":"Master20191031!Z31-Master20180614!Z31","v":0},{"$f":"Master20191031!AA31-Master20180614!AA31","v":0},{"$f":"Master20191031!AB31-Master20180614!AB31","v":0},{"$f":"Master20191031!AC31-Master20180614!AC31","v":0},{"$f":"Master20191031!AD31-Master20180614!AD31","v":0},{"$f":"Master20191031!AE31-Master20180614!AE31","v":0}]
["Northern","2-B","RapR","Culpeper County",{"$f":"Master20191031!E32-Master20180614!E32","v":2},{"$f":"Master20191031!F32-Master20180614!F32","v":2},{"$f":"Master20191031!G32-Master20180614!G32","v":5},{"$f":"Master20191031!H32-Master20180614!H32","v":9},{"$f":"Master20191031!I32-Master20180614!I32","v":0},{"$f":"Master20191031!J32-Master20180614!J32","v":3},{"$f":"Master20191031!K32-Master20180614!K32","v":1},{"$f":"Master20191031!L32-Master20180614!L32","v":1},{"$f":"Master20191031!M32-Master20180614!M32","v":1},{"$f":"Master20191031!N32-Master20180614!N32","v":-1},{"$f":"Master20191031!O32-Master20180614!O32","v":0},{"$f":"Master20191031!P32-Master20180614!P32","v":4},{"$f":"Master20191031!Q32-Master20180614!Q32","v":0},{"$f":"Master20191031!R32-Master20180614!R32","v":0},{"$f":"Master20191031!S32-Master20180614!S32","v":1},{"$f":"Master20191031!T32-Master20180614!T32","v":0},{"$f":"Master20191031!U32-Master20180614!U32","v":0},{"$f":"Master20191031!V32-Master20180614!V32","v":0},{"$f":"Master20191031!W32-Master20180614!W32","v":0},{"$f":"Master20191031!X32-Master20180614!X32","v":0},{"$f":"Master20191031!Y32-Master20180614!Y32","v":0},{"$f":"Master20191031!Z32-Master20180614!Z32","v":0},{"$f":"Master20191031!AA32-Master20180614!AA32","v":0},{"$f":"Master20191031!AB32-Master20180614!AB32","v":0},{"$f":"Master20191031!AC32-Master20180614!AC32","v":0},{"$f":"Master20191031!AD32-Master20180614!AD32","v":0},{"$f":"Master20191031!AE32-Master20180614!AE32","v":0}]
["Central","4-B","CROS","Cumberland County",{"$f":"Master20191031!E33-Master20180614!E33","v":0},{"$f":"Master20191031!F33-Master20180614!F33","v":0},{"$f":"Master20191031!G33-Master20180614!G33","v":-2},{"$f":"Master20191031!H33-Master20180614!H33","v":-2},{"$f":"Master20191031!I33-Master20180614!I33","v":0},{"$f":"Master20191031!J33-Master20180614!J33","v":-6},{"$f":"Master20191031!K33-Master20180614!K33","v":-1},{"$f":"Master20191031!L33-Master20180614!L33","v":2},{"$f":"Master20191031!M33-Master20180614!M33","v":2},{"$f":"Master20191031!N33-Master20180614!N33","v":0},{"$f":"Master20191031!O33-Master20180614!O33","v":0},{"$f":"Master20191031!P33-Master20180614!P33","v":1},{"$f":"Master20191031!Q33-Master20180614!Q33","v":0},{"$f":"Master20191031!R33-Master20180614!R33","v":0},{"$f":"Master20191031!S33-Master20180614!S33","v":0},{"$f":"Master20191031!T33-Master20180614!T33","v":0},{"$f":"Master20191031!U33-Master20180614!U33","v":0},{"$f":"Master20191031!V33-Master20180614!V33","v":0},{"$f":"Master20191031!W33-Master20180614!W33","v":0},{"$f":"Master20191031!X33-Master20180614!X33","v":0},{"$f":"Master20191031!Y33-Master20180614!Y33","v":0},{"$f":"Master20191031!Z33-Master20180614!Z33","v":0},{"$f":"Master20191031!AA33-Master20180614!AA33","v":0},{"$f":"Master20191031!AB33-Master20180614!AB33","v":0},{"$f":"Master20191031!AC33-Master20180614!AC33","v":0},{"$f":"Master20191031!AD33-Master20180614!AD33","v":0},{"$f":"Master20191031!AE33-Master20180614!AE33","v":0}]
["Southwestern","3-B","DANV","Danville City",{"$f":"Master20191031!E34-Master20180614!E34","v":9},{"$f":"Master20191031!F34-Master20180614!F34","v":8},{"$f":"Master20191031!G34-Master20180614!G34","v":9},{"$f":"Master20191031!H34-Master20180614!H34","v":26},{"$f":"Master20191031!I34-Master20180614!I34","v":-5},{"$f":"Master20191031!J34-Master20180614!J34","v":-17},{"$f":"Master20191031!K34-Master20180614!K34","v":1},{"$f":"Master20191031!L34-Master20180614!L34","v":13},{"$f":"Master20191031!M34-Master20180614!M34","v":0},{"$f":"Master20191031!N34-Master20180614!N34","v":5},{"$f":"Master20191031!O34-Master20180614!O34","v":11},{"$f":"Master20191031!P34-Master20180614!P34","v":18},{"$f":"Master20191031!Q34-Master20180614!Q34","v":0},{"$f":"Master20191031!R34-Master20180614!R34","v":0},{"$f":"Master20191031!S34-Master20180614!S34","v":0},{"$f":"Master20191031!T34-Master20180614!T34","v":0},{"$f":"Master20191031!U34-Master20180614!U34","v":0},{"$f":"Master20191031!V34-Master20180614!V34","v":0},{"$f":"Master20191031!W34-Master20180614!W34","v":2},{"$f":"Master20191031!X34-Master20180614!X34","v":0},{"$f":"Master20191031!Y34-Master20180614!Y34","v":0},{"$f":"Master20191031!Z34-Master20180614!Z34","v":0},{"$f":"Master20191031!AA34-Master20180614!AA34","v":0},{"$f":"Master20191031!AB34-Master20180614!AB34","v":0},{"$f":"Master20191031!AC34-Master20180614!AC34","v":0},{"$f":"Master20191031!AD34-Master20180614!AD34","v":-1},{"$f":"Master20191031!AE34-Master20180614!AE34","v":0}]
["Southwestern","3-D","DCBH","Dickenson County",{"$f":"Master20191031!E35-Master20180614!E35","v":0},{"$f":"Master20191031!F35-Master20180614!F35","v":4},{"$f":"Master20191031!G35-Master20180614!G35","v":4},{"$f":"Master20191031!H35-Master20180614!H35","v":8},{"$f":"Master20191031!I35-Master20180614!I35","v":1},{"$f":"Master20191031!J35-Master20180614!J35","v":-3},{"$f":"Master20191031!K35-Master20180614!K35","v":1},{"$f":"Master20191031!L35-Master20180614!L35","v":7},{"$f":"Master20191031!M35-Master20180614!M35","v":3},{"$f":"Master20191031!N35-Master20180614!N35","v":-1},{"$f":"Master20191031!O35-Master20180614!O35","v":-1},{"$f":"Master20191031!P35-Master20180614!P35","v":1},{"$f":"Master20191031!Q35-Master20180614!Q35","v":0},{"$f":"Master20191031!R35-Master20180614!R35","v":0},{"$f":"Master20191031!S35-Master20180614!S35","v":0},{"$f":"Master20191031!T35-Master20180614!T35","v":0},{"$f":"Master20191031!U35-Master20180614!U35","v":0},{"$f":"Master20191031!V35-Master20180614!V35","v":0},{"$f":"Master20191031!W35-Master20180614!W35","v":0},{"$f":"Master20191031!X35-Master20180614!X35","v":0},{"$f":"Master20191031!Y35-Master20180614!Y35","v":0},{"$f":"Master20191031!Z35-Master20180614!Z35","v":0},{"$f":"Master20191031!AA35-Master20180614!AA35","v":0},{"$f":"Master20191031!AB35-Master20180614!AB35","v":0},{"$f":"Master20191031!AC35-Master20180614!AC35","v":0},{"$f":"Master20191031!AD35-Master20180614!AD35","v":0},{"$f":"Master20191031!AE35-Master20180614!AE35","v":0}]
["Central","4-D","D19","Dinwiddie County",{"$f":"Master20191031!E36-Master20180614!E36","v":0},{"$f":"Master20191031!F36-Master20180614!F36","v":1},{"$f":"Master20191031!G36-Master20180614!G36","v":-5},{"$f":"Master20191031!H36-Master20180614!H36","v":-4},{"$f":"Master20191031!I36-Master20180614!I36","v":2},{"$f":"Master20191031!J36-Master20180614!J36","v":-6},{"$f":"Master20191031!K36-Master20180614!K36","v":-2},{"$f":"Master20191031!L36-Master20180614!L36","v":9},{"$f":"Master20191031!M36-Master20180614!M36","v":0},{"$f":"Master20191031!N36-Master20180614!N36","v":0},{"$f":"Master20191031!O36-Master20180614!O36","v":-6},{"$f":"Master20191031!P36-Master20180614!P36","v":-1},{"$f":"Master20191031!Q36-Master20180614!Q36","v":0},{"$f":"Master20191031!R36-Master20180614!R36","v":0},{"$f":"Master20191031!S36-Master20180614!S36","v":0},{"$f":"Master20191031!T36-Master20180614!T36","v":0},{"$f":"Master20191031!U36-Master20180614!U36","v":0},{"$f":"Master20191031!V36-Master20180614!V36","v":0},{"$f":"Master20191031!W36-Master20180614!W36","v":0},{"$f":"Master20191031!X36-Master20180614!X36","v":0},{"$f":"Master20191031!Y36-Master20180614!Y36","v":0},{"$f":"Master20191031!Z36-Master20180614!Z36","v":0},{"$f":"Master20191031!AA36-Master20180614!AA36","v":0},{"$f":"Master20191031!AB36-Master20180614!AB36","v":0},{"$f":"Master20191031!AC36-Master20180614!AC36","v":0},{"$f":"Master20191031!AD36-Master20180614!AD36","v":0},{"$f":"Master20191031!AE36-Master20180614!AE36","v":0}]
["Central","4-C","D19","Emporia City",{"$f":"Master20191031!E37-Master20180614!E37","v":0},{"$f":"Master20191031!F37-Master20180614!F37","v":1},{"$f":"Master20191031!G37-Master20180614!G37","v":0},{"$f":"Master20191031!H37-Master20180614!H37","v":1},{"$f":"Master20191031!I37-Master20180614!I37","v":0},{"$f":"Master20191031!J37-Master20180614!J37","v":0},{"$f":"Master20191031!K37-Master20180614!K37","v":0},{"$f":"Master20191031!L37-Master20180614!L37","v":1},{"$f":"Master20191031!M37-Master20180614!M37","v":0},{"$f":"Master20191031!N37-Master20180614!N37","v":-1},{"$f":"Master20191031!O37-Master20180614!O37","v":0},{"$f":"Master20191031!P37-Master20180614!P37","v":1},{"$f":"Master20191031!Q37-Master20180614!Q37","v":0},{"$f":"Master20191031!R37-Master20180614!R37","v":0},{"$f":"Master20191031!S37-Master20180614!S37","v":0},{"$f":"Master20191031!T37-Master20180614!T37","v":0},{"$f":"Master20191031!U37-Master20180614!U37","v":0},{"$f":"Master20191031!V37-Master20180614!V37","v":0},{"$f":"Master20191031!W37-Master20180614!W37","v":0},{"$f":"Master20191031!X37-Master20180614!X37","v":0},{"$f":"Master20191031!Y37-Master20180614!Y37","v":0},{"$f":"Master20191031!Z37-Master20180614!Z37","v":0},{"$f":"Master20191031!AA37-Master20180614!AA37","v":0},{"$f":"Master20191031!AB37-Master20180614!AB37","v":0},{"$f":"Master20191031!AC37-Master20180614!AC37","v":0},{"$f":"Master20191031!AD37-Master20180614!AD37","v":-1},{"$f":"Master20191031!AE37-Master20180614!AE37","v":0}]
["Eastern","5-A","MPNN","Essex County",{"$f":"Master20191031!E38-Master20180614!E38","v":0},{"$f":"Master20191031!F38-Master20180614!F38","v":2},{"$f":"Master20191031!G38-Master20180614!G38","v":1},{"$f":"Master20191031!H38-Master20180614!H38","v":3},{"$f":"Master20191031!I38-Master20180614!I38","v":2},{"$f":"Master20191031!J38-Master20180614!J38","v":1},{"$f":"Master20191031!K38-Master20180614!K38","v":0},{"$f":"Master20191031!L38-Master20180614!L38","v":1},{"$f":"Master20191031!M38-Master20180614!M38","v":0},{"$f":"Master20191031!N38-Master20180614!N38","v":-1},{"$f":"Master20191031!O38-Master20180614!O38","v":0},{"$f":"Master20191031!P38-Master20180614!P38","v":0},{"$f":"Master20191031!Q38-Master20180614!Q38","v":0},{"$f":"Master20191031!R38-Master20180614!R38","v":0},{"$f":"Master20191031!S38-Master20180614!S38","v":0},{"$f":"Master20191031!T38-Master20180614!T38","v":0},{"$f":"Master20191031!U38-Master20180614!U38","v":0},{"$f":"Master20191031!V38-Master20180614!V38","v":0},{"$f":"Master20191031!W38-Master20180614!W38","v":0},{"$f":"Master20191031!X38-Master20180614!X38","v":0},{"$f":"Master20191031!Y38-Master20180614!Y38","v":0},{"$f":"Master20191031!Z38-Master20180614!Z38","v":0},{"$f":"Master20191031!AA38-Master20180614!AA38","v":0},{"$f":"Master20191031!AB38-Master20180614!AB38","v":0},{"$f":"Master20191031!AC38-Master20180614!AC38","v":0},{"$f":"Master20191031!AD38-Master20180614!AD38","v":0},{"$f":"Master20191031!AE38-Master20180614!AE38","v":0}]
["Northern","2-A","FFFC","Fairfax City",{"$f":"Master20191031!E39-Master20180614!E39","v":0},{"$f":"Master20191031!F39-Master20180614!F39","v":1},{"$f":"Master20191031!G39-Master20180614!G39","v":-1},{"$f":"Master20191031!H39-Master20180614!H39","v":0},{"$f":"Master20191031!I39-Master20180614!I39","v":0},{"$f":"Master20191031!J39-Master20180614!J39","v":-1},{"$f":"Master20191031!K39-Master20180614!K39","v":0},{"$f":"Master20191031!L39-Master20180614!L39","v":-2},{"$f":"Master20191031!M39-Master20180614!M39","v":0},{"$f":"Master20191031!N39-Master20180614!N39","v":1},{"$f":"Master20191031!O39-Master20180614!O39","v":1},{"$f":"Master20191031!P39-Master20180614!P39","v":1},{"$f":"Master20191031!Q39-Master20180614!Q39","v":0},{"$f":"Master20191031!R39-Master20180614!R39","v":0},{"$f":"Master20191031!S39-Master20180614!S39","v":0},{"$f":"Master20191031!T39-Master20180614!T39","v":0},{"$f":"Master20191031!U39-Master20180614!U39","v":0},{"$f":"Master20191031!V39-Master20180614!V39","v":0},{"$f":"Master20191031!W39-Master20180614!W39","v":0},{"$f":"Master20191031!X39-Master20180614!X39","v":0},{"$f":"Master20191031!Y39-Master20180614!Y39","v":0},{"$f":"Master20191031!Z39-Master20180614!Z39","v":0},{"$f":"Master20191031!AA39-Master20180614!AA39","v":0},{"$f":"Master20191031!AB39-Master20180614!AB39","v":0},{"$f":"Master20191031!AC39-Master20180614!AC39","v":0},{"$f":"Master20191031!AD39-Master20180614!AD39","v":0},{"$f":"Master20191031!AE39-Master20180614!AE39","v":0}]
["Northern","2-A","FFFC","Fairfax County",{"$f":"Master20191031!E40-Master20180614!E40","v":6},{"$f":"Master20191031!F40-Master20180614!F40","v":94},{"$f":"Master20191031!G40-Master20180614!G40","v":47},{"$f":"Master20191031!H40-Master20180614!H40","v":147},{"$f":"Master20191031!I40-Master20180614!I40","v":12},{"$f":"Master20191031!J40-Master20180614!J40","v":-33},{"$f":"Master20191031!K40-Master20180614!K40","v":5},{"$f":"Master20191031!L40-Master20180614!L40","v":77},{"$f":"Master20191031!M40-Master20180614!M40","v":12},{"$f":"Master20191031!N40-Master20180614!N40","v":15},{"$f":"Master20191031!O40-Master20180614!O40","v":4},{"$f":"Master20191031!P40-Master20180614!P40","v":55},{"$f":"Master20191031!Q40-Master20180614!Q40","v":0},{"$f":"Master20191031!R40-Master20180614!R40","v":2},{"$f":"Master20191031!S40-Master20180614!S40","v":-1},{"$f":"Master20191031!T40-Master20180614!T40","v":0},{"$f":"Master20191031!U40-Master20180614!U40","v":0},{"$f":"Master20191031!V40-Master20180614!V40","v":0},{"$f":"Master20191031!W40-Master20180614!W40","v":0},{"$f":"Master20191031!X40-Master20180614!X40","v":1},{"$f":"Master20191031!Y40-Master20180614!Y40","v":0},{"$f":"Master20191031!Z40-Master20180614!Z40","v":0},{"$f":"Master20191031!AA40-Master20180614!AA40","v":1},{"$f":"Master20191031!AB40-Master20180614!AB40","v":-2},{"$f":"Master20191031!AC40-Master20180614!AC40","v":-5},{"$f":"Master20191031!AD40-Master20180614!AD40","v":-19},{"$f":"Master20191031!AE40-Master20180614!AE40","v":1}]
["Northern","2-A","FFFC","Falls Church City",{"$f":"Master20191031!E41-Master20180614!E41","v":0},{"$f":"Master20191031!F41-Master20180614!F41","v":0},{"$f":"Master20191031!G41-Master20180614!G41","v":0},{"$f":"Master20191031!H41-Master20180614!H41","v":0},{"$f":"Master20191031!I41-Master20180614!I41","v":0},{"$f":"Master20191031!J41-Master20180614!J41","v":0},{"$f":"Master20191031!K41-Master20180614!K41","v":0},{"$f":"Master20191031!L41-Master20180614!L41","v":0},{"$f":"Master20191031!M41-Master20180614!M41","v":0},{"$f":"Master20191031!N41-Master20180614!N41","v":0},{"$f":"Master20191031!O41-Master20180614!O41","v":1},{"$f":"Master20191031!P41-Master20180614!P41","v":-1},{"$f":"Master20191031!Q41-Master20180614!Q41","v":0},{"$f":"Master20191031!R41-Master20180614!R41","v":0},{"$f":"Master20191031!S41-Master20180614!S41","v":0},{"$f":"Master20191031!T41-Master20180614!T41","v":0},{"$f":"Master20191031!U41-Master20180614!U41","v":0},{"$f":"Master20191031!V41-Master20180614!V41","v":0},{"$f":"Master20191031!W41-Master20180614!W41","v":0},{"$f":"Master20191031!X41-Master20180614!X41","v":0},{"$f":"Master20191031!Y41-Master20180614!Y41","v":0},{"$f":"Master20191031!Z41-Master20180614!Z41","v":0},{"$f":"Master20191031!AA41-Master20180614!AA41","v":0},{"$f":"Master20191031!AB41-Master20180614!AB41","v":0},{"$f":"Master20191031!AC41-Master20180614!AC41","v":0},{"$f":"Master20191031!AD41-Master20180614!AD41","v":-1},{"$f":"Master20191031!AE41-Master20180614!AE41","v":0}]
["Northern","2-B","RapR","Fauquier County",{"$f":"Master20191031!E42-Master20180614!E42","v":0},{"$f":"Master20191031!F42-Master20180614!F42","v":9},{"$f":"Master20191031!G42-Master20180614!G42","v":1},{"$f":"Master20191031!H42-Master20180614!H42","v":10},{"$f":"Master20191031!I42-Master20180614!I42","v":3},{"$f":"Master20191031!J42-Master20180614!J42","v":-2},{"$f":"Master20191031!K42-Master20180614!K42","v":0},{"$f":"Master20191031!L42-Master20180614!L42","v":-2},{"$f":"Master20191031!M42-Master20180614!M42","v":2},{"$f":"Master20191031!N42-Master20180614!N42","v":-3},{"$f":"Master20191031!O42-Master20180614!O42","v":2},{"$f":"Master20191031!P42-Master20180614!P42","v":10},{"$f":"Master20191031!Q42-Master20180614!Q42","v":0},{"$f":"Master20191031!R42-Master20180614!R42","v":0},{"$f":"Master20191031!S42-Master20180614!S42","v":0},{"$f":"Master20191031!T42-Master20180614!T42","v":0},{"$f":"Master20191031!U42-Master20180614!U42","v":0},{"$f":"Master20191031!V42-Master20180614!V42","v":0},{"$f":"Master20191031!W42-Master20180614!W42","v":0},{"$f":"Master20191031!X42-Master20180614!X42","v":-1},{"$f":"Master20191031!Y42-Master20180614!Y42","v":0},{"$f":"Master20191031!Z42-Master20180614!Z42","v":0},{"$f":"Master20191031!AA42-Master20180614!AA42","v":0},{"$f":"Master20191031!AB42-Master20180614!AB42","v":0},{"$f":"Master20191031!AC42-Master20180614!AC42","v":0},{"$f":"Master20191031!AD42-Master20180614!AD42","v":-1},{"$f":"Master20191031!AE42-Master20180614!AE42","v":0}]
["Southwestern","3-C","NRV","Floyd County",{"$f":"Master20191031!E43-Master20180614!E43","v":0},{"$f":"Master20191031!F43-Master20180614!F43","v":0},{"$f":"Master20191031!G43-Master20180614!G43","v":-3},{"$f":"Master20191031!H43-Master20180614!H43","v":-3},{"$f":"Master20191031!I43-Master20180614!I43","v":0},{"$f":"Master20191031!J43-Master20180614!J43","v":-3},{"$f":"Master20191031!K43-Master20180614!K43","v":-2},{"$f":"Master20191031!L43-Master20180614!L43","v":0},{"$f":"Master20191031!M43-Master20180614!M43","v":0},{"$f":"Master20191031!N43-Master20180614!N43","v":0},{"$f":"Master20191031!O43-Master20180614!O43","v":2},{"$f":"Master20191031!P43-Master20180614!P43","v":0},{"$f":"Master20191031!Q43-Master20180614!Q43","v":0},{"$f":"Master20191031!R43-Master20180614!R43","v":-1},{"$f":"Master20191031!S43-Master20180614!S43","v":-1},{"$f":"Master20191031!T43-Master20180614!T43","v":0},{"$f":"Master20191031!U43-Master20180614!U43","v":0},{"$f":"Master20191031!V43-Master20180614!V43","v":0},{"$f":"Master20191031!W43-Master20180614!W43","v":0},{"$f":"Master20191031!X43-Master20180614!X43","v":0},{"$f":"Master20191031!Y43-Master20180614!Y43","v":0},{"$f":"Master20191031!Z43-Master20180614!Z43","v":0},{"$f":"Master20191031!AA43-Master20180614!AA43","v":0},{"$f":"Master20191031!AB43-Master20180614!AB43","v":0},{"$f":"Master20191031!AC43-Master20180614!AC43","v":0},{"$f":"Master20191031!AD43-Master20180614!AD43","v":0},{"$f":"Master20191031!AE43-Master20180614!AE43","v":1}]
["Western","1-A","RTEN","Fluvanna County",{"$f":"Master20191031!E44-Master20180614!E44","v":-1},{"$f":"Master20191031!F44-Master20180614!F44","v":3},{"$f":"Master20191031!G44-Master20180614!G44","v":-1},{"$f":"Master20191031!H44-Master20180614!H44","v":1},{"$f":"Master20191031!I44-Master20180614!I44","v":0},{"$f":"Master20191031!J44-Master20180614!J44","v":-1},{"$f":"Master20191031!K44-Master20180614!K44","v":0},{"$f":"Master20191031!L44-Master20180614!L44","v":-2},{"$f":"Master20191031!M44-Master20180614!M44","v":0},{"$f":"Master20191031!N44-Master20180614!N44","v":0},{"$f":"Master20191031!O44-Master20180614!O44","v":0},{"$f":"Master20191031!P44-Master20180614!P44","v":4},{"$f":"Master20191031!Q44-Master20180614!Q44","v":0},{"$f":"Master20191031!R44-Master20180614!R44","v":0},{"$f":"Master20191031!S44-Master20180614!S44","v":0},{"$f":"Master20191031!T44-Master20180614!T44","v":0},{"$f":"Master20191031!U44-Master20180614!U44","v":0},{"$f":"Master20191031!V44-Master20180614!V44","v":0},{"$f":"Master20191031!W44-Master20180614!W44","v":0},{"$f":"Master20191031!X44-Master20180614!X44","v":0},{"$f":"Master20191031!Y44-Master20180614!Y44","v":0},{"$f":"Master20191031!Z44-Master20180614!Z44","v":0},{"$f":"Master20191031!AA44-Master20180614!AA44","v":0},{"$f":"Master20191031!AB44-Master20180614!AB44","v":0},{"$f":"Master20191031!AC44-Master20180614!AC44","v":0},{"$f":"Master20191031!AD44-Master20180614!AD44","v":0},{"$f":"Master20191031!AE44-Master20180614!AE44","v":0}]
["Eastern","5-D","WT","Franklin City",{"$f":"Master20191031!E45-Master20180614!E45","v":0},{"$f":"Master20191031!F45-Master20180614!F45","v":1},{"$f":"Master20191031!G45-Master20180614!G45","v":-1},{"$f":"Master20191031!H45-Master20180614!H45","v":0},{"$f":"Master20191031!I45-Master20180614!I45","v":-1},{"$f":"Master20191031!J45-Master20180614!J45","v":-1},{"$f":"Master20191031!K45-Master20180614!K45","v":0},{"$f":"Master20191031!L45-Master20180614!L45","v":2},{"$f":"Master20191031!M45-Master20180614!M45","v":0},{"$f":"Master20191031!N45-Master20180614!N45","v":-1},{"$f":"Master20191031!O45-Master20180614!O45","v":0},{"$f":"Master20191031!P45-Master20180614!P45","v":1},{"$f":"Master20191031!Q45-Master20180614!Q45","v":0},{"$f":"Master20191031!R45-Master20180614!R45","v":0},{"$f":"Master20191031!S45-Master20180614!S45","v":0},{"$f":"Master20191031!T45-Master20180614!T45","v":0},{"$f":"Master20191031!U45-Master20180614!U45","v":0},{"$f":"Master20191031!V45-Master20180614!V45","v":0},{"$f":"Master20191031!W45-Master20180614!W45","v":0},{"$f":"Master20191031!X45-Master20180614!X45","v":0},{"$f":"Master20191031!Y45-Master20180614!Y45","v":0},{"$f":"Master20191031!Z45-Master20180614!Z45","v":0},{"$f":"Master20191031!AA45-Master20180614!AA45","v":0},{"$f":"Master20191031!AB45-Master20180614!AB45","v":0},{"$f":"Master20191031!AC45-Master20180614!AC45","v":-1},{"$f":"Master20191031!AD45-Master20180614!AD45","v":-1},{"$f":"Master20191031!AE45-Master20180614!AE45","v":0}]
["Southwestern","3-A","PDMT","Franklin County",{"$f":"Master20191031!E46-Master20180614!E46","v":-1},{"$f":"Master20191031!F46-Master20180614!F46","v":4},{"$f":"Master20191031!G46-Master20180614!G46","v":2},{"$f":"Master20191031!H46-Master20180614!H46","v":5},{"$f":"Master20191031!I46-Master20180614!I46","v":-4},{"$f":"Master20191031!J46-Master20180614!J46","v":-6},{"$f":"Master20191031!K46-Master20180614!K46","v":0},{"$f":"Master20191031!L46-Master20180614!L46","v":7},{"$f":"Master20191031!M46-Master20180614!M46","v":3},{"$f":"Master20191031!N46-Master20180614!N46","v":4},{"$f":"Master20191031!O46-Master20180614!O46","v":-3},{"$f":"Master20191031!P46-Master20180614!P46","v":4},{"$f":"Master20191031!Q46-Master20180614!Q46","v":0},{"$f":"Master20191031!R46-Master20180614!R46","v":0},{"$f":"Master20191031!S46-Master20180614!S46","v":0},{"$f":"Master20191031!T46-Master20180614!T46","v":0},{"$f":"Master20191031!U46-Master20180614!U46","v":0},{"$f":"Master20191031!V46-Master20180614!V46","v":0},{"$f":"Master20191031!W46-Master20180614!W46","v":0},{"$f":"Master20191031!X46-Master20180614!X46","v":0},{"$f":"Master20191031!Y46-Master20180614!Y46","v":0},{"$f":"Master20191031!Z46-Master20180614!Z46","v":0},{"$f":"Master20191031!AA46-Master20180614!AA46","v":0},{"$f":"Master20191031!AB46-Master20180614!AB46","v":0},{"$f":"Master20191031!AC46-Master20180614!AC46","v":0},{"$f":"Master20191031!AD46-Master20180614!AD46","v":0},{"$f":"Master20191031!AE46-Master20180614!AE46","v":0}]
["Northern","2-D","NW","Frederick County",{"$f":"Master20191031!E47-Master20180614!E47","v":0},{"$f":"Master20191031!F47-Master20180614!F47","v":12},{"$f":"Master20191031!G47-Master20180614!G47","v":3},{"$f":"Master20191031!H47-Master20180614!H47","v":15},{"$f":"Master20191031!I47-Master20180614!I47","v":1},{"$f":"Master20191031!J47-Master20180614!J47","v":-2},{"$f":"Master20191031!K47-Master20180614!K47","v":-3},{"$f":"Master20191031!L47-Master20180614!L47","v":11},{"$f":"Master20191031!M47-Master20180614!M47","v":1},{"$f":"Master20191031!N47-Master20180614!N47","v":6},{"$f":"Master20191031!O47-Master20180614!O47","v":-5},{"$f":"Master20191031!P47-Master20180614!P47","v":6},{"$f":"Master20191031!Q47-Master20180614!Q47","v":0},{"$f":"Master20191031!R47-Master20180614!R47","v":0},{"$f":"Master20191031!S47-Master20180614!S47","v":0},{"$f":"Master20191031!T47-Master20180614!T47","v":0},{"$f":"Master20191031!U47-Master20180614!U47","v":0},{"$f":"Master20191031!V47-Master20180614!V47","v":0},{"$f":"Master20191031!W47-Master20180614!W47","v":0},{"$f":"Master20191031!X47-Master20180614!X47","v":0},{"$f":"Master20191031!Y47-Master20180614!Y47","v":0},{"$f":"Master20191031!Z47-Master20180614!Z47","v":0},{"$f":"Master20191031!AA47-Master20180614!AA47","v":0},{"$f":"Master20191031!AB47-Master20180614!AB47","v":0},{"$f":"Master20191031!AC47-Master20180614!AC47","v":0},{"$f":"Master20191031!AD47-Master20180614!AD47","v":0},{"$f":"Master20191031!AE47-Master20180614!AE47","v":0}]
["Northern","2-C","RapA","Fredericksburg City",{"$f":"Master20191031!E48-Master20180614!E48","v":0},{"$f":"Master20191031!F48-Master20180614!F48","v":4},{"$f":"Master20191031!G48-Master20180614!G48","v":3},{"$f":"Master20191031!H48-Master20180614!H48","v":7},{"$f":"Master20191031!I48-Master20180614!I48","v":4},{"$f":"Master20191031!J48-Master20180614!J48","v":0},{"$f":"Master20191031!K48-Master20180614!K48","v":0},{"$f":"Master20191031!L48-Master20180614!L48","v":2},{"$f":"Master20191031!M48-Master20180614!M48","v":0},{"$f":"Master20191031!N48-Master20180614!N48","v":-1},{"$f":"Master20191031!O48-Master20180614!O48","v":-2},{"$f":"Master20191031!P48-Master20180614!P48","v":4},{"$f":"Master20191031!Q48-Master20180614!Q48","v":0},{"$f":"Master20191031!R48-Master20180614!R48","v":0},{"$f":"Master20191031!S48-Master20180614!S48","v":0},{"$f":"Master20191031!T48-Master20180614!T48","v":0},{"$f":"Master20191031!U48-Master20180614!U48","v":0},{"$f":"Master20191031!V48-Master20180614!V48","v":0},{"$f":"Master20191031!W48-Master20180614!W48","v":0},{"$f":"Master20191031!X48-Master20180614!X48","v":0},{"$f":"Master20191031!Y48-Master20180614!Y48","v":0},{"$f":"Master20191031!Z48-Master20180614!Z48","v":0},{"$f":"Master20191031!AA48-Master20180614!AA48","v":0},{"$f":"Master20191031!AB48-Master20180614!AB48","v":0},{"$f":"Master20191031!AC48-Master20180614!AC48","v":-3},{"$f":"Master20191031!AD48-Master20180614!AD48","v":0},{"$f":"Master20191031!AE48-Master20180614!AE48","v":0}]
["Southwestern","3-B","MTRG","Galax City",{"$f":"Master20191031!E49-Master20180614!E49","v":0},{"$f":"Master20191031!F49-Master20180614!F49","v":0},{"$f":"Master20191031!G49-Master20180614!G49","v":4},{"$f":"Master20191031!H49-Master20180614!H49","v":4},{"$f":"Master20191031!I49-Master20180614!I49","v":0},{"$f":"Master20191031!J49-Master20180614!J49","v":-2},{"$f":"Master20191031!K49-Master20180614!K49","v":-3},{"$f":"Master20191031!L49-Master20180614!L49","v":1},{"$f":"Master20191031!M49-Master20180614!M49","v":0},{"$f":"Master20191031!N49-Master20180614!N49","v":2},{"$f":"Master20191031!O49-Master20180614!O49","v":6},{"$f":"Master20191031!P49-Master20180614!P49","v":0},{"$f":"Master20191031!Q49-Master20180614!Q49","v":0},{"$f":"Master20191031!R49-Master20180614!R49","v":-1},{"$f":"Master20191031!S49-Master20180614!S49","v":2},{"$f":"Master20191031!T49-Master20180614!T49","v":0},{"$f":"Master20191031!U49-Master20180614!U49","v":0},{"$f":"Master20191031!V49-Master20180614!V49","v":0},{"$f":"Master20191031!W49-Master20180614!W49","v":0},{"$f":"Master20191031!X49-Master20180614!X49","v":0},{"$f":"Master20191031!Y49-Master20180614!Y49","v":0},{"$f":"Master20191031!Z49-Master20180614!Z49","v":0},{"$f":"Master20191031!AA49-Master20180614!AA49","v":0},{"$f":"Master20191031!AB49-Master20180614!AB49","v":0},{"$f":"Master20191031!AC49-Master20180614!AC49","v":0},{"$f":"Master20191031!AD49-Master20180614!AD49","v":0},{"$f":"Master20191031!AE49-Master20180614!AE49","v":0}]
["Southwestern","3-A","NRV","Giles County",{"$f":"Master20191031!E50-Master20180614!E50","v":1},{"$f":"Master20191031!F50-Master20180614!F50","v":0},{"$f":"Master20191031!G50-Master20180614!G50","v":1},{"$f":"Master20191031!H50-Master20180614!H50","v":2},{"$f":"Master20191031!I50-Master20180614!I50","v":0},{"$f":"Master20191031!J50-Master20180614!J50","v":-2},{"$f":"Master20191031!K50-Master20180614!K50","v":1},{"$f":"Master20191031!L50-Master20180614!L50","v":4},{"$f":"Master20191031!M50-Master20180614!M50","v":0},{"$f":"Master20191031!N50-Master20180614!N50","v":0},{"$f":"Master20191031!O50-Master20180614!O50","v":-3},{"$f":"Master20191031!P50-Master20180614!P50","v":2},{"$f":"Master20191031!Q50-Master20180614!Q50","v":0},{"$f":"Master20191031!R50-Master20180614!R50","v":1},{"$f":"Master20191031!S50-Master20180614!S50","v":0},{"$f":"Master20191031!T50-Master20180614!T50","v":0},{"$f":"Master20191031!U50-Master20180614!U50","v":0},{"$f":"Master20191031!V50-Master20180614!V50","v":0},{"$f":"Master20191031!W50-Master20180614!W50","v":0},{"$f":"Master20191031!X50-Master20180614!X50","v":0},{"$f":"Master20191031!Y50-Master20180614!Y50","v":0},{"$f":"Master20191031!Z50-Master20180614!Z50","v":0},{"$f":"Master20191031!AA50-Master20180614!AA50","v":0},{"$f":"Master20191031!AB50-Master20180614!AB50","v":1},{"$f":"Master20191031!AC50-Master20180614!AC50","v":0},{"$f":"Master20191031!AD50-Master20180614!AD50","v":0},{"$f":"Master20191031!AE50-Master20180614!AE50","v":0}]
["Eastern","5-A","MPNN","Gloucester County",{"$f":"Master20191031!E51-Master20180614!E51","v":0},{"$f":"Master20191031!F51-Master20180614!F51","v":4},{"$f":"Master20191031!G51-Master20180614!G51","v":9},{"$f":"Master20191031!H51-Master20180614!H51","v":13},{"$f":"Master20191031!I51-Master20180614!I51","v":-1},{"$f":"Master20191031!J51-Master20180614!J51","v":-2},{"$f":"Master20191031!K51-Master20180614!K51","v":-2},{"$f":"Master20191031!L51-Master20180614!L51","v":6},{"$f":"Master20191031!M51-Master20180614!M51","v":4},{"$f":"Master20191031!N51-Master20180614!N51","v":-5},{"$f":"Master20191031!O51-Master20180614!O51","v":1},{"$f":"Master20191031!P51-Master20180614!P51","v":12},{"$f":"Master20191031!Q51-Master20180614!Q51","v":0},{"$f":"Master20191031!R51-Master20180614!R51","v":0},{"$f":"Master20191031!S51-Master20180614!S51","v":0},{"$f":"Master20191031!T51-Master20180614!T51","v":0},{"$f":"Master20191031!U51-Master20180614!U51","v":0},{"$f":"Master20191031!V51-Master20180614!V51","v":0},{"$f":"Master20191031!W51-Master20180614!W51","v":0},{"$f":"Master20191031!X51-Master20180614!X51","v":0},{"$f":"Master20191031!Y51-Master20180614!Y51","v":0},{"$f":"Master20191031!Z51-Master20180614!Z51","v":0},{"$f":"Master20191031!AA51-Master20180614!AA51","v":0},{"$f":"Master20191031!AB51-Master20180614!AB51","v":0},{"$f":"Master20191031!AC51-Master20180614!AC51","v":-1},{"$f":"Master20191031!AD51-Master20180614!AD51","v":-1},{"$f":"Master20191031!AE51-Master20180614!AE51","v":0}]
["Central","4-B","GOOC","Goochland County",{"$f":"Master20191031!E52-Master20180614!E52","v":0},{"$f":"Master20191031!F52-Master20180614!F52","v":0},{"$f":"Master20191031!G52-Master20180614!G52","v":0},{"$f":"Master20191031!H52-Master20180614!H52","v":0},{"$f":"Master20191031!I52-Master20180614!I52","v":0},{"$f":"Master20191031!J52-Master20180614!J52","v":0},{"$f":"Master20191031!K52-Master20180614!K52","v":-2},{"$f":"Master20191031!L52-Master20180614!L52","v":0},{"$f":"Master20191031!M52-Master20180614!M52","v":1},{"$f":"Master20191031!N52-Master20180614!N52","v":-1},{"$f":"Master20191031!O52-Master20180614!O52","v":1},{"$f":"Master20191031!P52-Master20180614!P52","v":1},{"$f":"Master20191031!Q52-Master20180614!Q52","v":0},{"$f":"Master20191031!R52-Master20180614!R52","v":0},{"$f":"Master20191031!S52-Master20180614!S52","v":0},{"$f":"Master20191031!T52-Master20180614!T52","v":0},{"$f":"Master20191031!U52-Master20180614!U52","v":0},{"$f":"Master20191031!V52-Master20180614!V52","v":0},{"$f":"Master20191031!W52-Master20180614!W52","v":0},{"$f":"Master20191031!X52-Master20180614!X52","v":0},{"$f":"Master20191031!Y52-Master20180614!Y52","v":0},{"$f":"Master20191031!Z52-Master20180614!Z52","v":0},{"$f":"Master20191031!AA52-Master20180614!AA52","v":0},{"$f":"Master20191031!AB52-Master20180614!AB52","v":0},{"$f":"Master20191031!AC52-Master20180614!AC52","v":0},{"$f":"Master20191031!AD52-Master20180614!AD52","v":0},{"$f":"Master20191031!AE52-Master20180614!AE52","v":0}]
["Southwestern","3-B","MTRG","Grayson County",{"$f":"Master20191031!E53-Master20180614!E53","v":0},{"$f":"Master20191031!F53-Master20180614!F53","v":0},{"$f":"Master20191031!G53-Master20180614!G53","v":0},{"$f":"Master20191031!H53-Master20180614!H53","v":0},{"$f":"Master20191031!I53-Master20180614!I53","v":-1},{"$f":"Master20191031!J53-Master20180614!J53","v":-2},{"$f":"Master20191031!K53-Master20180614!K53","v":-1},{"$f":"Master20191031!L53-Master20180614!L53","v":2},{"$f":"Master20191031!M53-Master20180614!M53","v":1},{"$f":"Master20191031!N53-Master20180614!N53","v":0},{"$f":"Master20191031!O53-Master20180614!O53","v":0},{"$f":"Master20191031!P53-Master20180614!P53","v":1},{"$f":"Master20191031!Q53-Master20180614!Q53","v":0},{"$f":"Master20191031!R53-Master20180614!R53","v":0},{"$f":"Master20191031!S53-Master20180614!S53","v":0},{"$f":"Master20191031!T53-Master20180614!T53","v":0},{"$f":"Master20191031!U53-Master20180614!U53","v":0},{"$f":"Master20191031!V53-Master20180614!V53","v":0},{"$f":"Master20191031!W53-Master20180614!W53","v":0},{"$f":"Master20191031!X53-Master20180614!X53","v":0},{"$f":"Master20191031!Y53-Master20180614!Y53","v":0},{"$f":"Master20191031!Z53-Master20180614!Z53","v":0},{"$f":"Master20191031!AA53-Master20180614!AA53","v":0},{"$f":"Master20191031!AB53-Master20180614!AB53","v":0},{"$f":"Master20191031!AC53-Master20180614!AC53","v":0},{"$f":"Master20191031!AD53-Master20180614!AD53","v":0},{"$f":"Master20191031!AE53-Master20180614!AE53","v":0}]
["Western","1-A","RTEN","Greene County",{"$f":"Master20191031!E54-Master20180614!E54","v":0},{"$f":"Master20191031!F54-Master20180614!F54","v":2},{"$f":"Master20191031!G54-Master20180614!G54","v":0},{"$f":"Master20191031!H54-Master20180614!H54","v":2},{"$f":"Master20191031!I54-Master20180614!I54","v":3},{"$f":"Master20191031!J54-Master20180614!J54","v":-6},{"$f":"Master20191031!K54-Master20180614!K54","v":0},{"$f":"Master20191031!L54-Master20180614!L54","v":2},{"$f":"Master20191031!M54-Master20180614!M54","v":1},{"$f":"Master20191031!N54-Master20180614!N54","v":-1},{"$f":"Master20191031!O54-Master20180614!O54","v":0},{"$f":"Master20191031!P54-Master20180614!P54","v":3},{"$f":"Master20191031!Q54-Master20180614!Q54","v":0},{"$f":"Master20191031!R54-Master20180614!R54","v":0},{"$f":"Master20191031!S54-Master20180614!S54","v":0},{"$f":"Master20191031!T54-Master20180614!T54","v":0},{"$f":"Master20191031!U54-Master20180614!U54","v":0},{"$f":"Master20191031!V54-Master20180614!V54","v":0},{"$f":"Master20191031!W54-Master20180614!W54","v":0},{"$f":"Master20191031!X54-Master20180614!X54","v":0},{"$f":"Master20191031!Y54-Master20180614!Y54","v":0},{"$f":"Master20191031!Z54-Master20180614!Z54","v":0},{"$f":"Master20191031!AA54-Master20180614!AA54","v":0},{"$f":"Master20191031!AB54-Master20180614!AB54","v":0},{"$f":"Master20191031!AC54-Master20180614!AC54","v":0},{"$f":"Master20191031!AD54-Master20180614!AD54","v":0},{"$f":"Master20191031!AE54-Master20180614!AE54","v":0}]
["Central","4-D","D19","Greensville County",{"$f":"Master20191031!E55-Master20180614!E55","v":0},{"$f":"Master20191031!F55-Master20180614!F55","v":1},{"$f":"Master20191031!G55-Master20180614!G55","v":-2},{"$f":"Master20191031!H55-Master20180614!H55","v":-1},{"$f":"Master20191031!I55-Master20180614!I55","v":0},{"$f":"Master20191031!J55-Master20180614!J55","v":-2},{"$f":"Master20191031!K55-Master20180614!K55","v":0},{"$f":"Master20191031!L55-Master20180614!L55","v":0},{"$f":"Master20191031!M55-Master20180614!M55","v":1},{"$f":"Master20191031!N55-Master20180614!N55","v":0},{"$f":"Master20191031!O55-Master20180614!O55","v":0},{"$f":"Master20191031!P55-Master20180614!P55","v":0},{"$f":"Master20191031!Q55-Master20180614!Q55","v":0},{"$f":"Master20191031!R55-Master20180614!R55","v":0},{"$f":"Master20191031!S55-Master20180614!S55","v":0},{"$f":"Master20191031!T55-Master20180614!T55","v":0},{"$f":"Master20191031!U55-Master20180614!U55","v":0},{"$f":"Master20191031!V55-Master20180614!V55","v":0},{"$f":"Master20191031!W55-Master20180614!W55","v":0},{"$f":"Master20191031!X55-Master20180614!X55","v":0},{"$f":"Master20191031!Y55-Master20180614!Y55","v":0},{"$f":"Master20191031!Z55-Master20180614!Z55","v":0},{"$f":"Master20191031!AA55-Master20180614!AA55","v":0},{"$f":"Master20191031!AB55-Master20180614!AB55","v":0},{"$f":"Master20191031!AC55-Master20180614!AC55","v":0},{"$f":"Master20191031!AD55-Master20180614!AD55","v":0},{"$f":"Master20191031!AE55-Master20180614!AE55","v":0}]
["Central","4-C","SS","Halifax County",{"$f":"Master20191031!E56-Master20180614!E56","v":0},{"$f":"Master20191031!F56-Master20180614!F56","v":3},{"$f":"Master20191031!G56-Master20180614!G56","v":6},{"$f":"Master20191031!H56-Master20180614!H56","v":9},{"$f":"Master20191031!I56-Master20180614!I56","v":0},{"$f":"Master20191031!J56-Master20180614!J56","v":0},{"$f":"Master20191031!K56-Master20180614!K56","v":-3},{"$f":"Master20191031!L56-Master20180614!L56","v":7},{"$f":"Master20191031!M56-Master20180614!M56","v":0},{"$f":"Master20191031!N56-Master20180614!N56","v":1},{"$f":"Master20191031!O56-Master20180614!O56","v":1},{"$f":"Master20191031!P56-Master20180614!P56","v":3},{"$f":"Master20191031!Q56-Master20180614!Q56","v":0},{"$f":"Master20191031!R56-Master20180614!R56","v":1},{"$f":"Master20191031!S56-Master20180614!S56","v":0},{"$f":"Master20191031!T56-Master20180614!T56","v":0},{"$f":"Master20191031!U56-Master20180614!U56","v":0},{"$f":"Master20191031!V56-Master20180614!V56","v":0},{"$f":"Master20191031!W56-Master20180614!W56","v":0},{"$f":"Master20191031!X56-Master20180614!X56","v":0},{"$f":"Master20191031!Y56-Master20180614!Y56","v":0},{"$f":"Master20191031!Z56-Master20180614!Z56","v":0},{"$f":"Master20191031!AA56-Master20180614!AA56","v":0},{"$f":"Master20191031!AB56-Master20180614!AB56","v":0},{"$f":"Master20191031!AC56-Master20180614!AC56","v":0},{"$f":"Master20191031!AD56-Master20180614!AD56","v":0},{"$f":"Master20191031!AE56-Master20180614!AE56","v":0}]
["Eastern","5-C","HAMP","Hampton City",{"$f":"Master20191031!E57-Master20180614!E57","v":1},{"$f":"Master20191031!F57-Master20180614!F57","v":23},{"$f":"Master20191031!G57-Master20180614!G57","v":5},{"$f":"Master20191031!H57-Master20180614!H57","v":29},{"$f":"Master20191031!I57-Master20180614!I57","v":-8},{"$f":"Master20191031!J57-Master20180614!J57","v":-34},{"$f":"Master20191031!K57-Master20180614!K57","v":-2},{"$f":"Master20191031!L57-Master20180614!L57","v":37},{"$f":"Master20191031!M57-Master20180614!M57","v":12},{"$f":"Master20191031!N57-Master20180614!N57","v":-1},{"$f":"Master20191031!O57-Master20180614!O57","v":8},{"$f":"Master20191031!P57-Master20180614!P57","v":17},{"$f":"Master20191031!Q57-Master20180614!Q57","v":0},{"$f":"Master20191031!R57-Master20180614!R57","v":2},{"$f":"Master20191031!S57-Master20180614!S57","v":1},{"$f":"Master20191031!T57-Master20180614!T57","v":0},{"$f":"Master20191031!U57-Master20180614!U57","v":0},{"$f":"Master20191031!V57-Master20180614!V57","v":0},{"$f":"Master20191031!W57-Master20180614!W57","v":0},{"$f":"Master20191031!X57-Master20180614!X57","v":-1},{"$f":"Master20191031!Y57-Master20180614!Y57","v":0},{"$f":"Master20191031!Z57-Master20180614!Z57","v":0},{"$f":"Master20191031!AA57-Master20180614!AA57","v":0},{"$f":"Master20191031!AB57-Master20180614!AB57","v":-1},{"$f":"Master20191031!AC57-Master20180614!AC57","v":-1},{"$f":"Master20191031!AD57-Master20180614!AD57","v":-1},{"$f":"Master20191031!AE57-Master20180614!AE57","v":1}]
["Central","4-A","HANO","Hanover County",{"$f":"Master20191031!E58-Master20180614!E58","v":2},{"$f":"Master20191031!F58-Master20180614!F58","v":9},{"$f":"Master20191031!G58-Master20180614!G58","v":3},{"$f":"Master20191031!H58-Master20180614!H58","v":14},{"$f":"Master20191031!I58-Master20180614!I58","v":6},{"$f":"Master20191031!J58-Master20180614!J58","v":-12},{"$f":"Master20191031!K58-Master20180614!K58","v":0},{"$f":"Master20191031!L58-Master20180614!L58","v":20},{"$f":"Master20191031!M58-Master20180614!M58","v":4},{"$f":"Master20191031!N58-Master20180614!N58","v":7},{"$f":"Master20191031!O58-Master20180614!O58","v":0},{"$f":"Master20191031!P58-Master20180614!P58","v":-11},{"$f":"Master20191031!Q58-Master20180614!Q58","v":0},{"$f":"Master20191031!R58-Master20180614!R58","v":0},{"$f":"Master20191031!S58-Master20180614!S58","v":0},{"$f":"Master20191031!T58-Master20180614!T58","v":0},{"$f":"Master20191031!U58-Master20180614!U58","v":0},{"$f":"Master20191031!V58-Master20180614!V58","v":0},{"$f":"Master20191031!W58-Master20180614!W58","v":0},{"$f":"Master20191031!X58-Master20180614!X58","v":0},{"$f":"Master20191031!Y58-Master20180614!Y58","v":0},{"$f":"Master20191031!Z58-Master20180614!Z58","v":0},{"$f":"Master20191031!AA58-Master20180614!AA58","v":0},{"$f":"Master20191031!AB58-Master20180614!AB58","v":0},{"$f":"Master20191031!AC58-Master20180614!AC58","v":-1},{"$f":"Master20191031!AD58-Master20180614!AD58","v":-1},{"$f":"Master20191031!AE58-Master20180614!AE58","v":1}]
["Western","1-B","HARR","Harrisonburg City",{"$f":"Master20191031!E59-Master20180614!E59","v":2},{"$f":"Master20191031!F59-Master20180614!F59","v":5},{"$f":"Master20191031!G59-Master20180614!G59","v":-4},{"$f":"Master20191031!H59-Master20180614!H59","v":3},{"$f":"Master20191031!I59-Master20180614!I59","v":7},{"$f":"Master20191031!J59-Master20180614!J59","v":-7},{"$f":"Master20191031!K59-Master20180614!K59","v":0},{"$f":"Master20191031!L59-Master20180614!L59","v":0},{"$f":"Master20191031!M59-Master20180614!M59","v":-1},{"$f":"Master20191031!N59-Master20180614!N59","v":0},{"$f":"Master20191031!O59-Master20180614!O59","v":-2},{"$f":"Master20191031!P59-Master20180614!P59","v":6},{"$f":"Master20191031!Q59-Master20180614!Q59","v":0},{"$f":"Master20191031!R59-Master20180614!R59","v":0},{"$f":"Master20191031!S59-Master20180614!S59","v":0},{"$f":"Master20191031!T59-Master20180614!T59","v":0},{"$f":"Master20191031!U59-Master20180614!U59","v":1},{"$f":"Master20191031!V59-Master20180614!V59","v":0},{"$f":"Master20191031!W59-Master20180614!W59","v":0},{"$f":"Master20191031!X59-Master20180614!X59","v":0},{"$f":"Master20191031!Y59-Master20180614!Y59","v":0},{"$f":"Master20191031!Z59-Master20180614!Z59","v":0},{"$f":"Master20191031!AA59-Master20180614!AA59","v":1},{"$f":"Master20191031!AB59-Master20180614!AB59","v":0},{"$f":"Master20191031!AC59-Master20180614!AC59","v":0},{"$f":"Master20191031!AD59-Master20180614!AD59","v":0},{"$f":"Master20191031!AE59-Master20180614!AE59","v":0}]
["Central","4-A","HENR","Henrico County",{"$f":"Master20191031!E60-Master20180614!E60","v":4},{"$f":"Master20191031!F60-Master20180614!F60","v":19},{"$f":"Master20191031!G60-Master20180614!G60","v":28},{"$f":"Master20191031!H60-Master20180614!H60","v":51},{"$f":"Master20191031!I60-Master20180614!I60","v":8},{"$f":"Master20191031!J60-Master20180614!J60","v":-21},{"$f":"Master20191031!K60-Master20180614!K60","v":-2},{"$f":"Master20191031!L60-Master20180614!L60","v":66},{"$f":"Master20191031!M60-Master20180614!M60","v":5},{"$f":"Master20191031!N60-Master20180614!N60","v":-4},{"$f":"Master20191031!O60-Master20180614!O60","v":8},{"$f":"Master20191031!P60-Master20180614!P60","v":-9},{"$f":"Master20191031!Q60-Master20180614!Q60","v":2},{"$f":"Master20191031!R60-Master20180614!R60","v":-1},{"$f":"Master20191031!S60-Master20180614!S60","v":0},{"$f":"Master20191031!T60-Master20180614!T60","v":0},{"$f":"Master20191031!U60-Master20180614!U60","v":0},{"$f":"Master20191031!V60-Master20180614!V60","v":0},{"$f":"Master20191031!W60-Master20180614!W60","v":0},{"$f":"Master20191031!X60-Master20180614!X60","v":-2},{"$f":"Master20191031!Y60-Master20180614!Y60","v":0},{"$f":"Master20191031!Z60-Master20180614!Z60","v":1},{"$f":"Master20191031!AA60-Master20180614!AA60","v":-1},{"$f":"Master20191031!AB60-Master20180614!AB60","v":0},{"$f":"Master20191031!AC60-Master20180614!AC60","v":0},{"$f":"Master20191031!AD60-Master20180614!AD60","v":-1},{"$f":"Master20191031!AE60-Master20180614!AE60","v":1}]
["Southwestern","3-B","PDMT","Henry County",{"$f":"Master20191031!E61-Master20180614!E61","v":1},{"$f":"Master20191031!F61-Master20180614!F61","v":9},{"$f":"Master20191031!G61-Master20180614!G61","v":11},{"$f":"Master20191031!H61-Master20180614!H61","v":21},{"$f":"Master20191031!I61-Master20180614!I61","v":-3},{"$f":"Master20191031!J61-Master20180614!J61","v":-6},{"$f":"Master20191031!K61-Master20180614!K61","v":0},{"$f":"Master20191031!L61-Master20180614!L61","v":14},{"$f":"Master20191031!M61-Master20180614!M61","v":0},{"$f":"Master20191031!N61-Master20180614!N61","v":3},{"$f":"Master20191031!O61-Master20180614!O61","v":5},{"$f":"Master20191031!P61-Master20180614!P61","v":8},{"$f":"Master20191031!Q61-Master20180614!Q61","v":0},{"$f":"Master20191031!R61-Master20180614!R61","v":0},{"$f":"Master20191031!S61-Master20180614!S61","v":0},{"$f":"Master20191031!T61-Master20180614!T61","v":0},{"$f":"Master20191031!U61-Master20180614!U61","v":0},{"$f":"Master20191031!V61-Master20180614!V61","v":0},{"$f":"Master20191031!W61-Master20180614!W61","v":0},{"$f":"Master20191031!X61-Master20180614!X61","v":0},{"$f":"Master20191031!Y61-Master20180614!Y61","v":0},{"$f":"Master20191031!Z61-Master20180614!Z61","v":0},{"$f":"Master20191031!AA61-Master20180614!AA61","v":0},{"$f":"Master20191031!AB61-Master20180614!AB61","v":0},{"$f":"Master20191031!AC61-Master20180614!AC61","v":0},{"$f":"Master20191031!AD61-Master20180614!AD61","v":0},{"$f":"Master20191031!AE61-Master20180614!AE61","v":0}]
["Western","1-B","VLY","Highland County",{"$f":"Master20191031!E62-Master20180614!E62","v":0},{"$f":"Master20191031!F62-Master20180614!F62","v":0},{"$f":"Master20191031!G62-Master20180614!G62","v":3},{"$f":"Master20191031!H62-Master20180614!H62","v":3},{"$f":"Master20191031!I62-Master20180614!I62","v":0},{"$f":"Master20191031!J62-Master20180614!J62","v":-1},{"$f":"Master20191031!K62-Master20180614!K62","v":0},{"$f":"Master20191031!L62-Master20180614!L62","v":3},{"$f":"Master20191031!M62-Master20180614!M62","v":0},{"$f":"Master20191031!N62-Master20180614!N62","v":0},{"$f":"Master20191031!O62-Master20180614!O62","v":1},{"$f":"Master20191031!P62-Master20180614!P62","v":0},{"$f":"Master20191031!Q62-Master20180614!Q62","v":0},{"$f":"Master20191031!R62-Master20180614!R62","v":0},{"$f":"Master20191031!S62-Master20180614!S62","v":0},{"$f":"Master20191031!T62-Master20180614!T62","v":0},{"$f":"Master20191031!U62-Master20180614!U62","v":0},{"$f":"Master20191031!V62-Master20180614!V62","v":0},{"$f":"Master20191031!W62-Master20180614!W62","v":0},{"$f":"Master20191031!X62-Master20180614!X62","v":0},{"$f":"Master20191031!Y62-Master20180614!Y62","v":0},{"$f":"Master20191031!Z62-Master20180614!Z62","v":0},{"$f":"Master20191031!AA62-Master20180614!AA62","v":0},{"$f":"Master20191031!AB62-Master20180614!AB62","v":0},{"$f":"Master20191031!AC62-Master20180614!AC62","v":0},{"$f":"Master20191031!AD62-Master20180614!AD62","v":0},{"$f":"Master20191031!AE62-Master20180614!AE62","v":0}]
["Central","4-D","D19","Hopewell City",{"$f":"Master20191031!E63-Master20180614!E63","v":0},{"$f":"Master20191031!F63-Master20180614!F63","v":2},{"$f":"Master20191031!G63-Master20180614!G63","v":4},{"$f":"Master20191031!H63-Master20180614!H63","v":6},{"$f":"Master20191031!I63-Master20180614!I63","v":-1},{"$f":"Master20191031!J63-Master20180614!J63","v":-1},{"$f":"Master20191031!K63-Master20180614!K63","v":0},{"$f":"Master20191031!L63-Master20180614!L63","v":3},{"$f":"Master20191031!M63-Master20180614!M63","v":2},{"$f":"Master20191031!N63-Master20180614!N63","v":-1},{"$f":"Master20191031!O63-Master20180614!O63","v":2},{"$f":"Master20191031!P63-Master20180614!P63","v":2},{"$f":"Master20191031!Q63-Master20180614!Q63","v":0},{"$f":"Master20191031!R63-Master20180614!R63","v":0},{"$f":"Master20191031!S63-Master20180614!S63","v":1},{"$f":"Master20191031!T63-Master20180614!T63","v":0},{"$f":"Master20191031!U63-Master20180614!U63","v":0},{"$f":"Master20191031!V63-Master20180614!V63","v":0},{"$f":"Master20191031!W63-Master20180614!W63","v":0},{"$f":"Master20191031!X63-Master20180614!X63","v":0},{"$f":"Master20191031!Y63-Master20180614!Y63","v":0},{"$f":"Master20191031!Z63-Master20180614!Z63","v":0},{"$f":"Master20191031!AA63-Master20180614!AA63","v":0},{"$f":"Master20191031!AB63-Master20180614!AB63","v":0},{"$f":"Master20191031!AC63-Master20180614!AC63","v":0},{"$f":"Master20191031!AD63-Master20180614!AD63","v":0},{"$f":"Master20191031!AE63-Master20180614!AE63","v":0}]
["Eastern","5-D","WT","Isle of Wight County",{"$f":"Master20191031!E64-Master20180614!E64","v":-1},{"$f":"Master20191031!F64-Master20180614!F64","v":1},{"$f":"Master20191031!G64-Master20180614!G64","v":-1},{"$f":"Master20191031!H64-Master20180614!H64","v":-1},{"$f":"Master20191031!I64-Master20180614!I64","v":0},{"$f":"Master20191031!J64-Master20180614!J64","v":1},{"$f":"Master20191031!K64-Master20180614!K64","v":0},{"$f":"Master20191031!L64-Master20180614!L64","v":-2},{"$f":"Master20191031!M64-Master20180614!M64","v":-1},{"$f":"Master20191031!N64-Master20180614!N64","v":-1},{"$f":"Master20191031!O64-Master20180614!O64","v":0},{"$f":"Master20191031!P64-Master20180614!P64","v":2},{"$f":"Master20191031!Q64-Master20180614!Q64","v":0},{"$f":"Master20191031!R64-Master20180614!R64","v":0},{"$f":"Master20191031!S64-Master20180614!S64","v":0},{"$f":"Master20191031!T64-Master20180614!T64","v":0},{"$f":"Master20191031!U64-Master20180614!U64","v":0},{"$f":"Master20191031!V64-Master20180614!V64","v":0},{"$f":"Master20191031!W64-Master20180614!W64","v":0},{"$f":"Master20191031!X64-Master20180614!X64","v":0},{"$f":"Master20191031!Y64-Master20180614!Y64","v":0},{"$f":"Master20191031!Z64-Master20180614!Z64","v":0},{"$f":"Master20191031!AA64-Master20180614!AA64","v":0},{"$f":"Master20191031!AB64-Master20180614!AB64","v":0},{"$f":"Master20191031!AC64-Master20180614!AC64","v":0},{"$f":"Master20191031!AD64-Master20180614!AD64","v":1},{"$f":"Master20191031!AE64-Master20180614!AE64","v":0}]
["Eastern","5-C","COLO","James City County",{"$f":"Master20191031!E65-Master20180614!E65","v":0},{"$f":"Master20191031!F65-Master20180614!F65","v":13},{"$f":"Master20191031!G65-Master20180614!G65","v":6},{"$f":"Master20191031!H65-Master20180614!H65","v":19},{"$f":"Master20191031!I65-Master20180614!I65","v":0},{"$f":"Master20191031!J65-Master20180614!J65","v":-3},{"$f":"Master20191031!K65-Master20180614!K65","v":0},{"$f":"Master20191031!L65-Master20180614!L65","v":11},{"$f":"Master20191031!M65-Master20180614!M65","v":0},{"$f":"Master20191031!N65-Master20180614!N65","v":0},{"$f":"Master20191031!O65-Master20180614!O65","v":-1},{"$f":"Master20191031!P65-Master20180614!P65","v":12},{"$f":"Master20191031!Q65-Master20180614!Q65","v":0},{"$f":"Master20191031!R65-Master20180614!R65","v":0},{"$f":"Master20191031!S65-Master20180614!S65","v":0},{"$f":"Master20191031!T65-Master20180614!T65","v":0},{"$f":"Master20191031!U65-Master20180614!U65","v":0},{"$f":"Master20191031!V65-Master20180614!V65","v":0},{"$f":"Master20191031!W65-Master20180614!W65","v":0},{"$f":"Master20191031!X65-Master20180614!X65","v":0},{"$f":"Master20191031!Y65-Master20180614!Y65","v":0},{"$f":"Master20191031!Z65-Master20180614!Z65","v":0},{"$f":"Master20191031!AA65-Master20180614!AA65","v":0},{"$f":"Master20191031!AB65-Master20180614!AB65","v":0},{"$f":"Master20191031!AC65-Master20180614!AC65","v":0},{"$f":"Master20191031!AD65-Master20180614!AD65","v":0},{"$f":"Master20191031!AE65-Master20180614!AE65","v":0}]
["Eastern","5-A","MPNN","King and Queen County",{"$f":"Master20191031!E66-Master20180614!E66","v":0},{"$f":"Master20191031!F66-Master20180614!F66","v":0},{"$f":"Master20191031!G66-Master20180614!G66","v":1},{"$f":"Master20191031!H66-Master20180614!H66","v":1},{"$f":"Master20191031!I66-Master20180614!I66","v":0},{"$f":"Master20191031!J66-Master20180614!J66","v":-1},{"$f":"Master20191031!K66-Master20180614!K66","v":0},{"$f":"Master20191031!L66-Master20180614!L66","v":2},{"$f":"Master20191031!M66-Master20180614!M66","v":1},{"$f":"Master20191031!N66-Master20180614!N66","v":-1},{"$f":"Master20191031!O66-Master20180614!O66","v":0},{"$f":"Master20191031!P66-Master20180614!P66","v":0},{"$f":"Master20191031!Q66-Master20180614!Q66","v":0},{"$f":"Master20191031!R66-Master20180614!R66","v":0},{"$f":"Master20191031!S66-Master20180614!S66","v":0},{"$f":"Master20191031!T66-Master20180614!T66","v":0},{"$f":"Master20191031!U66-Master20180614!U66","v":0},{"$f":"Master20191031!V66-Master20180614!V66","v":0},{"$f":"Master20191031!W66-Master20180614!W66","v":0},{"$f":"Master20191031!X66-Master20180614!X66","v":0},{"$f":"Master20191031!Y66-Master20180614!Y66","v":0},{"$f":"Master20191031!Z66-Master20180614!Z66","v":0},{"$f":"Master20191031!AA66-Master20180614!AA66","v":0},{"$f":"Master20191031!AB66-Master20180614!AB66","v":0},{"$f":"Master20191031!AC66-Master20180614!AC66","v":0},{"$f":"Master20191031!AD66-Master20180614!AD66","v":0},{"$f":"Master20191031!AE66-Master20180614!AE66","v":0}]
["Northern","2-C","RapA","King George County",{"$f":"Master20191031!E67-Master20180614!E67","v":0},{"$f":"Master20191031!F67-Master20180614!F67","v":2},{"$f":"Master20191031!G67-Master20180614!G67","v":-3},{"$f":"Master20191031!H67-Master20180614!H67","v":-1},{"$f":"Master20191031!I67-Master20180614!I67","v":0},{"$f":"Master20191031!J67-Master20180614!J67","v":0},{"$f":"Master20191031!K67-Master20180614!K67","v":-1},{"$f":"Master20191031!L67-Master20180614!L67","v":1},{"$f":"Master20191031!M67-Master20180614!M67","v":0},{"$f":"Master20191031!N67-Master20180614!N67","v":0},{"$f":"Master20191031!O67-Master20180614!O67","v":1},{"$f":"Master20191031!P67-Master20180614!P67","v":-2},{"$f":"Master20191031!Q67-Master20180614!Q67","v":0},{"$f":"Master20191031!R67-Master20180614!R67","v":0},{"$f":"Master20191031!S67-Master20180614!S67","v":0},{"$f":"Master20191031!T67-Master20180614!T67","v":0},{"$f":"Master20191031!U67-Master20180614!U67","v":0},{"$f":"Master20191031!V67-Master20180614!V67","v":0},{"$f":"Master20191031!W67-Master20180614!W67","v":0},{"$f":"Master20191031!X67-Master20180614!X67","v":0},{"$f":"Master20191031!Y67-Master20180614!Y67","v":0},{"$f":"Master20191031!Z67-Master20180614!Z67","v":0},{"$f":"Master20191031!AA67-Master20180614!AA67","v":0},{"$f":"Master20191031!AB67-Master20180614!AB67","v":0},{"$f":"Master20191031!AC67-Master20180614!AC67","v":0},{"$f":"Master20191031!AD67-Master20180614!AD67","v":0},{"$f":"Master20191031!AE67-Master20180614!AE67","v":0}]
["Eastern","5-A","MPNN","King William County",{"$f":"Master20191031!E68-Master20180614!E68","v":0},{"$f":"Master20191031!F68-Master20180614!F68","v":5},{"$f":"Master20191031!G68-Master20180614!G68","v":0},{"$f":"Master20191031!H68-Master20180614!H68","v":5},{"$f":"Master20191031!I68-Master20180614!I68","v":0},{"$f":"Master20191031!J68-Master20180614!J68","v":4},{"$f":"Master20191031!K68-Master20180614!K68","v":-1},{"$f":"Master20191031!L68-Master20180614!L68","v":-3},{"$f":"Master20191031!M68-Master20180614!M68","v":0},{"$f":"Master20191031!N68-Master20180614!N68","v":2},{"$f":"Master20191031!O68-Master20180614!O68","v":1},{"$f":"Master20191031!P68-Master20180614!P68","v":2},{"$f":"Master20191031!Q68-Master20180614!Q68","v":0},{"$f":"Master20191031!R68-Master20180614!R68","v":0},{"$f":"Master20191031!S68-Master20180614!S68","v":0},{"$f":"Master20191031!T68-Master20180614!T68","v":0},{"$f":"Master20191031!U68-Master20180614!U68","v":0},{"$f":"Master20191031!V68-Master20180614!V68","v":0},{"$f":"Master20191031!W68-Master20180614!W68","v":0},{"$f":"Master20191031!X68-Master20180614!X68","v":0},{"$f":"Master20191031!Y68-Master20180614!Y68","v":0},{"$f":"Master20191031!Z68-Master20180614!Z68","v":0},{"$f":"Master20191031!AA68-Master20180614!AA68","v":0},{"$f":"Master20191031!AB68-Master20180614!AB68","v":0},{"$f":"Master20191031!AC68-Master20180614!AC68","v":0},{"$f":"Master20191031!AD68-Master20180614!AD68","v":0},{"$f":"Master20191031!AE68-Master20180614!AE68","v":0}]
["Eastern","5-A","MPNN","Lancaster County",{"$f":"Master20191031!E69-Master20180614!E69","v":0},{"$f":"Master20191031!F69-Master20180614!F69","v":0},{"$f":"Master20191031!G69-Master20180614!G69","v":0},{"$f":"Master20191031!H69-Master20180614!H69","v":0},{"$f":"Master20191031!I69-Master20180614!I69","v":0},{"$f":"Master20191031!J69-Master20180614!J69","v":-1},{"$f":"Master20191031!K69-Master20180614!K69","v":0},{"$f":"Master20191031!L69-Master20180614!L69","v":1},{"$f":"Master20191031!M69-Master20180614!M69","v":0},{"$f":"Master20191031!N69-Master20180614!N69","v":0},{"$f":"Master20191031!O69-Master20180614!O69","v":0},{"$f":"Master20191031!P69-Master20180614!P69","v":0},{"$f":"Master20191031!Q69-Master20180614!Q69","v":0},{"$f":"Master20191031!R69-Master20180614!R69","v":0},{"$f":"Master20191031!S69-Master20180614!S69","v":0},{"$f":"Master20191031!T69-Master20180614!T69","v":0},{"$f":"Master20191031!U69-Master20180614!U69","v":0},{"$f":"Master20191031!V69-Master20180614!V69","v":0},{"$f":"Master20191031!W69-Master20180614!W69","v":0},{"$f":"Master20191031!X69-Master20180614!X69","v":0},{"$f":"Master20191031!Y69-Master20180614!Y69","v":0},{"$f":"Master20191031!Z69-Master20180614!Z69","v":0},{"$f":"Master20191031!AA69-Master20180614!AA69","v":0},{"$f":"Master20191031!AB69-Master20180614!AB69","v":0},{"$f":"Master20191031!AC69-Master20180614!AC69","v":0},{"$f":"Master20191031!AD69-Master20180614!AD69","v":0},{"$f":"Master20191031!AE69-Master20180614!AE69","v":0}]
["Southwestern","3-D","PLD1","Lee County",{"$f":"Master20191031!E70-Master20180614!E70","v":0},{"$f":"Master20191031!F70-Master20180614!F70","v":3},{"$f":"Master20191031!G70-Master20180614!G70","v":0},{"$f":"Master20191031!H70-Master20180614!H70","v":3},{"$f":"Master20191031!I70-Master20180614!I70","v":0},{"$f":"Master20191031!J70-Master20180614!J70","v":5},{"$f":"Master20191031!K70-Master20180614!K70","v":-1},{"$f":"Master20191031!L70-Master20180614!L70","v":-2},{"$f":"Master20191031!M70-Master20180614!M70","v":0},{"$f":"Master20191031!N70-Master20180614!N70","v":0},{"$f":"Master20191031!O70-Master20180614!O70","v":-1},{"$f":"Master20191031!P70-Master20180614!P70","v":2},{"$f":"Master20191031!Q70-Master20180614!Q70","v":0},{"$f":"Master20191031!R70-Master20180614!R70","v":0},{"$f":"Master20191031!S70-Master20180614!S70","v":0},{"$f":"Master20191031!T70-Master20180614!T70","v":0},{"$f":"Master20191031!U70-Master20180614!U70","v":0},{"$f":"Master20191031!V70-Master20180614!V70","v":0},{"$f":"Master20191031!W70-Master20180614!W70","v":0},{"$f":"Master20191031!X70-Master20180614!X70","v":0},{"$f":"Master20191031!Y70-Master20180614!Y70","v":0},{"$f":"Master20191031!Z70-Master20180614!Z70","v":0},{"$f":"Master20191031!AA70-Master20180614!AA70","v":0},{"$f":"Master20191031!AB70-Master20180614!AB70","v":0},{"$f":"Master20191031!AC70-Master20180614!AC70","v":0},{"$f":"Master20191031!AD70-Master20180614!AD70","v":0},{"$f":"Master20191031!AE70-Master20180614!AE70","v":0}]
["Western","1-C","ROC","Lexington City",{"$f":"Master20191031!E71-Master20180614!E71","v":0},{"$f":"Master20191031!F71-Master20180614!F71","v":-1},{"$f":"Master20191031!G71-Master20180614!G71","v":0},{"$f":"Master20191031!H71-Master20180614!H71","v":-1},{"$f":"Master20191031!I71-Master20180614!I71","v":0},{"$f":"Master20191031!J71-Master20180614!J71","v":-1},{"$f":"Master20191031!K71-Master20180614!K71","v":0},{"$f":"Master20191031!L71-Master20180614!L71","v":0},{"$f":"Master20191031!M71-Master20180614!M71","v":0},{"$f":"Master20191031!N71-Master20180614!N71","v":0},{"$f":"Master20191031!O71-Master20180614!O71","v":0},{"$f":"Master20191031!P71-Master20180614!P71","v":0},{"$f":"Master20191031!Q71-Master20180614!Q71","v":0},{"$f":"Master20191031!R71-Master20180614!R71","v":0},{"$f":"Master20191031!S71-Master20180614!S71","v":0},{"$f":"Master20191031!T71-Master20180614!T71","v":0},{"$f":"Master20191031!U71-Master20180614!U71","v":0},{"$f":"Master20191031!V71-Master20180614!V71","v":0},{"$f":"Master20191031!W71-Master20180614!W71","v":0},{"$f":"Master20191031!X71-Master20180614!X71","v":0},{"$f":"Master20191031!Y71-Master20180614!Y71","v":0},{"$f":"Master20191031!Z71-Master20180614!Z71","v":0},{"$f":"Master20191031!AA71-Master20180614!AA71","v":0},{"$f":"Master20191031!AB71-Master20180614!AB71","v":0},{"$f":"Master20191031!AC71-Master20180614!AC71","v":0},{"$f":"Master20191031!AD71-Master20180614!AD71","v":0},{"$f":"Master20191031!AE71-Master20180614!AE71","v":0}]
["Northern","2-A","LOUD","Loudoun County",{"$f":"Master20191031!E72-Master20180614!E72","v":2},{"$f":"Master20191031!F72-Master20180614!F72","v":27},{"$f":"Master20191031!G72-Master20180614!G72","v":1},{"$f":"Master20191031!H72-Master20180614!H72","v":30},{"$f":"Master20191031!I72-Master20180614!I72","v":4},{"$f":"Master20191031!J72-Master20180614!J72","v":-19},{"$f":"Master20191031!K72-Master20180614!K72","v":5},{"$f":"Master20191031!L72-Master20180614!L72","v":22},{"$f":"Master20191031!M72-Master20180614!M72","v":2},{"$f":"Master20191031!N72-Master20180614!N72","v":5},{"$f":"Master20191031!O72-Master20180614!O72","v":-2},{"$f":"Master20191031!P72-Master20180614!P72","v":13},{"$f":"Master20191031!Q72-Master20180614!Q72","v":0},{"$f":"Master20191031!R72-Master20180614!R72","v":0},{"$f":"Master20191031!S72-Master20180614!S72","v":0},{"$f":"Master20191031!T72-Master20180614!T72","v":0},{"$f":"Master20191031!U72-Master20180614!U72","v":0},{"$f":"Master20191031!V72-Master20180614!V72","v":0},{"$f":"Master20191031!W72-Master20180614!W72","v":0},{"$f":"Master20191031!X72-Master20180614!X72","v":2},{"$f":"Master20191031!Y72-Master20180614!Y72","v":0},{"$f":"Master20191031!Z72-Master20180614!Z72","v":0},{"$f":"Master20191031!AA72-Master20180614!AA72","v":0},{"$f":"Master20191031!AB72-Master20180614!AB72","v":0},{"$f":"Master20191031!AC72-Master20180614!AC72","v":1},{"$f":"Master20191031!AD72-Master20180614!AD72","v":2},{"$f":"Master20191031!AE72-Master20180614!AE72","v":0}]
["Western","1-A","RTEN","Louisa County",{"$f":"Master20191031!E73-Master20180614!E73","v":1},{"$f":"Master20191031!F73-Master20180614!F73","v":9},{"$f":"Master20191031!G73-Master20180614!G73","v":5},{"$f":"Master20191031!H73-Master20180614!H73","v":15},{"$f":"Master20191031!I73-Master20180614!I73","v":-2},{"$f":"Master20191031!J73-Master20180614!J73","v":2},{"$f":"Master20191031!K73-Master20180614!K73","v":-1},{"$f":"Master20191031!L73-Master20180614!L73","v":4},{"$f":"Master20191031!M73-Master20180614!M73","v":0},{"$f":"Master20191031!N73-Master20180614!N73","v":2},{"$f":"Master20191031!O73-Master20180614!O73","v":0},{"$f":"Master20191031!P73-Master20180614!P73","v":10},{"$f":"Master20191031!Q73-Master20180614!Q73","v":0},{"$f":"Master20191031!R73-Master20180614!R73","v":0},{"$f":"Master20191031!S73-Master20180614!S73","v":1},{"$f":"Master20191031!T73-Master20180614!T73","v":0},{"$f":"Master20191031!U73-Master20180614!U73","v":0},{"$f":"Master20191031!V73-Master20180614!V73","v":0},{"$f":"Master20191031!W73-Master20180614!W73","v":0},{"$f":"Master20191031!X73-Master20180614!X73","v":0},{"$f":"Master20191031!Y73-Master20180614!Y73","v":0},{"$f":"Master20191031!Z73-Master20180614!Z73","v":0},{"$f":"Master20191031!AA73-Master20180614!AA73","v":0},{"$f":"Master20191031!AB73-Master20180614!AB73","v":0},{"$f":"Master20191031!AC73-Master20180614!AC73","v":0},{"$f":"Master20191031!AD73-Master20180614!AD73","v":0},{"$f":"Master20191031!AE73-Master20180614!AE73","v":0}]
["Central","4-C","CROS","Lunenburg County",{"$f":"Master20191031!E74-Master20180614!E74","v":0},{"$f":"Master20191031!F74-Master20180614!F74","v":3},{"$f":"Master20191031!G74-Master20180614!G74","v":0},{"$f":"Master20191031!H74-Master20180614!H74","v":3},{"$f":"Master20191031!I74-Master20180614!I74","v":-2},{"$f":"Master20191031!J74-Master20180614!J74","v":1},{"$f":"Master20191031!K74-Master20180614!K74","v":0},{"$f":"Master20191031!L74-Master20180614!L74","v":2},{"$f":"Master20191031!M74-Master20180614!M74","v":0},{"$f":"Master20191031!N74-Master20180614!N74","v":0},{"$f":"Master20191031!O74-Master20180614!O74","v":1},{"$f":"Master20191031!P74-Master20180614!P74","v":1},{"$f":"Master20191031!Q74-Master20180614!Q74","v":0},{"$f":"Master20191031!R74-Master20180614!R74","v":0},{"$f":"Master20191031!S74-Master20180614!S74","v":0},{"$f":"Master20191031!T74-Master20180614!T74","v":0},{"$f":"Master20191031!U74-Master20180614!U74","v":0},{"$f":"Master20191031!V74-Master20180614!V74","v":0},{"$f":"Master20191031!W74-Master20180614!W74","v":0},{"$f":"Master20191031!X74-Master20180614!X74","v":0},{"$f":"Master20191031!Y74-Master20180614!Y74","v":0},{"$f":"Master20191031!Z74-Master20180614!Z74","v":0},{"$f":"Master20191031!AA74-Master20180614!AA74","v":0},{"$f":"Master20191031!AB74-Master20180614!AB74","v":0},{"$f":"Master20191031!AC74-Master20180614!AC74","v":0},{"$f":"Master20191031!AD74-Master20180614!AD74","v":0},{"$f":"Master20191031!AE74-Master20180614!AE74","v":0}]
["Western","1-D","HORI","Lynchburg City",{"$f":"Master20191031!E75-Master20180614!E75","v":0},{"$f":"Master20191031!F75-Master20180614!F75","v":8},{"$f":"Master20191031!G75-Master20180614!G75","v":0},{"$f":"Master20191031!H75-Master20180614!H75","v":8},{"$f":"Master20191031!I75-Master20180614!I75","v":-5},{"$f":"Master20191031!J75-Master20180614!J75","v":-13},{"$f":"Master20191031!K75-Master20180614!K75","v":-5},{"$f":"Master20191031!L75-Master20180614!L75","v":8},{"$f":"Master20191031!M75-Master20180614!M75","v":3},{"$f":"Master20191031!N75-Master20180614!N75","v":5},{"$f":"Master20191031!O75-Master20180614!O75","v":4},{"$f":"Master20191031!P75-Master20180614!P75","v":11},{"$f":"Master20191031!Q75-Master20180614!Q75","v":0},{"$f":"Master20191031!R75-Master20180614!R75","v":1},{"$f":"Master20191031!S75-Master20180614!S75","v":-2},{"$f":"Master20191031!T75-Master20180614!T75","v":0},{"$f":"Master20191031!U75-Master20180614!U75","v":0},{"$f":"Master20191031!V75-Master20180614!V75","v":0},{"$f":"Master20191031!W75-Master20180614!W75","v":0},{"$f":"Master20191031!X75-Master20180614!X75","v":-1},{"$f":"Master20191031!Y75-Master20180614!Y75","v":0},{"$f":"Master20191031!Z75-Master20180614!Z75","v":0},{"$f":"Master20191031!AA75-Master20180614!AA75","v":0},{"$f":"Master20191031!AB75-Master20180614!AB75","v":0},{"$f":"Master20191031!AC75-Master20180614!AC75","v":0},{"$f":"Master20191031!AD75-Master20180614!AD75","v":0},{"$f":"Master20191031!AE75-Master20180614!AE75","v":1}]
["Northern","2-B","RapR","Madison County",{"$f":"Master20191031!E76-Master20180614!E76","v":0},{"$f":"Master20191031!F76-Master20180614!F76","v":1},{"$f":"Master20191031!G76-Master20180614!G76","v":5},{"$f":"Master20191031!H76-Master20180614!H76","v":6},{"$f":"Master20191031!I76-Master20180614!I76","v":-1},{"$f":"Master20191031!J76-Master20180614!J76","v":2},{"$f":"Master20191031!K76-Master20180614!K76","v":0},{"$f":"Master20191031!L76-Master20180614!L76","v":4},{"$f":"Master20191031!M76-Master20180614!M76","v":0},{"$f":"Master20191031!N76-Master20180614!N76","v":0},{"$f":"Master20191031!O76-Master20180614!O76","v":0},{"$f":"Master20191031!P76-Master20180614!P76","v":1},{"$f":"Master20191031!Q76-Master20180614!Q76","v":0},{"$f":"Master20191031!R76-Master20180614!R76","v":0},{"$f":"Master20191031!S76-Master20180614!S76","v":0},{"$f":"Master20191031!T76-Master20180614!T76","v":0},{"$f":"Master20191031!U76-Master20180614!U76","v":0},{"$f":"Master20191031!V76-Master20180614!V76","v":0},{"$f":"Master20191031!W76-Master20180614!W76","v":0},{"$f":"Master20191031!X76-Master20180614!X76","v":0},{"$f":"Master20191031!Y76-Master20180614!Y76","v":0},{"$f":"Master20191031!Z76-Master20180614!Z76","v":0},{"$f":"Master20191031!AA76-Master20180614!AA76","v":0},{"$f":"Master20191031!AB76-Master20180614!AB76","v":0},{"$f":"Master20191031!AC76-Master20180614!AC76","v":0},{"$f":"Master20191031!AD76-Master20180614!AD76","v":0},{"$f":"Master20191031!AE76-Master20180614!AE76","v":-1}]
["Northern","2-A","PWC","Manassas City",{"$f":"Master20191031!E77-Master20180614!E77","v":0},{"$f":"Master20191031!F77-Master20180614!F77","v":-2},{"$f":"Master20191031!G77-Master20180614!G77","v":-1},{"$f":"Master20191031!H77-Master20180614!H77","v":-3},{"$f":"Master20191031!I77-Master20180614!I77","v":-1},{"$f":"Master20191031!J77-Master20180614!J77","v":4},{"$f":"Master20191031!K77-Master20180614!K77","v":-2},{"$f":"Master20191031!L77-Master20180614!L77","v":-2},{"$f":"Master20191031!M77-Master20180614!M77","v":0},{"$f":"Master20191031!N77-Master20180614!N77","v":-1},{"$f":"Master20191031!O77-Master20180614!O77","v":-2},{"$f":"Master20191031!P77-Master20180614!P77","v":1},{"$f":"Master20191031!Q77-Master20180614!Q77","v":0},{"$f":"Master20191031!R77-Master20180614!R77","v":-1},{"$f":"Master20191031!S77-Master20180614!S77","v":0},{"$f":"Master20191031!T77-Master20180614!T77","v":0},{"$f":"Master20191031!U77-Master20180614!U77","v":0},{"$f":"Master20191031!V77-Master20180614!V77","v":0},{"$f":"Master20191031!W77-Master20180614!W77","v":0},{"$f":"Master20191031!X77-Master20180614!X77","v":0},{"$f":"Master20191031!Y77-Master20180614!Y77","v":0},{"$f":"Master20191031!Z77-Master20180614!Z77","v":0},{"$f":"Master20191031!AA77-Master20180614!AA77","v":0},{"$f":"Master20191031!AB77-Master20180614!AB77","v":0},{"$f":"Master20191031!AC77-Master20180614!AC77","v":0},{"$f":"Master20191031!AD77-Master20180614!AD77","v":0},{"$f":"Master20191031!AE77-Master20180614!AE77","v":0}]
["Northern","2-A","PWC","Manassas Park City",{"$f":"Master20191031!E78-Master20180614!E78","v":0},{"$f":"Master20191031!F78-Master20180614!F78","v":1},{"$f":"Master20191031!G78-Master20180614!G78","v":-1},{"$f":"Master20191031!H78-Master20180614!H78","v":0},{"$f":"Master20191031!I78-Master20180614!I78","v":0},{"$f":"Master20191031!J78-Master20180614!J78","v":0},{"$f":"Master20191031!K78-Master20180614!K78","v":0},{"$f":"Master20191031!L78-Master20180614!L78","v":0},{"$f":"Master20191031!M78-Master20180614!M78","v":0},{"$f":"Master20191031!N78-Master20180614!N78","v":0},{"$f":"Master20191031!O78-Master20180614!O78","v":-1},{"$f":"Master20191031!P78-Master20180614!P78","v":1},{"$f":"Master20191031!Q78-Master20180614!Q78","v":0},{"$f":"Master20191031!R78-Master20180614!R78","v":0},{"$f":"Master20191031!S78-Master20180614!S78","v":0},{"$f":"Master20191031!T78-Master20180614!T78","v":0},{"$f":"Master20191031!U78-Master20180614!U78","v":0},{"$f":"Master20191031!V78-Master20180614!V78","v":0},{"$f":"Master20191031!W78-Master20180614!W78","v":0},{"$f":"Master20191031!X78-Master20180614!X78","v":0},{"$f":"Master20191031!Y78-Master20180614!Y78","v":0},{"$f":"Master20191031!Z78-Master20180614!Z78","v":0},{"$f":"Master20191031!AA78-Master20180614!AA78","v":0},{"$f":"Master20191031!AB78-Master20180614!AB78","v":0},{"$f":"Master20191031!AC78-Master20180614!AC78","v":0},{"$f":"Master20191031!AD78-Master20180614!AD78","v":0},{"$f":"Master20191031!AE78-Master20180614!AE78","v":0}]
["Southwestern","3-B","PDMT","Martinsville City",{"$f":"Master20191031!E79-Master20180614!E79","v":0},{"$f":"Master20191031!F79-Master20180614!F79","v":4},{"$f":"Master20191031!G79-Master20180614!G79","v":-6},{"$f":"Master20191031!H79-Master20180614!H79","v":-2},{"$f":"Master20191031!I79-Master20180614!I79","v":-1},{"$f":"Master20191031!J79-Master20180614!J79","v":-11},{"$f":"Master20191031!K79-Master20180614!K79","v":-1},{"$f":"Master20191031!L79-Master20180614!L79","v":4},{"$f":"Master20191031!M79-Master20180614!M79","v":1},{"$f":"Master20191031!N79-Master20180614!N79","v":3},{"$f":"Master20191031!O79-Master20180614!O79","v":-1},{"$f":"Master20191031!P79-Master20180614!P79","v":4},{"$f":"Master20191031!Q79-Master20180614!Q79","v":0},{"$f":"Master20191031!R79-Master20180614!R79","v":0},{"$f":"Master20191031!S79-Master20180614!S79","v":1},{"$f":"Master20191031!T79-Master20180614!T79","v":0},{"$f":"Master20191031!U79-Master20180614!U79","v":0},{"$f":"Master20191031!V79-Master20180614!V79","v":0},{"$f":"Master20191031!W79-Master20180614!W79","v":0},{"$f":"Master20191031!X79-Master20180614!X79","v":0},{"$f":"Master20191031!Y79-Master20180614!Y79","v":0},{"$f":"Master20191031!Z79-Master20180614!Z79","v":0},{"$f":"Master20191031!AA79-Master20180614!AA79","v":0},{"$f":"Master20191031!AB79-Master20180614!AB79","v":0},{"$f":"Master20191031!AC79-Master20180614!AC79","v":0},{"$f":"Master20191031!AD79-Master20180614!AD79","v":0},{"$f":"Master20191031!AE79-Master20180614!AE79","v":0}]
["Eastern","5-A","MPNN","Mathews County",{"$f":"Master20191031!E80-Master20180614!E80","v":0},{"$f":"Master20191031!F80-Master20180614!F80","v":2},{"$f":"Master20191031!G80-Master20180614!G80","v":-4},{"$f":"Master20191031!H80-Master20180614!H80","v":-2},{"$f":"Master20191031!I80-Master20180614!I80","v":-1},{"$f":"Master20191031!J80-Master20180614!J80","v":6},{"$f":"Master20191031!K80-Master20180614!K80","v":0},{"$f":"Master20191031!L80-Master20180614!L80","v":-9},{"$f":"Master20191031!M80-Master20180614!M80","v":-2},{"$f":"Master20191031!N80-Master20180614!N80","v":0},{"$f":"Master20191031!O80-Master20180614!O80","v":0},{"$f":"Master20191031!P80-Master20180614!P80","v":4},{"$f":"Master20191031!Q80-Master20180614!Q80","v":0},{"$f":"Master20191031!R80-Master20180614!R80","v":0},{"$f":"Master20191031!S80-Master20180614!S80","v":-1},{"$f":"Master20191031!T80-Master20180614!T80","v":0},{"$f":"Master20191031!U80-Master20180614!U80","v":0},{"$f":"Master20191031!V80-Master20180614!V80","v":0},{"$f":"Master20191031!W80-Master20180614!W80","v":0},{"$f":"Master20191031!X80-Master20180614!X80","v":0},{"$f":"Master20191031!Y80-Master20180614!Y80","v":0},{"$f":"Master20191031!Z80-Master20180614!Z80","v":0},{"$f":"Master20191031!AA80-Master20180614!AA80","v":0},{"$f":"Master20191031!AB80-Master20180614!AB80","v":0},{"$f":"Master20191031!AC80-Master20180614!AC80","v":0},{"$f":"Master20191031!AD80-Master20180614!AD80","v":0},{"$f":"Master20191031!AE80-Master20180614!AE80","v":0}]
["Central","4-C","SS","Mecklenburg County",{"$f":"Master20191031!E81-Master20180614!E81","v":0},{"$f":"Master20191031!F81-Master20180614!F81","v":4},{"$f":"Master20191031!G81-Master20180614!G81","v":1},{"$f":"Master20191031!H81-Master20180614!H81","v":5},{"$f":"Master20191031!I81-Master20180614!I81","v":0},{"$f":"Master20191031!J81-Master20180614!J81","v":-7},{"$f":"Master20191031!K81-Master20180614!K81","v":-3},{"$f":"Master20191031!L81-Master20180614!L81","v":7},{"$f":"Master20191031!M81-Master20180614!M81","v":0},{"$f":"Master20191031!N81-Master20180614!N81","v":2},{"$f":"Master20191031!O81-Master20180614!O81","v":3},{"$f":"Master20191031!P81-Master20180614!P81","v":3},{"$f":"Master20191031!Q81-Master20180614!Q81","v":0},{"$f":"Master20191031!R81-Master20180614!R81","v":0},{"$f":"Master20191031!S81-Master20180614!S81","v":0},{"$f":"Master20191031!T81-Master20180614!T81","v":0},{"$f":"Master20191031!U81-Master20180614!U81","v":0},{"$f":"Master20191031!V81-Master20180614!V81","v":0},{"$f":"Master20191031!W81-Master20180614!W81","v":0},{"$f":"Master20191031!X81-Master20180614!X81","v":0},{"$f":"Master20191031!Y81-Master20180614!Y81","v":0},{"$f":"Master20191031!Z81-Master20180614!Z81","v":0},{"$f":"Master20191031!AA81-Master20180614!AA81","v":0},{"$f":"Master20191031!AB81-Master20180614!AB81","v":0},{"$f":"Master20191031!AC81-Master20180614!AC81","v":0},{"$f":"Master20191031!AD81-Master20180614!AD81","v":1},{"$f":"Master20191031!AE81-Master20180614!AE81","v":0}]
["Eastern","5-A","MPNN","Middlesex County",{"$f":"Master20191031!E82-Master20180614!E82","v":0},{"$f":"Master20191031!F82-Master20180614!F82","v":2},{"$f":"Master20191031!G82-Master20180614!G82","v":-2},{"$f":"Master20191031!H82-Master20180614!H82","v":0},{"$f":"Master20191031!I82-Master20180614!I82","v":0},{"$f":"Master20191031!J82-Master20180614!J82","v":-1},{"$f":"Master20191031!K82-Master20180614!K82","v":0},{"$f":"Master20191031!L82-Master20180614!L82","v":-1},{"$f":"Master20191031!M82-Master20180614!M82","v":1},{"$f":"Master20191031!N82-Master20180614!N82","v":0},{"$f":"Master20191031!O82-Master20180614!O82","v":0},{"$f":"Master20191031!P82-Master20180614!P82","v":1},{"$f":"Master20191031!Q82-Master20180614!Q82","v":0},{"$f":"Master20191031!R82-Master20180614!R82","v":0},{"$f":"Master20191031!S82-Master20180614!S82","v":0},{"$f":"Master20191031!T82-Master20180614!T82","v":0},{"$f":"Master20191031!U82-Master20180614!U82","v":0},{"$f":"Master20191031!V82-Master20180614!V82","v":0},{"$f":"Master20191031!W82-Master20180614!W82","v":0},{"$f":"Master20191031!X82-Master20180614!X82","v":0},{"$f":"Master20191031!Y82-Master20180614!Y82","v":0},{"$f":"Master20191031!Z82-Master20180614!Z82","v":0},{"$f":"Master20191031!AA82-Master20180614!AA82","v":0},{"$f":"Master20191031!AB82-Master20180614!AB82","v":0},{"$f":"Master20191031!AC82-Master20180614!AC82","v":0},{"$f":"Master20191031!AD82-Master20180614!AD82","v":0},{"$f":"Master20191031!AE82-Master20180614!AE82","v":0}]
["Southwestern","3-A","NRV","Montgomery County",{"$f":"Master20191031!E83-Master20180614!E83","v":0},{"$f":"Master20191031!F83-Master20180614!F83","v":11},{"$f":"Master20191031!G83-Master20180614!G83","v":5},{"$f":"Master20191031!H83-Master20180614!H83","v":16},{"$f":"Master20191031!I83-Master20180614!I83","v":3},{"$f":"Master20191031!J83-Master20180614!J83","v":0},{"$f":"Master20191031!K83-Master20180614!K83","v":0},{"$f":"Master20191031!L83-Master20180614!L83","v":1},{"$f":"Master20191031!M83-Master20180614!M83","v":0},{"$f":"Master20191031!N83-Master20180614!N83","v":3},{"$f":"Master20191031!O83-Master20180614!O83","v":7},{"$f":"Master20191031!P83-Master20180614!P83","v":2},{"$f":"Master20191031!Q83-Master20180614!Q83","v":0},{"$f":"Master20191031!R83-Master20180614!R83","v":1},{"$f":"Master20191031!S83-Master20180614!S83","v":0},{"$f":"Master20191031!T83-Master20180614!T83","v":0},{"$f":"Master20191031!U83-Master20180614!U83","v":0},{"$f":"Master20191031!V83-Master20180614!V83","v":0},{"$f":"Master20191031!W83-Master20180614!W83","v":0},{"$f":"Master20191031!X83-Master20180614!X83","v":-1},{"$f":"Master20191031!Y83-Master20180614!Y83","v":0},{"$f":"Master20191031!Z83-Master20180614!Z83","v":0},{"$f":"Master20191031!AA83-Master20180614!AA83","v":0},{"$f":"Master20191031!AB83-Master20180614!AB83","v":0},{"$f":"Master20191031!AC83-Master20180614!AC83","v":0},{"$f":"Master20191031!AD83-Master20180614!AD83","v":-1},{"$f":"Master20191031!AE83-Master20180614!AE83","v":0}]
["Western","1-A","RTEN","Nelson County",{"$f":"Master20191031!E84-Master20180614!E84","v":0},{"$f":"Master20191031!F84-Master20180614!F84","v":1},{"$f":"Master20191031!G84-Master20180614!G84","v":3},{"$f":"Master20191031!H84-Master20180614!H84","v":4},{"$f":"Master20191031!I84-Master20180614!I84","v":1},{"$f":"Master20191031!J84-Master20180614!J84","v":-3},{"$f":"Master20191031!K84-Master20180614!K84","v":0},{"$f":"Master20191031!L84-Master20180614!L84","v":3},{"$f":"Master20191031!M84-Master20180614!M84","v":0},{"$f":"Master20191031!N84-Master20180614!N84","v":0},{"$f":"Master20191031!O84-Master20180614!O84","v":1},{"$f":"Master20191031!P84-Master20180614!P84","v":2},{"$f":"Master20191031!Q84-Master20180614!Q84","v":0},{"$f":"Master20191031!R84-Master20180614!R84","v":0},{"$f":"Master20191031!S84-Master20180614!S84","v":0},{"$f":"Master20191031!T84-Master20180614!T84","v":0},{"$f":"Master20191031!U84-Master20180614!U84","v":0},{"$f":"Master20191031!V84-Master20180614!V84","v":0},{"$f":"Master20191031!W84-Master20180614!W84","v":0},{"$f":"Master20191031!X84-Master20180614!X84","v":0},{"$f":"Master20191031!Y84-Master20180614!Y84","v":0},{"$f":"Master20191031!Z84-Master20180614!Z84","v":0},{"$f":"Master20191031!AA84-Master20180614!AA84","v":0},{"$f":"Master20191031!AB84-Master20180614!AB84","v":0},{"$f":"Master20191031!AC84-Master20180614!AC84","v":0},{"$f":"Master20191031!AD84-Master20180614!AD84","v":0},{"$f":"Master20191031!AE84-Master20180614!AE84","v":0}]
["Central","4-A","HENR","New Kent County",{"$f":"Master20191031!E85-Master20180614!E85","v":0},{"$f":"Master20191031!F85-Master20180614!F85","v":0},{"$f":"Master20191031!G85-Master20180614!G85","v":-5},{"$f":"Master20191031!H85-Master20180614!H85","v":-5},{"$f":"Master20191031!I85-Master20180614!I85","v":-2},{"$f":"Master20191031!J85-Master20180614!J85","v":-2},{"$f":"Master20191031!K85-Master20180614!K85","v":0},{"$f":"Master20191031!L85-Master20180614!L85","v":1},{"$f":"Master20191031!M85-Master20180614!M85","v":2},{"$f":"Master20191031!N85-Master20180614!N85","v":0},{"$f":"Master20191031!O85-Master20180614!O85","v":-2},{"$f":"Master20191031!P85-Master20180614!P85","v":-2},{"$f":"Master20191031!Q85-Master20180614!Q85","v":0},{"$f":"Master20191031!R85-Master20180614!R85","v":-1},{"$f":"Master20191031!S85-Master20180614!S85","v":-1},{"$f":"Master20191031!T85-Master20180614!T85","v":0},{"$f":"Master20191031!U85-Master20180614!U85","v":0},{"$f":"Master20191031!V85-Master20180614!V85","v":0},{"$f":"Master20191031!W85-Master20180614!W85","v":0},{"$f":"Master20191031!X85-Master20180614!X85","v":0},{"$f":"Master20191031!Y85-Master20180614!Y85","v":0},{"$f":"Master20191031!Z85-Master20180614!Z85","v":0},{"$f":"Master20191031!AA85-Master20180614!AA85","v":0},{"$f":"Master20191031!AB85-Master20180614!AB85","v":0},{"$f":"Master20191031!AC85-Master20180614!AC85","v":0},{"$f":"Master20191031!AD85-Master20180614!AD85","v":0},{"$f":"Master20191031!AE85-Master20180614!AE85","v":1}]
["Eastern","5-C","HAMP","Newport News City",{"$f":"Master20191031!E86-Master20180614!E86","v":-2},{"$f":"Master20191031!F86-Master20180614!F86","v":26},{"$f":"Master20191031!G86-Master20180614!G86","v":21},{"$f":"Master20191031!H86-Master20180614!H86","v":45},{"$f":"Master20191031!I86-Master20180614!I86","v":-8},{"$f":"Master20191031!J86-Master20180614!J86","v":-14},{"$f":"Master20191031!K86-Master20180614!K86","v":-3},{"$f":"Master20191031!L86-Master20180614!L86","v":41},{"$f":"Master20191031!M86-Master20180614!M86","v":4},{"$f":"Master20191031!N86-Master20180614!N86","v":2},{"$f":"Master20191031!O86-Master20180614!O86","v":3},{"$f":"Master20191031!P86-Master20180614!P86","v":20},{"$f":"Master20191031!Q86-Master20180614!Q86","v":0},{"$f":"Master20191031!R86-Master20180614!R86","v":0},{"$f":"Master20191031!S86-Master20180614!S86","v":-1},{"$f":"Master20191031!T86-Master20180614!T86","v":0},{"$f":"Master20191031!U86-Master20180614!U86","v":0},{"$f":"Master20191031!V86-Master20180614!V86","v":0},{"$f":"Master20191031!W86-Master20180614!W86","v":1},{"$f":"Master20191031!X86-Master20180614!X86","v":0},{"$f":"Master20191031!Y86-Master20180614!Y86","v":0},{"$f":"Master20191031!Z86-Master20180614!Z86","v":0},{"$f":"Master20191031!AA86-Master20180614!AA86","v":0},{"$f":"Master20191031!AB86-Master20180614!AB86","v":0},{"$f":"Master20191031!AC86-Master20180614!AC86","v":-1},{"$f":"Master20191031!AD86-Master20180614!AD86","v":-5},{"$f":"Master20191031!AE86-Master20180614!AE86","v":0}]
["Eastern","5-D","NORF","Norfolk City",{"$f":"Master20191031!E87-Master20180614!E87","v":9},{"$f":"Master20191031!F87-Master20180614!F87","v":28},{"$f":"Master20191031!G87-Master20180614!G87","v":-18},{"$f":"Master20191031!H87-Master20180614!H87","v":19},{"$f":"Master20191031!I87-Master20180614!I87","v":-21},{"$f":"Master20191031!J87-Master20180614!J87","v":-43},{"$f":"Master20191031!K87-Master20180614!K87","v":0},{"$f":"Master20191031!L87-Master20180614!L87","v":39},{"$f":"Master20191031!M87-Master20180614!M87","v":7},{"$f":"Master20191031!N87-Master20180614!N87","v":-2},{"$f":"Master20191031!O87-Master20180614!O87","v":0},{"$f":"Master20191031!P87-Master20180614!P87","v":39},{"$f":"Master20191031!Q87-Master20180614!Q87","v":0},{"$f":"Master20191031!R87-Master20180614!R87","v":-1},{"$f":"Master20191031!S87-Master20180614!S87","v":1},{"$f":"Master20191031!T87-Master20180614!T87","v":0},{"$f":"Master20191031!U87-Master20180614!U87","v":0},{"$f":"Master20191031!V87-Master20180614!V87","v":0},{"$f":"Master20191031!W87-Master20180614!W87","v":0},{"$f":"Master20191031!X87-Master20180614!X87","v":-2},{"$f":"Master20191031!Y87-Master20180614!Y87","v":0},{"$f":"Master20191031!Z87-Master20180614!Z87","v":0},{"$f":"Master20191031!AA87-Master20180614!AA87","v":0},{"$f":"Master20191031!AB87-Master20180614!AB87","v":0},{"$f":"Master20191031!AC87-Master20180614!AC87","v":0},{"$f":"Master20191031!AD87-Master20180614!AD87","v":-1},{"$f":"Master20191031!AE87-Master20180614!AE87","v":0}]
["Eastern","5-B","EAST","Northampton County",{"$f":"Master20191031!E88-Master20180614!E88","v":0},{"$f":"Master20191031!F88-Master20180614!F88","v":1},{"$f":"Master20191031!G88-Master20180614!G88","v":-1},{"$f":"Master20191031!H88-Master20180614!H88","v":0},{"$f":"Master20191031!I88-Master20180614!I88","v":0},{"$f":"Master20191031!J88-Master20180614!J88","v":-4},{"$f":"Master20191031!K88-Master20180614!K88","v":0},{"$f":"Master20191031!L88-Master20180614!L88","v":2},{"$f":"Master20191031!M88-Master20180614!M88","v":1},{"$f":"Master20191031!N88-Master20180614!N88","v":0},{"$f":"Master20191031!O88-Master20180614!O88","v":0},{"$f":"Master20191031!P88-Master20180614!P88","v":1},{"$f":"Master20191031!Q88-Master20180614!Q88","v":0},{"$f":"Master20191031!R88-Master20180614!R88","v":0},{"$f":"Master20191031!S88-Master20180614!S88","v":0},{"$f":"Master20191031!T88-Master20180614!T88","v":0},{"$f":"Master20191031!U88-Master20180614!U88","v":0},{"$f":"Master20191031!V88-Master20180614!V88","v":0},{"$f":"Master20191031!W88-Master20180614!W88","v":0},{"$f":"Master20191031!X88-Master20180614!X88","v":0},{"$f":"Master20191031!Y88-Master20180614!Y88","v":0},{"$f":"Master20191031!Z88-Master20180614!Z88","v":0},{"$f":"Master20191031!AA88-Master20180614!AA88","v":0},{"$f":"Master20191031!AB88-Master20180614!AB88","v":0},{"$f":"Master20191031!AC88-Master20180614!AC88","v":0},{"$f":"Master20191031!AD88-Master20180614!AD88","v":0},{"$f":"Master20191031!AE88-Master20180614!AE88","v":0}]
["Eastern","5-A","MPNN","Northumberland County",{"$f":"Master20191031!E89-Master20180614!E89","v":0},{"$f":"Master20191031!F89-Master20180614!F89","v":0},{"$f":"Master20191031!G89-Master20180614!G89","v":0},{"$f":"Master20191031!H89-Master20180614!H89","v":0},{"$f":"Master20191031!I89-Master20180614!I89","v":0},{"$f":"Master20191031!J89-Master20180614!J89","v":1},{"$f":"Master20191031!K89-Master20180614!K89","v":0},{"$f":"Master20191031!L89-Master20180614!L89","v":0},{"$f":"Master20191031!M89-Master20180614!M89","v":0},{"$f":"Master20191031!N89-Master20180614!N89","v":-2},{"$f":"Master20191031!O89-Master20180614!O89","v":0},{"$f":"Master20191031!P89-Master20180614!P89","v":1},{"$f":"Master20191031!Q89-Master20180614!Q89","v":0},{"$f":"Master20191031!R89-Master20180614!R89","v":0},{"$f":"Master20191031!S89-Master20180614!S89","v":0},{"$f":"Master20191031!T89-Master20180614!T89","v":0},{"$f":"Master20191031!U89-Master20180614!U89","v":0},{"$f":"Master20191031!V89-Master20180614!V89","v":0},{"$f":"Master20191031!W89-Master20180614!W89","v":0},{"$f":"Master20191031!X89-Master20180614!X89","v":0},{"$f":"Master20191031!Y89-Master20180614!Y89","v":0},{"$f":"Master20191031!Z89-Master20180614!Z89","v":0},{"$f":"Master20191031!AA89-Master20180614!AA89","v":0},{"$f":"Master20191031!AB89-Master20180614!AB89","v":0},{"$f":"Master20191031!AC89-Master20180614!AC89","v":0},{"$f":"Master20191031!AD89-Master20180614!AD89","v":0},{"$f":"Master20191031!AE89-Master20180614!AE89","v":0}]
["Southwestern","3-D","PLD1","Norton City",{"$f":"Master20191031!E90-Master20180614!E90","v":0},{"$f":"Master20191031!F90-Master20180614!F90","v":0},{"$f":"Master20191031!G90-Master20180614!G90","v":-1},{"$f":"Master20191031!H90-Master20180614!H90","v":-1},{"$f":"Master20191031!I90-Master20180614!I90","v":0},{"$f":"Master20191031!J90-Master20180614!J90","v":-1},{"$f":"Master20191031!K90-Master20180614!K90","v":0},{"$f":"Master20191031!L90-Master20180614!L90","v":0},{"$f":"Master20191031!M90-Master20180614!M90","v":0},{"$f":"Master20191031!N90-Master20180614!N90","v":0},{"$f":"Master20191031!O90-Master20180614!O90","v":0},{"$f":"Master20191031!P90-Master20180614!P90","v":0},{"$f":"Master20191031!Q90-Master20180614!Q90","v":0},{"$f":"Master20191031!R90-Master20180614!R90","v":0},{"$f":"Master20191031!S90-Master20180614!S90","v":0},{"$f":"Master20191031!T90-Master20180614!T90","v":0},{"$f":"Master20191031!U90-Master20180614!U90","v":0},{"$f":"Master20191031!V90-Master20180614!V90","v":0},{"$f":"Master20191031!W90-Master20180614!W90","v":0},{"$f":"Master20191031!X90-Master20180614!X90","v":0},{"$f":"Master20191031!Y90-Master20180614!Y90","v":0},{"$f":"Master20191031!Z90-Master20180614!Z90","v":0},{"$f":"Master20191031!AA90-Master20180614!AA90","v":0},{"$f":"Master20191031!AB90-Master20180614!AB90","v":0},{"$f":"Master20191031!AC90-Master20180614!AC90","v":0},{"$f":"Master20191031!AD90-Master20180614!AD90","v":0},{"$f":"Master20191031!AE90-Master20180614!AE90","v":0}]
["Central","4-C","CROS","Nottoway County",{"$f":"Master20191031!E91-Master20180614!E91","v":0},{"$f":"Master20191031!F91-Master20180614!F91","v":2},{"$f":"Master20191031!G91-Master20180614!G91","v":-2},{"$f":"Master20191031!H91-Master20180614!H91","v":0},{"$f":"Master20191031!I91-Master20180614!I91","v":0},{"$f":"Master20191031!J91-Master20180614!J91","v":-2},{"$f":"Master20191031!K91-Master20180614!K91","v":1},{"$f":"Master20191031!L91-Master20180614!L91","v":1},{"$f":"Master20191031!M91-Master20180614!M91","v":0},{"$f":"Master20191031!N91-Master20180614!N91","v":0},{"$f":"Master20191031!O91-Master20180614!O91","v":0},{"$f":"Master20191031!P91-Master20180614!P91","v":0},{"$f":"Master20191031!Q91-Master20180614!Q91","v":0},{"$f":"Master20191031!R91-Master20180614!R91","v":0},{"$f":"Master20191031!S91-Master20180614!S91","v":0},{"$f":"Master20191031!T91-Master20180614!T91","v":0},{"$f":"Master20191031!U91-Master20180614!U91","v":0},{"$f":"Master20191031!V91-Master20180614!V91","v":0},{"$f":"Master20191031!W91-Master20180614!W91","v":0},{"$f":"Master20191031!X91-Master20180614!X91","v":0},{"$f":"Master20191031!Y91-Master20180614!Y91","v":0},{"$f":"Master20191031!Z91-Master20180614!Z91","v":0},{"$f":"Master20191031!AA91-Master20180614!AA91","v":0},{"$f":"Master20191031!AB91-Master20180614!AB91","v":0},{"$f":"Master20191031!AC91-Master20180614!AC91","v":0},{"$f":"Master20191031!AD91-Master20180614!AD91","v":0},{"$f":"Master20191031!AE91-Master20180614!AE91","v":0}]
["Northern","2-B","RapR","Orange County",{"$f":"Master20191031!E92-Master20180614!E92","v":1},{"$f":"Master20191031!F92-Master20180614!F92","v":8},{"$f":"Master20191031!G92-Master20180614!G92","v":0},{"$f":"Master20191031!H92-Master20180614!H92","v":9},{"$f":"Master20191031!I92-Master20180614!I92","v":5},{"$f":"Master20191031!J92-Master20180614!J92","v":-3},{"$f":"Master20191031!K92-Master20180614!K92","v":-1},{"$f":"Master20191031!L92-Master20180614!L92","v":2},{"$f":"Master20191031!M92-Master20180614!M92","v":0},{"$f":"Master20191031!N92-Master20180614!N92","v":0},{"$f":"Master20191031!O92-Master20180614!O92","v":0},{"$f":"Master20191031!P92-Master20180614!P92","v":6},{"$f":"Master20191031!Q92-Master20180614!Q92","v":0},{"$f":"Master20191031!R92-Master20180614!R92","v":0},{"$f":"Master20191031!S92-Master20180614!S92","v":-1},{"$f":"Master20191031!T92-Master20180614!T92","v":0},{"$f":"Master20191031!U92-Master20180614!U92","v":0},{"$f":"Master20191031!V92-Master20180614!V92","v":0},{"$f":"Master20191031!W92-Master20180614!W92","v":0},{"$f":"Master20191031!X92-Master20180614!X92","v":0},{"$f":"Master20191031!Y92-Master20180614!Y92","v":0},{"$f":"Master20191031!Z92-Master20180614!Z92","v":0},{"$f":"Master20191031!AA92-Master20180614!AA92","v":0},{"$f":"Master20191031!AB92-Master20180614!AB92","v":0},{"$f":"Master20191031!AC92-Master20180614!AC92","v":0},{"$f":"Master20191031!AD92-Master20180614!AD92","v":0},{"$f":"Master20191031!AE92-Master20180614!AE92","v":0}]
["Northern","2-D","NW","Page County",{"$f":"Master20191031!E93-Master20180614!E93","v":0},{"$f":"Master20191031!F93-Master20180614!F93","v":0},{"$f":"Master20191031!G93-Master20180614!G93","v":3},{"$f":"Master20191031!H93-Master20180614!H93","v":3},{"$f":"Master20191031!I93-Master20180614!I93","v":0},{"$f":"Master20191031!J93-Master20180614!J93","v":1},{"$f":"Master20191031!K93-Master20180614!K93","v":1},{"$f":"Master20191031!L93-Master20180614!L93","v":1},{"$f":"Master20191031!M93-Master20180614!M93","v":0},{"$f":"Master20191031!N93-Master20180614!N93","v":0},{"$f":"Master20191031!O93-Master20180614!O93","v":1},{"$f":"Master20191031!P93-Master20180614!P93","v":-1},{"$f":"Master20191031!Q93-Master20180614!Q93","v":0},{"$f":"Master20191031!R93-Master20180614!R93","v":0},{"$f":"Master20191031!S93-Master20180614!S93","v":0},{"$f":"Master20191031!T93-Master20180614!T93","v":0},{"$f":"Master20191031!U93-Master20180614!U93","v":0},{"$f":"Master20191031!V93-Master20180614!V93","v":0},{"$f":"Master20191031!W93-Master20180614!W93","v":0},{"$f":"Master20191031!X93-Master20180614!X93","v":0},{"$f":"Master20191031!Y93-Master20180614!Y93","v":0},{"$f":"Master20191031!Z93-Master20180614!Z93","v":0},{"$f":"Master20191031!AA93-Master20180614!AA93","v":0},{"$f":"Master20191031!AB93-Master20180614!AB93","v":0},{"$f":"Master20191031!AC93-Master20180614!AC93","v":0},{"$f":"Master20191031!AD93-Master20180614!AD93","v":0},{"$f":"Master20191031!AE93-Master20180614!AE93","v":0}]
["Southwestern","3-C","PDMT","Patrick County",{"$f":"Master20191031!E94-Master20180614!E94","v":0},{"$f":"Master20191031!F94-Master20180614!F94","v":1},{"$f":"Master20191031!G94-Master20180614!G94","v":-5},{"$f":"Master20191031!H94-Master20180614!H94","v":-4},{"$f":"Master20191031!I94-Master20180614!I94","v":-1},{"$f":"Master20191031!J94-Master20180614!J94","v":-2},{"$f":"Master20191031!K94-Master20180614!K94","v":-1},{"$f":"Master20191031!L94-Master20180614!L94","v":-1},{"$f":"Master20191031!M94-Master20180614!M94","v":0},{"$f":"Master20191031!N94-Master20180614!N94","v":1},{"$f":"Master20191031!O94-Master20180614!O94","v":-1},{"$f":"Master20191031!P94-Master20180614!P94","v":1},{"$f":"Master20191031!Q94-Master20180614!Q94","v":0},{"$f":"Master20191031!R94-Master20180614!R94","v":0},{"$f":"Master20191031!S94-Master20180614!S94","v":-1},{"$f":"Master20191031!T94-Master20180614!T94","v":0},{"$f":"Master20191031!U94-Master20180614!U94","v":0},{"$f":"Master20191031!V94-Master20180614!V94","v":0},{"$f":"Master20191031!W94-Master20180614!W94","v":0},{"$f":"Master20191031!X94-Master20180614!X94","v":0},{"$f":"Master20191031!Y94-Master20180614!Y94","v":0},{"$f":"Master20191031!Z94-Master20180614!Z94","v":0},{"$f":"Master20191031!AA94-Master20180614!AA94","v":0},{"$f":"Master20191031!AB94-Master20180614!AB94","v":0},{"$f":"Master20191031!AC94-Master20180614!AC94","v":0},{"$f":"Master20191031!AD94-Master20180614!AD94","v":0},{"$f":"Master20191031!AE94-Master20180614!AE94","v":0}]
["Central","4-D","D19","Petersburg City",{"$f":"Master20191031!E95-Master20180614!E95","v":0},{"$f":"Master20191031!F95-Master20180614!F95","v":6},{"$f":"Master20191031!G95-Master20180614!G95","v":-1},{"$f":"Master20191031!H95-Master20180614!H95","v":5},{"$f":"Master20191031!I95-Master20180614!I95","v":-1},{"$f":"Master20191031!J95-Master20180614!J95","v":-15},{"$f":"Master20191031!K95-Master20180614!K95","v":-7},{"$f":"Master20191031!L95-Master20180614!L95","v":7},{"$f":"Master20191031!M95-Master20180614!M95","v":9},{"$f":"Master20191031!N95-Master20180614!N95","v":3},{"$f":"Master20191031!O95-Master20180614!O95","v":3},{"$f":"Master20191031!P95-Master20180614!P95","v":6},{"$f":"Master20191031!Q95-Master20180614!Q95","v":0},{"$f":"Master20191031!R95-Master20180614!R95","v":0},{"$f":"Master20191031!S95-Master20180614!S95","v":-1},{"$f":"Master20191031!T95-Master20180614!T95","v":0},{"$f":"Master20191031!U95-Master20180614!U95","v":0},{"$f":"Master20191031!V95-Master20180614!V95","v":0},{"$f":"Master20191031!W95-Master20180614!W95","v":0},{"$f":"Master20191031!X95-Master20180614!X95","v":0},{"$f":"Master20191031!Y95-Master20180614!Y95","v":0},{"$f":"Master20191031!Z95-Master20180614!Z95","v":0},{"$f":"Master20191031!AA95-Master20180614!AA95","v":0},{"$f":"Master20191031!AB95-Master20180614!AB95","v":0},{"$f":"Master20191031!AC95-Master20180614!AC95","v":0},{"$f":"Master20191031!AD95-Master20180614!AD95","v":0},{"$f":"Master20191031!AE95-Master20180614!AE95","v":0}]
["Southwestern","3-B","DANV","Pittsylvania County",{"$f":"Master20191031!E96-Master20180614!E96","v":5},{"$f":"Master20191031!F96-Master20180614!F96","v":4},{"$f":"Master20191031!G96-Master20180614!G96","v":-2},{"$f":"Master20191031!H96-Master20180614!H96","v":7},{"$f":"Master20191031!I96-Master20180614!I96","v":-1},{"$f":"Master20191031!J96-Master20180614!J96","v":-16},{"$f":"Master20191031!K96-Master20180614!K96","v":-3},{"$f":"Master20191031!L96-Master20180614!L96","v":3},{"$f":"Master20191031!M96-Master20180614!M96","v":5},{"$f":"Master20191031!N96-Master20180614!N96","v":-3},{"$f":"Master20191031!O96-Master20180614!O96","v":2},{"$f":"Master20191031!P96-Master20180614!P96","v":20},{"$f":"Master20191031!Q96-Master20180614!Q96","v":0},{"$f":"Master20191031!R96-Master20180614!R96","v":0},{"$f":"Master20191031!S96-Master20180614!S96","v":1},{"$f":"Master20191031!T96-Master20180614!T96","v":0},{"$f":"Master20191031!U96-Master20180614!U96","v":0},{"$f":"Master20191031!V96-Master20180614!V96","v":0},{"$f":"Master20191031!W96-Master20180614!W96","v":0},{"$f":"Master20191031!X96-Master20180614!X96","v":0},{"$f":"Master20191031!Y96-Master20180614!Y96","v":0},{"$f":"Master20191031!Z96-Master20180614!Z96","v":0},{"$f":"Master20191031!AA96-Master20180614!AA96","v":0},{"$f":"Master20191031!AB96-Master20180614!AB96","v":0},{"$f":"Master20191031!AC96-Master20180614!AC96","v":0},{"$f":"Master20191031!AD96-Master20180614!AD96","v":0},{"$f":"Master20191031!AE96-Master20180614!AE96","v":0}]
["Eastern","5-C","COLO","Poquoson City",{"$f":"Master20191031!E97-Master20180614!E97","v":0},{"$f":"Master20191031!F97-Master20180614!F97","v":2},{"$f":"Master20191031!G97-Master20180614!G97","v":-3},{"$f":"Master20191031!H97-Master20180614!H97","v":-1},{"$f":"Master20191031!I97-Master20180614!I97","v":-1},{"$f":"Master20191031!J97-Master20180614!J97","v":0},{"$f":"Master20191031!K97-Master20180614!K97","v":0},{"$f":"Master20191031!L97-Master20180614!L97","v":-1},{"$f":"Master20191031!M97-Master20180614!M97","v":0},{"$f":"Master20191031!N97-Master20180614!N97","v":0},{"$f":"Master20191031!O97-Master20180614!O97","v":0},{"$f":"Master20191031!P97-Master20180614!P97","v":1},{"$f":"Master20191031!Q97-Master20180614!Q97","v":0},{"$f":"Master20191031!R97-Master20180614!R97","v":0},{"$f":"Master20191031!S97-Master20180614!S97","v":0},{"$f":"Master20191031!T97-Master20180614!T97","v":0},{"$f":"Master20191031!U97-Master20180614!U97","v":0},{"$f":"Master20191031!V97-Master20180614!V97","v":0},{"$f":"Master20191031!W97-Master20180614!W97","v":0},{"$f":"Master20191031!X97-Master20180614!X97","v":0},{"$f":"Master20191031!Y97-Master20180614!Y97","v":0},{"$f":"Master20191031!Z97-Master20180614!Z97","v":0},{"$f":"Master20191031!AA97-Master20180614!AA97","v":0},{"$f":"Master20191031!AB97-Master20180614!AB97","v":0},{"$f":"Master20191031!AC97-Master20180614!AC97","v":0},{"$f":"Master20191031!AD97-Master20180614!AD97","v":0},{"$f":"Master20191031!AE97-Master20180614!AE97","v":0}]
["Eastern","5-D","PORT","Portsmouth City",{"$f":"Master20191031!E98-Master20180614!E98","v":-1},{"$f":"Master20191031!F98-Master20180614!F98","v":3},{"$f":"Master20191031!G98-Master20180614!G98","v":8},{"$f":"Master20191031!H98-Master20180614!H98","v":10},{"$f":"Master20191031!I98-Master20180614!I98","v":-7},{"$f":"Master20191031!J98-Master20180614!J98","v":-28},{"$f":"Master20191031!K98-Master20180614!K98","v":3},{"$f":"Master20191031!L98-Master20180614!L98","v":37},{"$f":"Master20191031!M98-Master20180614!M98","v":5},{"$f":"Master20191031!N98-Master20180614!N98","v":-3},{"$f":"Master20191031!O98-Master20180614!O98","v":-9},{"$f":"Master20191031!P98-Master20180614!P98","v":12},{"$f":"Master20191031!Q98-Master20180614!Q98","v":0},{"$f":"Master20191031!R98-Master20180614!R98","v":-1},{"$f":"Master20191031!S98-Master20180614!S98","v":3},{"$f":"Master20191031!T98-Master20180614!T98","v":0},{"$f":"Master20191031!U98-Master20180614!U98","v":0},{"$f":"Master20191031!V98-Master20180614!V98","v":0},{"$f":"Master20191031!W98-Master20180614!W98","v":1},{"$f":"Master20191031!X98-Master20180614!X98","v":1},{"$f":"Master20191031!Y98-Master20180614!Y98","v":0},{"$f":"Master20191031!Z98-Master20180614!Z98","v":0},{"$f":"Master20191031!AA98-Master20180614!AA98","v":1},{"$f":"Master20191031!AB98-Master20180614!AB98","v":0},{"$f":"Master20191031!AC98-Master20180614!AC98","v":1},{"$f":"Master20191031!AD98-Master20180614!AD98","v":-1},{"$f":"Master20191031!AE98-Master20180614!AE98","v":-1}]
["Central","4-B","GOOC","Powhatan County",{"$f":"Master20191031!E99-Master20180614!E99","v":0},{"$f":"Master20191031!F99-Master20180614!F99","v":7},{"$f":"Master20191031!G99-Master20180614!G99","v":4},{"$f":"Master20191031!H99-Master20180614!H99","v":11},{"$f":"Master20191031!I99-Master20180614!I99","v":1},{"$f":"Master20191031!J99-Master20180614!J99","v":1},{"$f":"Master20191031!K99-Master20180614!K99","v":-2},{"$f":"Master20191031!L99-Master20180614!L99","v":3},{"$f":"Master20191031!M99-Master20180614!M99","v":1},{"$f":"Master20191031!N99-Master20180614!N99","v":4},{"$f":"Master20191031!O99-Master20180614!O99","v":1},{"$f":"Master20191031!P99-Master20180614!P99","v":2},{"$f":"Master20191031!Q99-Master20180614!Q99","v":0},{"$f":"Master20191031!R99-Master20180614!R99","v":0},{"$f":"Master20191031!S99-Master20180614!S99","v":1},{"$f":"Master20191031!T99-Master20180614!T99","v":0},{"$f":"Master20191031!U99-Master20180614!U99","v":0},{"$f":"Master20191031!V99-Master20180614!V99","v":0},{"$f":"Master20191031!W99-Master20180614!W99","v":0},{"$f":"Master20191031!X99-Master20180614!X99","v":0},{"$f":"Master20191031!Y99-Master20180614!Y99","v":0},{"$f":"Master20191031!Z99-Master20180614!Z99","v":0},{"$f":"Master20191031!AA99-Master20180614!AA99","v":0},{"$f":"Master20191031!AB99-Master20180614!AB99","v":0},{"$f":"Master20191031!AC99-Master20180614!AC99","v":0},{"$f":"Master20191031!AD99-Master20180614!AD99","v":0},{"$f":"Master20191031!AE99-Master20180614!AE99","v":1}]
["Central","4-C","CROS","Prince Edward County",{"$f":"Master20191031!E100-Master20180614!E100","v":0},{"$f":"Master20191031!F100-Master20180614!F100","v":-2},{"$f":"Master20191031!G100-Master20180614!G100","v":1},{"$f":"Master20191031!H100-Master20180614!H100","v":-1},{"$f":"Master20191031!I100-Master20180614!I100","v":2},{"$f":"Master20191031!J100-Master20180614!J100","v":-3},{"$f":"Master20191031!K100-Master20180614!K100","v":-3},{"$f":"Master20191031!L100-Master20180614!L100","v":9},{"$f":"Master20191031!M100-Master20180614!M100","v":2},{"$f":"Master20191031!N100-Master20180614!N100","v":-1},{"$f":"Master20191031!O100-Master20180614!O100","v":-4},{"$f":"Master20191031!P100-Master20180614!P100","v":-3},{"$f":"Master20191031!Q100-Master20180614!Q100","v":0},{"$f":"Master20191031!R100-Master20180614!R100","v":0},{"$f":"Master20191031!S100-Master20180614!S100","v":0},{"$f":"Master20191031!T100-Master20180614!T100","v":0},{"$f":"Master20191031!U100-Master20180614!U100","v":0},{"$f":"Master20191031!V100-Master20180614!V100","v":0},{"$f":"Master20191031!W100-Master20180614!W100","v":0},{"$f":"Master20191031!X100-Master20180614!X100","v":-1},{"$f":"Master20191031!Y100-Master20180614!Y100","v":0},{"$f":"Master20191031!Z100-Master20180614!Z100","v":0},{"$f":"Master20191031!AA100-Master20180614!AA100","v":0},{"$f":"Master20191031!AB100-Master20180614!AB100","v":0},{"$f":"Master20191031!AC100-Master20180614!AC100","v":0},{"$f":"Master20191031!AD100-Master20180614!AD100","v":0},{"$f":"Master20191031!AE100-Master20180614!AE100","v":0}]
["Central","4-D","D19","Prince George County",{"$f":"Master20191031!E101-Master20180614!E101","v":0},{"$f":"Master20191031!F101-Master20180614!F101","v":4},{"$f":"Master20191031!G101-Master20180614!G101","v":5},{"$f":"Master20191031!H101-Master20180614!H101","v":9},{"$f":"Master20191031!I101-Master20180614!I101","v":0},{"$f":"Master20191031!J101-Master20180614!J101","v":-8},{"$f":"Master20191031!K101-Master20180614!K101","v":-6},{"$f":"Master20191031!L101-Master20180614!L101","v":15},{"$f":"Master20191031!M101-Master20180614!M101","v":1},{"$f":"Master20191031!N101-Master20180614!N101","v":1},{"$f":"Master20191031!O101-Master20180614!O101","v":3},{"$f":"Master20191031!P101-Master20180614!P101","v":3},{"$f":"Master20191031!Q101-Master20180614!Q101","v":0},{"$f":"Master20191031!R101-Master20180614!R101","v":1},{"$f":"Master20191031!S101-Master20180614!S101","v":2},{"$f":"Master20191031!T101-Master20180614!T101","v":0},{"$f":"Master20191031!U101-Master20180614!U101","v":0},{"$f":"Master20191031!V101-Master20180614!V101","v":0},{"$f":"Master20191031!W101-Master20180614!W101","v":0},{"$f":"Master20191031!X101-Master20180614!X101","v":-1},{"$f":"Master20191031!Y101-Master20180614!Y101","v":0},{"$f":"Master20191031!Z101-Master20180614!Z101","v":0},{"$f":"Master20191031!AA101-Master20180614!AA101","v":0},{"$f":"Master20191031!AB101-Master20180614!AB101","v":0},{"$f":"Master20191031!AC101-Master20180614!AC101","v":0},{"$f":"Master20191031!AD101-Master20180614!AD101","v":-2},{"$f":"Master20191031!AE101-Master20180614!AE101","v":2}]
["Northern","2-A","PWC","Prince William County",{"$f":"Master20191031!E102-Master20180614!E102","v":0},{"$f":"Master20191031!F102-Master20180614!F102","v":57},{"$f":"Master20191031!G102-Master20180614!G102","v":21},{"$f":"Master20191031!H102-Master20180614!H102","v":78},{"$f":"Master20191031!I102-Master20180614!I102","v":-6},{"$f":"Master20191031!J102-Master20180614!J102","v":10},{"$f":"Master20191031!K102-Master20180614!K102","v":-1},{"$f":"Master20191031!L102-Master20180614!L102","v":47},{"$f":"Master20191031!M102-Master20180614!M102","v":1},{"$f":"Master20191031!N102-Master20180614!N102","v":0},{"$f":"Master20191031!O102-Master20180614!O102","v":-10},{"$f":"Master20191031!P102-Master20180614!P102","v":37},{"$f":"Master20191031!Q102-Master20180614!Q102","v":1},{"$f":"Master20191031!R102-Master20180614!R102","v":-1},{"$f":"Master20191031!S102-Master20180614!S102","v":-1},{"$f":"Master20191031!T102-Master20180614!T102","v":0},{"$f":"Master20191031!U102-Master20180614!U102","v":0},{"$f":"Master20191031!V102-Master20180614!V102","v":0},{"$f":"Master20191031!W102-Master20180614!W102","v":0},{"$f":"Master20191031!X102-Master20180614!X102","v":-1},{"$f":"Master20191031!Y102-Master20180614!Y102","v":0},{"$f":"Master20191031!Z102-Master20180614!Z102","v":0},{"$f":"Master20191031!AA102-Master20180614!AA102","v":0},{"$f":"Master20191031!AB102-Master20180614!AB102","v":1},{"$f":"Master20191031!AC102-Master20180614!AC102","v":1},{"$f":"Master20191031!AD102-Master20180614!AD102","v":-8},{"$f":"Master20191031!AE102-Master20180614!AE102","v":1}]
["Southwestern","3-C","NRV","Pulaski County",{"$f":"Master20191031!E103-Master20180614!E103","v":0},{"$f":"Master20191031!F103-Master20180614!F103","v":9},{"$f":"Master20191031!G103-Master20180614!G103","v":-1},{"$f":"Master20191031!H103-Master20180614!H103","v":8},{"$f":"Master20191031!I103-Master20180614!I103","v":0},{"$f":"Master20191031!J103-Master20180614!J103","v":-5},{"$f":"Master20191031!K103-Master20180614!K103","v":3},{"$f":"Master20191031!L103-Master20180614!L103","v":-4},{"$f":"Master20191031!M103-Master20180614!M103","v":0},{"$f":"Master20191031!N103-Master20180614!N103","v":2},{"$f":"Master20191031!O103-Master20180614!O103","v":5},{"$f":"Master20191031!P103-Master20180614!P103","v":7},{"$f":"Master20191031!Q103-Master20180614!Q103","v":0},{"$f":"Master20191031!R103-Master20180614!R103","v":0},{"$f":"Master20191031!S103-Master20180614!S103","v":0},{"$f":"Master20191031!T103-Master20180614!T103","v":0},{"$f":"Master20191031!U103-Master20180614!U103","v":0},{"$f":"Master20191031!V103-Master20180614!V103","v":0},{"$f":"Master20191031!W103-Master20180614!W103","v":0},{"$f":"Master20191031!X103-Master20180614!X103","v":0},{"$f":"Master20191031!Y103-Master20180614!Y103","v":0},{"$f":"Master20191031!Z103-Master20180614!Z103","v":0},{"$f":"Master20191031!AA103-Master20180614!AA103","v":0},{"$f":"Master20191031!AB103-Master20180614!AB103","v":0},{"$f":"Master20191031!AC103-Master20180614!AC103","v":0},{"$f":"Master20191031!AD103-Master20180614!AD103","v":0},{"$f":"Master20191031!AE103-Master20180614!AE103","v":0}]
["Southwestern","3-C","NRV","Radford City",{"$f":"Master20191031!E104-Master20180614!E104","v":0},{"$f":"Master20191031!F104-Master20180614!F104","v":0},{"$f":"Master20191031!G104-Master20180614!G104","v":-5},{"$f":"Master20191031!H104-Master20180614!H104","v":-5},{"$f":"Master20191031!I104-Master20180614!I104","v":0},{"$f":"Master20191031!J104-Master20180614!J104","v":-3},{"$f":"Master20191031!K104-Master20180614!K104","v":-1},{"$f":"Master20191031!L104-Master20180614!L104","v":-1},{"$f":"Master20191031!M104-Master20180614!M104","v":0},{"$f":"Master20191031!N104-Master20180614!N104","v":0},{"$f":"Master20191031!O104-Master20180614!O104","v":0},{"$f":"Master20191031!P104-Master20180614!P104","v":0},{"$f":"Master20191031!Q104-Master20180614!Q104","v":0},{"$f":"Master20191031!R104-Master20180614!R104","v":1},{"$f":"Master20191031!S104-Master20180614!S104","v":-1},{"$f":"Master20191031!T104-Master20180614!T104","v":0},{"$f":"Master20191031!U104-Master20180614!U104","v":0},{"$f":"Master20191031!V104-Master20180614!V104","v":0},{"$f":"Master20191031!W104-Master20180614!W104","v":0},{"$f":"Master20191031!X104-Master20180614!X104","v":0},{"$f":"Master20191031!Y104-Master20180614!Y104","v":0},{"$f":"Master20191031!Z104-Master20180614!Z104","v":0},{"$f":"Master20191031!AA104-Master20180614!AA104","v":0},{"$f":"Master20191031!AB104-Master20180614!AB104","v":1},{"$f":"Master20191031!AC104-Master20180614!AC104","v":0},{"$f":"Master20191031!AD104-Master20180614!AD104","v":0},{"$f":"Master20191031!AE104-Master20180614!AE104","v":-1}]
["Northern","2-B","RapR","Rappahannock County",{"$f":"Master20191031!E105-Master20180614!E105","v":0},{"$f":"Master20191031!F105-Master20180614!F105","v":0},{"$f":"Master20191031!G105-Master20180614!G105","v":0},{"$f":"Master20191031!H105-Master20180614!H105","v":0},{"$f":"Master20191031!I105-Master20180614!I105","v":1},{"$f":"Master20191031!J105-Master20180614!J105","v":-1},{"$f":"Master20191031!K105-Master20180614!K105","v":-1},{"$f":"Master20191031!L105-Master20180614!L105","v":1},{"$f":"Master20191031!M105-Master20180614!M105","v":0},{"$f":"Master20191031!N105-Master20180614!N105","v":0},{"$f":"Master20191031!O105-Master20180614!O105","v":-1},{"$f":"Master20191031!P105-Master20180614!P105","v":1},{"$f":"Master20191031!Q105-Master20180614!Q105","v":0},{"$f":"Master20191031!R105-Master20180614!R105","v":0},{"$f":"Master20191031!S105-Master20180614!S105","v":0},{"$f":"Master20191031!T105-Master20180614!T105","v":0},{"$f":"Master20191031!U105-Master20180614!U105","v":0},{"$f":"Master20191031!V105-Master20180614!V105","v":0},{"$f":"Master20191031!W105-Master20180614!W105","v":0},{"$f":"Master20191031!X105-Master20180614!X105","v":0},{"$f":"Master20191031!Y105-Master20180614!Y105","v":0},{"$f":"Master20191031!Z105-Master20180614!Z105","v":0},{"$f":"Master20191031!AA105-Master20180614!AA105","v":0},{"$f":"Master20191031!AB105-Master20180614!AB105","v":0},{"$f":"Master20191031!AC105-Master20180614!AC105","v":0},{"$f":"Master20191031!AD105-Master20180614!AD105","v":0},{"$f":"Master20191031!AE105-Master20180614!AE105","v":0}]
["Central","4-A","RBHA","Richmond City",{"$f":"Master20191031!E106-Master20180614!E106","v":1},{"$f":"Master20191031!F106-Master20180614!F106","v":14},{"$f":"Master20191031!G106-Master20180614!G106","v":-27},{"$f":"Master20191031!H106-Master20180614!H106","v":-12},{"$f":"Master20191031!I106-Master20180614!I106","v":-2},{"$f":"Master20191031!J106-Master20180614!J106","v":-35},{"$f":"Master20191031!K106-Master20180614!K106","v":-1},{"$f":"Master20191031!L106-Master20180614!L106","v":23},{"$f":"Master20191031!M106-Master20180614!M106","v":2},{"$f":"Master20191031!N106-Master20180614!N106","v":0},{"$f":"Master20191031!O106-Master20180614!O106","v":-4},{"$f":"Master20191031!P106-Master20180614!P106","v":5},{"$f":"Master20191031!Q106-Master20180614!Q106","v":0},{"$f":"Master20191031!R106-Master20180614!R106","v":0},{"$f":"Master20191031!S106-Master20180614!S106","v":0},{"$f":"Master20191031!T106-Master20180614!T106","v":0},{"$f":"Master20191031!U106-Master20180614!U106","v":0},{"$f":"Master20191031!V106-Master20180614!V106","v":0},{"$f":"Master20191031!W106-Master20180614!W106","v":0},{"$f":"Master20191031!X106-Master20180614!X106","v":-1},{"$f":"Master20191031!Y106-Master20180614!Y106","v":0},{"$f":"Master20191031!Z106-Master20180614!Z106","v":0},{"$f":"Master20191031!AA106-Master20180614!AA106","v":0},{"$f":"Master20191031!AB106-Master20180614!AB106","v":-1},{"$f":"Master20191031!AC106-Master20180614!AC106","v":0},{"$f":"Master20191031!AD106-Master20180614!AD106","v":-2},{"$f":"Master20191031!AE106-Master20180614!AE106","v":0}]
["Eastern","5-A","MPNN","Richmond County",{"$f":"Master20191031!E107-Master20180614!E107","v":-1},{"$f":"Master20191031!F107-Master20180614!F107","v":8},{"$f":"Master20191031!G107-Master20180614!G107","v":7},{"$f":"Master20191031!H107-Master20180614!H107","v":14},{"$f":"Master20191031!I107-Master20180614!I107","v":3},{"$f":"Master20191031!J107-Master20180614!J107","v":-2},{"$f":"Master20191031!K107-Master20180614!K107","v":2},{"$f":"Master20191031!L107-Master20180614!L107","v":3},{"$f":"Master20191031!M107-Master20180614!M107","v":1},{"$f":"Master20191031!N107-Master20180614!N107","v":1},{"$f":"Master20191031!O107-Master20180614!O107","v":3},{"$f":"Master20191031!P107-Master20180614!P107","v":3},{"$f":"Master20191031!Q107-Master20180614!Q107","v":0},{"$f":"Master20191031!R107-Master20180614!R107","v":0},{"$f":"Master20191031!S107-Master20180614!S107","v":0},{"$f":"Master20191031!T107-Master20180614!T107","v":0},{"$f":"Master20191031!U107-Master20180614!U107","v":0},{"$f":"Master20191031!V107-Master20180614!V107","v":0},{"$f":"Master20191031!W107-Master20180614!W107","v":0},{"$f":"Master20191031!X107-Master20180614!X107","v":0},{"$f":"Master20191031!Y107-Master20180614!Y107","v":0},{"$f":"Master20191031!Z107-Master20180614!Z107","v":0},{"$f":"Master20191031!AA107-Master20180614!AA107","v":0},{"$f":"Master20191031!AB107-Master20180614!AB107","v":0},{"$f":"Master20191031!AC107-Master20180614!AC107","v":0},{"$f":"Master20191031!AD107-Master20180614!AD107","v":0},{"$f":"Master20191031!AE107-Master20180614!AE107","v":0}]
["Southwestern","3-A","BLUE","Roanoke City",{"$f":"Master20191031!E108-Master20180614!E108","v":2},{"$f":"Master20191031!F108-Master20180614!F108","v":7},{"$f":"Master20191031!G108-Master20180614!G108","v":-7},{"$f":"Master20191031!H108-Master20180614!H108","v":2},{"$f":"Master20191031!I108-Master20180614!I108","v":-2},{"$f":"Master20191031!J108-Master20180614!J108","v":-9},{"$f":"Master20191031!K108-Master20180614!K108","v":-1},{"$f":"Master20191031!L108-Master20180614!L108","v":5},{"$f":"Master20191031!M108-Master20180614!M108","v":2},{"$f":"Master20191031!N108-Master20180614!N108","v":3},{"$f":"Master20191031!O108-Master20180614!O108","v":0},{"$f":"Master20191031!P108-Master20180614!P108","v":4},{"$f":"Master20191031!Q108-Master20180614!Q108","v":0},{"$f":"Master20191031!R108-Master20180614!R108","v":2},{"$f":"Master20191031!S108-Master20180614!S108","v":2},{"$f":"Master20191031!T108-Master20180614!T108","v":0},{"$f":"Master20191031!U108-Master20180614!U108","v":0},{"$f":"Master20191031!V108-Master20180614!V108","v":0},{"$f":"Master20191031!W108-Master20180614!W108","v":0},{"$f":"Master20191031!X108-Master20180614!X108","v":1},{"$f":"Master20191031!Y108-Master20180614!Y108","v":0},{"$f":"Master20191031!Z108-Master20180614!Z108","v":0},{"$f":"Master20191031!AA108-Master20180614!AA108","v":0},{"$f":"Master20191031!AB108-Master20180614!AB108","v":0},{"$f":"Master20191031!AC108-Master20180614!AC108","v":0},{"$f":"Master20191031!AD108-Master20180614!AD108","v":0},{"$f":"Master20191031!AE108-Master20180614!AE108","v":0}]
["Southwestern","3-A","BLUE","Roanoke County",{"$f":"Master20191031!E109-Master20180614!E109","v":1},{"$f":"Master20191031!F109-Master20180614!F109","v":11},{"$f":"Master20191031!G109-Master20180614!G109","v":-1},{"$f":"Master20191031!H109-Master20180614!H109","v":11},{"$f":"Master20191031!I109-Master20180614!I109","v":0},{"$f":"Master20191031!J109-Master20180614!J109","v":-12},{"$f":"Master20191031!K109-Master20180614!K109","v":-1},{"$f":"Master20191031!L109-Master20180614!L109","v":7},{"$f":"Master20191031!M109-Master20180614!M109","v":2},{"$f":"Master20191031!N109-Master20180614!N109","v":1},{"$f":"Master20191031!O109-Master20180614!O109","v":3},{"$f":"Master20191031!P109-Master20180614!P109","v":11},{"$f":"Master20191031!Q109-Master20180614!Q109","v":0},{"$f":"Master20191031!R109-Master20180614!R109","v":1},{"$f":"Master20191031!S109-Master20180614!S109","v":1},{"$f":"Master20191031!T109-Master20180614!T109","v":0},{"$f":"Master20191031!U109-Master20180614!U109","v":0},{"$f":"Master20191031!V109-Master20180614!V109","v":0},{"$f":"Master20191031!W109-Master20180614!W109","v":0},{"$f":"Master20191031!X109-Master20180614!X109","v":1},{"$f":"Master20191031!Y109-Master20180614!Y109","v":0},{"$f":"Master20191031!Z109-Master20180614!Z109","v":0},{"$f":"Master20191031!AA109-Master20180614!AA109","v":0},{"$f":"Master20191031!AB109-Master20180614!AB109","v":0},{"$f":"Master20191031!AC109-Master20180614!AC109","v":0},{"$f":"Master20191031!AD109-Master20180614!AD109","v":-1},{"$f":"Master20191031!AE109-Master20180614!AE109","v":1}]
["Western","1-C","ROC","Rockbridge County",{"$f":"Master20191031!E110-Master20180614!E110","v":0},{"$f":"Master20191031!F110-Master20180614!F110","v":4},{"$f":"Master20191031!G110-Master20180614!G110","v":2},{"$f":"Master20191031!H110-Master20180614!H110","v":6},{"$f":"Master20191031!I110-Master20180614!I110","v":-2},{"$f":"Master20191031!J110-Master20180614!J110","v":-3},{"$f":"Master20191031!K110-Master20180614!K110","v":-1},{"$f":"Master20191031!L110-Master20180614!L110","v":7},{"$f":"Master20191031!M110-Master20180614!M110","v":2},{"$f":"Master20191031!N110-Master20180614!N110","v":1},{"$f":"Master20191031!O110-Master20180614!O110","v":1},{"$f":"Master20191031!P110-Master20180614!P110","v":1},{"$f":"Master20191031!Q110-Master20180614!Q110","v":0},{"$f":"Master20191031!R110-Master20180614!R110","v":0},{"$f":"Master20191031!S110-Master20180614!S110","v":0},{"$f":"Master20191031!T110-Master20180614!T110","v":0},{"$f":"Master20191031!U110-Master20180614!U110","v":0},{"$f":"Master20191031!V110-Master20180614!V110","v":0},{"$f":"Master20191031!W110-Master20180614!W110","v":0},{"$f":"Master20191031!X110-Master20180614!X110","v":0},{"$f":"Master20191031!Y110-Master20180614!Y110","v":0},{"$f":"Master20191031!Z110-Master20180614!Z110","v":0},{"$f":"Master20191031!AA110-Master20180614!AA110","v":0},{"$f":"Master20191031!AB110-Master20180614!AB110","v":0},{"$f":"Master20191031!AC110-Master20180614!AC110","v":0},{"$f":"Master20191031!AD110-Master20180614!AD110","v":0},{"$f":"Master20191031!AE110-Master20180614!AE110","v":0}]
["Western","1-B","HARR","Rockingham County",{"$f":"Master20191031!E111-Master20180614!E111","v":-1},{"$f":"Master20191031!F111-Master20180614!F111","v":10},{"$f":"Master20191031!G111-Master20180614!G111","v":-2},{"$f":"Master20191031!H111-Master20180614!H111","v":7},{"$f":"Master20191031!I111-Master20180614!I111","v":5},{"$f":"Master20191031!J111-Master20180614!J111","v":-4},{"$f":"Master20191031!K111-Master20180614!K111","v":4},{"$f":"Master20191031!L111-Master20180614!L111","v":-4},{"$f":"Master20191031!M111-Master20180614!M111","v":1},{"$f":"Master20191031!N111-Master20180614!N111","v":1},{"$f":"Master20191031!O111-Master20180614!O111","v":-6},{"$f":"Master20191031!P111-Master20180614!P111","v":10},{"$f":"Master20191031!Q111-Master20180614!Q111","v":0},{"$f":"Master20191031!R111-Master20180614!R111","v":1},{"$f":"Master20191031!S111-Master20180614!S111","v":0},{"$f":"Master20191031!T111-Master20180614!T111","v":0},{"$f":"Master20191031!U111-Master20180614!U111","v":0},{"$f":"Master20191031!V111-Master20180614!V111","v":0},{"$f":"Master20191031!W111-Master20180614!W111","v":0},{"$f":"Master20191031!X111-Master20180614!X111","v":0},{"$f":"Master20191031!Y111-Master20180614!Y111","v":0},{"$f":"Master20191031!Z111-Master20180614!Z111","v":0},{"$f":"Master20191031!AA111-Master20180614!AA111","v":0},{"$f":"Master20191031!AB111-Master20180614!AB111","v":0},{"$f":"Master20191031!AC111-Master20180614!AC111","v":0},{"$f":"Master20191031!AD111-Master20180614!AD111","v":1},{"$f":"Master20191031!AE111-Master20180614!AE111","v":0}]
["Southwestern","3-D","CMT","Russell County",{"$f":"Master20191031!E112-Master20180614!E112","v":-1},{"$f":"Master20191031!F112-Master20180614!F112","v":2},{"$f":"Master20191031!G112-Master20180614!G112","v":5},{"$f":"Master20191031!H112-Master20180614!H112","v":6},{"$f":"Master20191031!I112-Master20180614!I112","v":0},{"$f":"Master20191031!J112-Master20180614!J112","v":-2},{"$f":"Master20191031!K112-Master20180614!K112","v":0},{"$f":"Master20191031!L112-Master20180614!L112","v":5},{"$f":"Master20191031!M112-Master20180614!M112","v":-1},{"$f":"Master20191031!N112-Master20180614!N112","v":0},{"$f":"Master20191031!O112-Master20180614!O112","v":2},{"$f":"Master20191031!P112-Master20180614!P112","v":2},{"$f":"Master20191031!Q112-Master20180614!Q112","v":0},{"$f":"Master20191031!R112-Master20180614!R112","v":0},{"$f":"Master20191031!S112-Master20180614!S112","v":0},{"$f":"Master20191031!T112-Master20180614!T112","v":0},{"$f":"Master20191031!U112-Master20180614!U112","v":0},{"$f":"Master20191031!V112-Master20180614!V112","v":0},{"$f":"Master20191031!W112-Master20180614!W112","v":0},{"$f":"Master20191031!X112-Master20180614!X112","v":0},{"$f":"Master20191031!Y112-Master20180614!Y112","v":0},{"$f":"Master20191031!Z112-Master20180614!Z112","v":0},{"$f":"Master20191031!AA112-Master20180614!AA112","v":0},{"$f":"Master20191031!AB112-Master20180614!AB112","v":0},{"$f":"Master20191031!AC112-Master20180614!AC112","v":0},{"$f":"Master20191031!AD112-Master20180614!AD112","v":0},{"$f":"Master20191031!AE112-Master20180614!AE112","v":0}]
["Southwestern","3-A","BLUE","Salem City",{"$f":"Master20191031!E113-Master20180614!E113","v":1},{"$f":"Master20191031!F113-Master20180614!F113","v":3},{"$f":"Master20191031!G113-Master20180614!G113","v":5},{"$f":"Master20191031!H113-Master20180614!H113","v":9},{"$f":"Master20191031!I113-Master20180614!I113","v":1},{"$f":"Master20191031!J113-Master20180614!J113","v":0},{"$f":"Master20191031!K113-Master20180614!K113","v":1},{"$f":"Master20191031!L113-Master20180614!L113","v":4},{"$f":"Master20191031!M113-Master20180614!M113","v":1},{"$f":"Master20191031!N113-Master20180614!N113","v":-2},{"$f":"Master20191031!O113-Master20180614!O113","v":-1},{"$f":"Master20191031!P113-Master20180614!P113","v":5},{"$f":"Master20191031!Q113-Master20180614!Q113","v":0},{"$f":"Master20191031!R113-Master20180614!R113","v":1},{"$f":"Master20191031!S113-Master20180614!S113","v":1},{"$f":"Master20191031!T113-Master20180614!T113","v":0},{"$f":"Master20191031!U113-Master20180614!U113","v":0},{"$f":"Master20191031!V113-Master20180614!V113","v":0},{"$f":"Master20191031!W113-Master20180614!W113","v":0},{"$f":"Master20191031!X113-Master20180614!X113","v":1},{"$f":"Master20191031!Y113-Master20180614!Y113","v":0},{"$f":"Master20191031!Z113-Master20180614!Z113","v":0},{"$f":"Master20191031!AA113-Master20180614!AA113","v":0},{"$f":"Master20191031!AB113-Master20180614!AB113","v":-1},{"$f":"Master20191031!AC113-Master20180614!AC113","v":0},{"$f":"Master20191031!AD113-Master20180614!AD113","v":0},{"$f":"Master20191031!AE113-Master20180614!AE113","v":0}]
["Southwestern","3-D","PLD1","Scott County",{"$f":"Master20191031!E114-Master20180614!E114","v":0},{"$f":"Master20191031!F114-Master20180614!F114","v":1},{"$f":"Master20191031!G114-Master20180614!G114","v":-5},{"$f":"Master20191031!H114-Master20180614!H114","v":-4},{"$f":"Master20191031!I114-Master20180614!I114","v":-1},{"$f":"Master20191031!J114-Master20180614!J114","v":-6},{"$f":"Master20191031!K114-Master20180614!K114","v":1},{"$f":"Master20191031!L114-Master20180614!L114","v":3},{"$f":"Master20191031!M114-Master20180614!M114","v":1},{"$f":"Master20191031!N114-Master20180614!N114","v":1},{"$f":"Master20191031!O114-Master20180614!O114","v":-1},{"$f":"Master20191031!P114-Master20180614!P114","v":-2},{"$f":"Master20191031!Q114-Master20180614!Q114","v":0},{"$f":"Master20191031!R114-Master20180614!R114","v":0},{"$f":"Master20191031!S114-Master20180614!S114","v":0},{"$f":"Master20191031!T114-Master20180614!T114","v":0},{"$f":"Master20191031!U114-Master20180614!U114","v":0},{"$f":"Master20191031!V114-Master20180614!V114","v":0},{"$f":"Master20191031!W114-Master20180614!W114","v":0},{"$f":"Master20191031!X114-Master20180614!X114","v":0},{"$f":"Master20191031!Y114-Master20180614!Y114","v":0},{"$f":"Master20191031!Z114-Master20180614!Z114","v":0},{"$f":"Master20191031!AA114-Master20180614!AA114","v":0},{"$f":"Master20191031!AB114-Master20180614!AB114","v":0},{"$f":"Master20191031!AC114-Master20180614!AC114","v":0},{"$f":"Master20191031!AD114-Master20180614!AD114","v":0},{"$f":"Master20191031!AE114-Master20180614!AE114","v":0}]
["Northern","2-D","NW","Shenandoah County",{"$f":"Master20191031!E115-Master20180614!E115","v":-3},{"$f":"Master20191031!F115-Master20180614!F115","v":5},{"$f":"Master20191031!G115-Master20180614!G115","v":0},{"$f":"Master20191031!H115-Master20180614!H115","v":2},{"$f":"Master20191031!I115-Master20180614!I115","v":3},{"$f":"Master20191031!J115-Master20180614!J115","v":-8},{"$f":"Master20191031!K115-Master20180614!K115","v":-1},{"$f":"Master20191031!L115-Master20180614!L115","v":4},{"$f":"Master20191031!M115-Master20180614!M115","v":0},{"$f":"Master20191031!N115-Master20180614!N115","v":4},{"$f":"Master20191031!O115-Master20180614!O115","v":-5},{"$f":"Master20191031!P115-Master20180614!P115","v":5},{"$f":"Master20191031!Q115-Master20180614!Q115","v":0},{"$f":"Master20191031!R115-Master20180614!R115","v":-1},{"$f":"Master20191031!S115-Master20180614!S115","v":-1},{"$f":"Master20191031!T115-Master20180614!T115","v":0},{"$f":"Master20191031!U115-Master20180614!U115","v":0},{"$f":"Master20191031!V115-Master20180614!V115","v":0},{"$f":"Master20191031!W115-Master20180614!W115","v":0},{"$f":"Master20191031!X115-Master20180614!X115","v":0},{"$f":"Master20191031!Y115-Master20180614!Y115","v":0},{"$f":"Master20191031!Z115-Master20180614!Z115","v":0},{"$f":"Master20191031!AA115-Master20180614!AA115","v":0},{"$f":"Master20191031!AB115-Master20180614!AB115","v":0},{"$f":"Master20191031!AC115-Master20180614!AC115","v":0},{"$f":"Master20191031!AD115-Master20180614!AD115","v":0},{"$f":"Master20191031!AE115-Master20180614!AE115","v":-1}]
["Southwestern","3-D","MTRG","Smyth County",{"$f":"Master20191031!E116-Master20180614!E116","v":0},{"$f":"Master20191031!F116-Master20180614!F116","v":6},{"$f":"Master20191031!G116-Master20180614!G116","v":-7},{"$f":"Master20191031!H116-Master20180614!H116","v":-1},{"$f":"Master20191031!I116-Master20180614!I116","v":0},{"$f":"Master20191031!J116-Master20180614!J116","v":-4},{"$f":"Master20191031!K116-Master20180614!K116","v":-1},{"$f":"Master20191031!L116-Master20180614!L116","v":1},{"$f":"Master20191031!M116-Master20180614!M116","v":-1},{"$f":"Master20191031!N116-Master20180614!N116","v":1},{"$f":"Master20191031!O116-Master20180614!O116","v":-1},{"$f":"Master20191031!P116-Master20180614!P116","v":4},{"$f":"Master20191031!Q116-Master20180614!Q116","v":0},{"$f":"Master20191031!R116-Master20180614!R116","v":0},{"$f":"Master20191031!S116-Master20180614!S116","v":0},{"$f":"Master20191031!T116-Master20180614!T116","v":0},{"$f":"Master20191031!U116-Master20180614!U116","v":0},{"$f":"Master20191031!V116-Master20180614!V116","v":0},{"$f":"Master20191031!W116-Master20180614!W116","v":0},{"$f":"Master20191031!X116-Master20180614!X116","v":0},{"$f":"Master20191031!Y116-Master20180614!Y116","v":0},{"$f":"Master20191031!Z116-Master20180614!Z116","v":0},{"$f":"Master20191031!AA116-Master20180614!AA116","v":0},{"$f":"Master20191031!AB116-Master20180614!AB116","v":0},{"$f":"Master20191031!AC116-Master20180614!AC116","v":0},{"$f":"Master20191031!AD116-Master20180614!AD116","v":0},{"$f":"Master20191031!AE116-Master20180614!AE116","v":0}]
["Eastern","5-D","WT","Southampton County",{"$f":"Master20191031!E117-Master20180614!E117","v":0},{"$f":"Master20191031!F117-Master20180614!F117","v":2},{"$f":"Master20191031!G117-Master20180614!G117","v":3},{"$f":"Master20191031!H117-Master20180614!H117","v":5},{"$f":"Master20191031!I117-Master20180614!I117","v":0},{"$f":"Master20191031!J117-Master20180614!J117","v":0},{"$f":"Master20191031!K117-Master20180614!K117","v":-1},{"$f":"Master20191031!L117-Master20180614!L117","v":3},{"$f":"Master20191031!M117-Master20180614!M117","v":1},{"$f":"Master20191031!N117-Master20180614!N117","v":0},{"$f":"Master20191031!O117-Master20180614!O117","v":0},{"$f":"Master20191031!P117-Master20180614!P117","v":2},{"$f":"Master20191031!Q117-Master20180614!Q117","v":0},{"$f":"Master20191031!R117-Master20180614!R117","v":0},{"$f":"Master20191031!S117-Master20180614!S117","v":0},{"$f":"Master20191031!T117-Master20180614!T117","v":0},{"$f":"Master20191031!U117-Master20180614!U117","v":0},{"$f":"Master20191031!V117-Master20180614!V117","v":0},{"$f":"Master20191031!W117-Master20180614!W117","v":0},{"$f":"Master20191031!X117-Master20180614!X117","v":0},{"$f":"Master20191031!Y117-Master20180614!Y117","v":0},{"$f":"Master20191031!Z117-Master20180614!Z117","v":0},{"$f":"Master20191031!AA117-Master20180614!AA117","v":0},{"$f":"Master20191031!AB117-Master20180614!AB117","v":0},{"$f":"Master20191031!AC117-Master20180614!AC117","v":0},{"$f":"Master20191031!AD117-Master20180614!AD117","v":0},{"$f":"Master20191031!AE117-Master20180614!AE117","v":1}]
["Northern","2-C","RapA","Spotsylvania County",{"$f":"Master20191031!E118-Master20180614!E118","v":0},{"$f":"Master20191031!F118-Master20180614!F118","v":12},{"$f":"Master20191031!G118-Master20180614!G118","v":12},{"$f":"Master20191031!H118-Master20180614!H118","v":24},{"$f":"Master20191031!I118-Master20180614!I118","v":8},{"$f":"Master20191031!J118-Master20180614!J118","v":-1},{"$f":"Master20191031!K118-Master20180614!K118","v":8},{"$f":"Master20191031!L118-Master20180614!L118","v":3},{"$f":"Master20191031!M118-Master20180614!M118","v":1},{"$f":"Master20191031!N118-Master20180614!N118","v":5},{"$f":"Master20191031!O118-Master20180614!O118","v":1},{"$f":"Master20191031!P118-Master20180614!P118","v":-1},{"$f":"Master20191031!Q118-Master20180614!Q118","v":1},{"$f":"Master20191031!R118-Master20180614!R118","v":1},{"$f":"Master20191031!S118-Master20180614!S118","v":0},{"$f":"Master20191031!T118-Master20180614!T118","v":0},{"$f":"Master20191031!U118-Master20180614!U118","v":0},{"$f":"Master20191031!V118-Master20180614!V118","v":0},{"$f":"Master20191031!W118-Master20180614!W118","v":0},{"$f":"Master20191031!X118-Master20180614!X118","v":1},{"$f":"Master20191031!Y118-Master20180614!Y118","v":0},{"$f":"Master20191031!Z118-Master20180614!Z118","v":0},{"$f":"Master20191031!AA118-Master20180614!AA118","v":0},{"$f":"Master20191031!AB118-Master20180614!AB118","v":0},{"$f":"Master20191031!AC118-Master20180614!AC118","v":0},{"$f":"Master20191031!AD118-Master20180614!AD118","v":-1},{"$f":"Master20191031!AE118-Master20180614!AE118","v":0}]
["Northern","2-C","RapA","Stafford County",{"$f":"Master20191031!E119-Master20180614!E119","v":-2},{"$f":"Master20191031!F119-Master20180614!F119","v":16},{"$f":"Master20191031!G119-Master20180614!G119","v":-10},{"$f":"Master20191031!H119-Master20180614!H119","v":4},{"$f":"Master20191031!I119-Master20180614!I119","v":0},{"$f":"Master20191031!J119-Master20180614!J119","v":-6},{"$f":"Master20191031!K119-Master20180614!K119","v":0},{"$f":"Master20191031!L119-Master20180614!L119","v":-4},{"$f":"Master20191031!M119-Master20180614!M119","v":8},{"$f":"Master20191031!N119-Master20180614!N119","v":2},{"$f":"Master20191031!O119-Master20180614!O119","v":-1},{"$f":"Master20191031!P119-Master20180614!P119","v":5},{"$f":"Master20191031!Q119-Master20180614!Q119","v":0},{"$f":"Master20191031!R119-Master20180614!R119","v":0},{"$f":"Master20191031!S119-Master20180614!S119","v":1},{"$f":"Master20191031!T119-Master20180614!T119","v":0},{"$f":"Master20191031!U119-Master20180614!U119","v":0},{"$f":"Master20191031!V119-Master20180614!V119","v":0},{"$f":"Master20191031!W119-Master20180614!W119","v":0},{"$f":"Master20191031!X119-Master20180614!X119","v":-1},{"$f":"Master20191031!Y119-Master20180614!Y119","v":0},{"$f":"Master20191031!Z119-Master20180614!Z119","v":0},{"$f":"Master20191031!AA119-Master20180614!AA119","v":0},{"$f":"Master20191031!AB119-Master20180614!AB119","v":0},{"$f":"Master20191031!AC119-Master20180614!AC119","v":1},{"$f":"Master20191031!AD119-Master20180614!AD119","v":-1},{"$f":"Master20191031!AE119-Master20180614!AE119","v":0}]
["Western","1-B","VLY","Staunton City",{"$f":"Master20191031!E120-Master20180614!E120","v":2},{"$f":"Master20191031!F120-Master20180614!F120","v":9},{"$f":"Master20191031!G120-Master20180614!G120","v":-3},{"$f":"Master20191031!H120-Master20180614!H120","v":8},{"$f":"Master20191031!I120-Master20180614!I120","v":-1},{"$f":"Master20191031!J120-Master20180614!J120","v":-1},{"$f":"Master20191031!K120-Master20180614!K120","v":1},{"$f":"Master20191031!L120-Master20180614!L120","v":-5},{"$f":"Master20191031!M120-Master20180614!M120","v":0},{"$f":"Master20191031!N120-Master20180614!N120","v":0},{"$f":"Master20191031!O120-Master20180614!O120","v":-1},{"$f":"Master20191031!P120-Master20180614!P120","v":15},{"$f":"Master20191031!Q120-Master20180614!Q120","v":0},{"$f":"Master20191031!R120-Master20180614!R120","v":-1},{"$f":"Master20191031!S120-Master20180614!S120","v":0},{"$f":"Master20191031!T120-Master20180614!T120","v":0},{"$f":"Master20191031!U120-Master20180614!U120","v":0},{"$f":"Master20191031!V120-Master20180614!V120","v":0},{"$f":"Master20191031!W120-Master20180614!W120","v":0},{"$f":"Master20191031!X120-Master20180614!X120","v":-1},{"$f":"Master20191031!Y120-Master20180614!Y120","v":0},{"$f":"Master20191031!Z120-Master20180614!Z120","v":0},{"$f":"Master20191031!AA120-Master20180614!AA120","v":0},{"$f":"Master20191031!AB120-Master20180614!AB120","v":0},{"$f":"Master20191031!AC120-Master20180614!AC120","v":0},{"$f":"Master20191031!AD120-Master20180614!AD120","v":1},{"$f":"Master20191031!AE120-Master20180614!AE120","v":0}]
["Eastern","5-D","WT","Suffolk City",{"$f":"Master20191031!E121-Master20180614!E121","v":0},{"$f":"Master20191031!F121-Master20180614!F121","v":16},{"$f":"Master20191031!G121-Master20180614!G121","v":7},{"$f":"Master20191031!H121-Master20180614!H121","v":23},{"$f":"Master20191031!I121-Master20180614!I121","v":2},{"$f":"Master20191031!J121-Master20180614!J121","v":-14},{"$f":"Master20191031!K121-Master20180614!K121","v":0},{"$f":"Master20191031!L121-Master20180614!L121","v":1},{"$f":"Master20191031!M121-Master20180614!M121","v":7},{"$f":"Master20191031!N121-Master20180614!N121","v":0},{"$f":"Master20191031!O121-Master20180614!O121","v":5},{"$f":"Master20191031!P121-Master20180614!P121","v":22},{"$f":"Master20191031!Q121-Master20180614!Q121","v":0},{"$f":"Master20191031!R121-Master20180614!R121","v":1},{"$f":"Master20191031!S121-Master20180614!S121","v":0},{"$f":"Master20191031!T121-Master20180614!T121","v":0},{"$f":"Master20191031!U121-Master20180614!U121","v":1},{"$f":"Master20191031!V121-Master20180614!V121","v":0},{"$f":"Master20191031!W121-Master20180614!W121","v":0},{"$f":"Master20191031!X121-Master20180614!X121","v":-1},{"$f":"Master20191031!Y121-Master20180614!Y121","v":0},{"$f":"Master20191031!Z121-Master20180614!Z121","v":0},{"$f":"Master20191031!AA121-Master20180614!AA121","v":0},{"$f":"Master20191031!AB121-Master20180614!AB121","v":0},{"$f":"Master20191031!AC121-Master20180614!AC121","v":0},{"$f":"Master20191031!AD121-Master20180614!AD121","v":0},{"$f":"Master20191031!AE121-Master20180614!AE121","v":1}]
["Central","4-D","D19","Surry County",{"$f":"Master20191031!E122-Master20180614!E122","v":0},{"$f":"Master20191031!F122-Master20180614!F122","v":0},{"$f":"Master20191031!G122-Master20180614!G122","v":1},{"$f":"Master20191031!H122-Master20180614!H122","v":1},{"$f":"Master20191031!I122-Master20180614!I122","v":0},{"$f":"Master20191031!J122-Master20180614!J122","v":0},{"$f":"Master20191031!K122-Master20180614!K122","v":0},{"$f":"Master20191031!L122-Master20180614!L122","v":1},{"$f":"Master20191031!M122-Master20180614!M122","v":0},{"$f":"Master20191031!N122-Master20180614!N122","v":0},{"$f":"Master20191031!O122-Master20180614!O122","v":0},{"$f":"Master20191031!P122-Master20180614!P122","v":0},{"$f":"Master20191031!Q122-Master20180614!Q122","v":0},{"$f":"Master20191031!R122-Master20180614!R122","v":0},{"$f":"Master20191031!S122-Master20180614!S122","v":0},{"$f":"Master20191031!T122-Master20180614!T122","v":0},{"$f":"Master20191031!U122-Master20180614!U122","v":0},{"$f":"Master20191031!V122-Master20180614!V122","v":0},{"$f":"Master20191031!W122-Master20180614!W122","v":0},{"$f":"Master20191031!X122-Master20180614!X122","v":0},{"$f":"Master20191031!Y122-Master20180614!Y122","v":0},{"$f":"Master20191031!Z122-Master20180614!Z122","v":0},{"$f":"Master20191031!AA122-Master20180614!AA122","v":0},{"$f":"Master20191031!AB122-Master20180614!AB122","v":0},{"$f":"Master20191031!AC122-Master20180614!AC122","v":0},{"$f":"Master20191031!AD122-Master20180614!AD122","v":0},{"$f":"Master20191031!AE122-Master20180614!AE122","v":0}]
["Central","4-D","D19","Sussex County",{"$f":"Master20191031!E123-Master20180614!E123","v":0},{"$f":"Master20191031!F123-Master20180614!F123","v":2},{"$f":"Master20191031!G123-Master20180614!G123","v":3},{"$f":"Master20191031!H123-Master20180614!H123","v":5},{"$f":"Master20191031!I123-Master20180614!I123","v":-1},{"$f":"Master20191031!J123-Master20180614!J123","v":-9},{"$f":"Master20191031!K123-Master20180614!K123","v":3},{"$f":"Master20191031!L123-Master20180614!L123","v":8},{"$f":"Master20191031!M123-Master20180614!M123","v":2},{"$f":"Master20191031!N123-Master20180614!N123","v":0},{"$f":"Master20191031!O123-Master20180614!O123","v":1},{"$f":"Master20191031!P123-Master20180614!P123","v":1},{"$f":"Master20191031!Q123-Master20180614!Q123","v":0},{"$f":"Master20191031!R123-Master20180614!R123","v":0},{"$f":"Master20191031!S123-Master20180614!S123","v":0},{"$f":"Master20191031!T123-Master20180614!T123","v":0},{"$f":"Master20191031!U123-Master20180614!U123","v":0},{"$f":"Master20191031!V123-Master20180614!V123","v":0},{"$f":"Master20191031!W123-Master20180614!W123","v":0},{"$f":"Master20191031!X123-Master20180614!X123","v":0},{"$f":"Master20191031!Y123-Master20180614!Y123","v":0},{"$f":"Master20191031!Z123-Master20180614!Z123","v":0},{"$f":"Master20191031!AA123-Master20180614!AA123","v":0},{"$f":"Master20191031!AB123-Master20180614!AB123","v":0},{"$f":"Master20191031!AC123-Master20180614!AC123","v":0},{"$f":"Master20191031!AD123-Master20180614!AD123","v":0},{"$f":"Master20191031!AE123-Master20180614!AE123","v":0}]
["Southwestern","3-D","CMT","Tazewell County",{"$f":"Master20191031!E124-Master20180614!E124","v":3},{"$f":"Master20191031!F124-Master20180614!F124","v":10},{"$f":"Master20191031!G124-Master20180614!G124","v":-4},{"$f":"Master20191031!H124-Master20180614!H124","v":9},{"$f":"Master20191031!I124-Master20180614!I124","v":0},{"$f":"Master20191031!J124-Master20180614!J124","v":-2},{"$f":"Master20191031!K124-Master20180614!K124","v":-2},{"$f":"Master20191031!L124-Master20180614!L124","v":1},{"$f":"Master20191031!M124-Master20180614!M124","v":0},{"$f":"Master20191031!N124-Master20180614!N124","v":3},{"$f":"Master20191031!O124-Master20180614!O124","v":0},{"$f":"Master20191031!P124-Master20180614!P124","v":9},{"$f":"Master20191031!Q124-Master20180614!Q124","v":0},{"$f":"Master20191031!R124-Master20180614!R124","v":0},{"$f":"Master20191031!S124-Master20180614!S124","v":0},{"$f":"Master20191031!T124-Master20180614!T124","v":0},{"$f":"Master20191031!U124-Master20180614!U124","v":0},{"$f":"Master20191031!V124-Master20180614!V124","v":0},{"$f":"Master20191031!W124-Master20180614!W124","v":0},{"$f":"Master20191031!X124-Master20180614!X124","v":0},{"$f":"Master20191031!Y124-Master20180614!Y124","v":0},{"$f":"Master20191031!Z124-Master20180614!Z124","v":0},{"$f":"Master20191031!AA124-Master20180614!AA124","v":0},{"$f":"Master20191031!AB124-Master20180614!AB124","v":0},{"$f":"Master20191031!AC124-Master20180614!AC124","v":0},{"$f":"Master20191031!AD124-Master20180614!AD124","v":-2},{"$f":"Master20191031!AE124-Master20180614!AE124","v":0}]
["Eastern","5-D","VAB","Virginia Beach City",{"$f":"Master20191031!E125-Master20180614!E125","v":8},{"$f":"Master20191031!F125-Master20180614!F125","v":44},{"$f":"Master20191031!G125-Master20180614!G125","v":23},{"$f":"Master20191031!H125-Master20180614!H125","v":75},{"$f":"Master20191031!I125-Master20180614!I125","v":-15},{"$f":"Master20191031!J125-Master20180614!J125","v":-42},{"$f":"Master20191031!K125-Master20180614!K125","v":-11},{"$f":"Master20191031!L125-Master20180614!L125","v":82},{"$f":"Master20191031!M125-Master20180614!M125","v":10},{"$f":"Master20191031!N125-Master20180614!N125","v":-3},{"$f":"Master20191031!O125-Master20180614!O125","v":2},{"$f":"Master20191031!P125-Master20180614!P125","v":52},{"$f":"Master20191031!Q125-Master20180614!Q125","v":0},{"$f":"Master20191031!R125-Master20180614!R125","v":1},{"$f":"Master20191031!S125-Master20180614!S125","v":-2},{"$f":"Master20191031!T125-Master20180614!T125","v":0},{"$f":"Master20191031!U125-Master20180614!U125","v":1},{"$f":"Master20191031!V125-Master20180614!V125","v":0},{"$f":"Master20191031!W125-Master20180614!W125","v":1},{"$f":"Master20191031!X125-Master20180614!X125","v":2},{"$f":"Master20191031!Y125-Master20180614!Y125","v":0},{"$f":"Master20191031!Z125-Master20180614!Z125","v":0},{"$f":"Master20191031!AA125-Master20180614!AA125","v":-1},{"$f":"Master20191031!AB125-Master20180614!AB125","v":0},{"$f":"Master20191031!AC125-Master20180614!AC125","v":-1},{"$f":"Master20191031!AD125-Master20180614!AD125","v":-5},{"$f":"Master20191031!AE125-Master20180614!AE125","v":0}]
["Northern","2-D","NW","Warren County",{"$f":"Master20191031!E126-Master20180614!E126","v":0},{"$f":"Master20191031!F126-Master20180614!F126","v":2},{"$f":"Master20191031!G126-Master20180614!G126","v":1},{"$f":"Master20191031!H126-Master20180614!H126","v":3},{"$f":"Master20191031!I126-Master20180614!I126","v":1},{"$f":"Master20191031!J126-Master20180614!J126","v":2},{"$f":"Master20191031!K126-Master20180614!K126","v":-1},{"$f":"Master20191031!L126-Master20180614!L126","v":1},{"$f":"Master20191031!M126-Master20180614!M126","v":0},{"$f":"Master20191031!N126-Master20180614!N126","v":-3},{"$f":"Master20191031!O126-Master20180614!O126","v":0},{"$f":"Master20191031!P126-Master20180614!P126","v":3},{"$f":"Master20191031!Q126-Master20180614!Q126","v":0},{"$f":"Master20191031!R126-Master20180614!R126","v":-1},{"$f":"Master20191031!S126-Master20180614!S126","v":0},{"$f":"Master20191031!T126-Master20180614!T126","v":0},{"$f":"Master20191031!U126-Master20180614!U126","v":0},{"$f":"Master20191031!V126-Master20180614!V126","v":0},{"$f":"Master20191031!W126-Master20180614!W126","v":0},{"$f":"Master20191031!X126-Master20180614!X126","v":0},{"$f":"Master20191031!Y126-Master20180614!Y126","v":0},{"$f":"Master20191031!Z126-Master20180614!Z126","v":0},{"$f":"Master20191031!AA126-Master20180614!AA126","v":0},{"$f":"Master20191031!AB126-Master20180614!AB126","v":0},{"$f":"Master20191031!AC126-Master20180614!AC126","v":0},{"$f":"Master20191031!AD126-Master20180614!AD126","v":0},{"$f":"Master20191031!AE126-Master20180614!AE126","v":0}]
["Southwestern","3-D","HIGH","Washington County",{"$f":"Master20191031!E127-Master20180614!E127","v":1},{"$f":"Master20191031!F127-Master20180614!F127","v":3},{"$f":"Master20191031!G127-Master20180614!G127","v":-3},{"$f":"Master20191031!H127-Master20180614!H127","v":1},{"$f":"Master20191031!I127-Master20180614!I127","v":-2},{"$f":"Master20191031!J127-Master20180614!J127","v":-1},{"$f":"Master20191031!K127-Master20180614!K127","v":0},{"$f":"Master20191031!L127-Master20180614!L127","v":-2},{"$f":"Master20191031!M127-Master20180614!M127","v":0},{"$f":"Master20191031!N127-Master20180614!N127","v":-2},{"$f":"Master20191031!O127-Master20180614!O127","v":0},{"$f":"Master20191031!P127-Master20180614!P127","v":8},{"$f":"Master20191031!Q127-Master20180614!Q127","v":0},{"$f":"Master20191031!R127-Master20180614!R127","v":0},{"$f":"Master20191031!S127-Master20180614!S127","v":0},{"$f":"Master20191031!T127-Master20180614!T127","v":0},{"$f":"Master20191031!U127-Master20180614!U127","v":0},{"$f":"Master20191031!V127-Master20180614!V127","v":0},{"$f":"Master20191031!W127-Master20180614!W127","v":0},{"$f":"Master20191031!X127-Master20180614!X127","v":1},{"$f":"Master20191031!Y127-Master20180614!Y127","v":0},{"$f":"Master20191031!Z127-Master20180614!Z127","v":0},{"$f":"Master20191031!AA127-Master20180614!AA127","v":0},{"$f":"Master20191031!AB127-Master20180614!AB127","v":0},{"$f":"Master20191031!AC127-Master20180614!AC127","v":0},{"$f":"Master20191031!AD127-Master20180614!AD127","v":-1},{"$f":"Master20191031!AE127-Master20180614!AE127","v":0}]
["Western","1-B","VLY","Waynesboro City",{"$f":"Master20191031!E128-Master20180614!E128","v":0},{"$f":"Master20191031!F128-Master20180614!F128","v":1},{"$f":"Master20191031!G128-Master20180614!G128","v":-3},{"$f":"Master20191031!H128-Master20180614!H128","v":-2},{"$f":"Master20191031!I128-Master20180614!I128","v":1},{"$f":"Master20191031!J128-Master20180614!J128","v":-4},{"$f":"Master20191031!K128-Master20180614!K128","v":3},{"$f":"Master20191031!L128-Master20180614!L128","v":-6},{"$f":"Master20191031!M128-Master20180614!M128","v":0},{"$f":"Master20191031!N128-Master20180614!N128","v":0},{"$f":"Master20191031!O128-Master20180614!O128","v":0},{"$f":"Master20191031!P128-Master20180614!P128","v":4},{"$f":"Master20191031!Q128-Master20180614!Q128","v":0},{"$f":"Master20191031!R128-Master20180614!R128","v":0},{"$f":"Master20191031!S128-Master20180614!S128","v":0},{"$f":"Master20191031!T128-Master20180614!T128","v":0},{"$f":"Master20191031!U128-Master20180614!U128","v":0},{"$f":"Master20191031!V128-Master20180614!V128","v":0},{"$f":"Master20191031!W128-Master20180614!W128","v":0},{"$f":"Master20191031!X128-Master20180614!X128","v":0},{"$f":"Master20191031!Y128-Master20180614!Y128","v":0},{"$f":"Master20191031!Z128-Master20180614!Z128","v":0},{"$f":"Master20191031!AA128-Master20180614!AA128","v":0},{"$f":"Master20191031!AB128-Master20180614!AB128","v":0},{"$f":"Master20191031!AC128-Master20180614!AC128","v":0},{"$f":"Master20191031!AD128-Master20180614!AD128","v":0},{"$f":"Master20191031!AE128-Master20180614!AE128","v":0}]
["Eastern","5-A","MPNN","Westmoreland County",{"$f":"Master20191031!E129-Master20180614!E129","v":0},{"$f":"Master20191031!F129-Master20180614!F129","v":1},{"$f":"Master20191031!G129-Master20180614!G129","v":-3},{"$f":"Master20191031!H129-Master20180614!H129","v":-2},{"$f":"Master20191031!I129-Master20180614!I129","v":-3},{"$f":"Master20191031!J129-Master20180614!J129","v":4},{"$f":"Master20191031!K129-Master20180614!K129","v":0},{"$f":"Master20191031!L129-Master20180614!L129","v":1},{"$f":"Master20191031!M129-Master20180614!M129","v":0},{"$f":"Master20191031!N129-Master20180614!N129","v":-1},{"$f":"Master20191031!O129-Master20180614!O129","v":0},{"$f":"Master20191031!P129-Master20180614!P129","v":-3},{"$f":"Master20191031!Q129-Master20180614!Q129","v":0},{"$f":"Master20191031!R129-Master20180614!R129","v":0},{"$f":"Master20191031!S129-Master20180614!S129","v":0},{"$f":"Master20191031!T129-Master20180614!T129","v":0},{"$f":"Master20191031!U129-Master20180614!U129","v":0},{"$f":"Master20191031!V129-Master20180614!V129","v":0},{"$f":"Master20191031!W129-Master20180614!W129","v":0},{"$f":"Master20191031!X129-Master20180614!X129","v":0},{"$f":"Master20191031!Y129-Master20180614!Y129","v":0},{"$f":"Master20191031!Z129-Master20180614!Z129","v":0},{"$f":"Master20191031!AA129-Master20180614!AA129","v":0},{"$f":"Master20191031!AB129-Master20180614!AB129","v":0},{"$f":"Master20191031!AC129-Master20180614!AC129","v":0},{"$f":"Master20191031!AD129-Master20180614!AD129","v":0},{"$f":"Master20191031!AE129-Master20180614!AE129","v":0}]
["Eastern","5-C","COLO","Williamsburg City",{"$f":"Master20191031!E130-Master20180614!E130","v":0},{"$f":"Master20191031!F130-Master20180614!F130","v":5},{"$f":"Master20191031!G130-Master20180614!G130","v":2},{"$f":"Master20191031!H130-Master20180614!H130","v":7},{"$f":"Master20191031!I130-Master20180614!I130","v":0},{"$f":"Master20191031!J130-Master20180614!J130","v":0},{"$f":"Master20191031!K130-Master20180614!K130","v":0},{"$f":"Master20191031!L130-Master20180614!L130","v":0},{"$f":"Master20191031!M130-Master20180614!M130","v":0},{"$f":"Master20191031!N130-Master20180614!N130","v":1},{"$f":"Master20191031!O130-Master20180614!O130","v":1},{"$f":"Master20191031!P130-Master20180614!P130","v":5},{"$f":"Master20191031!Q130-Master20180614!Q130","v":0},{"$f":"Master20191031!R130-Master20180614!R130","v":0},{"$f":"Master20191031!S130-Master20180614!S130","v":0},{"$f":"Master20191031!T130-Master20180614!T130","v":0},{"$f":"Master20191031!U130-Master20180614!U130","v":0},{"$f":"Master20191031!V130-Master20180614!V130","v":0},{"$f":"Master20191031!W130-Master20180614!W130","v":0},{"$f":"Master20191031!X130-Master20180614!X130","v":0},{"$f":"Master20191031!Y130-Master20180614!Y130","v":0},{"$f":"Master20191031!Z130-Master20180614!Z130","v":0},{"$f":"Master20191031!AA130-Master20180614!AA130","v":0},{"$f":"Master20191031!AB130-Master20180614!AB130","v":0},{"$f":"Master20191031!AC130-Master20180614!AC130","v":0},{"$f":"Master20191031!AD130-Master20180614!AD130","v":0},{"$f":"Master20191031!AE130-Master20180614!AE130","v":0}]
["Northern","2-D","NW","Winchester City",{"$f":"Master20191031!E131-Master20180614!E131","v":-1},{"$f":"Master20191031!F131-Master20180614!F131","v":2},{"$f":"Master20191031!G131-Master20180614!G131","v":-2},{"$f":"Master20191031!H131-Master20180614!H131","v":-1},{"$f":"Master20191031!I131-Master20180614!I131","v":1},{"$f":"Master20191031!J131-Master20180614!J131","v":-10},{"$f":"Master20191031!K131-Master20180614!K131","v":1},{"$f":"Master20191031!L131-Master20180614!L131","v":2},{"$f":"Master20191031!M131-Master20180614!M131","v":0},{"$f":"Master20191031!N131-Master20180614!N131","v":1},{"$f":"Master20191031!O131-Master20180614!O131","v":-2},{"$f":"Master20191031!P131-Master20180614!P131","v":6},{"$f":"Master20191031!Q131-Master20180614!Q131","v":0},{"$f":"Master20191031!R131-Master20180614!R131","v":-1},{"$f":"Master20191031!S131-Master20180614!S131","v":0},{"$f":"Master20191031!T131-Master20180614!T131","v":0},{"$f":"Master20191031!U131-Master20180614!U131","v":0},{"$f":"Master20191031!V131-Master20180614!V131","v":0},{"$f":"Master20191031!W131-Master20180614!W131","v":0},{"$f":"Master20191031!X131-Master20180614!X131","v":0},{"$f":"Master20191031!Y131-Master20180614!Y131","v":0},{"$f":"Master20191031!Z131-Master20180614!Z131","v":0},{"$f":"Master20191031!AA131-Master20180614!AA131","v":0},{"$f":"Master20191031!AB131-Master20180614!AB131","v":0},{"$f":"Master20191031!AC131-Master20180614!AC131","v":0},{"$f":"Master20191031!AD131-Master20180614!AD131","v":-1},{"$f":"Master20191031!AE131-Master20180614!AE131","v":0}]
["Southwestern","3-D","PLD1","Wise County",{"$f":"Master20191031!E132-Master20180614!E132","v":0},{"$f":"Master20191031!F132-Master20180614!F132","v":1},{"$f":"Master20191031!G132-Master20180614!G132","v":2},{"$f":"Master20191031!H132-Master20180614!H132","v":3},{"$f":"Master20191031!I132-Master20180614!I132","v":1},{"$f":"Master20191031!J132-Master20180614!J132","v":-2},{"$f":"Master20191031!K132-Master20180614!K132","v":-3},{"$f":"Master20191031!L132-Master20180614!L132","v":10},{"$f":"Master20191031!M132-Master20180614!M132","v":0},{"$f":"Master20191031!N132-Master20180614!N132","v":2},{"$f":"Master20191031!O132-Master20180614!O132","v":-3},{"$f":"Master20191031!P132-Master20180614!P132","v":-2},{"$f":"Master20191031!Q132-Master20180614!Q132","v":0},{"$f":"Master20191031!R132-Master20180614!R132","v":0},{"$f":"Master20191031!S132-Master20180614!S132","v":-1},{"$f":"Master20191031!T132-Master20180614!T132","v":0},{"$f":"Master20191031!U132-Master20180614!U132","v":0},{"$f":"Master20191031!V132-Master20180614!V132","v":0},{"$f":"Master20191031!W132-Master20180614!W132","v":0},{"$f":"Master20191031!X132-Master20180614!X132","v":0},{"$f":"Master20191031!Y132-Master20180614!Y132","v":0},{"$f":"Master20191031!Z132-Master20180614!Z132","v":0},{"$f":"Master20191031!AA132-Master20180614!AA132","v":0},{"$f":"Master20191031!AB132-Master20180614!AB132","v":0},{"$f":"Master20191031!AC132-Master20180614!AC132","v":0},{"$f":"Master20191031!AD132-Master20180614!AD132","v":-1},{"$f":"Master20191031!AE132-Master20180614!AE132","v":0}]
["Southwestern","3-C","MTRG","Wythe County",{"$f":"Master20191031!E133-Master20180614!E133","v":0},{"$f":"Master20191031!F133-Master20180614!F133","v":1},{"$f":"Master20191031!G133-Master20180614!G133","v":7},{"$f":"Master20191031!H133-Master20180614!H133","v":8},{"$f":"Master20191031!I133-Master20180614!I133","v":-1},{"$f":"Master20191031!J133-Master20180614!J133","v":-6},{"$f":"Master20191031!K133-Master20180614!K133","v":-1},{"$f":"Master20191031!L133-Master20180614!L133","v":4},{"$f":"Master20191031!M133-Master20180614!M133","v":5},{"$f":"Master20191031!N133-Master20180614!N133","v":5},{"$f":"Master20191031!O133-Master20180614!O133","v":1},{"$f":"Master20191031!P133-Master20180614!P133","v":1},{"$f":"Master20191031!Q133-Master20180614!Q133","v":0},{"$f":"Master20191031!R133-Master20180614!R133","v":0},{"$f":"Master20191031!S133-Master20180614!S133","v":0},{"$f":"Master20191031!T133-Master20180614!T133","v":0},{"$f":"Master20191031!U133-Master20180614!U133","v":0},{"$f":"Master20191031!V133-Master20180614!V133","v":0},{"$f":"Master20191031!W133-Master20180614!W133","v":0},{"$f":"Master20191031!X133-Master20180614!X133","v":0},{"$f":"Master20191031!Y133-Master20180614!Y133","v":0},{"$f":"Master20191031!Z133-Master20180614!Z133","v":0},{"$f":"Master20191031!AA133-Master20180614!AA133","v":0},{"$f":"Master20191031!AB133-Master20180614!AB133","v":0},{"$f":"Master20191031!AC133-Master20180614!AC133","v":0},{"$f":"Master20191031!AD133-Master20180614!AD133","v":0},{"$f":"Master20191031!AE133-Master20180614!AE133","v":0}]
["Eastern","5-C","COLO","York County",{"$f":"Master20191031!E134-Master20180614!E134","v":0},{"$f":"Master20191031!F134-Master20180614!F134","v":8},{"$f":"Master20191031!G134-Master20180614!G134","v":7},{"$f":"Master20191031!H134-Master20180614!H134","v":15},{"$f":"Master20191031!I134-Master20180614!I134","v":1},{"$f":"Master20191031!J134-Master20180614!J134","v":-2},{"$f":"Master20191031!K134-Master20180614!K134","v":0},{"$f":"Master20191031!L134-Master20180614!L134","v":3},{"$f":"Master20191031!M134-Master20180614!M134","v":2},{"$f":"Master20191031!N134-Master20180614!N134","v":1},{"$f":"Master20191031!O134-Master20180614!O134","v":1},{"$f":"Master20191031!P134-Master20180614!P134","v":9},{"$f":"Master20191031!Q134-Master20180614!Q134","v":0},{"$f":"Master20191031!R134-Master20180614!R134","v":0},{"$f":"Master20191031!S134-Master20180614!S134","v":0},{"$f":"Master20191031!T134-Master20180614!T134","v":0},{"$f":"Master20191031!U134-Master20180614!U134","v":0},{"$f":"Master20191031!V134-Master20180614!V134","v":0},{"$f":"Master20191031!W134-Master20180614!W134","v":0},{"$f":"Master20191031!X134-Master20180614!X134","v":0},{"$f":"Master20191031!Y134-Master20180614!Y134","v":0},{"$f":"Master20191031!Z134-Master20180614!Z134","v":0},{"$f":"Master20191031!AA134-Master20180614!AA134","v":0},{"$f":"Master20191031!AB134-Master20180614!AB134","v":0},{"$f":"Master20191031!AC134-Master20180614!AC134","v":0},{"$f":"Master20191031!AD134-Master20180614!AD134","v":0},{"$f":"Master20191031!AE134-Master20180614!AE134","v":0}]
[]
["DS-Regional Deltas - Unique"]
["Central",null,"na","na",{"$f":"Master20191031!E144-Master20180614!E137","v":12},{"$f":"Master20191031!F144-Master20180614!F137","v":135},{"$f":"Master20191031!G144-Master20180614!G137","v":82},{"$f":"Master20191031!H144-Master20180614!H137","v":229},{"$f":"Master20191031!I144-Master20180614!I137","v":22},{"$f":"Master20191031!J144-Master20180614!J137","v":-104},{"$f":"Master20191031!K144-Master20180614!K137","v":-49},{"$f":"Master20191031!L144-Master20180614!L137","v":255},{"$f":"Master20191031!M144-Master20180614!M137","v":52},{"$f":"Master20191031!N144-Master20180614!N137","v":16},{"$f":"Master20191031!O144-Master20180614!O137","v":4},{"$f":"Master20191031!P144-Master20180614!P137","v":33},{"$f":"Master20191031!Q144-Master20180614!Q137","v":2},{"$f":"Master20191031!R144-Master20180614!R137","v":2},{"$f":"Master20191031!S144-Master20180614!S137","v":4},{"$f":"Master20191031!T144-Master20180614!T137","v":0},{"$f":"Master20191031!U144-Master20180614!U137","v":0},{"$f":"Master20191031!V144-Master20180614!V137","v":0},{"$f":"Master20191031!W144-Master20180614!W137","v":1},{"$f":"Master20191031!X144-Master20180614!X137","v":-2},{"$f":"Master20191031!Y144-Master20180614!Y137","v":0},{"$f":"Master20191031!Z144-Master20180614!Z137","v":1},{"$f":"Master20191031!AA144-Master20180614!AA137","v":0},{"$f":"Master20191031!AB144-Master20180614!AB137","v":-1},{"$f":"Master20191031!AC144-Master20180614!AC137","v":0},{"$f":"Master20191031!AD144-Master20180614!AD137","v":-2},{"$f":"Master20191031!AE144-Master20180614!AE137","v":2}]
["Eastern",null,"na","na",{"$f":"Master20191031!E145-Master20180614!E138","v":15},{"$f":"Master20191031!F145-Master20180614!F138","v":216},{"$f":"Master20191031!G145-Master20180614!G138","v":80},{"$f":"Master20191031!H145-Master20180614!H138","v":311},{"$f":"Master20191031!I145-Master20180614!I138","v":-71},{"$f":"Master20191031!J145-Master20180614!J138","v":-219},{"$f":"Master20191031!K145-Master20180614!K138","v":-22},{"$f":"Master20191031!L145-Master20180614!L138","v":320},{"$f":"Master20191031!M145-Master20180614!M138","v":66},{"$f":"Master20191031!N145-Master20180614!N138","v":-7},{"$f":"Master20191031!O145-Master20180614!O138","v":14},{"$f":"Master20191031!P145-Master20180614!P138","v":230},{"$f":"Master20191031!Q145-Master20180614!Q138","v":0},{"$f":"Master20191031!R145-Master20180614!R138","v":5},{"$f":"Master20191031!S145-Master20180614!S138","v":2},{"$f":"Master20191031!T145-Master20180614!T138","v":0},{"$f":"Master20191031!U145-Master20180614!U138","v":2},{"$f":"Master20191031!V145-Master20180614!V138","v":0},{"$f":"Master20191031!W145-Master20180614!W138","v":2},{"$f":"Master20191031!X145-Master20180614!X138","v":6},{"$f":"Master20191031!Y145-Master20180614!Y138","v":0},{"$f":"Master20191031!Z145-Master20180614!Z138","v":0},{"$f":"Master20191031!AA145-Master20180614!AA138","v":0},{"$f":"Master20191031!AB145-Master20180614!AB138","v":0},{"$f":"Master20191031!AC145-Master20180614!AC138","v":3},{"$f":"Master20191031!AD145-Master20180614!AD138","v":-2},{"$f":"Master20191031!AE145-Master20180614!AE138","v":3}]
["Northern",null,"na","na",{"$f":"Master20191031!E146-Master20180614!E139","v":5},{"$f":"Master20191031!F146-Master20180614!F139","v":299},{"$f":"Master20191031!G146-Master20180614!G139","v":108},{"$f":"Master20191031!H146-Master20180614!H139","v":412},{"$f":"Master20191031!I146-Master20180614!I139","v":31},{"$f":"Master20191031!J146-Master20180614!J139","v":-59},{"$f":"Master20191031!K146-Master20180614!K139","v":6},{"$f":"Master20191031!L146-Master20180614!L139","v":191},{"$f":"Master20191031!M146-Master20180614!M139","v":33},{"$f":"Master20191031!N146-Master20180614!N139","v":37},{"$f":"Master20191031!O146-Master20180614!O139","v":-11},{"$f":"Master20191031!P146-Master20180614!P139","v":184},{"$f":"Master20191031!Q146-Master20180614!Q139","v":2},{"$f":"Master20191031!R146-Master20180614!R139","v":-1},{"$f":"Master20191031!S146-Master20180614!S139","v":0},{"$f":"Master20191031!T146-Master20180614!T139","v":0},{"$f":"Master20191031!U146-Master20180614!U139","v":0},{"$f":"Master20191031!V146-Master20180614!V139","v":0},{"$f":"Master20191031!W146-Master20180614!W139","v":0},{"$f":"Master20191031!X146-Master20180614!X139","v":6},{"$f":"Master20191031!Y146-Master20180614!Y139","v":0},{"$f":"Master20191031!Z146-Master20180614!Z139","v":0},{"$f":"Master20191031!AA146-Master20180614!AA139","v":1},{"$f":"Master20191031!AB146-Master20180614!AB139","v":0},{"$f":"Master20191031!AC146-Master20180614!AC139","v":1},{"$f":"Master20191031!AD146-Master20180614!AD139","v":-3},{"$f":"Master20191031!AE146-Master20180614!AE139","v":1}]
["Southwestern",null,"na","na",{"$f":"Master20191031!E147-Master20180614!E140","v":23},{"$f":"Master20191031!F147-Master20180614!F140","v":116},{"$f":"Master20191031!G147-Master20180614!G140","v":61},{"$f":"Master20191031!H147-Master20180614!H140","v":200},{"$f":"Master20191031!I147-Master20180614!I140","v":-14},{"$f":"Master20191031!J147-Master20180614!J140","v":-140},{"$f":"Master20191031!K147-Master20180614!K140","v":-10},{"$f":"Master20191031!L147-Master20180614!L140","v":101},{"$f":"Master20191031!M147-Master20180614!M140","v":32},{"$f":"Master20191031!N147-Master20180614!N140","v":50},{"$f":"Master20191031!O147-Master20180614!O140","v":56},{"$f":"Master20191031!P147-Master20180614!P140","v":125},{"$f":"Master20191031!Q147-Master20180614!Q140","v":0},{"$f":"Master20191031!R147-Master20180614!R140","v":4},{"$f":"Master20191031!S147-Master20180614!S140","v":1},{"$f":"Master20191031!T147-Master20180614!T140","v":0},{"$f":"Master20191031!U147-Master20180614!U140","v":0},{"$f":"Master20191031!V147-Master20180614!V140","v":0},{"$f":"Master20191031!W147-Master20180614!W140","v":2},{"$f":"Master20191031!X147-Master20180614!X140","v":2},{"$f":"Master20191031!Y147-Master20180614!Y140","v":0},{"$f":"Master20191031!Z147-Master20180614!Z140","v":0},{"$f":"Master20191031!AA147-Master20180614!AA140","v":0},{"$f":"Master20191031!AB147-Master20180614!AB140","v":0},{"$f":"Master20191031!AC147-Master20180614!AC140","v":0},{"$f":"Master20191031!AD147-Master20180614!AD140","v":0},{"$f":"Master20191031!AE147-Master20180614!AE140","v":1}]
["Western",null,"na","na",{"$f":"Master20191031!E148-Master20180614!E141","v":6},{"$f":"Master20191031!F148-Master20180614!F141","v":95},{"$f":"Master20191031!G148-Master20180614!G141","v":23},{"$f":"Master20191031!H148-Master20180614!H141","v":124},{"$f":"Master20191031!I148-Master20180614!I141","v":13},{"$f":"Master20191031!J148-Master20180614!J141","v":-87},{"$f":"Master20191031!K148-Master20180614!K141","v":-8},{"$f":"Master20191031!L148-Master20180614!L141","v":29},{"$f":"Master20191031!M148-Master20180614!M141","v":14},{"$f":"Master20191031!N148-Master20180614!N141","v":38},{"$f":"Master20191031!O148-Master20180614!O141","v":21},{"$f":"Master20191031!P148-Master20180614!P141","v":104},{"$f":"Master20191031!Q148-Master20180614!Q141","v":0},{"$f":"Master20191031!R148-Master20180614!R141","v":2},{"$f":"Master20191031!S148-Master20180614!S141","v":0},{"$f":"Master20191031!T148-Master20180614!T141","v":0},{"$f":"Master20191031!U148-Master20180614!U141","v":1},{"$f":"Master20191031!V148-Master20180614!V141","v":0},{"$f":"Master20191031!W148-Master20180614!W141","v":1},{"$f":"Master20191031!X148-Master20180614!X141","v":0},{"$f":"Master20191031!Y148-Master20180614!Y141","v":0},{"$f":"Master20191031!Z148-Master20180614!Z141","v":0},{"$f":"Master20191031!AA148-Master20180614!AA141","v":1},{"$f":"Master20191031!AB148-Master20180614!AB141","v":0},{"$f":"Master20191031!AC148-Master20180614!AC141","v":-1},{"$f":"Master20191031!AD148-Master20180614!AD141","v":1},{"$f":"Master20191031!AE148-Master20180614!AE141","v":-1}]
["Total nonUnique",null,"na","na","na","na","na","na","na","na","na","na","na","na","na","na",{"$f":"Master20191031!Q142-Master20180614!Q142","v":4},{"$f":"Master20191031!R142-Master20180614!R142","v":26},{"$f":"Master20191031!S142-Master20180614!S142","v":50},{"$f":"Master20191031!T142-Master20180614!T142","v":0},{"$f":"Master20191031!U142-Master20180614!U142","v":3},{"$f":"Master20191031!V142-Master20180614!V142","v":0},{"$f":"Master20191031!W142-Master20180614!W142","v":7},{"$f":"Master20191031!X142-Master20180614!X142","v":29},{"$f":"Master20191031!Y142-Master20180614!Y142","v":0},{"$f":"Master20191031!Z142-Master20180614!Z142","v":1},{"$f":"Master20191031!AA142-Master20180614!AA142","v":3},{"$f":"Master20191031!AB142-Master20180614!AB142","v":1},{"$f":"Master20191031!AC142-Master20180614!AC142","v":13},{"$f":"Master20191031!AD142-Master20180614!AD142","v":5},{"$f":"Master20191031!AE142-Master20180614!AE142","v":37}]
["Total Unique",null,"na","na",{"$f":"Master20191031!E149-Master20180614!E143","v":61},{"$f":"Master20191031!F149-Master20180614!F143","v":861},{"$f":"Master20191031!G149-Master20180614!G143","v":354},{"$f":"Master20191031!H149-Master20180614!H143","v":1276},{"$f":"Master20191031!I149-Master20180614!I143","v":-19},{"$f":"Master20191031!J149-Master20180614!J143","v":-609},{"$f":"Master20191031!K149-Master20180614!K143","v":-83},{"$f":"Master20191031!L149-Master20180614!L143","v":896},{"$f":"Master20191031!M149-Master20180614!M143","v":197},{"$f":"Master20191031!N149-Master20180614!N143","v":134},{"$f":"Master20191031!O149-Master20180614!O143","v":84},{"$f":"Master20191031!P149-Master20180614!P143","v":676},{"$f":"Master20191031!Q149-Master20180614!Q143","v":4},{"$f":"Master20191031!R149-Master20180614!R143","v":13},{"$f":"Master20191031!S149-Master20180614!S143","v":7},{"$f":"Master20191031!T149-Master20180614!T143","v":0},{"$f":"Master20191031!U149-Master20180614!U143","v":3},{"$f":"Master20191031!V149-Master20180614!V143","v":0},{"$f":"Master20191031!W149-Master20180614!W143","v":6},{"$f":"Master20191031!X149-Master20180614!X143","v":12},{"$f":"Master20191031!Y149-Master20180614!Y143","v":0},{"$f":"Master20191031!Z149-Master20180614!Z143","v":1},{"$f":"Master20191031!AA149-Master20180614!AA143","v":1},{"$f":"Master20191031!AB149-Master20180614!AB143","v":-1},{"$f":"Master20191031!AC149-Master20180614!AC143","v":4},{"$f":"Master20191031!AD149-Master20180614!AD143","v":-5},{"$f":"Master20191031!AE149-Master20180614!AE143","v":6}]
["DS-SubRegional Totals - Unique"]
["Western","1-A","na","na",{"$f":"Master20191031!E151-Master20180614!E145","v":3},{"$f":"Master20191031!F151-Master20180614!F145","v":33},{"$f":"Master20191031!G151-Master20180614!G145","v":14},{"$f":"Master20191031!H151-Master20180614!H145","v":50},{"$f":"Master20191031!I151-Master20180614!I145","v":10},{"$f":"Master20191031!J151-Master20180614!J145","v":-14},{"$f":"Master20191031!K151-Master20180614!K145","v":-2},{"$f":"Master20191031!L151-Master20180614!L145","v":15},{"$f":"Master20191031!M151-Master20180614!M145","v":2},{"$f":"Master20191031!N151-Master20180614!N145","v":5},{"$f":"Master20191031!O151-Master20180614!O145","v":-2},{"$f":"Master20191031!P151-Master20180614!P145","v":36},{"$f":"Master20191031!Q151-Master20180614!Q145","v":0},{"$f":"Master20191031!R151-Master20180614!R145","v":2},{"$f":"Master20191031!S151-Master20180614!S145","v":0},{"$f":"Master20191031!T151-Master20180614!T145","v":0},{"$f":"Master20191031!U151-Master20180614!U145","v":0},{"$f":"Master20191031!V151-Master20180614!V145","v":0},{"$f":"Master20191031!W151-Master20180614!W145","v":1},{"$f":"Master20191031!X151-Master20180614!X145","v":0},{"$f":"Master20191031!Y151-Master20180614!Y145","v":0},{"$f":"Master20191031!Z151-Master20180614!Z145","v":0},{"$f":"Master20191031!AA151-Master20180614!AA145","v":0},{"$f":"Master20191031!AB151-Master20180614!AB145","v":0},{"$f":"Master20191031!AC151-Master20180614!AC145","v":0},{"$f":"Master20191031!AD151-Master20180614!AD145","v":-1},{"$f":"Master20191031!AE151-Master20180614!AE145","v":0}]
["Western","1-B","na","na",{"$f":"Master20191031!E152-Master20180614!E146","v":4},{"$f":"Master20191031!F152-Master20180614!F146","v":34},{"$f":"Master20191031!G152-Master20180614!G146","v":-7},{"$f":"Master20191031!H152-Master20180614!H146","v":31},{"$f":"Master20191031!I152-Master20180614!I146","v":14},{"$f":"Master20191031!J152-Master20180614!J146","v":-20},{"$f":"Master20191031!K152-Master20180614!K146","v":1},{"$f":"Master20191031!L152-Master20180614!L146","v":-12},{"$f":"Master20191031!M152-Master20180614!M146","v":-1},{"$f":"Master20191031!N152-Master20180614!N146","v":9},{"$f":"Master20191031!O152-Master20180614!O146","v":-2},{"$f":"Master20191031!P152-Master20180614!P146","v":42},{"$f":"Master20191031!Q152-Master20180614!Q146","v":0},{"$f":"Master20191031!R152-Master20180614!R146","v":0},{"$f":"Master20191031!S152-Master20180614!S146","v":0},{"$f":"Master20191031!T152-Master20180614!T146","v":0},{"$f":"Master20191031!U152-Master20180614!U146","v":1},{"$f":"Master20191031!V152-Master20180614!V146","v":0},{"$f":"Master20191031!W152-Master20180614!W146","v":0},{"$f":"Master20191031!X152-Master20180614!X146","v":0},{"$f":"Master20191031!Y152-Master20180614!Y146","v":0},{"$f":"Master20191031!Z152-Master20180614!Z146","v":0},{"$f":"Master20191031!AA152-Master20180614!AA146","v":1},{"$f":"Master20191031!AB152-Master20180614!AB146","v":0},{"$f":"Master20191031!AC152-Master20180614!AC146","v":-1},{"$f":"Master20191031!AD152-Master20180614!AD146","v":2},{"$f":"Master20191031!AE152-Master20180614!AE146","v":0}]
["Western","1-C","na","na",{"$f":"Master20191031!E153-Master20180614!E147","v":0},{"$f":"Master20191031!F153-Master20180614!F147","v":2},{"$f":"Master20191031!G153-Master20180614!G147","v":6},{"$f":"Master20191031!H153-Master20180614!H147","v":8},{"$f":"Master20191031!I153-Master20180614!I147","v":-1},{"$f":"Master20191031!J153-Master20180614!J147","v":-8},{"$f":"Master20191031!K153-Master20180614!K147","v":0},{"$f":"Master20191031!L153-Master20180614!L147","v":11},{"$f":"Master20191031!M153-Master20180614!M147","v":2},{"$f":"Master20191031!N153-Master20180614!N147","v":-2},{"$f":"Master20191031!O153-Master20180614!O147","v":1},{"$f":"Master20191031!P153-Master20180614!P147","v":5},{"$f":"Master20191031!Q153-Master20180614!Q147","v":0},{"$f":"Master20191031!R153-Master20180614!R147","v":0},{"$f":"Master20191031!S153-Master20180614!S147","v":0},{"$f":"Master20191031!T153-Master20180614!T147","v":0},{"$f":"Master20191031!U153-Master20180614!U147","v":0},{"$f":"Master20191031!V153-Master20180614!V147","v":0},{"$f":"Master20191031!W153-Master20180614!W147","v":0},{"$f":"Master20191031!X153-Master20180614!X147","v":0},{"$f":"Master20191031!Y153-Master20180614!Y147","v":0},{"$f":"Master20191031!Z153-Master20180614!Z147","v":0},{"$f":"Master20191031!AA153-Master20180614!AA147","v":0},{"$f":"Master20191031!AB153-Master20180614!AB147","v":0},{"$f":"Master20191031!AC153-Master20180614!AC147","v":0},{"$f":"Master20191031!AD153-Master20180614!AD147","v":0},{"$f":"Master20191031!AE153-Master20180614!AE147","v":0}]
["Western","1-D","na","na",{"$f":"Master20191031!E154-Master20180614!E148","v":0},{"$f":"Master20191031!F154-Master20180614!F148","v":28},{"$f":"Master20191031!G154-Master20180614!G148","v":43},{"$f":"Master20191031!H154-Master20180614!H148","v":71},{"$f":"Master20191031!I154-Master20180614!I148","v":-8},{"$f":"Master20191031!J154-Master20180614!J148","v":-47},{"$f":"Master20191031!K154-Master20180614!K148","v":-2},{"$f":"Master20191031!L154-Master20180614!L148","v":25},{"$f":"Master20191031!M154-Master20180614!M148","v":13},{"$f":"Master20191031!N154-Master20180614!N148","v":41},{"$f":"Master20191031!O154-Master20180614!O148","v":30},{"$f":"Master20191031!P154-Master20180614!P148","v":19},{"$f":"Master20191031!Q154-Master20180614!Q148","v":0},{"$f":"Master20191031!R154-Master20180614!R148","v":1},{"$f":"Master20191031!S154-Master20180614!S148","v":0},{"$f":"Master20191031!T154-Master20180614!T148","v":0},{"$f":"Master20191031!U154-Master20180614!U148","v":0},{"$f":"Master20191031!V154-Master20180614!V148","v":0},{"$f":"Master20191031!W154-Master20180614!W148","v":0},{"$f":"Master20191031!X154-Master20180614!X148","v":0},{"$f":"Master20191031!Y154-Master20180614!Y148","v":0},{"$f":"Master20191031!Z154-Master20180614!Z148","v":0},{"$f":"Master20191031!AA154-Master20180614!AA148","v":0},{"$f":"Master20191031!AB154-Master20180614!AB148","v":0},{"$f":"Master20191031!AC154-Master20180614!AC148","v":0},{"$f":"Master20191031!AD154-Master20180614!AD148","v":0},{"$f":"Master20191031!AE154-Master20180614!AE148","v":-1}]
["Northern","2-A","na","na",{"$f":"Master20191031!E155-Master20180614!E149","v":10},{"$f":"Master20191031!F155-Master20180614!F149","v":216},{"$f":"Master20191031!G155-Master20180614!G149","v":65},{"$f":"Master20191031!H155-Master20180614!H149","v":291},{"$f":"Master20191031!I155-Master20180614!I149","v":5},{"$f":"Master20191031!J155-Master20180614!J149","v":-38},{"$f":"Master20191031!K155-Master20180614!K149","v":6},{"$f":"Master20191031!L155-Master20180614!L149","v":147},{"$f":"Master20191031!M155-Master20180614!M149","v":20},{"$f":"Master20191031!N155-Master20180614!N149","v":21},{"$f":"Master20191031!O155-Master20180614!O149","v":-7},{"$f":"Master20191031!P155-Master20180614!P149","v":137},{"$f":"Master20191031!Q155-Master20180614!Q149","v":1},{"$f":"Master20191031!R155-Master20180614!R149","v":0},{"$f":"Master20191031!S155-Master20180614!S149","v":-2},{"$f":"Master20191031!T155-Master20180614!T149","v":0},{"$f":"Master20191031!U155-Master20180614!U149","v":0},{"$f":"Master20191031!V155-Master20180614!V149","v":0},{"$f":"Master20191031!W155-Master20180614!W149","v":0},{"$f":"Master20191031!X155-Master20180614!X149","v":5},{"$f":"Master20191031!Y155-Master20180614!Y149","v":0},{"$f":"Master20191031!Z155-Master20180614!Z149","v":0},{"$f":"Master20191031!AA155-Master20180614!AA149","v":1},{"$f":"Master20191031!AB155-Master20180614!AB149","v":0},{"$f":"Master20191031!AC155-Master20180614!AC149","v":1},{"$f":"Master20191031!AD155-Master20180614!AD149","v":-2},{"$f":"Master20191031!AE155-Master20180614!AE149","v":2}]
["Northern","2-B","na","na",{"$f":"Master20191031!E156-Master20180614!E150","v":3},{"$f":"Master20191031!F156-Master20180614!F150","v":20},{"$f":"Master20191031!G156-Master20180614!G150","v":11},{"$f":"Master20191031!H156-Master20180614!H150","v":34},{"$f":"Master20191031!I156-Master20180614!I150","v":8},{"$f":"Master20191031!J156-Master20180614!J150","v":-1},{"$f":"Master20191031!K156-Master20180614!K150","v":-1},{"$f":"Master20191031!L156-Master20180614!L150","v":6},{"$f":"Master20191031!M156-Master20180614!M150","v":3},{"$f":"Master20191031!N156-Master20180614!N150","v":-4},{"$f":"Master20191031!O156-Master20180614!O150","v":1},{"$f":"Master20191031!P156-Master20180614!P150","v":22},{"$f":"Master20191031!Q156-Master20180614!Q150","v":0},{"$f":"Master20191031!R156-Master20180614!R150","v":0},{"$f":"Master20191031!S156-Master20180614!S150","v":1},{"$f":"Master20191031!T156-Master20180614!T150","v":0},{"$f":"Master20191031!U156-Master20180614!U150","v":0},{"$f":"Master20191031!V156-Master20180614!V150","v":0},{"$f":"Master20191031!W156-Master20180614!W150","v":0},{"$f":"Master20191031!X156-Master20180614!X150","v":0},{"$f":"Master20191031!Y156-Master20180614!Y150","v":0},{"$f":"Master20191031!Z156-Master20180614!Z150","v":0},{"$f":"Master20191031!AA156-Master20180614!AA150","v":0},{"$f":"Master20191031!AB156-Master20180614!AB150","v":0},{"$f":"Master20191031!AC156-Master20180614!AC150","v":0},{"$f":"Master20191031!AD156-Master20180614!AD150","v":0},{"$f":"Master20191031!AE156-Master20180614!AE150","v":0}]
["Northern","2-C","na","na",{"$f":"Master20191031!E157-Master20180614!E151","v":-4},{"$f":"Master20191031!F157-Master20180614!F151","v":35},{"$f":"Master20191031!G157-Master20180614!G151","v":7},{"$f":"Master20191031!H157-Master20180614!H151","v":38},{"$f":"Master20191031!I157-Master20180614!I151","v":14},{"$f":"Master20191031!J157-Master20180614!J151","v":-8},{"$f":"Master20191031!K157-Master20180614!K151","v":7},{"$f":"Master20191031!L157-Master20180614!L151","v":3},{"$f":"Master20191031!M157-Master20180614!M151","v":11},{"$f":"Master20191031!N157-Master20180614!N151","v":9},{"$f":"Master20191031!O157-Master20180614!O151","v":1},{"$f":"Master20191031!P157-Master20180614!P151","v":1},{"$f":"Master20191031!Q157-Master20180614!Q151","v":1},{"$f":"Master20191031!R157-Master20180614!R151","v":1},{"$f":"Master20191031!S157-Master20180614!S151","v":2},{"$f":"Master20191031!T157-Master20180614!T151","v":0},{"$f":"Master20191031!U157-Master20180614!U151","v":0},{"$f":"Master20191031!V157-Master20180614!V151","v":0},{"$f":"Master20191031!W157-Master20180614!W151","v":0},{"$f":"Master20191031!X157-Master20180614!X151","v":1},{"$f":"Master20191031!Y157-Master20180614!Y151","v":0},{"$f":"Master20191031!Z157-Master20180614!Z151","v":0},{"$f":"Master20191031!AA157-Master20180614!AA151","v":0},{"$f":"Master20191031!AB157-Master20180614!AB151","v":0},{"$f":"Master20191031!AC157-Master20180614!AC151","v":0},{"$f":"Master20191031!AD157-Master20180614!AD151","v":0},{"$f":"Master20191031!AE157-Master20180614!AE151","v":0}]
["Northern","2-D","na","na",{"$f":"Master20191031!E158-Master20180614!E152","v":-4},{"$f":"Master20191031!F158-Master20180614!F152","v":24},{"$f":"Master20191031!G158-Master20180614!G152","v":7},{"$f":"Master20191031!H158-Master20180614!H152","v":27},{"$f":"Master20191031!I158-Master20180614!I152","v":7},{"$f":"Master20191031!J158-Master20180614!J152","v":-17},{"$f":"Master20191031!K158-Master20180614!K152","v":-2},{"$f":"Master20191031!L158-Master20180614!L152","v":20},{"$f":"Master20191031!M158-Master20180614!M152","v":1},{"$f":"Master20191031!N158-Master20180614!N152","v":8},{"$f":"Master20191031!O158-Master20180614!O152","v":-11},{"$f":"Master20191031!P158-Master20180614!P152","v":21},{"$f":"Master20191031!Q158-Master20180614!Q152","v":0},{"$f":"Master20191031!R158-Master20180614!R152","v":-1},{"$f":"Master20191031!S158-Master20180614!S152","v":0},{"$f":"Master20191031!T158-Master20180614!T152","v":0},{"$f":"Master20191031!U158-Master20180614!U152","v":0},{"$f":"Master20191031!V158-Master20180614!V152","v":0},{"$f":"Master20191031!W158-Master20180614!W152","v":0},{"$f":"Master20191031!X158-Master20180614!X152","v":0},{"$f":"Master20191031!Y158-Master20180614!Y152","v":0},{"$f":"Master20191031!Z158-Master20180614!Z152","v":0},{"$f":"Master20191031!AA158-Master20180614!AA152","v":0},{"$f":"Master20191031!AB158-Master20180614!AB152","v":0},{"$f":"Master20191031!AC158-Master20180614!AC152","v":0},{"$f":"Master20191031!AD158-Master20180614!AD152","v":-1},{"$f":"Master20191031!AE158-Master20180614!AE152","v":0}]
["Southwestern","3-A","na","na",{"$f":"Master20191031!E159-Master20180614!E153","v":5},{"$f":"Master20191031!F159-Master20180614!F153","v":41},{"$f":"Master20191031!G159-Master20180614!G153","v":0},{"$f":"Master20191031!H159-Master20180614!H153","v":46},{"$f":"Master20191031!I159-Master20180614!I153","v":-1},{"$f":"Master20191031!J159-Master20180614!J153","v":-33},{"$f":"Master20191031!K159-Master20180614!K153","v":1},{"$f":"Master20191031!L159-Master20180614!L153","v":23},{"$f":"Master20191031!M159-Master20180614!M153","v":8},{"$f":"Master20191031!N159-Master20180614!N153","v":15},{"$f":"Master20191031!O159-Master20180614!O153","v":2},{"$f":"Master20191031!P159-Master20180614!P153","v":31},{"$f":"Master20191031!Q159-Master20180614!Q153","v":0},{"$f":"Master20191031!R159-Master20180614!R153","v":5},{"$f":"Master20191031!S159-Master20180614!S153","v":2},{"$f":"Master20191031!T159-Master20180614!T153","v":0},{"$f":"Master20191031!U159-Master20180614!U153","v":0},{"$f":"Master20191031!V159-Master20180614!V153","v":0},{"$f":"Master20191031!W159-Master20180614!W153","v":0},{"$f":"Master20191031!X159-Master20180614!X153","v":2},{"$f":"Master20191031!Y159-Master20180614!Y153","v":0},{"$f":"Master20191031!Z159-Master20180614!Z153","v":0},{"$f":"Master20191031!AA159-Master20180614!AA153","v":0},{"$f":"Master20191031!AB159-Master20180614!AB153","v":0},{"$f":"Master20191031!AC159-Master20180614!AC153","v":0},{"$f":"Master20191031!AD159-Master20180614!AD153","v":0},{"$f":"Master20191031!AE159-Master20180614!AE153","v":1}]
["Southwestern","3-B","na","na",{"$f":"Master20191031!E160-Master20180614!E154","v":14},{"$f":"Master20191031!F160-Master20180614!F154","v":31},{"$f":"Master20191031!G160-Master20180614!G154","v":48},{"$f":"Master20191031!H160-Master20180614!H154","v":93},{"$f":"Master20191031!I160-Master20180614!I154","v":-12},{"$f":"Master20191031!J160-Master20180614!J154","v":-69},{"$f":"Master20191031!K160-Master20180614!K154","v":-8},{"$f":"Master20191031!L160-Master20180614!L154","v":47},{"$f":"Master20191031!M160-Master20180614!M154","v":16},{"$f":"Master20191031!N160-Master20180614!N154","v":17},{"$f":"Master20191031!O160-Master20180614!O154","v":44},{"$f":"Master20191031!P160-Master20180614!P154","v":58},{"$f":"Master20191031!Q160-Master20180614!Q154","v":0},{"$f":"Master20191031!R160-Master20180614!R154","v":-2},{"$f":"Master20191031!S160-Master20180614!S154","v":3},{"$f":"Master20191031!T160-Master20180614!T154","v":0},{"$f":"Master20191031!U160-Master20180614!U154","v":0},{"$f":"Master20191031!V160-Master20180614!V154","v":0},{"$f":"Master20191031!W160-Master20180614!W154","v":2},{"$f":"Master20191031!X160-Master20180614!X154","v":0},{"$f":"Master20191031!Y160-Master20180614!Y154","v":0},{"$f":"Master20191031!Z160-Master20180614!Z154","v":0},{"$f":"Master20191031!AA160-Master20180614!AA154","v":0},{"$f":"Master20191031!AB160-Master20180614!AB154","v":0},{"$f":"Master20191031!AC160-Master20180614!AC154","v":0},{"$f":"Master20191031!AD160-Master20180614!AD154","v":-1},{"$f":"Master20191031!AE160-Master20180614!AE154","v":0}]
["Southwestern","3-C","na","na",{"$f":"Master20191031!E161-Master20180614!E155","v":0},{"$f":"Master20191031!F161-Master20180614!F155","v":11},{"$f":"Master20191031!G161-Master20180614!G155","v":-6},{"$f":"Master20191031!H161-Master20180614!H155","v":5},{"$f":"Master20191031!I161-Master20180614!I155","v":-2},{"$f":"Master20191031!J161-Master20180614!J155","v":-19},{"$f":"Master20191031!K161-Master20180614!K155","v":-2},{"$f":"Master20191031!L161-Master20180614!L155","v":-3},{"$f":"Master20191031!M161-Master20180614!M155","v":5},{"$f":"Master20191031!N161-Master20180614!N155","v":9},{"$f":"Master20191031!O161-Master20180614!O155","v":8},{"$f":"Master20191031!P161-Master20180614!P155","v":9},{"$f":"Master20191031!Q161-Master20180614!Q155","v":0},{"$f":"Master20191031!R161-Master20180614!R155","v":0},{"$f":"Master20191031!S161-Master20180614!S155","v":-2},{"$f":"Master20191031!T161-Master20180614!T155","v":0},{"$f":"Master20191031!U161-Master20180614!U155","v":0},{"$f":"Master20191031!V161-Master20180614!V155","v":0},{"$f":"Master20191031!W161-Master20180614!W155","v":0},{"$f":"Master20191031!X161-Master20180614!X155","v":0},{"$f":"Master20191031!Y161-Master20180614!Y155","v":0},{"$f":"Master20191031!Z161-Master20180614!Z155","v":0},{"$f":"Master20191031!AA161-Master20180614!AA155","v":0},{"$f":"Master20191031!AB161-Master20180614!AB155","v":1},{"$f":"Master20191031!AC161-Master20180614!AC155","v":0},{"$f":"Master20191031!AD161-Master20180614!AD155","v":0},{"$f":"Master20191031!AE161-Master20180614!AE155","v":0}]
["Southwestern","3-D","na","na",{"$f":"Master20191031!E162-Master20180614!E156","v":3},{"$f":"Master20191031!F162-Master20180614!F156","v":34},{"$f":"Master20191031!G162-Master20180614!G156","v":-7},{"$f":"Master20191031!H162-Master20180614!H156","v":30},{"$f":"Master20191031!I162-Master20180614!I156","v":0},{"$f":"Master20191031!J162-Master20180614!J156","v":-23},{"$f":"Master20191031!K162-Master20180614!K156","v":-5},{"$f":"Master20191031!L162-Master20180614!L156","v":31},{"$f":"Master20191031!M162-Master20180614!M156","v":3},{"$f":"Master20191031!N162-Master20180614!N156","v":2},{"$f":"Master20191031!O162-Master20180614!O156","v":-5},{"$f":"Master20191031!P162-Master20180614!P156","v":27},{"$f":"Master20191031!Q162-Master20180614!Q156","v":0},{"$f":"Master20191031!R162-Master20180614!R156","v":0},{"$f":"Master20191031!S162-Master20180614!S156","v":-1},{"$f":"Master20191031!T162-Master20180614!T156","v":0},{"$f":"Master20191031!U162-Master20180614!U156","v":0},{"$f":"Master20191031!V162-Master20180614!V156","v":0},{"$f":"Master20191031!W162-Master20180614!W156","v":0},{"$f":"Master20191031!X162-Master20180614!X156","v":0},{"$f":"Master20191031!Y162-Master20180614!Y156","v":0},{"$f":"Master20191031!Z162-Master20180614!Z156","v":0},{"$f":"Master20191031!AA162-Master20180614!AA156","v":0},{"$f":"Master20191031!AB162-Master20180614!AB156","v":0},{"$f":"Master20191031!AC162-Master20180614!AC156","v":1},{"$f":"Master20191031!AD162-Master20180614!AD156","v":0},{"$f":"Master20191031!AE162-Master20180614!AE156","v":0}]
["Central","4-A","na","na",{"$f":"Master20191031!E163-Master20180614!E157","v":12},{"$f":"Master20191031!F163-Master20180614!F157","v":91},{"$f":"Master20191031!G163-Master20180614!G157","v":73},{"$f":"Master20191031!H163-Master20180614!H157","v":176},{"$f":"Master20191031!I163-Master20180614!I157","v":19},{"$f":"Master20191031!J163-Master20180614!J157","v":-51},{"$f":"Master20191031!K163-Master20180614!K157","v":-34},{"$f":"Master20191031!L163-Master20180614!L157","v":183},{"$f":"Master20191031!M163-Master20180614!M157","v":31},{"$f":"Master20191031!N163-Master20180614!N157","v":7},{"$f":"Master20191031!O163-Master20180614!O157","v":3},{"$f":"Master20191031!P163-Master20180614!P157","v":18},{"$f":"Master20191031!Q163-Master20180614!Q157","v":2},{"$f":"Master20191031!R163-Master20180614!R157","v":1},{"$f":"Master20191031!S163-Master20180614!S157","v":2},{"$f":"Master20191031!T163-Master20180614!T157","v":0},{"$f":"Master20191031!U163-Master20180614!U157","v":0},{"$f":"Master20191031!V163-Master20180614!V157","v":0},{"$f":"Master20191031!W163-Master20180614!W157","v":1},{"$f":"Master20191031!X163-Master20180614!X157","v":0},{"$f":"Master20191031!Y163-Master20180614!Y157","v":0},{"$f":"Master20191031!Z163-Master20180614!Z157","v":1},{"$f":"Master20191031!AA163-Master20180614!AA157","v":0},{"$f":"Master20191031!AB163-Master20180614!AB157","v":-1},{"$f":"Master20191031!AC163-Master20180614!AC157","v":0},{"$f":"Master20191031!AD163-Master20180614!AD157","v":-2},{"$f":"Master20191031!AE163-Master20180614!AE157","v":1}]
["Central","4-B","na","na",{"$f":"Master20191031!E164-Master20180614!E158","v":1},{"$f":"Master20191031!F164-Master20180614!F158","v":6},{"$f":"Master20191031!G164-Master20180614!G158","v":3},{"$f":"Master20191031!H164-Master20180614!H158","v":10},{"$f":"Master20191031!I164-Master20180614!I158","v":0},{"$f":"Master20191031!J164-Master20180614!J158","v":-4},{"$f":"Master20191031!K164-Master20180614!K158","v":-5},{"$f":"Master20191031!L164-Master20180614!L158","v":7},{"$f":"Master20191031!M164-Master20180614!M158","v":5},{"$f":"Master20191031!N164-Master20180614!N158","v":3},{"$f":"Master20191031!O164-Master20180614!O158","v":2},{"$f":"Master20191031!P164-Master20180614!P158","v":2},{"$f":"Master20191031!Q164-Master20180614!Q158","v":0},{"$f":"Master20191031!R164-Master20180614!R158","v":0},{"$f":"Master20191031!S164-Master20180614!S158","v":1},{"$f":"Master20191031!T164-Master20180614!T158","v":0},{"$f":"Master20191031!U164-Master20180614!U158","v":0},{"$f":"Master20191031!V164-Master20180614!V158","v":0},{"$f":"Master20191031!W164-Master20180614!W158","v":0},{"$f":"Master20191031!X164-Master20180614!X158","v":0},{"$f":"Master20191031!Y164-Master20180614!Y158","v":0},{"$f":"Master20191031!Z164-Master20180614!Z158","v":0},{"$f":"Master20191031!AA164-Master20180614!AA158","v":0},{"$f":"Master20191031!AB164-Master20180614!AB158","v":0},{"$f":"Master20191031!AC164-Master20180614!AC158","v":0},{"$f":"Master20191031!AD164-Master20180614!AD158","v":0},{"$f":"Master20191031!AE164-Master20180614!AE158","v":1}]
["Central","4-C","na","na",{"$f":"Master20191031!E165-Master20180614!E159","v":0},{"$f":"Master20191031!F165-Master20180614!F159","v":12},{"$f":"Master20191031!G165-Master20180614!G159","v":2},{"$f":"Master20191031!H165-Master20180614!H159","v":14},{"$f":"Master20191031!I165-Master20180614!I159","v":-3},{"$f":"Master20191031!J165-Master20180614!J159","v":-9},{"$f":"Master20191031!K165-Master20180614!K159","v":-10},{"$f":"Master20191031!L165-Master20180614!L159","v":27},{"$f":"Master20191031!M165-Master20180614!M159","v":2},{"$f":"Master20191031!N165-Master20180614!N159","v":0},{"$f":"Master20191031!O165-Master20180614!O159","v":1},{"$f":"Master20191031!P165-Master20180614!P159","v":6},{"$f":"Master20191031!Q165-Master20180614!Q159","v":0},{"$f":"Master20191031!R165-Master20180614!R159","v":0},{"$f":"Master20191031!S165-Master20180614!S159","v":0},{"$f":"Master20191031!T165-Master20180614!T159","v":0},{"$f":"Master20191031!U165-Master20180614!U159","v":0},{"$f":"Master20191031!V165-Master20180614!V159","v":0},{"$f":"Master20191031!W165-Master20180614!W159","v":0},{"$f":"Master20191031!X165-Master20180614!X159","v":-1},{"$f":"Master20191031!Y165-Master20180614!Y159","v":0},{"$f":"Master20191031!Z165-Master20180614!Z159","v":0},{"$f":"Master20191031!AA165-Master20180614!AA159","v":0},{"$f":"Master20191031!AB165-Master20180614!AB159","v":0},{"$f":"Master20191031!AC165-Master20180614!AC159","v":0},{"$f":"Master20191031!AD165-Master20180614!AD159","v":1},{"$f":"Master20191031!AE165-Master20180614!AE159","v":0}]
["Central","4-D","na","na",{"$f":"Master20191031!E166-Master20180614!E160","v":0},{"$f":"Master20191031!F166-Master20180614!F160","v":16},{"$f":"Master20191031!G166-Master20180614!G160","v":5},{"$f":"Master20191031!H166-Master20180614!H160","v":21},{"$f":"Master20191031!I166-Master20180614!I160","v":-2},{"$f":"Master20191031!J166-Master20180614!J160","v":-41},{"$f":"Master20191031!K166-Master20180614!K160","v":-12},{"$f":"Master20191031!L166-Master20180614!L160","v":44},{"$f":"Master20191031!M166-Master20180614!M160","v":15},{"$f":"Master20191031!N166-Master20180614!N160","v":3},{"$f":"Master20191031!O166-Master20180614!O160","v":3},{"$f":"Master20191031!P166-Master20180614!P160","v":11},{"$f":"Master20191031!Q166-Master20180614!Q160","v":0},{"$f":"Master20191031!R166-Master20180614!R160","v":1},{"$f":"Master20191031!S166-Master20180614!S160","v":1},{"$f":"Master20191031!T166-Master20180614!T160","v":0},{"$f":"Master20191031!U166-Master20180614!U160","v":0},{"$f":"Master20191031!V166-Master20180614!V160","v":0},{"$f":"Master20191031!W166-Master20180614!W160","v":0},{"$f":"Master20191031!X166-Master20180614!X160","v":-1},{"$f":"Master20191031!Y166-Master20180614!Y160","v":0},{"$f":"Master20191031!Z166-Master20180614!Z160","v":0},{"$f":"Master20191031!AA166-Master20180614!AA160","v":0},{"$f":"Master20191031!AB166-Master20180614!AB160","v":0},{"$f":"Master20191031!AC166-Master20180614!AC160","v":0},{"$f":"Master20191031!AD166-Master20180614!AD160","v":-1},{"$f":"Master20191031!AE166-Master20180614!AE160","v":1}]
["Eastern","5-A","na","na",{"$f":"Master20191031!E167-Master20180614!E161","v":-1},{"$f":"Master20191031!F167-Master20180614!F161","v":24},{"$f":"Master20191031!G167-Master20180614!G161","v":9},{"$f":"Master20191031!H167-Master20180614!H161","v":32},{"$f":"Master20191031!I167-Master20180614!I161","v":0},{"$f":"Master20191031!J167-Master20180614!J161","v":9},{"$f":"Master20191031!K167-Master20180614!K161","v":-1},{"$f":"Master20191031!L167-Master20180614!L161","v":1},{"$f":"Master20191031!M167-Master20180614!M161","v":5},{"$f":"Master20191031!N167-Master20180614!N161","v":-7},{"$f":"Master20191031!O167-Master20180614!O161","v":5},{"$f":"Master20191031!P167-Master20180614!P161","v":20},{"$f":"Master20191031!Q167-Master20180614!Q161","v":0},{"$f":"Master20191031!R167-Master20180614!R161","v":0},{"$f":"Master20191031!S167-Master20180614!S161","v":-1},{"$f":"Master20191031!T167-Master20180614!T161","v":0},{"$f":"Master20191031!U167-Master20180614!U161","v":0},{"$f":"Master20191031!V167-Master20180614!V161","v":0},{"$f":"Master20191031!W167-Master20180614!W161","v":0},{"$f":"Master20191031!X167-Master20180614!X161","v":0},{"$f":"Master20191031!Y167-Master20180614!Y161","v":0},{"$f":"Master20191031!Z167-Master20180614!Z161","v":0},{"$f":"Master20191031!AA167-Master20180614!AA161","v":0},{"$f":"Master20191031!AB167-Master20180614!AB161","v":0},{"$f":"Master20191031!AC167-Master20180614!AC161","v":0},{"$f":"Master20191031!AD167-Master20180614!AD161","v":0},{"$f":"Master20191031!AE167-Master20180614!AE161","v":0}]
["Eastern","5-B","na","na",{"$f":"Master20191031!E168-Master20180614!E162","v":0},{"$f":"Master20191031!F168-Master20180614!F162","v":3},{"$f":"Master20191031!G168-Master20180614!G162","v":2},{"$f":"Master20191031!H168-Master20180614!H162","v":5},{"$f":"Master20191031!I168-Master20180614!I162","v":-3},{"$f":"Master20191031!J168-Master20180614!J162","v":-7},{"$f":"Master20191031!K168-Master20180614!K162","v":0},{"$f":"Master20191031!L168-Master20180614!L162","v":12},{"$f":"Master20191031!M168-Master20180614!M162","v":1},{"$f":"Master20191031!N168-Master20180614!N162","v":1},{"$f":"Master20191031!O168-Master20180614!O162","v":0},{"$f":"Master20191031!P168-Master20180614!P162","v":1},{"$f":"Master20191031!Q168-Master20180614!Q162","v":0},{"$f":"Master20191031!R168-Master20180614!R162","v":0},{"$f":"Master20191031!S168-Master20180614!S162","v":0},{"$f":"Master20191031!T168-Master20180614!T162","v":0},{"$f":"Master20191031!U168-Master20180614!U162","v":0},{"$f":"Master20191031!V168-Master20180614!V162","v":0},{"$f":"Master20191031!W168-Master20180614!W162","v":0},{"$f":"Master20191031!X168-Master20180614!X162","v":0},{"$f":"Master20191031!Y168-Master20180614!Y162","v":0},{"$f":"Master20191031!Z168-Master20180614!Z162","v":0},{"$f":"Master20191031!AA168-Master20180614!AA162","v":0},{"$f":"Master20191031!AB168-Master20180614!AB162","v":0},{"$f":"Master20191031!AC168-Master20180614!AC162","v":0},{"$f":"Master20191031!AD168-Master20180614!AD162","v":0},{"$f":"Master20191031!AE168-Master20180614!AE162","v":0}]
["Eastern","5-C","na","na",{"$f":"Master20191031!E169-Master20180614!E163","v":-1},{"$f":"Master20191031!F169-Master20180614!F163","v":77},{"$f":"Master20191031!G169-Master20180614!G163","v":38},{"$f":"Master20191031!H169-Master20180614!H163","v":114},{"$f":"Master20191031!I169-Master20180614!I163","v":-16},{"$f":"Master20191031!J169-Master20180614!J163","v":-53},{"$f":"Master20191031!K169-Master20180614!K163","v":-5},{"$f":"Master20191031!L169-Master20180614!L163","v":91},{"$f":"Master20191031!M169-Master20180614!M163","v":18},{"$f":"Master20191031!N169-Master20180614!N163","v":3},{"$f":"Master20191031!O169-Master20180614!O163","v":12},{"$f":"Master20191031!P169-Master20180614!P163","v":64},{"$f":"Master20191031!Q169-Master20180614!Q163","v":0},{"$f":"Master20191031!R169-Master20180614!R163","v":2},{"$f":"Master20191031!S169-Master20180614!S163","v":-1},{"$f":"Master20191031!T169-Master20180614!T163","v":0},{"$f":"Master20191031!U169-Master20180614!U163","v":0},{"$f":"Master20191031!V169-Master20180614!V163","v":0},{"$f":"Master20191031!W169-Master20180614!W163","v":0},{"$f":"Master20191031!X169-Master20180614!X163","v":0},{"$f":"Master20191031!Y169-Master20180614!Y163","v":0},{"$f":"Master20191031!Z169-Master20180614!Z163","v":0},{"$f":"Master20191031!AA169-Master20180614!AA163","v":0},{"$f":"Master20191031!AB169-Master20180614!AB163","v":0},{"$f":"Master20191031!AC169-Master20180614!AC163","v":-1},{"$f":"Master20191031!AD169-Master20180614!AD163","v":0},{"$f":"Master20191031!AE169-Master20180614!AE163","v":0}]
["Eastern","5-D","na","na",{"$f":"Master20191031!E170-Master20180614!E164","v":16},{"$f":"Master20191031!F170-Master20180614!F164","v":123},{"$f":"Master20191031!G170-Master20180614!G164","v":41},{"$f":"Master20191031!H170-Master20180614!H164","v":180},{"$f":"Master20191031!I170-Master20180614!I164","v":-48},{"$f":"Master20191031!J170-Master20180614!J164","v":-156},{"$f":"Master20191031!K170-Master20180614!K164","v":-9},{"$f":"Master20191031!L170-Master20180614!L164","v":218},{"$f":"Master20191031!M170-Master20180614!M164","v":37},{"$f":"Master20191031!N170-Master20180614!N164","v":-6},{"$f":"Master20191031!O170-Master20180614!O164","v":-2},{"$f":"Master20191031!P170-Master20180614!P164","v":146},{"$f":"Master20191031!Q170-Master20180614!Q164","v":0},{"$f":"Master20191031!R170-Master20180614!R164","v":4},{"$f":"Master20191031!S170-Master20180614!S164","v":4},{"$f":"Master20191031!T170-Master20180614!T164","v":0},{"$f":"Master20191031!U170-Master20180614!U164","v":2},{"$f":"Master20191031!V170-Master20180614!V164","v":0},{"$f":"Master20191031!W170-Master20180614!W164","v":2},{"$f":"Master20191031!X170-Master20180614!X164","v":6},{"$f":"Master20191031!Y170-Master20180614!Y164","v":0},{"$f":"Master20191031!Z170-Master20180614!Z164","v":0},{"$f":"Master20191031!AA170-Master20180614!AA164","v":0},{"$f":"Master20191031!AB170-Master20180614!AB164","v":0},{"$f":"Master20191031!AC170-Master20180614!AC164","v":3},{"$f":"Master20191031!AD170-Master20180614!AD164","v":-2},{"$f":"Master20191031!AE170-Master20180614!AE164","v":3}]
["(Unique) Number of Individuals with approved Authorization Lines these 6 months"]
["Number of Individuals",null,null,null,{"$f":"Master20191031!E172-Master20180614!E166","v":65},{"$f":"Master20191031!F172-Master20180614!F166","v":281},{"$f":"Master20191031!G172-Master20180614!G166","v":296},{"$f":"Master20191031!H172-Master20180614!H166","v":642},{"$f":"Master20191031!I172-Master20180614!I166","v":23},{"$f":"Master20191031!J172-Master20180614!J166","v":-198},{"$f":"Master20191031!K172-Master20180614!K166","v":-15},{"$f":"Master20191031!L172-Master20180614!L166","v":452},{"$f":"Master20191031!M172-Master20180614!M166","v":87},{"$f":"Master20191031!N172-Master20180614!N166","v":85},{"$f":"Master20191031!O172-Master20180614!O166","v":90},{"$f":"Master20191031!P172-Master20180614!P166","v":118},{"$f":"Master20191031!Q172-Master20180614!Q166","v":119},{"$f":"Master20191031!R172-Master20180614!R166","v":104},{"$f":"Master20191031!S172-Master20180614!S166","v":357},{"$f":"Master20191031!T172-Master20180614!T166","v":0},{"$f":"Master20191031!U172-Master20180614!U166","v":24},{"$f":"Master20191031!V172-Master20180614!V166","v":0},{"$f":"Master20191031!W172-Master20180614!W166","v":62},{"$f":"Master20191031!X172-Master20180614!X166","v":12},{"$f":"Master20191031!Y172-Master20180614!Y166","v":0},{"$f":"Master20191031!Z172-Master20180614!Z166","v":1},{"$f":"Master20191031!AA172-Master20180614!AA166","v":17},{"$f":"Master20191031!AB172-Master20180614!AB166","v":41},{"$f":"Master20191031!AC172-Master20180614!AC166","v":28},{"$f":"Master20191031!AD172-Master20180614!AD166","v":-5},{"$f":"Master20191031!AE172-Master20180614!AE166","v":174}]
["(Unique) Number of Service Authorization Lines (SALs) these 6 months"]
["Number of Jump-Start Service Authorization Lines",null,null,null,{"$f":"Master20191031!E175-Master20180614!E169","v":111},{"$f":"Master20191031!F175-Master20180614!F169","v":536},{"$f":"Master20191031!G175-Master20180614!G169","v":886},{"$f":"Master20191031!H175-Master20180614!H169","v":1533},{"$f":"Master20191031!I175-Master20180614!I169","v":66},{"$f":"Master20191031!J175-Master20180614!J169","v":-245},{"$f":"Master20191031!K175-Master20180614!K169","v":34},{"$f":"Master20191031!L175-Master20180614!L169","v":910},{"$f":"Master20191031!M175-Master20180614!M169","v":176},{"$f":"Master20191031!N175-Master20180614!N169","v":169},{"$f":"Master20191031!O175-Master20180614!O169","v":208},{"$f":"Master20191031!P175-Master20180614!P169","v":215},{"$f":"Master20191031!Q175-Master20180614!Q169","v":132},{"$f":"Master20191031!R175-Master20180614!R169","v":140},{"$f":"Master20191031!S175-Master20180614!S169","v":615},{"$f":"Master20191031!T175-Master20180614!T169","v":0},{"$f":"Master20191031!U175-Master20180614!U169","v":27},{"$f":"Master20191031!V175-Master20180614!V169","v":0},{"$f":"Master20191031!W175-Master20180614!W169","v":96},{"$f":"Master20191031!X175-Master20180614!X169","v":58},{"$f":"Master20191031!Y175-Master20180614!Y169","v":0},{"$f":"Master20191031!Z175-Master20180614!Z169","v":1},{"$f":"Master20191031!AA175-Master20180614!AA169","v":49},{"$f":"Master20191031!AB175-Master20180614!AB169","v":59},{"$f":"Master20191031!AC175-Master20180614!AC169","v":100},{"$f":"Master20191031!AD175-Master20180614!AD169","v":38},{"$f":"Master20191031!AE175-Master20180614!AE169","v":218}]

{"sheet":"UnpivotDelta20191031","index":7,"n_rows":3592,"n_cols":6,"rows_kept":3592,"cut":false,"hidden":true,"merged":[]}
["DS Region","SubRegion","CSB","City/County","Attribute","Value"]
["Eastern","5-B","EAST","Accomack County","BI waiver",0]
["Eastern","5-B","EAST","Accomack County","SIS\nL3",0]
["Eastern","5-B","EAST","Accomack County","SIS\nL5",0]
["Eastern","5-B","EAST","Accomack County","SIS\nL7",0]
["Eastern","5-B","EAST","Accomack County","SIS\nDefault",0]
["Eastern","5-B","EAST","Accomack County","Benefits Planning",0]
["Eastern","5-B","EAST","Accomack County","Community Coaching",0]
["Eastern","5-B","EAST","Accomack County","Community Engagement",0]
["Eastern","5-B","EAST","Accomack County","Community Guide",0]
["Eastern","5-B","EAST","Accomack County","Electronic Home-Based Services",0]
["Eastern","5-B","EAST","Accomack County","Employment and Community Transportation",0]
["Eastern","5-B","EAST","Accomack County","Independent Living Supports",0]
["Eastern","5-B","EAST","Accomack County","In-home Supports",0]
["Eastern","5-B","EAST","Accomack County","Peer Mentoring",0]
["Eastern","5-B","EAST","Accomack County","Shared Living",0]
["Eastern","5-B","EAST","Accomack County","Supported Living",0]
["Eastern","5-B","EAST","Accomack County","Crisis Support Services",0]
["Eastern","5-B","EAST","Accomack County","Private Duty Nursing",0]
["Eastern","5-B","EAST","Accomack County","Skilled Nursing",0]
["Eastern","5-B","EAST","Accomack County","SIS\nL6",1]
["Eastern","5-B","EAST","Accomack County","Sponsored Residential",-1]
["Eastern","5-B","EAST","Accomack County","FIS waiver",2]
["Eastern","5-B","EAST","Accomack County","CL waiver",3]
["Eastern","5-B","EAST","Accomack County","All waivers",5]
["Eastern","5-B","EAST","Accomack County","SIS\nL1",-3]
["Eastern","5-B","EAST","Accomack County","SIS\nL2",-3]
["Eastern","5-B","EAST","Accomack County","SIS\nL4",10]
["Western","1-A","RTEN","Albemarle County","SIS\nL6",0]
["Western","1-A","RTEN","Albemarle County","Benefits Planning",0]
["Western","1-A","RTEN","Albemarle County","Community Engagement",0]
["Western","1-A","RTEN","Albemarle County","Community Guide",0]
["Western","1-A","RTEN","Albemarle County","Electronic Home-Based Services",0]
["Western","1-A","RTEN","Albemarle County","Employment and Community Transportation",0]
["Western","1-A","RTEN","Albemarle County","In-home Supports",0]
["Western","1-A","RTEN","Albemarle County","Peer Mentoring",0]
["Western","1-A","RTEN","Albemarle County","Shared Living",0]
["Western","1-A","RTEN","Albemarle County","Supported Living",0]
["Western","1-A","RTEN","Albemarle County","Crisis Support Services",0]
["Western","1-A","RTEN","Albemarle County","Private Duty Nursing",0]
["Western","1-A","RTEN","Albemarle County","Sponsored Residential",0]
["Western","1-A","RTEN","Albemarle County","SIS\nL3",1]
["Western","1-A","RTEN","Albemarle County","SIS\nL5",1]
["Western","1-A","RTEN","Albemarle County","Community Coaching",1]
["Western","1-A","RTEN","Albemarle County","Independent Living Supports",1]
["Western","1-A","RTEN","Albemarle County","BI waiver",2]
["Western","1-A","RTEN","Albemarle County","Skilled Nursing",-2]
["Western","1-A","RTEN","Albemarle County","FIS waiver",10]
["Western","1-A","RTEN","Albemarle County","CL waiver",12]
["Western","1-A","RTEN","Albemarle County","All waivers",24]
["Western","1-A","RTEN","Albemarle County","SIS\nL1",4]
["Western","1-A","RTEN","Albemarle County","SIS\nL2",-6]
["Western","1-A","RTEN","Albemarle County","SIS\nL4",13]
["Western","1-A","RTEN","Albemarle County","SIS\nL7",-3]
["Western","1-A","RTEN","Albemarle County","SIS\nDefault",14]
["Northern","2-A","ALEX","Alexandria City","BI waiver",0]
["Northern","2-A","ALEX","Alexandria City","Benefits Planning",0]
["Northern","2-A","ALEX","Alexandria City","Community Coaching",0]
["Northern","2-A","ALEX","Alexandria City","Community Engagement",0]
["Northern","2-A","ALEX","Alexandria City","Community Guide",0]
["Northern","2-A","ALEX","Alexandria City","Electronic Home-Based Services",0]
["Northern","2-A","ALEX","Alexandria City","Employment and Community Transportation",0]
["Northern","2-A","ALEX","Alexandria City","Independent Living Supports",0]
["Northern","2-A","ALEX","Alexandria City","Peer Mentoring",0]
["Northern","2-A","ALEX","Alexandria City","Shared Living",0]
["Northern","2-A","ALEX","Alexandria City","Supported Living",0]
["Northern","2-A","ALEX","Alexandria City","Crisis Support Services",0]
["Northern","2-A","ALEX","Alexandria City","Private Duty Nursing",0]
["Northern","2-A","ALEX","Alexandria City","Sponsored Residential",0]
["Northern","2-A","ALEX","Alexandria City","SIS\nL2",1]
["Northern","2-A","ALEX","Alexandria City","SIS\nL3",1]
["Northern","2-A","ALEX","Alexandria City","SIS\nL4",1]
["Northern","2-A","ALEX","Alexandria City","SIS\nL5",1]
["Northern","2-A","ALEX","Alexandria City","In-home Supports",1]
["Northern","2-A","ALEX","Alexandria City","SIS\nL1",-2]
["Northern","2-A","ALEX","Alexandria City","SIS\nL6",-2]
["Northern","2-A","ALEX","Alexandria City","SIS\nL7",-2]
["Northern","2-A","ALEX","Alexandria City","Skilled Nursing",-2]
["Northern","2-A","ALEX","Alexandria City","FIS waiver",12]
["Northern","2-A","ALEX","Alexandria City","CL waiver",-6]
["Northern","2-A","ALEX","Alexandria City","All waivers",6]
["Northern","2-A","ALEX","Alexandria City","SIS\nDefault",8]
["Western","1-C","ALLE","Alleghany County","BI waiver",0]
["Western","1-C","ALLE","Alleghany County","CL waiver",0]
["Western","1-C","ALLE","Alleghany County","SIS\nL3",0]
["Western","1-C","ALLE","Alleghany County","SIS\nL5",0]
["Western","1-C","ALLE","Alleghany County","SIS\nL7",0]
["Western","1-C","ALLE","Alleghany County","Benefits Planning",0]
["Western","1-C","ALLE","Alleghany County","Community Engagement",0]
["Western","1-C","ALLE","Alleghany County","Community Guide",0]
["Western","1-C","ALLE","Alleghany County","Electronic Home-Based Services",0]
["Western","1-C","ALLE","Alleghany County","Employment and Community Transportation",0]
["Western","1-C","ALLE","Alleghany County","Independent Living Supports",0]
["Western","1-C","ALLE","Alleghany County","In-home Supports",0]
["Western","1-C","ALLE","Alleghany County","Peer Mentoring",0]
["Western","1-C","ALLE","Alleghany County","Shared Living",0]
["Western","1-C","ALLE","Alleghany County","Supported Living",0]
["Western","1-C","ALLE","Alleghany County","Crisis Support Services",0]
["Western","1-C","ALLE","Alleghany County","Private Duty Nursing",0]
["Western","1-C","ALLE","Alleghany County","Skilled Nursing",0]
["Western","1-C","ALLE","Alleghany County","Sponsored Residential",0]
["Western","1-C","ALLE","Alleghany County","SIS\nL1",1]
["Western","1-C","ALLE","Alleghany County","SIS\nL4",1]
["Western","1-C","ALLE","Alleghany County","FIS waiver",-1]
["Western","1-C","ALLE","Alleghany County","All waivers",-1]
["Western","1-C","ALLE","Alleghany County","SIS\nL6",-1]
["Western","1-C","ALLE","Alleghany County","Community Coaching",-1]
["Western","1-C","ALLE","Alleghany County","SIS\nDefault",2]
["Western","1-C","ALLE","Alleghany County","SIS\nL2",-4]
["Central","4-B","CROS","Amelia County","BI waiver",0]
["Central","4-B","CROS","Amelia County","FIS waiver",0]
["Central","4-B","CROS","Amelia County","CL waiver",0]
["Central","4-B","CROS","Amelia County","All waivers",0]
["Central","4-B","CROS","Amelia County","SIS\nL1",0]
["Central","4-B","CROS","Amelia County","SIS\nL3",0]
["Central","4-B","CROS","Amelia County","SIS\nL5",0]
["Central","4-B","CROS","Amelia County","SIS\nL7",0]
["Central","4-B","CROS","Amelia County","Benefits Planning",0]
["Central","4-B","CROS","Amelia County","Community Coaching",0]
["Central","4-B","CROS","Amelia County","Community Engagement",0]
["Central","4-B","CROS","Amelia County","Community Guide",0]
["Central","4-B","CROS","Amelia County","Electronic Home-Based Services",0]
["Central","4-B","CROS","Amelia County","Employment and Community Transportation",0]
["Central","4-B","CROS","Amelia County","Independent Living Supports",0]
["Central","4-B","CROS","Amelia County","In-home Supports",0]
["Central","4-B","CROS","Amelia County","Peer Mentoring",0]
["Central","4-B","CROS","Amelia County","Shared Living",0]
["Central","4-B","CROS","Amelia County","Supported Living",0]
["Central","4-B","CROS","Amelia County","Crisis Support Services",0]
["Central","4-B","CROS","Amelia County","Private Duty Nursing",0]
["Central","4-B","CROS","Amelia County","Skilled Nursing",0]
["Central","4-B","CROS","Amelia County","Sponsored Residential",0]
["Central","4-B","CROS","Amelia County","SIS\nL6",-1]
["Central","4-B","CROS","Amelia County","SIS\nDefault",-1]
["Central","4-B","CROS","Amelia County","SIS\nL2",-2]
["Central","4-B","CROS","Amelia County","SIS\nL4",4]
["Western","1-D","HORI","Amherst County","BI waiver",0]
["Western","1-D","HORI","Amherst County","SIS\nL1",0]
["Western","1-D","HORI","Amherst County","Benefits Planning",0]
["Western","1-D","HORI","Amherst County","Community Engagement",0]
["Western","1-D","HORI","Amherst County","Community Guide",0]
["Western","1-D","HORI","Amherst County","Electronic Home-Based Services",0]
["Western","1-D","HORI","Amherst County","Employment and Community Transportation",0]
["Western","1-D","HORI","Amherst County","Independent Living Supports",0]
["Western","1-D","HORI","Amherst County","In-home Supports",0]
["Western","1-D","HORI","Amherst County","Peer Mentoring",0]
["Western","1-D","HORI","Amherst County","Shared Living",0]
["Western","1-D","HORI","Amherst County","Supported Living",0]
["Western","1-D","HORI","Amherst County","Crisis Support Services",0]
["Western","1-D","HORI","Amherst County","Private Duty Nursing",0]
["Western","1-D","HORI","Amherst County","SIS\nL3",1]
["Western","1-D","HORI","Amherst County","Community Coaching",1]
["Western","1-D","HORI","Amherst County","Sponsored Residential",1]
["Western","1-D","HORI","Amherst County","Skilled Nursing",-1]
["Western","1-D","HORI","Amherst County","SIS\nL5",2]
["Western","1-D","HORI","Amherst County","SIS\nDefault",3]
["Western","1-D","HORI","Amherst County","FIS waiver",5]
["Western","1-D","HORI","Amherst County","CL waiver",19]
["Western","1-D","HORI","Amherst County","All waivers",24]
["Western","1-D","HORI","Amherst County","SIS\nL2",-10]
["Western","1-D","HORI","Amherst County","SIS\nL4",14]
["Western","1-D","HORI","Amherst County","SIS\nL6",4]
["Western","1-D","HORI","Amherst County","SIS\nL7",10]
["Western","1-D","HORI","Appomattox County","CL waiver",0]
["Western","1-D","HORI","Appomattox County","SIS\nL3",0]
["Western","1-D","HORI","Appomattox County","SIS\nL4",0]
["Western","1-D","HORI","Appomattox County","Benefits Planning",0]
["Western","1-D","HORI","Appomattox County","Community Engagement",0]
["Western","1-D","HORI","Appomattox County","Community Guide",0]
["Western","1-D","HORI","Appomattox County","Electronic Home-Based Services",0]
["Western","1-D","HORI","Appomattox County","Employment and Community Transportation",0]
["Western","1-D","HORI","Appomattox County","Independent Living Supports",0]
["Western","1-D","HORI","Appomattox County","In-home Supports",0]
["Western","1-D","HORI","Appomattox County","Peer Mentoring",0]
["Western","1-D","HORI","Appomattox County","Shared Living",0]
["Western","1-D","HORI","Appomattox County","Supported Living",0]
["Western","1-D","HORI","Appomattox County","Crisis Support Services",0]
["Western","1-D","HORI","Appomattox County","Private Duty Nursing",0]
["Western","1-D","HORI","Appomattox County","Skilled Nursing",0]
["Western","1-D","HORI","Appomattox County","Sponsored Residential",0]
["Western","1-D","HORI","Appomattox County","SIS\nL5",1]
["Western","1-D","HORI","Appomattox County","SIS\nDefault",1]
["Western","1-D","HORI","Appomattox County","BI waiver",-1]
["Western","1-D","HORI","Appomattox County","Community Coaching",-1]
["Western","1-D","HORI","Appomattox County","All waivers",2]
["Western","1-D","HORI","Appomattox County","SIS\nL7",2]
["Western","1-D","HORI","Appomattox County","SIS\nL1",-2]
["Western","1-D","HORI","Appomattox County","FIS waiver",3]
["Western","1-D","HORI","Appomattox County","SIS\nL2",-5]
["Western","1-D","HORI","Appomattox County","SIS\nL6",5]
["Northern","2-A","ARLI","Arlington County","SIS\nL2",0]
["Northern","2-A","ARLI","Arlington County","Benefits Planning",0]
["Northern","2-A","ARLI","Arlington County","Community Coaching",0]
["Northern","2-A","ARLI","Arlington County","Community Engagement",0]
["Northern","2-A","ARLI","Arlington County","Community Guide",0]
["Northern","2-A","ARLI","Arlington County","Electronic Home-Based Services",0]
["Northern","2-A","ARLI","Arlington County","Employment and Community Transportation",0]
["Northern","2-A","ARLI","Arlington County","Independent Living Supports",0]
["Northern","2-A","ARLI","Arlington County","Peer Mentoring",0]
["Northern","2-A","ARLI","Arlington County","Shared Living",0]
["Northern","2-A","ARLI","Arlington County","Supported Living",0]
["Northern","2-A","ARLI","Arlington County","Crisis Support Services",0]
["Northern","2-A","ARLI","Arlington County","Private Duty Nursing",0]
["Northern","2-A","ARLI","Arlington County","Skilled Nursing",0]
["Northern","2-A","ARLI","Arlington County","Sponsored Residential",0]
["Northern","2-A","ARLI","Arlington County","In-home Supports",1]
["Northern","2-A","ARLI","Arlington County","BI waiver",2]
["Northern","2-A","ARLI","Arlington County","SIS\nL1",-2]
["Northern","2-A","ARLI","Arlington County","SIS\nL3",-2]
["Northern","2-A","ARLI","Arlington County","SIS\nL6",3]
["Northern","2-A","ARLI","Arlington County","FIS waiver",26]
["Northern","2-A","ARLI","Arlington County","CL waiver",5]
["Northern","2-A","ARLI","Arlington County","All waivers",33]
["Northern","2-A","ARLI","Arlington County","SIS\nL4",4]
["Northern","2-A","ARLI","Arlington County","SIS\nL5",4]
["Northern","2-A","ARLI","Arlington County","SIS\nL7",4]
["Northern","2-A","ARLI","Arlington County","SIS\nDefault",22]
["Western","1-B","VLY","Augusta County","SIS\nL4",0]
["Western","1-B","VLY","Augusta County","Benefits Planning",0]
["Western","1-B","VLY","Augusta County","Community Engagement",0]
["Western","1-B","VLY","Augusta County","Community Guide",0]
["Western","1-B","VLY","Augusta County","Electronic Home-Based Services",0]
["Western","1-B","VLY","Augusta County","Employment and Community Transportation",0]
["Western","1-B","VLY","Augusta County","Independent Living Supports",0]
["Western","1-B","VLY","Augusta County","In-home Supports",0]
["Western","1-B","VLY","Augusta County","Peer Mentoring",0]
["Western","1-B","VLY","Augusta County","Shared Living",0]
["Western","1-B","VLY","Augusta County","Supported Living",0]
["Western","1-B","VLY","Augusta County","Crisis Support Services",0]
["Western","1-B","VLY","Augusta County","Skilled Nursing",0]
["Western","1-B","VLY","Augusta County","Sponsored Residential",0]
["Western","1-B","VLY","Augusta County","BI waiver",1]
["Western","1-B","VLY","Augusta County","Community Coaching",1]
["Western","1-B","VLY","Augusta County","SIS\nL5",-1]
["Western","1-B","VLY","Augusta County","Private Duty Nursing",-1]
["Western","1-B","VLY","Augusta County","CL waiver",2]
["Western","1-B","VLY","Augusta County","SIS\nL1",2]
["Western","1-B","VLY","Augusta County","FIS waiver",9]
["Western","1-B","VLY","Augusta County","All waivers",12]
["Western","1-B","VLY","Augusta County","SIS\nL2",-3]
["Western","1-B","VLY","Augusta County","SIS\nL3",-7]
["Western","1-B","VLY","Augusta County","SIS\nL6",8]
["Western","1-B","VLY","Augusta County","SIS\nL7",6]
["Western","1-B","VLY","Augusta County","SIS\nDefault",7]
["Western","1-C","ROC","Bath County","BI waiver",0]
["Western","1-C","ROC","Bath County","FIS waiver",0]
["Western","1-C","ROC","Bath County","CL waiver",0]
["Western","1-C","ROC","Bath County","All waivers",0]
["Western","1-C","ROC","Bath County","SIS\nL1",0]
["Western","1-C","ROC","Bath County","SIS\nL2",0]
["Western","1-C","ROC","Bath County","SIS\nL5",0]
["Western","1-C","ROC","Bath County","SIS\nL7",0]
["Western","1-C","ROC","Bath County","SIS\nDefault",0]
["Western","1-C","ROC","Bath County","Benefits Planning",0]
["Western","1-C","ROC","Bath County","Community Coaching",0]
["Western","1-C","ROC","Bath County","Community Engagement",0]
["Western","1-C","ROC","Bath County","Community Guide",0]
["Western","1-C","ROC","Bath County","Electronic Home-Based Services",0]
["Western","1-C","ROC","Bath County","Employment and Community Transportation",0]
["Western","1-C","ROC","Bath County","Independent Living Supports",0]
["Western","1-C","ROC","Bath County","In-home Supports",0]
["Western","1-C","ROC","Bath County","Peer Mentoring",0]
["Western","1-C","ROC","Bath County","Shared Living",0]
["Western","1-C","ROC","Bath County","Supported Living",0]
["Western","1-C","ROC","Bath County","Crisis Support Services",0]
["Western","1-C","ROC","Bath County","Private Duty Nursing",0]
["Western","1-C","ROC","Bath County","Skilled Nursing",0]
["Western","1-C","ROC","Bath County","Sponsored Residential",0]
["Western","1-C","ROC","Bath County","SIS\nL3",1]
["Western","1-C","ROC","Bath County","SIS\nL4",1]
["Western","1-C","ROC","Bath County","SIS\nL6",-2]
["Western","1-D","HORI","Bedford County","BI waiver",0]
["Western","1-D","HORI","Bedford County","SIS\nL1",0]
["Western","1-D","HORI","Bedford County","Benefits Planning",0]
["Western","1-D","HORI","Bedford County","Community Guide",0]
["Western","1-D","HORI","Bedford County","Electronic Home-Based Services",0]
["Western","1-D","HORI","Bedford County","Employment and Community Transportation",0]
["Western","1-D","HORI","Bedford County","Independent Living Supports",0]
["Western","1-D","HORI","Bedford County","In-home Supports",0]
["Western","1-D","HORI","Bedford County","Peer Mentoring",0]
["Western","1-D","HORI","Bedford County","Shared Living",0]
["Western","1-D","HORI","Bedford County","Supported Living",0]
["Western","1-D","HORI","Bedford County","Crisis Support Services",0]
["Western","1-D","HORI","Bedford County","Private Duty Nursing",0]
["Western","1-D","HORI","Bedford County","Skilled Nursing",0]
["Western","1-D","HORI","Bedford County","Community Engagement",1]
["Western","1-D","HORI","Bedford County","SIS\nL3",-1]
["Western","1-D","HORI","Bedford County","Community Coaching",-1]
["Western","1-D","HORI","Bedford County","Sponsored Residential",-2]
["Western","1-D","HORI","Bedford County","FIS waiver",8]
["Western","1-D","HORI","Bedford County","CL waiver",6]
["Western","1-D","HORI","Bedford County","All waivers",14]
["Western","1-D","HORI","Bedford County","SIS\nL2",-11]
["Western","1-D","HORI","Bedford County","SIS\nL4",-4]
["Western","1-D","HORI","Bedford County","SIS\nL5",4]
["Western","1-D","HORI","Bedford County","SIS\nL6",15]
["Western","1-D","HORI","Bedford County","SIS\nL7",7]
["Western","1-D","HORI","Bedford County","SIS\nDefault",4]
["Southwestern","3-C","MTRG","Bland County","BI waiver",0]
["Southwestern","3-C","MTRG","Bland County","FIS waiver",0]
["Southwestern","3-C","MTRG","Bland County","SIS\nL1",0]
["Southwestern","3-C","MTRG","Bland County","SIS\nL2",0]
["Southwestern","3-C","MTRG","Bland County","SIS\nL3",0]
["Southwestern","3-C","MTRG","Bland County","SIS\nL5",0]
["Southwestern","3-C","MTRG","Bland County","SIS\nDefault",0]
["Southwestern","3-C","MTRG","Bland County","Benefits Planning",0]
["Southwestern","3-C","MTRG","Bland County","Community Coaching",0]
["Southwestern","3-C","MTRG","Bland County","Community Engagement",0]
["Southwestern","3-C","MTRG","Bland County","Community Guide",0]
["Southwestern","3-C","MTRG","Bland County","Electronic Home-Based Services",0]
["Southwestern","3-C","MTRG","Bland County","Employment and Community Transportation",0]
["Southwestern","3-C","MTRG","Bland County","Independent Living Supports",0]
["Southwestern","3-C","MTRG","Bland County","In-home Supports",0]
["Southwestern","3-C","MTRG","Bland County","Peer Mentoring",0]
["Southwestern","3-C","MTRG","Bland County","Shared Living",0]
["Southwestern","3-C","MTRG","Bland County","Supported Living",0]
["Southwestern","3-C","MTRG","Bland County","Crisis Support Services",0]
["Southwestern","3-C","MTRG","Bland County","Private Duty Nursing",0]
["Southwestern","3-C","MTRG","Bland County","Skilled Nursing",0]
["Southwestern","3-C","MTRG","Bland County","Sponsored Residential",0]
["Southwestern","3-C","MTRG","Bland County","CL waiver",1]
["Southwestern","3-C","MTRG","Bland County","All waivers",1]
["Southwestern","3-C","MTRG","Bland County","SIS\nL6",1]
["Southwestern","3-C","MTRG","Bland County","SIS\nL7",1]
["Southwestern","3-C","MTRG","Bland County","SIS\nL4",-1]
["Southwestern","3-A","BLUE","Botetourt County","BI waiver",0]
["Southwestern","3-A","BLUE","Botetourt County","SIS\nL1",0]
["Southwestern","3-A","BLUE","Botetourt County","SIS\nL5",0]
["Southwestern","3-A","BLUE","Botetourt County","SIS\nL7",0]
["Southwestern","3-A","BLUE","Botetourt County","Benefits Planning",0]
["Southwestern","3-A","BLUE","Botetourt County","Community Guide",0]
["Southwestern","3-A","BLUE","Botetourt County","Electronic Home-Based Services",0]
["Southwestern","3-A","BLUE","Botetourt County","Employment and Community Transportation",0]
["Southwestern","3-A","BLUE","Botetourt County","Independent Living Supports",0]
["Southwestern","3-A","BLUE","Botetourt County","In-home Supports",0]
["Southwestern","3-A","BLUE","Botetourt County","Peer Mentoring",0]
["Southwestern","3-A","BLUE","Botetourt County","Shared Living",0]
["Southwestern","3-A","BLUE","Botetourt County","Supported Living",0]
["Southwestern","3-A","BLUE","Botetourt County","Crisis Support Services",0]
["Southwestern","3-A","BLUE","Botetourt County","Private Duty Nursing",0]
["Southwestern","3-A","BLUE","Botetourt County","Skilled Nursing",0]
["Southwestern","3-A","BLUE","Botetourt County","Sponsored Residential",0]
["Southwestern","3-A","BLUE","Botetourt County","SIS\nL3",1]
["Southwestern","3-A","BLUE","Botetourt County","Community Coaching",1]
["Southwestern","3-A","BLUE","Botetourt County","All waivers",2]
["Southwestern","3-A","BLUE","Botetourt County","Community Engagement",2]
["Southwestern","3-A","BLUE","Botetourt County","FIS waiver",5]
["Southwestern","3-A","BLUE","Botetourt County","CL waiver",-3]
["Southwestern","3-A","BLUE","Botetourt County","SIS\nL2",-4]
["Southwestern","3-A","BLUE","Botetourt County","SIS\nL4",-5]
["Southwestern","3-A","BLUE","Botetourt County","SIS\nL6",6]
["Southwestern","3-A","BLUE","Botetourt County","SIS\nDefault",4]
["Southwestern","3-D","HIGH","Bristol City","BI waiver",0]
["Southwestern","3-D","HIGH","Bristol City","SIS\nL3",0]
["Southwestern","3-D","HIGH","Bristol City","SIS\nL6",0]
["Southwestern","3-D","HIGH","Bristol City","SIS\nL7",0]
["Southwestern","3-D","HIGH","Bristol City","Benefits Planning",0]
["Southwestern","3-D","HIGH","Bristol City","Community Coaching",0]
["Southwestern","3-D","HIGH","Bristol City","Community Guide",0]
["Southwestern","3-D","HIGH","Bristol City","Electronic Home-Based Services",0]
["Southwestern","3-D","HIGH","Bristol City","Employment and Community Transportation",0]
["Southwestern","3-D","HIGH","Bristol City","Independent Living Supports",0]
["Southwestern","3-D","HIGH","Bristol City","In-home Supports",0]
["Southwestern","3-D","HIGH","Bristol City","Peer Mentoring",0]
["Southwestern","3-D","HIGH","Bristol City","Shared Living",0]
["Southwestern","3-D","HIGH","Bristol City","Supported Living",0]
["Southwestern","3-D","HIGH","Bristol City","Crisis Support Services",0]
["Southwestern","3-D","HIGH","Bristol City","Private Duty Nursing",0]
["Southwestern","3-D","HIGH","Bristol City","Skilled Nursing",0]
["Southwestern","3-D","HIGH","Bristol City","Sponsored Residential",0]
["Southwestern","3-D","HIGH","Bristol City","SIS\nL1",1]
["Southwestern","3-D","HIGH","Bristol City","SIS\nL5",1]
["Southwestern","3-D","HIGH","Bristol City","Community Engagement",1]
["Southwestern","3-D","HIGH","Bristol City","FIS waiver",2]
["Southwestern","3-D","HIGH","Bristol City","SIS\nDefault",2]
["Southwestern","3-D","HIGH","Bristol City","CL waiver",5]
["Southwestern","3-D","HIGH","Bristol City","All waivers",7]
["Southwestern","3-D","HIGH","Bristol City","SIS\nL2",-3]
["Southwestern","3-D","HIGH","Bristol City","SIS\nL4",6]
["Central","4-D","SS","Brunswick County","BI waiver",0]
["Central","4-D","SS","Brunswick County","FIS waiver",0]
["Central","4-D","SS","Brunswick County","CL waiver",0]
["Central","4-D","SS","Brunswick County","All waivers",0]
["Central","4-D","SS","Brunswick County","SIS\nL2",0]
["Central","4-D","SS","Brunswick County","SIS\nL3",0]
["Central","4-D","SS","Brunswick County","SIS\nL5",0]
["Central","4-D","SS","Brunswick County","SIS\nL6",0]
["Central","4-D","SS","Brunswick County","SIS\nL7",0]
["Central","4-D","SS","Brunswick County","SIS\nDefault",0]
["Central","4-D","SS","Brunswick County","Benefits Planning",0]
["Central","4-D","SS","Brunswick County","Community Coaching",0]
["Central","4-D","SS","Brunswick County","Community Engagement",0]
["Central","4-D","SS","Brunswick County","Community Guide",0]
["Central","4-D","SS","Brunswick County","Electronic Home-Based Services",0]
["Central","4-D","SS","Brunswick County","Employment and Community Transportation",0]
["Central","4-D","SS","Brunswick County","Independent Living Supports",0]
["Central","4-D","SS","Brunswick County","In-home Supports",0]
["Central","4-D","SS","Brunswick County","Peer Mentoring",0]
["Central","4-D","SS","Brunswick County","Shared Living",0]
["Central","4-D","SS","Brunswick County","Supported Living",0]
["Central","4-D","SS","Brunswick County","Crisis Support Services",0]
["Central","4-D","SS","Brunswick County","Private Duty Nursing",0]
["Central","4-D","SS","Brunswick County","Skilled Nursing",0]
["Central","4-D","SS","Brunswick County","Sponsored Residential",0]
["Central","4-D","SS","Brunswick County","SIS\nL4",1]
["Central","4-D","SS","Brunswick County","SIS\nL1",-1]
["Southwestern","3-D","CMT","Buchanan County","BI waiver",0]
["Southwestern","3-D","CMT","Buchanan County","SIS\nL1",0]
["Southwestern","3-D","CMT","Buchanan County","SIS\nL3",0]
["Southwestern","3-D","CMT","Buchanan County","SIS\nL5",0]
["Southwestern","3-D","CMT","Buchanan County","SIS\nL7",0]
["Southwestern","3-D","CMT","Buchanan County","Benefits Planning",0]
["Southwestern","3-D","CMT","Buchanan County","Community Coaching",0]
["Southwestern","3-D","CMT","Buchanan County","Community Engagement",0]
["Southwestern","3-D","CMT","Buchanan County","Community Guide",0]
["Southwestern","3-D","CMT","Buchanan County","Electronic Home-Based Services",0]
["Southwestern","3-D","CMT","Buchanan County","Employment and Community Transportation",0]
["Southwestern","3-D","CMT","Buchanan County","Independent Living Supports",0]
["Southwestern","3-D","CMT","Buchanan County","In-home Supports",0]
["Southwestern","3-D","CMT","Buchanan County","Peer Mentoring",0]
["Southwestern","3-D","CMT","Buchanan County","Shared Living",0]
["Southwestern","3-D","CMT","Buchanan County","Supported Living",0]
["Southwestern","3-D","CMT","Buchanan County","Crisis Support Services",0]
["Southwestern","3-D","CMT","Buchanan County","Private Duty Nursing",0]
["Southwestern","3-D","CMT","Buchanan County","Skilled Nursing",0]
["Southwestern","3-D","CMT","Buchanan County","Sponsored Residential",0]
["Southwestern","3-D","CMT","Buchanan County","All waivers",-1]
["Southwestern","3-D","CMT","Buchanan County","FIS waiver",2]
["Southwestern","3-D","CMT","Buchanan County","SIS\nL4",2]
["Southwestern","3-D","CMT","Buchanan County","SIS\nL6",-2]
["Southwestern","3-D","CMT","Buchanan County","SIS\nDefault",3]
["Southwestern","3-D","CMT","Buchanan County","CL waiver",-3]
["Southwestern","3-D","CMT","Buchanan County","SIS\nL2",-4]
["Central","4-B","CROS","Buckingham County","SIS\nL3",0]
["Central","4-B","CROS","Buckingham County","SIS\nL7",0]
["Central","4-B","CROS","Buckingham County","Benefits Planning",0]
["Central","4-B","CROS","Buckingham County","Community Coaching",0]
["Central","4-B","CROS","Buckingham County","Community Engagement",0]
["Central","4-B","CROS","Buckingham County","Community Guide",0]
["Central","4-B","CROS","Buckingham County","Electronic Home-Based Services",0]
["Central","4-B","CROS","Buckingham County","Employment and Community Transportation",0]
["Central","4-B","CROS","Buckingham County","Independent Living Supports",0]
["Central","4-B","CROS","Buckingham County","In-home Supports",0]
["Central","4-B","CROS","Buckingham County","Peer Mentoring",0]
["Central","4-B","CROS","Buckingham County","Shared Living",0]
["Central","4-B","CROS","Buckingham County","Supported Living",0]
["Central","4-B","CROS","Buckingham County","Crisis Support Services",0]
["Central","4-B","CROS","Buckingham County","Private Duty Nursing",0]
["Central","4-B","CROS","Buckingham County","Skilled Nursing",0]
["Central","4-B","CROS","Buckingham County","Sponsored Residential",0]
["Central","4-B","CROS","Buckingham County","BI waiver",1]
["Central","4-B","CROS","Buckingham County","CL waiver",1]
["Central","4-B","CROS","Buckingham County","All waivers",1]
["Central","4-B","CROS","Buckingham County","SIS\nL5",1]
["Central","4-B","CROS","Buckingham County","SIS\nL6",1]
["Central","4-B","CROS","Buckingham County","FIS waiver",-1]
["Central","4-B","CROS","Buckingham County","SIS\nL1",-1]
["Central","4-B","CROS","Buckingham County","SIS\nDefault",-1]
["Central","4-B","CROS","Buckingham County","SIS\nL4",-2]
["Central","4-B","CROS","Buckingham County","SIS\nL2",3]
["Western","1-C","ROC","Buena Vista City","BI waiver",0]
["Western","1-C","ROC","Buena Vista City","FIS waiver",0]
["Western","1-C","ROC","Buena Vista City","SIS\nL1",0]
["Western","1-C","ROC","Buena Vista City","SIS\nL2",0]
["Western","1-C","ROC","Buena Vista City","SIS\nL3",0]
["Western","1-C","ROC","Buena Vista City","SIS\nL5",0]
["Western","1-C","ROC","Buena Vista City","SIS\nL6",0]
["Western","1-C","ROC","Buena Vista City","SIS\nL7",0]
["Western","1-C","ROC","Buena Vista City","SIS\nDefault",0]
["Western","1-C","ROC","Buena Vista City","Benefits Planning",0]
["Western","1-C","ROC","Buena Vista City","Community Coaching",0]
["Western","1-C","ROC","Buena Vista City","Community Engagement",0]
["Western","1-C","ROC","Buena Vista City","Community Guide",0]
["Western","1-C","ROC","Buena Vista City","Electronic Home-Based Services",0]
["Western","1-C","ROC","Buena Vista City","Employment and Community Transportation",0]
["Western","1-C","ROC","Buena Vista City","Independent Living Supports",0]
["Western","1-C","ROC","Buena Vista City","In-home Supports",0]
["Western","1-C","ROC","Buena Vista City","Peer Mentoring",0]
["Western","1-C","ROC","Buena Vista City","Shared Living",0]
["Western","1-C","ROC","Buena Vista City","Supported Living",0]
["Western","1-C","ROC","Buena Vista City","Crisis Support Services",0]
["Western","1-C","ROC","Buena Vista City","Private Duty Nursing",0]
["Western","1-C","ROC","Buena Vista City","Skilled Nursing",0]
["Western","1-C","ROC","Buena Vista City","Sponsored Residential",0]
["Western","1-C","ROC","Buena Vista City","CL waiver",1]
["Western","1-C","ROC","Buena Vista City","All waivers",1]
["Western","1-C","ROC","Buena Vista City","SIS\nL4",1]
["Western","1-D","HORI","Campbell County","SIS\nDefault",0]
["Western","1-D","HORI","Campbell County","Benefits Planning",0]
["Western","1-D","HORI","Campbell County","Community Coaching",0]
["Western","1-D","HORI","Campbell County","Community Engagement",0]
["Western","1-D","HORI","Campbell County","Community Guide",0]
["Western","1-D","HORI","Campbell County","Electronic Home-Based Services",0]
["Western","1-D","HORI","Campbell County","Employment and Community Transportation",0]
["Western","1-D","HORI","Campbell County","Independent Living Supports",0]
["Western","1-D","HORI","Campbell County","In-home Supports",0]
["Western","1-D","HORI","Campbell County","Peer Mentoring",0]
["Western","1-D","HORI","Campbell County","Shared Living",0]
["Western","1-D","HORI","Campbell County","Supported Living",0]
["Western","1-D","HORI","Campbell County","Crisis Support Services",0]
["Western","1-D","HORI","Campbell County","Private Duty Nursing",0]
["Western","1-D","HORI","Campbell County","Skilled Nursing",0]
["Western","1-D","HORI","Campbell County","Sponsored Residential",0]
["Western","1-D","HORI","Campbell County","BI waiver",1]
["Western","1-D","HORI","Campbell County","SIS\nL1",-1]
["Western","1-D","HORI","Campbell County","SIS\nL3",3]
["Western","1-D","HORI","Campbell County","SIS\nL5",3]
["Western","1-D","HORI","Campbell County","FIS waiver",4]
["Western","1-D","HORI","Campbell County","CL waiver",18]
["Western","1-D","HORI","Campbell County","All waivers",23]
["Western","1-D","HORI","Campbell County","SIS\nL2",-8]
["Western","1-D","HORI","Campbell County","SIS\nL4",7]
["Western","1-D","HORI","Campbell County","SIS\nL6",12]
["Western","1-D","HORI","Campbell County","SIS\nL7",7]
["Northern","2-C","RapA","Caroline County","SIS\nL3",0]
["Northern","2-C","RapA","Caroline County","Benefits Planning",0]
["Northern","2-C","RapA","Caroline County","Community Coaching",0]
["Northern","2-C","RapA","Caroline County","Community Guide",0]
["Northern","2-C","RapA","Caroline County","Electronic Home-Based Services",0]
["Northern","2-C","RapA","Caroline County","Employment and Community Transportation",0]
["Northern","2-C","RapA","Caroline County","Independent Living Supports",0]
["Northern","2-C","RapA","Caroline County","In-home Supports",0]
["Northern","2-C","RapA","Caroline County","Peer Mentoring",0]
["Northern","2-C","RapA","Caroline County","Shared Living",0]
["Northern","2-C","RapA","Caroline County","Supported Living",0]
["Northern","2-C","RapA","Caroline County","Crisis Support Services",0]
["Northern","2-C","RapA","Caroline County","Private Duty Nursing",0]
["Northern","2-C","RapA","Caroline County","Skilled Nursing",0]
["Northern","2-C","RapA","Caroline County","Sponsored Residential",0]
["Northern","2-C","RapA","Caroline County","FIS waiver",1]
["Northern","2-C","RapA","Caroline County","SIS\nL4",1]
["Northern","2-C","RapA","Caroline County","SIS\nL2",-1]
["Northern","2-C","RapA","Caroline County","Community Engagement",-1]
["Northern","2-C","RapA","Caroline County","SIS\nL1",2]
["Northern","2-C","RapA","Caroline County","SIS\nL5",2]
["Northern","2-C","RapA","Caroline County","SIS\nL7",2]
["Northern","2-C","RapA","Caroline County","BI waiver",-2]
["Northern","2-C","RapA","Caroline County","SIS\nL6",3]
["Northern","2-C","RapA","Caroline County","CL waiver",5]
["Northern","2-C","RapA","Caroline County","All waivers",4]
["Northern","2-C","RapA","Caroline County","SIS\nDefault",-5]
["Southwestern","3-B","MTRG","Carroll County","Benefits Planning",0]
["Southwestern","3-B","MTRG","Carroll County","Community Coaching",0]
["Southwestern","3-B","MTRG","Carroll County","Community Engagement",0]
["Southwestern","3-B","MTRG","Carroll County","Community Guide",0]
["Southwestern","3-B","MTRG","Carroll County","Electronic Home-Based Services",0]
["Southwestern","3-B","MTRG","Carroll County","Employment and Community Transportation",0]
["Southwestern","3-B","MTRG","Carroll County","Independent Living Supports",0]
["Southwestern","3-B","MTRG","Carroll County","In-home Supports",0]
["Southwestern","3-B","MTRG","Carroll County","Peer Mentoring",0]
["Southwestern","3-B","MTRG","Carroll County","Shared Living",0]
["Southwestern","3-B","MTRG","Carroll County","Supported Living",0]
["Southwestern","3-B","MTRG","Carroll County","Crisis Support Services",0]
["Southwestern","3-B","MTRG","Carroll County","Private Duty Nursing",0]
["Southwestern","3-B","MTRG","Carroll County","Skilled Nursing",0]
["Southwestern","3-B","MTRG","Carroll County","Sponsored Residential",0]
["Southwestern","3-B","MTRG","Carroll County","BI waiver",-1]
["Southwestern","3-B","MTRG","Carroll County","SIS\nL1",-1]
["Southwestern","3-B","MTRG","Carroll County","SIS\nL3",-1]
["Southwestern","3-B","MTRG","Carroll County","FIS waiver",6]
["Southwestern","3-B","MTRG","Carroll County","CL waiver",32]
["Southwestern","3-B","MTRG","Carroll County","All waivers",37]
["Southwestern","3-B","MTRG","Carroll County","SIS\nL2",-15]
["Southwestern","3-B","MTRG","Carroll County","SIS\nL4",10]
["Southwestern","3-B","MTRG","Carroll County","SIS\nL5",9]
["Southwestern","3-B","MTRG","Carroll County","SIS\nL6",7]
["Southwestern","3-B","MTRG","Carroll County","SIS\nL7",21]
["Southwestern","3-B","MTRG","Carroll County","SIS\nDefault",7]
["Central","4-A","HENR","Charles City County","BI waiver",0]
["Central","4-A","HENR","Charles City County","FIS waiver",0]
["Central","4-A","HENR","Charles City County","SIS\nL1",0]
["Central","4-A","HENR","Charles City County","SIS\nL3",0]
["Central","4-A","HENR","Charles City County","SIS\nL5",0]
["Central","4-A","HENR","Charles City County","SIS\nL6",0]
["Central","4-A","HENR","Charles City County","SIS\nL7",0]
["Central","4-A","HENR","Charles City County","SIS\nDefault",0]
["Central","4-A","HENR","Charles City County","Benefits Planning",0]
["Central","4-A","HENR","Charles City County","Community Coaching",0]
["Central","4-A","HENR","Charles City County","Community Guide",0]
["Central","4-A","HENR","Charles City County","Electronic Home-Based Services",0]
["Central","4-A","HENR","Charles City County","Employment and Community Transportation",0]
["Central","4-A","HENR","Charles City County","Independent Living Supports",0]
["Central","4-A","HENR","Charles City County","In-home Supports",0]
["Central","4-A","HENR","Charles City County","Peer Mentoring",0]
["Central","4-A","HENR","Charles City County","Shared Living",0]
["Central","4-A","HENR","Charles City County","Supported Living",0]
["Central","4-A","HENR","Charles City County","Crisis Support Services",0]
["Central","4-A","HENR","Charles City County","Private Duty Nursing",0]
["Central","4-A","HENR","Charles City County","Skilled Nursing",0]
["Central","4-A","HENR","Charles City County","Sponsored Residential",0]
["Central","4-A","HENR","Charles City County","SIS\nL2",-1]
["Central","4-A","HENR","Charles City County","SIS\nL4",-1]
["Central","4-A","HENR","Charles City County","Community Engagement",-1]
["Central","4-A","HENR","Charles City County","CL waiver",-2]
["Central","4-A","HENR","Charles City County","All waivers",-2]
["Central","4-C","CROS","Charlotte County","BI waiver",0]
["Central","4-C","CROS","Charlotte County","SIS\nL4",0]
["Central","4-C","CROS","Charlotte County","SIS\nL5",0]
["Central","4-C","CROS","Charlotte County","SIS\nL7",0]
["Central","4-C","CROS","Charlotte County","Benefits Planning",0]
["Central","4-C","CROS","Charlotte County","Community Coaching",0]
["Central","4-C","CROS","Charlotte County","Community Guide",0]
["Central","4-C","CROS","Charlotte County","Electronic Home-Based Services",0]
["Central","4-C","CROS","Charlotte County","Employment and Community Transportation",0]
["Central","4-C","CROS","Charlotte County","Independent Living Supports",0]
["Central","4-C","CROS","Charlotte County","In-home Supports",0]
["Central","4-C","CROS","Charlotte County","Peer Mentoring",0]
["Central","4-C","CROS","Charlotte County","Shared Living",0]
["Central","4-C","CROS","Charlotte County","Supported Living",0]
["Central","4-C","CROS","Charlotte County","Crisis Support Services",0]
["Central","4-C","CROS","Charlotte County","Private Duty Nursing",0]
["Central","4-C","CROS","Charlotte County","Skilled Nursing",0]
["Central","4-C","CROS","Charlotte County","Sponsored Residential",0]
["Central","4-C","CROS","Charlotte County","FIS waiver",1]
["Central","4-C","CROS","Charlotte County","SIS\nDefault",1]
["Central","4-C","CROS","Charlotte County","Community Engagement",1]
["Central","4-C","CROS","Charlotte County","SIS\nL6",-1]
["Central","4-C","CROS","Charlotte County","SIS\nL2",2]
["Central","4-C","CROS","Charlotte County","SIS\nL3",-2]
["Central","4-C","CROS","Charlotte County","CL waiver",-4]
["Central","4-C","CROS","Charlotte County","All waivers",-3]
["Central","4-C","CROS","Charlotte County","SIS\nL1",-3]
["Western","1-A","RTEN","Charlottesville City","SIS\nL2",0]
["Western","1-A","RTEN","Charlottesville City","SIS\nL5",0]
["Western","1-A","RTEN","Charlottesville City","SIS\nL7",0]
["Western","1-A","RTEN","Charlottesville City","Benefits Planning",0]
["Western","1-A","RTEN","Charlottesville City","Community Coaching",0]
["Western","1-A","RTEN","Charlottesville City","Community Engagement",0]
["Western","1-A","RTEN","Charlottesville City","Community Guide",0]
["Western","1-A","RTEN","Charlottesville City","Electronic Home-Based Services",0]
["Western","1-A","RTEN","Charlottesville City","Employment and Community Transportation",0]
["Western","1-A","RTEN","Charlottesville City","Independent Living Supports",0]
["Western","1-A","RTEN","Charlottesville City","In-home Supports",0]
["Western","1-A","RTEN","Charlottesville City","Peer Mentoring",0]
["Western","1-A","RTEN","Charlottesville City","Shared Living",0]
["Western","1-A","RTEN","Charlottesville City","Supported Living",0]
["Western","1-A","RTEN","Charlottesville City","Crisis Support Services",0]
["Western","1-A","RTEN","Charlottesville City","Private Duty Nursing",0]
["Western","1-A","RTEN","Charlottesville City","Skilled Nursing",0]
["Western","1-A","RTEN","Charlottesville City","Sponsored Residential",0]
["Western","1-A","RTEN","Charlottesville City","BI waiver",1]
["Western","1-A","RTEN","Charlottesville City","SIS\nL3",-2]
["Western","1-A","RTEN","Charlottesville City","SIS\nDefault",3]
["Western","1-A","RTEN","Charlottesville City","FIS waiver",8]
["Western","1-A","RTEN","Charlottesville City","CL waiver",-5]
["Western","1-A","RTEN","Charlottesville City","All waivers",4]
["Western","1-A","RTEN","Charlottesville City","SIS\nL1",4]
["Western","1-A","RTEN","Charlottesville City","SIS\nL4",-5]
["Western","1-A","RTEN","Charlottesville City","SIS\nL6",4]
["Eastern","5-D","CHSP","Chesapeake City","SIS\nL3",0]
["Eastern","5-D","CHSP","Chesapeake City","SIS\nL7",0]
["Eastern","5-D","CHSP","Chesapeake City","Benefits Planning",0]
["Eastern","5-D","CHSP","Chesapeake City","Community Guide",0]
["Eastern","5-D","CHSP","Chesapeake City","Electronic Home-Based Services",0]
["Eastern","5-D","CHSP","Chesapeake City","Employment and Community Transportation",0]
["Eastern","5-D","CHSP","Chesapeake City","Peer Mentoring",0]
["Eastern","5-D","CHSP","Chesapeake City","Shared Living",0]
["Eastern","5-D","CHSP","Chesapeake City","Supported Living",0]
["Eastern","5-D","CHSP","Chesapeake City","Crisis Support Services",0]
["Eastern","5-D","CHSP","Chesapeake City","BI waiver",1]
["Eastern","5-D","CHSP","Chesapeake City","Community Coaching",1]
["Eastern","5-D","CHSP","Chesapeake City","Independent Living Supports",1]
["Eastern","5-D","CHSP","Chesapeake City","Skilled Nursing",1]
["Eastern","5-D","CHSP","Chesapeake City","Sponsored Residential",1]
["Eastern","5-D","CHSP","Chesapeake City","Community Engagement",2]
["Eastern","5-D","CHSP","Chesapeake City","Private Duty Nursing",2]
["Eastern","5-D","CHSP","Chesapeake City","In-home Supports",3]
["Eastern","5-D","CHSP","Chesapeake City","FIS waiver",28]
["Eastern","5-D","CHSP","Chesapeake City","CL waiver",20]
["Eastern","5-D","CHSP","Chesapeake City","All waivers",49]
["Eastern","5-D","CHSP","Chesapeake City","SIS\nL1",-6]
["Eastern","5-D","CHSP","Chesapeake City","SIS\nL2",-29]
["Eastern","5-D","CHSP","Chesapeake City","SIS\nL4",56]
["Eastern","5-D","CHSP","Chesapeake City","SIS\nL5",8]
["Eastern","5-D","CHSP","Chesapeake City","SIS\nL6",4]
["Eastern","5-D","CHSP","Chesapeake City","SIS\nDefault",16]
["Central","4-A","CHST","Chesterfield County","SIS\nL7",0]
["Central","4-A","CHST","Chesterfield County","Benefits Planning",0]
["Central","4-A","CHST","Chesterfield County","Community Guide",0]
["Central","4-A","CHST","Chesterfield County","Electronic Home-Based Services",0]
["Central","4-A","CHST","Chesterfield County","Employment and Community Transportation",0]
["Central","4-A","CHST","Chesterfield County","Peer Mentoring",0]
["Central","4-A","CHST","Chesterfield County","Shared Living",0]
["Central","4-A","CHST","Chesterfield County","Private Duty Nursing",0]
["Central","4-A","CHST","Chesterfield County","Independent Living Supports",1]
["Central","4-A","CHST","Chesterfield County","Supported Living",1]
["Central","4-A","CHST","Chesterfield County","Sponsored Residential",1]
["Central","4-A","CHST","Chesterfield County","In-home Supports",-1]
["Central","4-A","CHST","Chesterfield County","Crisis Support Services",-1]
["Central","4-A","CHST","Chesterfield County","Community Coaching",2]
["Central","4-A","CHST","Chesterfield County","Community Engagement",-2]
["Central","4-A","CHST","Chesterfield County","SIS\nL6",3]
["Central","4-A","CHST","Chesterfield County","BI waiver",5]
["Central","4-A","CHST","Chesterfield County","FIS waiver",46]
["Central","4-A","CHST","Chesterfield County","CL waiver",70]
["Central","4-A","CHST","Chesterfield County","All waivers",121]
["Central","4-A","CHST","Chesterfield County","SIS\nL1",9]
["Central","4-A","CHST","Chesterfield County","SIS\nL2",19]
["Central","4-A","CHST","Chesterfield County","SIS\nL3",-31]
["Central","4-A","CHST","Chesterfield County","SIS\nL4",72]
["Central","4-A","CHST","Chesterfield County","SIS\nL5",17]
["Central","4-A","CHST","Chesterfield County","SIS\nDefault",32]
["Central","4-A","CHST","Chesterfield County","Skilled Nursing",-3]
["Northern","2-D","NW","Clarke County","BI waiver",0]
["Northern","2-D","NW","Clarke County","SIS\nL2",0]
["Northern","2-D","NW","Clarke County","SIS\nL5",0]
["Northern","2-D","NW","Clarke County","SIS\nL6",0]
["Northern","2-D","NW","Clarke County","SIS\nL7",0]
["Northern","2-D","NW","Clarke County","Benefits Planning",0]
["Northern","2-D","NW","Clarke County","Community Coaching",0]
["Northern","2-D","NW","Clarke County","Community Engagement",0]
["Northern","2-D","NW","Clarke County","Community Guide",0]
["Northern","2-D","NW","Clarke County","Electronic Home-Based Services",0]
["Northern","2-D","NW","Clarke County","Employment and Community Transportation",0]
["Northern","2-D","NW","Clarke County","Independent Living Supports",0]
["Northern","2-D","NW","Clarke County","In-home Supports",0]
["Northern","2-D","NW","Clarke County","Peer Mentoring",0]
["Northern","2-D","NW","Clarke County","Shared Living",0]
["Northern","2-D","NW","Clarke County","Supported Living",0]
["Northern","2-D","NW","Clarke County","Crisis Support Services",0]
["Northern","2-D","NW","Clarke County","Private Duty Nursing",0]
["Northern","2-D","NW","Clarke County","Skilled Nursing",0]
["Northern","2-D","NW","Clarke County","Sponsored Residential",0]
["Northern","2-D","NW","Clarke County","SIS\nL1",1]
["Northern","2-D","NW","Clarke County","SIS\nL3",1]
["Northern","2-D","NW","Clarke County","SIS\nL4",1]
["Northern","2-D","NW","Clarke County","CL waiver",2]
["Northern","2-D","NW","Clarke County","SIS\nDefault",2]
["Northern","2-D","NW","Clarke County","FIS waiver",3]
["Northern","2-D","NW","Clarke County","All waivers",5]
["Central","4-A","D19","Colonial Heights City","BI waiver",0]
["Central","4-A","D19","Colonial Heights City","SIS\nL1",0]
["Central","4-A","D19","Colonial Heights City","SIS\nL3",0]
["Central","4-A","D19","Colonial Heights City","Benefits Planning",0]
["Central","4-A","D19","Colonial Heights City","Community Coaching",0]
["Central","4-A","D19","Colonial Heights City","Community Guide",0]
["Central","4-A","D19","Colonial Heights City","Electronic Home-Based Services",0]
["Central","4-A","D19","Colonial Heights City","Employment and Community Transportation",0]
["Central","4-A","D19","Colonial Heights City","Independent Living Supports",0]
["Central","4-A","D19","Colonial Heights City","Peer Mentoring",0]
["Central","4-A","D19","Colonial Heights City","Shared Living",0]
["Central","4-A","D19","Colonial Heights City","Supported Living",0]
["Central","4-A","D19","Colonial Heights City","Crisis Support Services",0]
["Central","4-A","D19","Colonial Heights City","Private Duty Nursing",0]
["Central","4-A","D19","Colonial Heights City","Skilled Nursing",0]
["Central","4-A","D19","Colonial Heights City","Sponsored Residential",0]
["Central","4-A","D19","Colonial Heights City","SIS\nL2",1]
["Central","4-A","D19","Colonial Heights City","SIS\nL5",1]
["Central","4-A","D19","Colonial Heights City","SIS\nL6",1]
["Central","4-A","D19","Colonial Heights City","SIS\nL7",1]
["Central","4-A","D19","Colonial Heights City","In-home Supports",-1]
["Central","4-A","D19","Colonial Heights City","SIS\nL4",2]
["Central","4-A","D19","Colonial Heights City","Community Engagement",2]
["Central","4-A","D19","Colonial Heights City","FIS waiver",3]
["Central","4-A","D19","Colonial Heights City","SIS\nDefault",3]
["Central","4-A","D19","Colonial Heights City","CL waiver",6]
["Central","4-A","D19","Colonial Heights City","All waivers",9]
["Western","1-C","ALLE","Covington City","BI waiver",0]
["Western","1-C","ALLE","Covington City","FIS waiver",0]
["Western","1-C","ALLE","Covington City","SIS\nL1",0]
["Western","1-C","ALLE","Covington City","SIS\nL2",0]
["Western","1-C","ALLE","Covington City","SIS\nL3",0]
["Western","1-C","ALLE","Covington City","SIS\nL5",0]
["Western","1-C","ALLE","Covington City","SIS\nL6",0]
["Western","1-C","ALLE","Covington City","SIS\nL7",0]
["Western","1-C","ALLE","Covington City","Benefits Planning",0]
["Western","1-C","ALLE","Covington City","Community Coaching",0]
["Western","1-C","ALLE","Covington City","Community Engagement",0]
["Western","1-C","ALLE","Covington City","Community Guide",0]
["Western","1-C","ALLE","Covington City","Electronic Home-Based Services",0]
["Western","1-C","ALLE","Covington City","Employment and Community Transportation",0]
["Western","1-C","ALLE","Covington City","Independent Living Supports",0]
["Western","1-C","ALLE","Covington City","In-home Supports",0]
["Western","1-C","ALLE","Covington City","Peer Mentoring",0]
["Western","1-C","ALLE","Covington City","Shared Living",0]
["Western","1-C","ALLE","Covington City","Supported Living",0]
["Western","1-C","ALLE","Covington City","Crisis Support Services",0]
["Western","1-C","ALLE","Covington City","Private Duty Nursing",0]
["Western","1-C","ALLE","Covington City","Skilled Nursing",0]
["Western","1-C","ALLE","Covington City","Sponsored Residential",0]
["Western","1-C","ALLE","Covington City","SIS\nL4",1]
["Western","1-C","ALLE","Covington City","SIS\nDefault",2]
["Western","1-C","ALLE","Covington City","CL waiver",3]
["Western","1-C","ALLE","Covington City","All waivers",3]
["Southwestern","3-A","BLUE","Craig County","FIS waiver",0]
["Southwestern","3-A","BLUE","Craig County","SIS\nL2",0]
["Southwestern","3-A","BLUE","Craig County","SIS\nL3",0]
["Southwestern","3-A","BLUE","Craig County","SIS\nL4",0]
["Southwestern","3-A","BLUE","Craig County","SIS\nL5",0]
["Southwestern","3-A","BLUE","Craig County","SIS\nL6",0]
["Southwestern","3-A","BLUE","Craig County","Benefits Planning",0]
["Southwestern","3-A","BLUE","Craig County","Community Coaching",0]
["Southwestern","3-A","BLUE","Craig County","Community Engagement",0]
["Southwestern","3-A","BLUE","Craig County","Community Guide",0]
["Southwestern","3-A","BLUE","Craig County","Electronic Home-Based Services",0]
["Southwestern","3-A","BLUE","Craig County","Employment and Community Transportation",0]
["Southwestern","3-A","BLUE","Craig County","Independent Living Supports",0]
["Southwestern","3-A","BLUE","Craig County","In-home Supports",0]
["Southwestern","3-A","BLUE","Craig County","Peer Mentoring",0]
["Southwestern","3-A","BLUE","Craig County","Shared Living",0]
["Southwestern","3-A","BLUE","Craig County","Supported Living",0]
["Southwestern","3-A","BLUE","Craig County","Crisis Support Services",0]
["Southwestern","3-A","BLUE","Craig County","Private Duty Nursing",0]
["Southwestern","3-A","BLUE","Craig County","Skilled Nursing",0]
["Southwestern","3-A","BLUE","Craig County","Sponsored Residential",0]
["Southwestern","3-A","BLUE","Craig County","BI waiver",1]
["Southwestern","3-A","BLUE","Craig County","SIS\nL1",1]
["Southwestern","3-A","BLUE","Craig County","All waivers",-1]
["Southwestern","3-A","BLUE","Craig County","SIS\nL7",-1]
["Southwestern","3-A","BLUE","Craig County","SIS\nDefault",-1]
["Southwestern","3-A","BLUE","Craig County","CL waiver",-2]
["Northern","2-B","RapR","Culpeper County","SIS\nL1",0]
["Northern","2-B","RapR","Culpeper County","SIS\nL7",0]
["Northern","2-B","RapR","Culpeper County","Benefits Planning",0]
["Northern","2-B","RapR","Culpeper County","Community Coaching",0]
["Northern","2-B","RapR","Culpeper County","Community Guide",0]
["Northern","2-B","RapR","Culpeper County","Electronic Home-Based Services",0]
["Northern","2-B","RapR","Culpeper County","Employment and Community Transportation",0]
["Northern","2-B","RapR","Culpeper County","Independent Living Supports",0]
["Northern","2-B","RapR","Culpeper County","In-home Supports",0]
["Northern","2-B","RapR","Culpeper County","Peer Mentoring",0]
["Northern","2-B","RapR","Culpeper County","Shared Living",0]
["Northern","2-B","RapR","Culpeper County","Supported Living",0]
["Northern","2-B","RapR","Culpeper County","Crisis Support Services",0]
["Northern","2-B","RapR","Culpeper County","Private Duty Nursing",0]
["Northern","2-B","RapR","Culpeper County","Skilled Nursing",0]
["Northern","2-B","RapR","Culpeper County","Sponsored Residential",0]
["Northern","2-B","RapR","Culpeper County","SIS\nL3",1]
["Northern","2-B","RapR","Culpeper County","SIS\nL4",1]
["Northern","2-B","RapR","Culpeper County","SIS\nL5",1]
["Northern","2-B","RapR","Culpeper County","Community Engagement",1]
["Northern","2-B","RapR","Culpeper County","SIS\nL6",-1]
["Northern","2-B","RapR","Culpeper County","BI waiver",2]
["Northern","2-B","RapR","Culpeper County","FIS waiver",2]
["Northern","2-B","RapR","Culpeper County","SIS\nL2",3]
["Northern","2-B","RapR","Culpeper County","CL waiver",5]
["Northern","2-B","RapR","Culpeper County","All waivers",9]
["Northern","2-B","RapR","Culpeper County","SIS\nDefault",4]
["Central","4-B","CROS","Cumberland County","BI waiver",0]
["Central","4-B","CROS","Cumberland County","FIS waiver",0]
["Central","4-B","CROS","Cumberland County","SIS\nL1",0]
["Central","4-B","CROS","Cumberland County","SIS\nL6",0]
["Central","4-B","CROS","Cumberland County","SIS\nL7",0]
["Central","4-B","CROS","Cumberland County","Benefits Planning",0]
["Central","4-B","CROS","Cumberland County","Community Coaching",0]
["Central","4-B","CROS","Cumberland County","Community Engagement",0]
["Central","4-B","CROS","Cumberland County","Community Guide",0]
["Central","4-B","CROS","Cumberland County","Electronic Home-Based Services",0]
["Central","4-B","CROS","Cumberland County","Employment and Community Transportation",0]
["Central","4-B","CROS","Cumberland County","Independent Living Supports",0]
["Central","4-B","CROS","Cumberland County","In-home Supports",0]
["Central","4-B","CROS","Cumberland County","Peer Mentoring",0]
["Central","4-B","CROS","Cumberland County","Shared Living",0]
["Central","4-B","CROS","Cumberland County","Supported Living",0]
["Central","4-B","CROS","Cumberland County","Crisis Support Services",0]
["Central","4-B","CROS","Cumberland County","Private Duty Nursing",0]
["Central","4-B","CROS","Cumberland County","Skilled Nursing",0]
["Central","4-B","CROS","Cumberland County","Sponsored Residential",0]
["Central","4-B","CROS","Cumberland County","SIS\nDefault",1]
["Central","4-B","CROS","Cumberland County","SIS\nL3",-1]
["Central","4-B","CROS","Cumberland County","SIS\nL4",2]
["Central","4-B","CROS","Cumberland County","SIS\nL5",2]
["Central","4-B","CROS","Cumberland County","CL waiver",-2]
["Central","4-B","CROS","Cumberland County","All waivers",-2]
["Central","4-B","CROS","Cumberland County","SIS\nL2",-6]
["Southwestern","3-B","DANV","Danville City","SIS\nL5",0]
["Southwestern","3-B","DANV","Danville City","Benefits Planning",0]
["Southwestern","3-B","DANV","Danville City","Community Coaching",0]
["Southwestern","3-B","DANV","Danville City","Community Engagement",0]
["Southwestern","3-B","DANV","Danville City","Community Guide",0]
["Southwestern","3-B","DANV","Danville City","Electronic Home-Based Services",0]
["Southwestern","3-B","DANV","Danville City","Employment and Community Transportation",0]
["Southwestern","3-B","DANV","Danville City","In-home Supports",0]
["Southwestern","3-B","DANV","Danville City","Peer Mentoring",0]
["Southwestern","3-B","DANV","Danville City","Shared Living",0]
["Southwestern","3-B","DANV","Danville City","Supported Living",0]
["Southwestern","3-B","DANV","Danville City","Crisis Support Services",0]
["Southwestern","3-B","DANV","Danville City","Private Duty Nursing",0]
["Southwestern","3-B","DANV","Danville City","Sponsored Residential",0]
["Southwestern","3-A","DANV","Danville City","SIS\nL3",1]
["Southwestern","3-B","DANV","Danville City","Skilled Nursing",-1]
["Southwestern","3-B","DANV","Danville City","Independent Living Supports",2]
["Southwestern","3-B","DANV","Danville City","BI waiver",9]
["Southwestern","3-B","DANV","Danville City","FIS waiver",8]
["Southwestern","3-B","DANV","Danville City","CL waiver",9]
["Southwestern","3-B","DANV","Danville City","All waivers",26]
["Southwestern","3-B","DANV","Danville City","SIS\nL1",-5]
["Southwestern","3-B","DANV","Danville City","SIS\nL2",-17]
["Southwestern","3-B","DANV","Danville City","SIS\nL4",13]
["Southwestern","3-B","DANV","Danville City","SIS\nL6",5]
["Southwestern","3-B","DANV","Danville City","SIS\nL7",11]
["Southwestern","3-B","DANV","Danville City","SIS\nDefault",18]
["Southwestern","3-D","DCBH","Dickenson County","BI waiver",0]
["Southwestern","3-D","DCBH","Dickenson County","Benefits Planning",0]
["Southwestern","3-D","DCBH","Dickenson County","Community Coaching",0]
["Southwestern","3-D","DCBH","Dickenson County","Community Engagement",0]
["Southwestern","3-D","DCBH","Dickenson County","Community Guide",0]
["Southwestern","3-D","DCBH","Dickenson County","Electronic Home-Based Services",0]
["Southwestern","3-D","DCBH","Dickenson County","Employment and Community Transportation",0]
["Southwestern","3-D","DCBH","Dickenson County","Independent Living Supports",0]
["Southwestern","3-D","DCBH","Dickenson County","In-home Supports",0]
["Southwestern","3-D","DCBH","Dickenson County","Peer Mentoring",0]
["Southwestern","3-D","DCBH","Dickenson County","Shared Living",0]
["Southwestern","3-D","DCBH","Dickenson County","Supported Living",0]
["Southwestern","3-D","DCBH","Dickenson County","Crisis Support Services",0]
["Southwestern","3-D","DCBH","Dickenson County","Private Duty Nursing",0]
["Southwestern","3-D","DCBH","Dickenson County","Skilled Nursing",0]
["Southwestern","3-D","DCBH","Dickenson County","Sponsored Residential",0]
["Southwestern","3-A","DCBH","Dickenson County","SIS\nL1",1]
["Southwestern","3-A","DCBH","Dickenson County","SIS\nL3",1]
["Southwestern","3-A","DCBH","Dickenson County","SIS\nDefault",1]
["Southwestern","3-D","DCBH","Dickenson County","SIS\nL6",-1]
["Southwestern","3-D","DCBH","Dickenson County","SIS\nL7",-1]
["Southwestern","3-D","DCBH","Dickenson County","SIS\nL5",3]
["Southwestern","3-D","DCBH","Dickenson County","FIS waiver",4]
["Southwestern","3-D","DCBH","Dickenson County","CL waiver",4]
["Southwestern","3-D","DCBH","Dickenson County","All waivers",8]
["Southwestern","3-D","DCBH","Dickenson County","SIS\nL2",-3]
["Southwestern","3-D","DCBH","Dickenson County","SIS\nL4",7]
["Central","4-D","D19","Dinwiddie County","BI waiver",0]
["Central","4-D","D19","Dinwiddie County","SIS\nL5",0]
["Central","4-D","D19","Dinwiddie County","SIS\nL6",0]
["Central","4-D","D19","Dinwiddie County","Benefits Planning",0]
["Central","4-D","D19","Dinwiddie County","Community Coaching",0]
["Central","4-D","D19","Dinwiddie County","Community Engagement",0]
["Central","4-D","D19","Dinwiddie County","Community Guide",0]
["Central","4-D","D19","Dinwiddie County","Electronic Home-Based Services",0]
["Central","4-D","D19","Dinwiddie County","Employment and Community Transportation",0]
["Central","4-D","D19","Dinwiddie County","Independent Living Supports",0]
["Central","4-D","D19","Dinwiddie County","In-home Supports",0]
["Central","4-D","D19","Dinwiddie County","Peer Mentoring",0]
["Central","4-D","D19","Dinwiddie County","Shared Living",0]
["Central","4-D","D19","Dinwiddie County","Supported Living",0]
["Central","4-D","D19","Dinwiddie County","Crisis Support Services",0]
["Central","4-D","D19","Dinwiddie County","Private Duty Nursing",0]
["Central","4-D","D19","Dinwiddie County","Skilled Nursing",0]
["Central","4-D","D19","Dinwiddie County","Sponsored Residential",0]
["Central","4-D","D19","Dinwiddie County","FIS waiver",1]
["Central","4-D","D19","Dinwiddie County","SIS\nDefault",-1]
["Central","4-D","D19","Dinwiddie County","SIS\nL1",2]
["Central","4-D","D19","Dinwiddie County","SIS\nL3",-2]
["Central","4-D","D19","Dinwiddie County","CL waiver",-5]
["Central","4-D","D19","Dinwiddie County","All waivers",-4]
["Central","4-D","D19","Dinwiddie County","SIS\nL2",-6]
["Central","4-D","D19","Dinwiddie County","SIS\nL4",9]
["Central","4-D","D19","Dinwiddie County","SIS\nL7",-6]
["Central","4-C","D19","Emporia City","BI waiver",0]
["Central","4-C","D19","Emporia City","CL waiver",0]
["Central","4-C","D19","Emporia City","SIS\nL1",0]
["Central","4-C","D19","Emporia City","SIS\nL2",0]
["Central","4-C","D19","Emporia City","SIS\nL3",0]
["Central","4-C","D19","Emporia City","SIS\nL5",0]
["Central","4-C","D19","Emporia City","SIS\nL7",0]
["Central","4-C","D19","Emporia City","Benefits Planning",0]
["Central","4-C","D19","Emporia City","Community Coaching",0]
["Central","4-C","D19","Emporia City","Community Engagement",0]
["Central","4-C","D19","Emporia City","Community Guide",0]
["Central","4-C","D19","Emporia City","Electronic Home-Based Services",0]
["Central","4-C","D19","Emporia City","Employment and Community Transportation",0]
["Central","4-C","D19","Emporia City","Independent Living Supports",0]
["Central","4-C","D19","Emporia City","In-home Supports",0]
["Central","4-C","D19","Emporia City","Peer Mentoring",0]
["Central","4-C","D19","Emporia City","Shared Living",0]
["Central","4-C","D19","Emporia City","Supported Living",0]
["Central","4-C","D19","Emporia City","Crisis Support Services",0]
["Central","4-C","D19","Emporia City","Private Duty Nursing",0]
["Central","4-C","D19","Emporia City","Sponsored Residential",0]
["Central","4-C","D19","Emporia City","FIS waiver",1]
["Central","4-C","D19","Emporia City","All waivers",1]
["Central","4-C","D19","Emporia City","SIS\nL4",1]
["Central","4-C","D19","Emporia City","SIS\nDefault",1]
["Central","4-C","D19","Emporia City","SIS\nL6",-1]
["Central","4-C","D19","Emporia City","Skilled Nursing",-1]
["Eastern","5-A","MPNN","Essex County","BI waiver",0]
["Eastern","5-A","MPNN","Essex County","SIS\nL3",0]
["Eastern","5-A","MPNN","Essex County","SIS\nL5",0]
["Eastern","5-A","MPNN","Essex County","SIS\nL7",0]
["Eastern","5-A","MPNN","Essex County","SIS\nDefault",0]
["Eastern","5-A","MPNN","Essex County","Benefits Planning",0]
["Eastern","5-A","MPNN","Essex County","Community Coaching",0]
["Eastern","5-A","MPNN","Essex County","Community Engagement",0]
["Eastern","5-A","MPNN","Essex County","Community Guide",0]
["Eastern","5-A","MPNN","Essex County","Electronic Home-Based Services",0]
["Eastern","5-A","MPNN","Essex County","Employment and Community Transportation",0]
["Eastern","5-A","MPNN","Essex County","Independent Living Supports",0]
["Eastern","5-A","MPNN","Essex County","In-home Supports",0]
["Eastern","5-A","MPNN","Essex County","Peer Mentoring",0]
["Eastern","5-A","MPNN","Essex County","Shared Living",0]
["Eastern","5-A","MPNN","Essex County","Supported Living",0]
["Eastern","5-A","MPNN","Essex County","Crisis Support Services",0]
["Eastern","5-A","MPNN","Essex County","Private Duty Nursing",0]
["Eastern","5-A","MPNN","Essex County","Skilled Nursing",0]
["Eastern","5-A","MPNN","Essex County","Sponsored Residential",0]
["Eastern","5-A","MPNN","Essex County","CL waiver",1]
["Eastern","5-A","MPNN","Essex County","SIS\nL2",1]
["Eastern","5-A","MPNN","Essex County","SIS\nL4",1]
["Eastern","5-A","MPNN","Essex County","SIS\nL6",-1]
["Eastern","5-A","MPNN","Essex County","FIS waiver",2]
["Eastern","5-A","MPNN","Essex County","SIS\nL1",2]
["Eastern","5-A","MPNN","Essex County","All waivers",3]
["Northern","2-A","FFFC","Fairfax City","BI waiver",0]
["Northern","2-A","FFFC","Fairfax City","All waivers",0]
["Northern","2-A","FFFC","Fairfax City","SIS\nL1",0]
["Northern","2-A","FFFC","Fairfax City","SIS\nL3",0]
["Northern","2-A","FFFC","Fairfax City","SIS\nL5",0]
["Northern","2-A","FFFC","Fairfax City","Benefits Planning",0]
["Northern","2-A","FFFC","Fairfax City","Community Coaching",0]
["Northern","2-A","FFFC","Fairfax City","Community Engagement",0]
["Northern","2-A","FFFC","Fairfax City","Community Guide",0]
["Northern","2-A","FFFC","Fairfax City","Electronic Home-Based Services",0]
["Northern","2-A","FFFC","Fairfax City","Employment and Community Transportation",0]
["Northern","2-A","FFFC","Fairfax City","Independent Living Supports",0]
["Northern","2-A","FFFC","Fairfax City","In-home Supports",0]
["Northern","2-A","FFFC","Fairfax City","Peer Mentoring",0]
["Northern","2-A","FFFC","Fairfax City","Shared Living",0]
["Northern","2-A","FFFC","Fairfax City","Supported Living",0]
["Northern","2-A","FFFC","Fairfax City","Crisis Support Services",0]
["Northern","2-A","FFFC","Fairfax City","Private Duty Nursing",0]
["Northern","2-A","FFFC","Fairfax City","Skilled Nursing",0]
["Northern","2-A","FFFC","Fairfax City","Sponsored Residential",0]
["Northern","2-A","FFFC","Fairfax City","FIS waiver",1]
["Northern","2-A","FFFC","Fairfax City","SIS\nL6",1]
["Northern","2-A","FFFC","Fairfax City","SIS\nL7",1]
["Northern","2-A","FFFC","Fairfax City","SIS\nDefault",1]
["Northern","2-A","FFFC","Fairfax City","CL waiver",-1]
["Northern","2-A","FFFC","Fairfax City","SIS\nL2",-1]
["Northern","2-A","FFFC","Fairfax City","SIS\nL4",-2]
["Northern","2-A","FFFC","Fairfax County","Benefits Planning",0]
["Northern","2-A","FFFC","Fairfax County","Community Guide",0]
["Northern","2-A","FFFC","Fairfax County","Electronic Home-Based Services",0]
["Northern","2-A","FFFC","Fairfax County","Employment and Community Transportation",0]
["Northern","2-A","FFFC","Fairfax County","Independent Living Supports",0]
["Northern","2-A","FFFC","Fairfax County","Peer Mentoring",0]
["Northern","2-A","FFFC","Fairfax County","Shared Living",0]
["Northern","2-A","FFFC","Fairfax County","In-home Supports",1]
["Northern","2-A","FFFC","Fairfax County","Supported Living",1]
["Northern","2-A","FFFC","Fairfax County","Sponsored Residential",1]
["Northern","2-A","FFFC","Fairfax County","Community Engagement",-1]
["Northern","2-A","FFFC","Fairfax County","Community Coaching",2]
["Northern","2-A","FFFC","Fairfax County","Crisis Support Services",-2]
["Northern","2-A","FFFC","Fairfax County","BI waiver",6]
["Northern","2-A","FFFC","Fairfax County","FIS waiver",94]
["Northern","2-A","FFFC","Fairfax County","CL waiver",47]
["Northern","2-A","FFFC","Fairfax County","All waivers",147]
["Northern","2-A","FFFC","Fairfax County","SIS\nL1",12]
["Northern","2-A","FFFC","Fairfax County","SIS\nL2",-33]
["Northern","2-A","FFFC","Fairfax County","SIS\nL3",5]
["Northern","2-A","FFFC","Fairfax County","SIS\nL4",77]
["Northern","2-A","FFFC","Fairfax County","SIS\nL5",12]
["Northern","2-A","FFFC","Fairfax County","SIS\nL6",15]
["Northern","2-A","FFFC","Fairfax County","SIS\nL7",4]
["Northern","2-A","FFFC","Fairfax County","SIS\nDefault",55]
["Northern","2-A","FFFC","Fairfax County","Private Duty Nursing",-5]
["Northern","2-A","FFFC","Fairfax County","Skilled Nursing",-19]
["Northern","2-A","FFFC","Falls Church City","BI waiver",0]
["Northern","2-A","FFFC","Falls Church City","FIS waiver",0]
["Northern","2-A","FFFC","Falls Church City","CL waiver",0]
["Northern","2-A","FFFC","Falls Church City","All waivers",0]
["Northern","2-A","FFFC","Falls Church City","SIS\nL1",0]
["Northern","2-A","FFFC","Falls Church City","SIS\nL2",0]
["Northern","2-A","FFFC","Falls Church City","SIS\nL3",0]
["Northern","2-A","FFFC","Falls Church City","SIS\nL4",0]
["Northern","2-A","FFFC","Falls Church City","SIS\nL5",0]
["Northern","2-A","FFFC","Falls Church City","SIS\nL6",0]
["Northern","2-A","FFFC","Falls Church City","Benefits Planning",0]
["Northern","2-A","FFFC","Falls Church City","Community Coaching",0]
["Northern","2-A","FFFC","Falls Church City","Community Engagement",0]
["Northern","2-A","FFFC","Falls Church City","Community Guide",0]
["Northern","2-A","FFFC","Falls Church City","Electronic Home-Based Services",0]
["Northern","2-A","FFFC","Falls Church City","Employment and Community Transportation",0]
["Northern","2-A","FFFC","Falls Church City","Independent Living Supports",0]
["Northern","2-A","FFFC","Falls Church City","In-home Supports",0]
["Northern","2-A","FFFC","Falls Church City","Peer Mentoring",0]
["Northern","2-A","FFFC","Falls Church City","Shared Living",0]
["Northern","2-A","FFFC","Falls Church City","Supported Living",0]
["Northern","2-A","FFFC","Falls Church City","Crisis Support Services",0]
["Northern","2-A","FFFC","Falls Church City","Private Duty Nursing",0]
["Northern","2-A","FFFC","Falls Church City","Sponsored Residential",0]
["Northern","2-A","FFFC","Falls Church City","SIS\nL7",1]
["Northern","2-A","FFFC","Falls Church City","SIS\nDefault",-1]
["Northern","2-A","FFFC","Falls Church City","Skilled Nursing",-1]
["Northern","2-B","RapR","Fauquier County","BI waiver",0]
["Northern","2-B","RapR","Fauquier County","SIS\nL3",0]
["Northern","2-B","RapR","Fauquier County","Benefits Planning",0]
["Northern","2-B","RapR","Fauquier County","Community Coaching",0]
["Northern","2-B","RapR","Fauquier County","Community Engagement",0]
["Northern","2-B","RapR","Fauquier County","Community Guide",0]
["Northern","2-B","RapR","Fauquier County","Electronic Home-Based Services",0]
["Northern","2-B","RapR","Fauquier County","Employment and Community Transportation",0]
["Northern","2-B","RapR","Fauquier County","Independent Living Supports",0]
["Northern","2-B","RapR","Fauquier County","Peer Mentoring",0]
["Northern","2-B","RapR","Fauquier County","Shared Living",0]
["Northern","2-B","RapR","Fauquier County","Supported Living",0]
["Northern","2-B","RapR","Fauquier County","Crisis Support Services",0]
["Northern","2-B","RapR","Fauquier County","Private Duty Nursing",0]
["Northern","2-B","RapR","Fauquier County","Sponsored Residential",0]
["Northern","2-B","RapR","Fauquier County","CL waiver",1]
["Northern","2-B","RapR","Fauquier County","In-home Supports",-1]
["Northern","2-B","RapR","Fauquier County","Skilled Nursing",-1]
["Northern","2-B","RapR","Fauquier County","SIS\nL5",2]
["Northern","2-B","RapR","Fauquier County","SIS\nL7",2]
["Northern","2-B","RapR","Fauquier County","SIS\nL2",-2]
["Northern","2-B","RapR","Fauquier County","SIS\nL4",-2]
["Northern","2-B","RapR","Fauquier County","SIS\nL1",3]
["Northern","2-B","RapR","Fauquier County","FIS waiver",9]
["Northern","2-B","RapR","Fauquier County","All waivers",10]
["Northern","2-B","RapR","Fauquier County","SIS\nL6",-3]
["Northern","2-B","RapR","Fauquier County","SIS\nDefault",10]
["Southwestern","3-C","NRV","Floyd County","BI waiver",0]
["Southwestern","3-C","NRV","Floyd County","FIS waiver",0]
["Southwestern","3-C","NRV","Floyd County","SIS\nL1",0]
["Southwestern","3-C","NRV","Floyd County","SIS\nL4",0]
["Southwestern","3-C","NRV","Floyd County","SIS\nL5",0]
["Southwestern","3-C","NRV","Floyd County","SIS\nL6",0]
["Southwestern","3-C","NRV","Floyd County","SIS\nDefault",0]
["Southwestern","3-C","NRV","Floyd County","Benefits Planning",0]
["Southwestern","3-C","NRV","Floyd County","Community Guide",0]
["Southwestern","3-C","NRV","Floyd County","Electronic Home-Based Services",0]
["Southwestern","3-C","NRV","Floyd County","Employment and Community Transportation",0]
["Southwestern","3-C","NRV","Floyd County","Independent Living Supports",0]
["Southwestern","3-C","NRV","Floyd County","In-home Supports",0]
["Southwestern","3-C","NRV","Floyd County","Peer Mentoring",0]
["Southwestern","3-C","NRV","Floyd County","Shared Living",0]
["Southwestern","3-C","NRV","Floyd County","Supported Living",0]
["Southwestern","3-C","NRV","Floyd County","Crisis Support Services",0]
["Southwestern","3-C","NRV","Floyd County","Private Duty Nursing",0]
["Southwestern","3-C","NRV","Floyd County","Skilled Nursing",0]
["Southwestern","3-A","NRV","Floyd County","Sponsored Residential",1]
["Southwestern","3-C","NRV","Floyd County","Community Coaching",-1]
["Southwestern","3-C","NRV","Floyd County","Community Engagement",-1]
["Southwestern","3-C","NRV","Floyd County","SIS\nL7",2]
["Southwestern","3-C","NRV","Floyd County","SIS\nL3",-2]
["Southwestern","3-C","NRV","Floyd County","CL waiver",-3]
["Southwestern","3-C","NRV","Floyd County","All waivers",-3]
["Southwestern","3-C","NRV","Floyd County","SIS\nL2",-3]
["Western","1-A","RTEN","Fluvanna County","SIS\nL1",0]
["Western","1-A","RTEN","Fluvanna County","SIS\nL3",0]
["Western","1-A","RTEN","Fluvanna County","SIS\nL5",0]
["Western","1-A","RTEN","Fluvanna County","SIS\nL6",0]
["Western","1-A","RTEN","Fluvanna County","SIS\nL7",0]
["Western","1-A","RTEN","Fluvanna County","Benefits Planning",0]
["Western","1-A","RTEN","Fluvanna County","Community Coaching",0]
["Western","1-A","RTEN","Fluvanna County","Community Engagement",0]
["Western","1-A","RTEN","Fluvanna County","Community Guide",0]
["Western","1-A","RTEN","Fluvanna County","Electronic Home-Based Services",0]
["Western","1-A","RTEN","Fluvanna County","Employment and Community Transportation",0]
["Western","1-A","RTEN","Fluvanna County","Independent Living Supports",0]
["Western","1-A","RTEN","Fluvanna County","In-home Supports",0]
["Western","1-A","RTEN","Fluvanna County","Peer Mentoring",0]
["Western","1-A","RTEN","Fluvanna County","Shared Living",0]
["Western","1-A","RTEN","Fluvanna County","Supported Living",0]
["Western","1-A","RTEN","Fluvanna County","Crisis Support Services",0]
["Western","1-A","RTEN","Fluvanna County","Private Duty Nursing",0]
["Western","1-A","RTEN","Fluvanna County","Skilled Nursing",0]
["Western","1-A","RTEN","Fluvanna County","Sponsored Residential",0]
["Western","1-A","RTEN","Fluvanna County","All waivers",1]
["Western","1-A","RTEN","Fluvanna County","BI waiver",-1]
["Western","1-A","RTEN","Fluvanna County","CL waiver",-1]
["Western","1-A","RTEN","Fluvanna County","SIS\nL2",-1]
["Western","1-A","RTEN","Fluvanna County","SIS\nL4",-2]
["Western","1-A","RTEN","Fluvanna County","FIS waiver",3]
["Western","1-A","RTEN","Fluvanna County","SIS\nDefault",4]
["Eastern","5-D","WT","Franklin City","BI waiver",0]
["Eastern","5-D","WT","Franklin City","All waivers",0]
["Eastern","5-D","WT","Franklin City","SIS\nL3",0]
["Eastern","5-D","WT","Franklin City","SIS\nL5",0]
["Eastern","5-D","WT","Franklin City","SIS\nL7",0]
["Eastern","5-D","WT","Franklin City","Benefits Planning",0]
["Eastern","5-D","WT","Franklin City","Community Coaching",0]
["Eastern","5-D","WT","Franklin City","Community Engagement",0]
["Eastern","5-D","WT","Franklin City","Community Guide",0]
["Eastern","5-D","WT","Franklin City","Electronic Home-Based Services",0]
["Eastern","5-D","WT","Franklin City","Employment and Community Transportation",0]
["Eastern","5-D","WT","Franklin City","Independent Living Supports",0]
["Eastern","5-D","WT","Franklin City","In-home Supports",0]
["Eastern","5-D","WT","Franklin City","Peer Mentoring",0]
["Eastern","5-D","WT","Franklin City","Shared Living",0]
["Eastern","5-D","WT","Franklin City","Supported Living",0]
["Eastern","5-D","WT","Franklin City","Crisis Support Services",0]
["Eastern","5-D","WT","Franklin City","Sponsored Residential",0]
["Eastern","5-D","WT","Franklin City","FIS waiver",1]
["Eastern","5-D","WT","Franklin City","SIS\nDefault",1]
["Eastern","5-D","WT","Franklin City","CL waiver",-1]
["Eastern","5-D","WT","Franklin City","SIS\nL1",-1]
["Eastern","5-D","WT","Franklin City","SIS\nL2",-1]
["Eastern","5-D","WT","Franklin City","SIS\nL6",-1]
["Eastern","5-D","WT","Franklin City","Private Duty Nursing",-1]
["Eastern","5-D","WT","Franklin City","Skilled Nursing",-1]
["Eastern","5-D","WT","Franklin City","SIS\nL4",2]
["Southwestern","3-D","PDMT","Franklin County","SIS\nL3",0]
["Southwestern","3-D","PDMT","Franklin County","Benefits Planning",0]
["Southwestern","3-D","PDMT","Franklin County","Community Coaching",0]
["Southwestern","3-D","PDMT","Franklin County","Community Engagement",0]
["Southwestern","3-D","PDMT","Franklin County","Community Guide",0]
["Southwestern","3-D","PDMT","Franklin County","Electronic Home-Based Services",0]
["Southwestern","3-D","PDMT","Franklin County","Employment and Community Transportation",0]
["Southwestern","3-D","PDMT","Franklin County","Independent Living Supports",0]
["Southwestern","3-D","PDMT","Franklin County","In-home Supports",0]
["Southwestern","3-D","PDMT","Franklin County","Peer Mentoring",0]
["Southwestern","3-D","PDMT","Franklin County","Shared Living",0]
["Southwestern","3-D","PDMT","Franklin County","Supported Living",0]
["Southwestern","3-D","PDMT","Franklin County","Crisis Support Services",0]
["Southwestern","3-D","PDMT","Franklin County","Private Duty Nursing",0]
["Southwestern","3-D","PDMT","Franklin County","Skilled Nursing",0]
["Southwestern","3-D","PDMT","Franklin County","Sponsored Residential",0]
["Southwestern","3-D","PDMT","Franklin County","BI waiver",-1]
["Southwestern","3-D","PDMT","Franklin County","CL waiver",2]
["Southwestern","3-D","PDMT","Franklin County","SIS\nL5",3]
["Southwestern","3-D","PDMT","Franklin County","FIS waiver",4]
["Southwestern","3-D","PDMT","Franklin County","All waivers",5]
["Southwestern","3-D","PDMT","Franklin County","SIS\nL1",-4]
["Southwestern","3-D","PDMT","Franklin County","SIS\nL2",-6]
["Southwestern","3-D","PDMT","Franklin County","SIS\nL4",7]
["Southwestern","3-D","PDMT","Franklin County","SIS\nL6",4]
["Southwestern","3-D","PDMT","Franklin County","SIS\nL7",-3]
["Southwestern","3-D","PDMT","Franklin County","SIS\nDefault",4]
["Northern","2-D","NW","Frederick County","BI waiver",0]
["Northern","2-D","NW","Frederick County","Benefits Planning",0]
["Northern","2-D","NW","Frederick County","Community Coaching",0]
["Northern","2-D","NW","Frederick County","Community Engagement",0]
["Northern","2-D","NW","Frederick County","Community Guide",0]
["Northern","2-D","NW","Frederick County","Electronic Home-Based Services",0]
["Northern","2-D","NW","Frederick County","Employment and Community Transportation",0]
["Northern","2-D","NW","Frederick County","Independent Living Supports",0]
["Northern","2-D","NW","Frederick County","In-home Supports",0]
["Northern","2-D","NW","Frederick County","Peer Mentoring",0]
["Northern","2-D","NW","Frederick County","Shared Living",0]
["Northern","2-D","NW","Frederick County","Supported Living",0]
["Northern","2-D","NW","Frederick County","Crisis Support Services",0]
["Northern","2-D","NW","Frederick County","Private Duty Nursing",0]
["Northern","2-D","NW","Frederick County","Skilled Nursing",0]
["Northern","2-D","NW","Frederick County","Sponsored Residential",0]
["Northern","2-D","NW","Frederick County","SIS\nL1",1]
["Northern","2-D","NW","Frederick County","SIS\nL5",1]
["Northern","2-D","NW","Frederick County","SIS\nL2",-2]
["Northern","2-D","NW","Frederick County","CL waiver",3]
["Northern","2-D","NW","Frederick County","FIS waiver",12]
["Northern","2-D","NW","Frederick County","All waivers",15]
["Northern","2-D","NW","Frederick County","SIS\nL3",-3]
["Northern","2-D","NW","Frederick County","SIS\nL4",11]
["Northern","2-D","NW","Frederick County","SIS\nL6",6]
["Northern","2-D","NW","Frederick County","SIS\nL7",-5]
["Northern","2-D","NW","Frederick County","SIS\nDefault",6]
["Northern","2-C","RapA","Fredericksburg City","BI waiver",0]
["Northern","2-C","RapA","Fredericksburg City","SIS\nL2",0]
["Northern","2-C","RapA","Fredericksburg City","SIS\nL3",0]
["Northern","2-C","RapA","Fredericksburg City","SIS\nL5",0]
["Northern","2-C","RapA","Fredericksburg City","Benefits Planning",0]
["Northern","2-C","RapA","Fredericksburg City","Community Coaching",0]
["Northern","2-C","RapA","Fredericksburg City","Community Engagement",0]
["Northern","2-C","RapA","Fredericksburg City","Community Guide",0]
["Northern","2-C","RapA","Fredericksburg City","Electronic Home-Based Services",0]
["Northern","2-C","RapA","Fredericksburg City","Employment and Community Transportation",0]
["Northern","2-C","RapA","Fredericksburg City","Independent Living Supports",0]
["Northern","2-C","RapA","Fredericksburg City","In-home Supports",0]
["Northern","2-C","RapA","Fredericksburg City","Peer Mentoring",0]
["Northern","2-C","RapA","Fredericksburg City","Shared Living",0]
["Northern","2-C","RapA","Fredericksburg City","Supported Living",0]
["Northern","2-C","RapA","Fredericksburg City","Crisis Support Services",0]
["Northern","2-C","RapA","Fredericksburg City","Skilled Nursing",0]
["Northern","2-C","RapA","Fredericksburg City","Sponsored Residential",0]
["Northern","2-C","RapA","Fredericksburg City","SIS\nL6",-1]
["Northern","2-C","RapA","Fredericksburg City","SIS\nL4",2]
["Northern","2-C","RapA","Fredericksburg City","SIS\nL7",-2]
["Northern","2-C","RapA","Fredericksburg City","CL waiver",3]
["Northern","2-C","RapA","Fredericksburg City","FIS waiver",4]
["Northern","2-C","RapA","Fredericksburg City","All waivers",7]
["Northern","2-C","RapA","Fredericksburg City","SIS\nL1",4]
["Northern","2-C","RapA","Fredericksburg City","SIS\nDefault",4]
["Northern","2-C","RapA","Fredericksburg City","Private Duty Nursing",-3]
["Southwestern","3-B","MTRG","Galax City","BI waiver",0]
["Southwestern","3-B","MTRG","Galax City","FIS waiver",0]
["Southwestern","3-B","MTRG","Galax City","SIS\nL1",0]
["Southwestern","3-B","MTRG","Galax City","SIS\nL5",0]
["Southwestern","3-B","MTRG","Galax City","SIS\nDefault",0]
["Southwestern","3-B","MTRG","Galax City","Benefits Planning",0]
["Southwestern","3-B","MTRG","Galax City","Community Guide",0]
["Southwestern","3-B","MTRG","Galax City","Electronic Home-Based Services",0]
["Southwestern","3-B","MTRG","Galax City","Employment and Community Transportation",0]
["Southwestern","3-B","MTRG","Galax City","Independent Living Supports",0]
["Southwestern","3-B","MTRG","Galax City","In-home Supports",0]
["Southwestern","3-B","MTRG","Galax City","Peer Mentoring",0]
["Southwestern","3-B","MTRG","Galax City","Shared Living",0]
["Southwestern","3-B","MTRG","Galax City","Supported Living",0]
["Southwestern","3-B","MTRG","Galax City","Crisis Support Services",0]
["Southwestern","3-B","MTRG","Galax City","Private Duty Nursing",0]
["Southwestern","3-B","MTRG","Galax City","Skilled Nursing",0]
["Southwestern","3-B","MTRG","Galax City","Sponsored Residential",0]
["Southwestern","3-A","MTRG","Galax City","SIS\nL4",1]
["Southwestern","3-B","MTRG","Galax City","Community Coaching",-1]
["Southwestern","3-B","MTRG","Galax City","SIS\nL6",2]
["Southwestern","3-B","MTRG","Galax City","Community Engagement",2]
["Southwestern","3-B","MTRG","Galax City","SIS\nL2",-2]
["Southwestern","3-B","MTRG","Galax City","CL waiver",4]
["Southwestern","3-B","MTRG","Galax City","All waivers",4]
["Southwestern","3-B","MTRG","Galax City","SIS\nL3",-3]
["Southwestern","3-B","MTRG","Galax City","SIS\nL7",6]
["Southwestern","3-A","NRV","Giles County","FIS waiver",0]
["Southwestern","3-A","NRV","Giles County","SIS\nL1",0]
["Southwestern","3-A","NRV","Giles County","SIS\nL5",0]
["Southwestern","3-A","NRV","Giles County","SIS\nL6",0]
["Southwestern","3-A","NRV","Giles County","Benefits Planning",0]
["Southwestern","3-A","NRV","Giles County","Community Engagement",0]
["Southwestern","3-A","NRV","Giles County","Community Guide",0]
["Southwestern","3-A","NRV","Giles County","Electronic Home-Based Services",0]
["Southwestern","3-A","NRV","Giles County","Employment and Community Transportation",0]
["Southwestern","3-A","NRV","Giles County","Independent Living Supports",0]
["Southwestern","3-A","NRV","Giles County","In-home Supports",0]
["Southwestern","3-A","NRV","Giles County","Peer Mentoring",0]
["Southwestern","3-A","NRV","Giles County","Shared Living",0]
["Southwestern","3-A","NRV","Giles County","Supported Living",0]
["Southwestern","3-A","NRV","Giles County","Private Duty Nursing",0]
["Southwestern","3-A","NRV","Giles County","Skilled Nursing",0]
["Southwestern","3-A","NRV","Giles County","Sponsored Residential",0]
["Southwestern","3-A","NRV","Giles County","BI waiver",1]
["Southwestern","3-A","NRV","Giles County","CL waiver",1]
["Southwestern","3-A","NRV","Giles County","SIS\nL3",1]
["Southwestern","3-A","NRV","Giles County","Community Coaching",1]
["Southwestern","3-A","NRV","Giles County","Crisis Support Services",1]
["Southwestern","3-A","NRV","Giles County","All waivers",2]
["Southwestern","3-A","NRV","Giles County","SIS\nDefault",2]
["Southwestern","3-A","NRV","Giles County","SIS\nL2",-2]
["Southwestern","3-A","NRV","Giles County","SIS\nL4",4]
["Southwestern","3-A","NRV","Giles County","SIS\nL7",-3]
["Eastern","5-A","MPNN","Gloucester County","BI waiver",0]
["Eastern","5-A","MPNN","Gloucester County","Benefits Planning",0]
["Eastern","5-A","MPNN","Gloucester County","Community Coaching",0]
["Eastern","5-A","MPNN","Gloucester County","Community Engagement",0]
["Eastern","5-A","MPNN","Gloucester County","Community Guide",0]
["Eastern","5-A","MPNN","Gloucester County","Electronic Home-Based Services",0]
["Eastern","5-A","MPNN","Gloucester County","Employment and Community Transportation",0]
["Eastern","5-A","MPNN","Gloucester County","Independent Living Supports",0]
["Eastern","5-A","MPNN","Gloucester County","In-home Supports",0]
["Eastern","5-A","MPNN","Gloucester County","Peer Mentoring",0]
["Eastern","5-A","MPNN","Gloucester County","Shared Living",0]
["Eastern","5-A","MPNN","Gloucester County","Supported Living",0]
["Eastern","5-A","MPNN","Gloucester County","Crisis Support Services",0]
["Eastern","5-A","MPNN","Gloucester County","Sponsored Residential",0]
["Eastern","5-A","MPNN","Gloucester County","SIS\nL7",1]
["Eastern","5-A","MPNN","Gloucester County","SIS\nL1",-1]
["Eastern","5-A","MPNN","Gloucester County","Private Duty Nursing",-1]
["Eastern","5-A","MPNN","Gloucester County","Skilled Nursing",-1]
["Eastern","5-A","MPNN","Gloucester County","SIS\nL2",-2]
["Eastern","5-A","MPNN","Gloucester County","SIS\nL3",-2]
["Eastern","5-A","MPNN","Gloucester County","FIS waiver",4]
["Eastern","5-A","MPNN","Gloucester County","CL waiver",9]
["Eastern","5-A","MPNN","Gloucester County","All waivers",13]
["Eastern","5-A","MPNN","Gloucester County","SIS\nL4",6]
["Eastern","5-A","MPNN","Gloucester County","SIS\nL5",4]
["Eastern","5-A","MPNN","Gloucester County","SIS\nL6",-5]
["Eastern","5-A","MPNN","Gloucester County","SIS\nDefault",12]
["Central","4-B","GOOC","Goochland County","BI waiver",0]
["Central","4-B","GOOC","Goochland County","FIS waiver",0]
["Central","4-B","GOOC","Goochland County","CL waiver",0]
["Central","4-B","GOOC","Goochland County","All waivers",0]
["Central","4-B","GOOC","Goochland County","SIS\nL1",0]
["Central","4-B","GOOC","Goochland County","SIS\nL2",0]
["Central","4-B","GOOC","Goochland County","SIS\nL4",0]
["Central","4-B","GOOC","Goochland County","Benefits Planning",0]
["Central","4-B","GOOC","Goochland County","Community Coaching",0]
["Central","4-B","GOOC","Goochland County","Community Engagement",0]
["Central","4-B","GOOC","Goochland County","Community Guide",0]
["Central","4-B","GOOC","Goochland County","Electronic Home-Based Services",0]
["Central","4-B","GOOC","Goochland County","Employment and Community Transportation",0]
["Central","4-B","GOOC","Goochland County","Independent Living Supports",0]
["Central","4-B","GOOC","Goochland County","In-home Supports",0]
["Central","4-B","GOOC","Goochland County","Peer Mentoring",0]
["Central","4-B","GOOC","Goochland County","Shared Living",0]
["Central","4-B","GOOC","Goochland County","Supported Living",0]
["Central","4-B","GOOC","Goochland County","Crisis Support Services",0]
["Central","4-B","GOOC","Goochland County","Private Duty Nursing",0]
["Central","4-B","GOOC","Goochland County","Skilled Nursing",0]
["Central","4-B","GOOC","Goochland County","Sponsored Residential",0]
["Central","4-B","GOOC","Goochland County","SIS\nL5",1]
["Central","4-B","GOOC","Goochland County","SIS\nL7",1]
["Central","4-B","GOOC","Goochland County","SIS\nDefault",1]
["Central","4-B","GOOC","Goochland County","SIS\nL6",-1]
["Central","4-B","GOOC","Goochland County","SIS\nL3",-2]
["Southwestern","3-B","MTRG","Grayson County","BI waiver",0]
["Southwestern","3-B","MTRG","Grayson County","FIS waiver",0]
["Southwestern","3-B","MTRG","Grayson County","CL waiver",0]
["Southwestern","3-B","MTRG","Grayson County","All waivers",0]
["Southwestern","3-B","MTRG","Grayson County","SIS\nL6",0]
["Southwestern","3-B","MTRG","Grayson County","SIS\nL7",0]
["Southwestern","3-B","MTRG","Grayson County","Benefits Planning",0]
["Southwestern","3-B","MTRG","Grayson County","Community Coaching",0]
["Southwestern","3-B","MTRG","Grayson County","Community Engagement",0]
["Southwestern","3-B","MTRG","Grayson County","Community Guide",0]
["Southwestern","3-B","MTRG","Grayson County","Electronic Home-Based Services",0]
["Southwestern","3-B","MTRG","Grayson County","Employment and Community Transportation",0]
["Southwestern","3-B","MTRG","Grayson County","Independent Living Supports",0]
["Southwestern","3-B","MTRG","Grayson County","In-home Supports",0]
["Southwestern","3-B","MTRG","Grayson County","Peer Mentoring",0]
["Southwestern","3-B","MTRG","Grayson County","Shared Living",0]
["Southwestern","3-B","MTRG","Grayson County","Supported Living",0]
["Southwestern","3-B","MTRG","Grayson County","Crisis Support Services",0]
["Southwestern","3-B","MTRG","Grayson County","Private Duty Nursing",0]
["Southwestern","3-B","MTRG","Grayson County","Skilled Nursing",0]
["Southwestern","3-B","MTRG","Grayson County","Sponsored Residential",0]
["Southwestern","3-B","MTRG","Grayson County","SIS\nL5",1]
["Southwestern","3-B","MTRG","Grayson County","SIS\nDefault",1]
["Southwestern","3-B","MTRG","Grayson County","SIS\nL1",-1]
["Southwestern","3-B","MTRG","Grayson County","SIS\nL3",-1]
["Southwestern","3-B","MTRG","Grayson County","SIS\nL4",2]
["Southwestern","3-B","MTRG","Grayson County","SIS\nL2",-2]
["Western","1-A","RTEN","Greene County","BI waiver",0]
["Western","1-A","RTEN","Greene County","CL waiver",0]
["Western","1-A","RTEN","Greene County","SIS\nL3",0]
["Western","1-A","RTEN","Greene County","SIS\nL7",0]
["Western","1-A","RTEN","Greene County","Benefits Planning",0]
["Western","1-A","RTEN","Greene County","Community Coaching",0]
["Western","1-A","RTEN","Greene County","Community Engagement",0]
["Western","1-A","RTEN","Greene County","Community Guide",0]
["Western","1-A","RTEN","Greene County","Electronic Home-Based Services",0]
["Western","1-A","RTEN","Greene County","Employment and Community Transportation",0]
["Western","1-A","RTEN","Greene County","Independent Living Supports",0]
["Western","1-A","RTEN","Greene County","In-home Supports",0]
["Western","1-A","RTEN","Greene County","Peer Mentoring",0]
["Western","1-A","RTEN","Greene County","Shared Living",0]
["Western","1-A","RTEN","Greene County","Supported Living",0]
["Western","1-A","RTEN","Greene County","Crisis Support Services",0]
["Western","1-A","RTEN","Greene County","Private Duty Nursing",0]
["Western","1-A","RTEN","Greene County","Skilled Nursing",0]
["Western","1-A","RTEN","Greene County","Sponsored Residential",0]
["Western","1-A","RTEN","Greene County","SIS\nL5",1]
["Western","1-A","RTEN","Greene County","SIS\nL6",-1]
["Western","1-A","RTEN","Greene County","FIS waiver",2]
["Western","1-A","RTEN","Greene County","All waivers",2]
["Western","1-A","RTEN","Greene County","SIS\nL4",2]
["Western","1-A","RTEN","Greene County","SIS\nL1",3]
["Western","1-A","RTEN","Greene County","SIS\nDefault",3]
["Western","1-A","RTEN","Greene County","SIS\nL2",-6]
["Central","4-D","D19","Greensville County","BI waiver",0]
["Central","4-D","D19","Greensville County","SIS\nL1",0]
["Central","4-D","D19","Greensville County","SIS\nL3",0]
["Central","4-D","D19","Greensville County","SIS\nL4",0]
["Central","4-D","D19","Greensville County","SIS\nL6",0]
["Central","4-D","D19","Greensville County","SIS\nL7",0]
["Central","4-D","D19","Greensville County","SIS\nDefault",0]
["Central","4-D","D19","Greensville County","Benefits Planning",0]
["Central","4-D","D19","Greensville County","Community Coaching",0]
["Central","4-D","D19","Greensville County","Community Engagement",0]
["Central","4-D","D19","Greensville County","Community Guide",0]
["Central","4-D","D19","Greensville County","Electronic Home-Based Services",0]
["Central","4-D","D19","Greensville County","Employment and Community Transportation",0]
["Central","4-D","D19","Greensville County","Independent Living Supports",0]
["Central","4-D","D19","Greensville County","In-home Supports",0]
["Central","4-D","D19","Greensville County","Peer Mentoring",0]
["Central","4-D","D19","Greensville County","Shared Living",0]
["Central","4-D","D19","Greensville County","Supported Living",0]
["Central","4-D","D19","Greensville County","Crisis Support Services",0]
["Central","4-D","D19","Greensville County","Private Duty Nursing",0]
["Central","4-D","D19","Greensville County","Skilled Nursing",0]
["Central","4-D","D19","Greensville County","Sponsored Residential",0]
["Central","4-D","D19","Greensville County","FIS waiver",1]
["Central","4-D","D19","Greensville County","SIS\nL5",1]
["Central","4-D","D19","Greensville County","All waivers",-1]
["Central","4-D","D19","Greensville County","CL waiver",-2]
["Central","4-D","D19","Greensville County","SIS\nL2",-2]
["Central","4-C","SS","Halifax County","BI waiver",0]
["Central","4-C","SS","Halifax County","SIS\nL1",0]
["Central","4-C","SS","Halifax County","SIS\nL2",0]
["Central","4-C","SS","Halifax County","SIS\nL5",0]
["Central","4-C","SS","Halifax County","Benefits Planning",0]
["Central","4-C","SS","Halifax County","Community Engagement",0]
["Central","4-C","SS","Halifax County","Community Guide",0]
["Central","4-C","SS","Halifax County","Electronic Home-Based Services",0]
["Central","4-C","SS","Halifax County","Employment and Community Transportation",0]
["Central","4-C","SS","Halifax County","Independent Living Supports",0]
["Central","4-C","SS","Halifax County","In-home Supports",0]
["Central","4-C","SS","Halifax County","Peer Mentoring",0]
["Central","4-C","SS","Halifax County","Shared Living",0]
["Central","4-C","SS","Halifax County","Supported Living",0]
["Central","4-C","SS","Halifax County","Crisis Support Services",0]
["Central","4-C","SS","Halifax County","Private Duty Nursing",0]
["Central","4-C","SS","Halifax County","Skilled Nursing",0]
["Central","4-C","SS","Halifax County","Sponsored Residential",0]
["Central","4-C","SS","Halifax County","SIS\nL6",1]
["Central","4-C","SS","Halifax County","SIS\nL7",1]
["Central","4-C","SS","Halifax County","Community Coaching",1]
["Central","4-C","SS","Halifax County","FIS waiver",3]
["Central","4-C","SS","Halifax County","SIS\nDefault",3]
["Central","4-C","SS","Halifax County","CL waiver",6]
["Central","4-C","SS","Halifax County","All waivers",9]
["Central","4-C","SS","Halifax County","SIS\nL3",-3]
["Central","4-C","SS","Halifax County","SIS\nL4",7]
["Eastern","5-C","HAMP","Hampton City","Benefits Planning",0]
["Eastern","5-C","HAMP","Hampton City","Community Guide",0]
["Eastern","5-C","HAMP","Hampton City","Electronic Home-Based Services",0]
["Eastern","5-C","HAMP","Hampton City","Employment and Community Transportation",0]
["Eastern","5-C","HAMP","Hampton City","Independent Living Supports",0]
["Eastern","5-C","HAMP","Hampton City","Peer Mentoring",0]
["Eastern","5-C","HAMP","Hampton City","Shared Living",0]
["Eastern","5-C","HAMP","Hampton City","Supported Living",0]
["Eastern","5-C","HAMP","Hampton City","BI waiver",1]
["Eastern","5-C","HAMP","Hampton City","Community Engagement",1]
["Eastern","5-C","HAMP","Hampton City","Sponsored Residential",1]
["Eastern","5-C","HAMP","Hampton City","SIS\nL6",-1]
["Eastern","5-C","HAMP","Hampton City","In-home Supports",-1]
["Eastern","5-C","HAMP","Hampton City","Crisis Support Services",-1]
["Eastern","5-C","HAMP","Hampton City","Private Duty Nursing",-1]
["Eastern","5-C","HAMP","Hampton City","Skilled Nursing",-1]
["Eastern","5-C","HAMP","Hampton City","Community Coaching",2]
["Eastern","5-C","HAMP","Hampton City","SIS\nL3",-2]
["Eastern","5-C","HAMP","Hampton City","FIS waiver",23]
["Eastern","5-C","HAMP","Hampton City","CL waiver",5]
["Eastern","5-C","HAMP","Hampton City","All waivers",29]
["Eastern","5-C","HAMP","Hampton City","SIS\nL1",-8]
["Eastern","5-C","HAMP","Hampton City","SIS\nL2",-34]
["Eastern","5-C","HAMP","Hampton City","SIS\nL4",37]
["Eastern","5-C","HAMP","Hampton City","SIS\nL5",12]
["Eastern","5-C","HAMP","Hampton City","SIS\nL7",8]
["Eastern","5-C","HAMP","Hampton City","SIS\nDefault",17]
["Central","4-A","HANO","Hanover County","SIS\nL3",0]
["Central","4-A","HANO","Hanover County","SIS\nL7",0]
["Central","4-A","HANO","Hanover County","Benefits Planning",0]
["Central","4-A","HANO","Hanover County","Community Coaching",0]
["Central","4-A","HANO","Hanover County","Community Engagement",0]
["Central","4-A","HANO","Hanover County","Community Guide",0]
["Central","4-A","HANO","Hanover County","Electronic Home-Based Services",0]
["Central","4-A","HANO","Hanover County","Employment and Community Transportation",0]
["Central","4-A","HANO","Hanover County","Independent Living Supports",0]
["Central","4-A","HANO","Hanover County","In-home Supports",0]
["Central","4-A","HANO","Hanover County","Peer Mentoring",0]
["Central","4-A","HANO","Hanover County","Shared Living",0]
["Central","4-A","HANO","Hanover County","Supported Living",0]
["Central","4-A","HANO","Hanover County","Crisis Support Services",0]
["Central","4-A","HANO","Hanover County","Sponsored Residential",1]
["Central","4-A","HANO","Hanover County","Private Duty Nursing",-1]
["Central","4-A","HANO","Hanover County","Skilled Nursing",-1]
["Central","4-A","HANO","Hanover County","BI waiver",2]
["Central","4-A","HANO","Hanover County","CL waiver",3]
["Central","4-A","HANO","Hanover County","FIS waiver",9]
["Central","4-A","HANO","Hanover County","All waivers",14]
["Central","4-A","HANO","Hanover County","SIS\nL1",6]
["Central","4-A","HANO","Hanover County","SIS\nL2",-12]
["Central","4-A","HANO","Hanover County","SIS\nL4",20]
["Central","4-A","HANO","Hanover County","SIS\nL5",4]
["Central","4-A","HANO","Hanover County","SIS\nL6",7]
["Central","4-A","HANO","Hanover County","SIS\nDefault",-11]
["Western","1-B","HARR","Harrisonburg City","SIS\nL3",0]
["Western","1-B","HARR","Harrisonburg City","SIS\nL4",0]
["Western","1-B","HARR","Harrisonburg City","SIS\nL6",0]
["Western","1-B","HARR","Harrisonburg City","Benefits Planning",0]
["Western","1-B","HARR","Harrisonburg City","Community Coaching",0]
["Western","1-B","HARR","Harrisonburg City","Community Engagement",0]
["Western","1-B","HARR","Harrisonburg City","Community Guide",0]
["Western","1-B","HARR","Harrisonburg City","Employment and Community Transportation",0]
["Western","1-B","HARR","Harrisonburg City","Independent Living Supports",0]
["Western","1-B","HARR","Harrisonburg City","In-home Supports",0]
["Western","1-B","HARR","Harrisonburg City","Peer Mentoring",0]
["Western","1-B","HARR","Harrisonburg City","Shared Living",0]
["Western","1-B","HARR","Harrisonburg City","Crisis Support Services",0]
["Western","1-B","HARR","Harrisonburg City","Private Duty Nursing",0]
["Western","1-B","HARR","Harrisonburg City","Skilled Nursing",0]
["Western","1-B","HARR","Harrisonburg City","Sponsored Residential",0]
["Western","1-B","HARR","Harrisonburg City","Electronic Home-Based Services",1]
["Western","1-B","HARR","Harrisonburg City","Supported Living",1]
["Western","1-B","HARR","Harrisonburg City","SIS\nL5",-1]
["Western","1-B","HARR","Harrisonburg City","BI waiver",2]
["Western","1-B","HARR","Harrisonburg City","SIS\nL7",-2]
["Western","1-B","HARR","Harrisonburg City","All waivers",3]
["Western","1-B","HARR","Harrisonburg City","FIS waiver",5]
["Western","1-B","HARR","Harrisonburg City","CL waiver",-4]
["Western","1-B","HARR","Harrisonburg City","SIS\nL1",7]
["Western","1-B","HARR","Harrisonburg City","SIS\nL2",-7]
["Western","1-B","HARR","Harrisonburg City","SIS\nDefault",6]
["Central","4-A","HENR","Henrico County","Community Engagement",0]
["Central","4-A","HENR","Henrico County","Community Guide",0]
["Central","4-A","HENR","Henrico County","Electronic Home-Based Services",0]
["Central","4-A","HENR","Henrico County","Employment and Community Transportation",0]
["Central","4-A","HENR","Henrico County","Independent Living Supports",0]
["Central","4-A","HENR","Henrico County","Peer Mentoring",0]
["Central","4-A","HENR","Henrico County","Crisis Support Services",0]
["Central","4-A","HENR","Henrico County","Private Duty Nursing",0]
["Central","4-A","HENR","Henrico County","Shared Living",1]
["Central","4-A","HENR","Henrico County","Sponsored Residential",1]
["Central","4-A","HENR","Henrico County","Community Coaching",-1]
["Central","4-A","HENR","Henrico County","Supported Living",-1]
["Central","4-A","HENR","Henrico County","Skilled Nursing",-1]
["Central","4-A","HENR","Henrico County","Benefits Planning",2]
["Central","4-A","HENR","Henrico County","SIS\nL3",-2]
["Central","4-A","HENR","Henrico County","In-home Supports",-2]
["Central","4-A","HENR","Henrico County","BI waiver",4]
["Central","4-A","HENR","Henrico County","FIS waiver",19]
["Central","4-A","HENR","Henrico County","CL waiver",28]
["Central","4-A","HENR","Henrico County","All waivers",51]
["Central","4-A","HENR","Henrico County","SIS\nL1",8]
["Central","4-A","HENR","Henrico County","SIS\nL2",-21]
["Central","4-A","HENR","Henrico County","SIS\nL4",66]
["Central","4-A","HENR","Henrico County","SIS\nL5",5]
["Central","4-A","HENR","Henrico County","SIS\nL6",-4]
["Central","4-A","HENR","Henrico County","SIS\nL7",8]
["Central","4-A","HENR","Henrico County","SIS\nDefault",-9]
["Southwestern","3-B","PDMT","Henry County","SIS\nL3",0]
["Southwestern","3-B","PDMT","Henry County","SIS\nL5",0]
["Southwestern","3-B","PDMT","Henry County","Benefits Planning",0]
["Southwestern","3-B","PDMT","Henry County","Community Coaching",0]
["Southwestern","3-B","PDMT","Henry County","Community Engagement",0]
["Southwestern","3-B","PDMT","Henry County","Community Guide",0]
["Southwestern","3-B","PDMT","Henry County","Electronic Home-Based Services",0]
["Southwestern","3-B","PDMT","Henry County","Employment and Community Transportation",0]
["Southwestern","3-B","PDMT","Henry County","Independent Living Supports",0]
["Southwestern","3-B","PDMT","Henry County","In-home Supports",0]
["Southwestern","3-B","PDMT","Henry County","Peer Mentoring",0]
["Southwestern","3-B","PDMT","Henry County","Shared Living",0]
["Southwestern","3-B","PDMT","Henry County","Supported Living",0]
["Southwestern","3-B","PDMT","Henry County","Crisis Support Services",0]
["Southwestern","3-B","PDMT","Henry County","Private Duty Nursing",0]
["Southwestern","3-B","PDMT","Henry County","Skilled Nursing",0]
["Southwestern","3-B","PDMT","Henry County","Sponsored Residential",0]
["Southwestern","3-B","PDMT","Henry County","BI waiver",1]
["Southwestern","3-B","PDMT","Henry County","SIS\nL6",3]
["Southwestern","3-B","PDMT","Henry County","FIS waiver",9]
["Southwestern","3-B","PDMT","Henry County","CL waiver",11]
["Southwestern","3-B","PDMT","Henry County","All waivers",21]
["Southwestern","3-B","PDMT","Henry County","SIS\nL1",-3]
["Southwestern","3-B","PDMT","Henry County","SIS\nL2",-6]
["Southwestern","3-B","PDMT","Henry County","SIS\nL4",14]
["Southwestern","3-B","PDMT","Henry County","SIS\nL7",5]
["Southwestern","3-B","PDMT","Henry County","SIS\nDefault",8]
["Western","1-B","VLY","Highland County","BI waiver",0]
["Western","1-B","VLY","Highland County","FIS waiver",0]
["Western","1-B","VLY","Highland County","SIS\nL1",0]
["Western","1-B","VLY","Highland County","SIS\nL3",0]
["Western","1-B","VLY","Highland County","SIS\nL5",0]
["Western","1-B","VLY","Highland County","SIS\nL6",0]
["Western","1-B","VLY","Highland County","SIS\nDefault",0]
["Western","1-B","VLY","Highland County","Benefits Planning",0]
["Western","1-B","VLY","Highland County","Community Coaching",0]
["Western","1-B","VLY","Highland County","Community Engagement",0]
["Western","1-B","VLY","Highland County","Community Guide",0]
["Western","1-B","VLY","Highland County","Electronic Home-Based Services",0]
["Western","1-B","VLY","Highland County","Employment and Community Transportation",0]
["Western","1-B","VLY","Highland County","Independent Living Supports",0]
["Western","1-B","VLY","Highland County","In-home Supports",0]
["Western","1-B","VLY","Highland County","Peer Mentoring",0]
["Western","1-B","VLY","Highland County","Shared Living",0]
["Western","1-B","VLY","Highland County","Supported Living",0]
["Western","1-B","VLY","Highland County","Crisis Support Services",0]
["Western","1-B","VLY","Highland County","Private Duty Nursing",0]
["Western","1-B","VLY","Highland County","Skilled Nursing",0]
["Western","1-B","VLY","Highland County","Sponsored Residential",0]
["Western","1-B","VLY","Highland County","SIS\nL7",1]
["Western","1-B","VLY","Highland County","SIS\nL2",-1]
["Western","1-B","VLY","Highland County","CL waiver",3]
["Western","1-B","VLY","Highland County","All waivers",3]
["Western","1-B","VLY","Highland County","SIS\nL4",3]
["Central","4-D","D19","Hopewell City","BI waiver",0]
["Central","4-D","D19","Hopewell City","SIS\nL3",0]
["Central","4-D","D19","Hopewell City","Benefits Planning",0]
["Central","4-D","D19","Hopewell City","Community Coaching",0]
["Central","4-D","D19","Hopewell City","Community Guide",0]
["Central","4-D","D19","Hopewell City","Electronic Home-Based Services",0]
["Central","4-D","D19","Hopewell City","Employment and Community Transportation",0]
["Central","4-D","D19","Hopewell City","Independent Living Supports",0]
["Central","4-D","D19","Hopewell City","In-home Supports",0]
["Central","4-D","D19","Hopewell City","Peer Mentoring",0]
["Central","4-D","D19","Hopewell City","Shared Living",0]
["Central","4-D","D19","Hopewell City","Supported Living",0]
["Central","4-D","D19","Hopewell City","Crisis Support Services",0]
["Central","4-D","D19","Hopewell City","Private Duty Nursing",0]
["Central","4-D","D19","Hopewell City","Skilled Nursing",0]
["Central","4-D","D19","Hopewell City","Sponsored Residential",0]
["Central","4-D","D19","Hopewell City","Community Engagement",1]
["Central","4-D","D19","Hopewell City","SIS\nL1",-1]
["Central","4-D","D19","Hopewell City","SIS\nL2",-1]
["Central","4-D","D19","Hopewell City","SIS\nL6",-1]
["Central","4-D","D19","Hopewell City","FIS waiver",2]
["Central","4-D","D19","Hopewell City","SIS\nL5",2]
["Central","4-D","D19","Hopewell City","SIS\nL7",2]
["Central","4-D","D19","Hopewell City","SIS\nDefault",2]
["Central","4-D","D19","Hopewell City","SIS\nL4",3]
["Central","4-D","D19","Hopewell City","CL waiver",4]
["Central","4-D","D19","Hopewell City","All waivers",6]
["Eastern","5-D","WT","Isle of Wight County","SIS\nL1",0]
["Eastern","5-D","WT","Isle of Wight County","SIS\nL3",0]
["Eastern","5-D","WT","Isle of Wight County","SIS\nL7",0]
["Eastern","5-D","WT","Isle of Wight County","Benefits Planning",0]
["Eastern","5-D","WT","Isle of Wight County","Community Coaching",0]
["Eastern","5-D","WT","Isle of Wight County","Community Engagement",0]
["Eastern","5-D","WT","Isle of Wight County","Community Guide",0]
["Eastern","5-D","WT","Isle of Wight County","Electronic Home-Based Services",0]
["Eastern","5-D","WT","Isle of Wight County","Employment and Community Transportation",0]
["Eastern","5-D","WT","Isle of Wight County","Independent Living Supports",0]
["Eastern","5-D","WT","Isle of Wight County","In-home Supports",0]
["Eastern","5-D","WT","Isle of Wight County","Peer Mentoring",0]
["Eastern","5-D","WT","Isle of Wight County","Shared Living",0]
["Eastern","5-D","WT","Isle of Wight County","Supported Living",0]
["Eastern","5-D","WT","Isle of Wight County","Crisis Support Services",0]
["Eastern","5-D","WT","Isle of Wight County","Private Duty Nursing",0]
["Eastern","5-D","WT","Isle of Wight County","Sponsored Residential",0]
["Eastern","5-D","WT","Isle of Wight County","FIS waiver",1]
["Eastern","5-D","WT","Isle of Wight County","SIS\nL2",1]
["Eastern","5-D","WT","Isle of Wight County","Skilled Nursing",1]
["Eastern","5-D","WT","Isle of Wight County","BI waiver",-1]
["Eastern","5-D","WT","Isle of Wight County","CL waiver",-1]
["Eastern","5-D","WT","Isle of Wight County","All waivers",-1]
["Eastern","5-D","WT","Isle of Wight County","SIS\nL5",-1]
["Eastern","5-D","WT","Isle of Wight County","SIS\nL6",-1]
["Eastern","5-D","WT","Isle of Wight County","SIS\nDefault",2]
["Eastern","5-D","WT","Isle of Wight County","SIS\nL4",-2]
["Eastern","5-C","COLO","James City County","BI waiver",0]
["Eastern","5-C","COLO","James City County","SIS\nL1",0]
["Eastern","5-C","COLO","James City County","SIS\nL3",0]
["Eastern","5-C","COLO","James City County","SIS\nL5",0]
["Eastern","5-C","COLO","James City County","SIS\nL6",0]
["Eastern","5-C","COLO","James City County","Benefits Planning",0]
["Eastern","5-C","COLO","James City County","Community Coaching",0]
["Eastern","5-C","COLO","James City County","Community Engagement",0]
["Eastern","5-C","COLO","James City County","Community Guide",0]
["Eastern","5-C","COLO","James City County","Electronic Home-Based Services",0]
["Eastern","5-C","COLO","James City County","Employment and Community Transportation",0]
["Eastern","5-C","COLO","James City County","Independent Living Supports",0]
["Eastern","5-C","COLO","James City County","In-home Supports",0]
["Eastern","5-C","COLO","James City County","Peer Mentoring",0]
["Eastern","5-C","COLO","James City County","Shared Living",0]
["Eastern","5-C","COLO","James City County","Supported Living",0]
["Eastern","5-C","COLO","James City County","Crisis Support Services",0]
["Eastern","5-C","COLO","James City County","Private Duty Nursing",0]
["Eastern","5-C","COLO","James City County","Skilled Nursing",0]
["Eastern","5-C","COLO","James City County","Sponsored Residential",0]
["Eastern","5-C","COLO","James City County","SIS\nL7",-1]
["Eastern","5-C","COLO","James City County","FIS waiver",13]
["Eastern","5-C","COLO","James City County","CL waiver",6]
["Eastern","5-C","COLO","James City County","All waivers",19]
["Eastern","5-C","COLO","James City County","SIS\nL2",-3]
["Eastern","5-C","COLO","James City County","SIS\nL4",11]
["Eastern","5-C","COLO","James City County","SIS\nDefault",12]
["Eastern","5-A","MPNN","King and Queen County","BI waiver",0]
["Eastern","5-A","MPNN","King and Queen County","FIS waiver",0]
["Eastern","5-A","MPNN","King and Queen County","SIS\nL1",0]
["Eastern","5-A","MPNN","King and Queen County","SIS\nL3",0]
["Eastern","5-A","MPNN","King and Queen County","SIS\nL7",0]
["Eastern","5-A","MPNN","King and Queen County","SIS\nDefault",0]
["Eastern","5-A","MPNN","King and Queen County","Benefits Planning",0]
["Eastern","5-A","MPNN","King and Queen County","Community Coaching",0]
["Eastern","5-A","MPNN","King and Queen County","Community Engagement",0]
["Eastern","5-A","MPNN","King and Queen County","Community Guide",0]
["Eastern","5-A","MPNN","King and Queen County","Electronic Home-Based Services",0]
["Eastern","5-A","MPNN","King and Queen County","Employment and Community Transportation",0]
["Eastern","5-A","MPNN","King and Queen County","Independent Living Supports",0]
["Eastern","5-A","MPNN","King and Queen County","In-home Supports",0]
["Eastern","5-A","MPNN","King and Queen County","Peer Mentoring",0]
["Eastern","5-A","MPNN","King and Queen County","Shared Living",0]
["Eastern","5-A","MPNN","King and Queen County","Supported Living",0]
["Eastern","5-A","MPNN","King and Queen County","Crisis Support Services",0]
["Eastern","5-A","MPNN","King and Queen County","Private Duty Nursing",0]
["Eastern","5-A","MPNN","King and Queen County","Skilled Nursing",0]
["Eastern","5-A","MPNN","King and Queen County","Sponsored Residential",0]
["Eastern","5-A","MPNN","King and Queen County","CL waiver",1]
["Eastern","5-A","MPNN","King and Queen County","All waivers",1]
["Eastern","5-A","MPNN","King and Queen County","SIS\nL5",1]
["Eastern","5-A","MPNN","King and Queen County","SIS\nL2",-1]
["Eastern","5-A","MPNN","King and Queen County","SIS\nL6",-1]
["Eastern","5-A","MPNN","King and Queen County","SIS\nL4",2]
["Northern","2-C","RapA","King George County","BI waiver",0]
["Northern","2-C","RapA","King George County","SIS\nL1",0]
["Northern","2-C","RapA","King George County","SIS\nL2",0]
["Northern","2-C","RapA","King George County","SIS\nL5",0]
["Northern","2-C","RapA","King George County","SIS\nL6",0]
["Northern","2-C","RapA","King George County","Benefits Planning",0]
["Northern","2-C","RapA","King George County","Community Coaching",0]
["Northern","2-C","RapA","King George County","Community Engagement",0]
["Northern","2-C","RapA","King George County","Community Guide",0]
["Northern","2-C","RapA","King George County","Electronic Home-Based Services",0]
["Northern","2-C","RapA","King George County","Employment and Community Transportation",0]
["Northern","2-C","RapA","King George County","Independent Living Supports",0]
["Northern","2-C","RapA","King George County","In-home Supports",0]
["Northern","2-C","RapA","King George County","Peer Mentoring",0]
["Northern","2-C","RapA","King George County","Shared Living",0]
["Northern","2-C","RapA","King George County","Supported Living",0]
["Northern","2-C","RapA","King George County","Crisis Support Services",0]
["Northern","2-C","RapA","King George County","Private Duty Nursing",0]
["Northern","2-C","RapA","King George County","Skilled Nursing",0]
["Northern","2-C","RapA","King George County","Sponsored Residential",0]
["Northern","2-C","RapA","King George County","SIS\nL4",1]
["Northern","2-C","RapA","King George County","SIS\nL7",1]
["Northern","2-C","RapA","King George County","All waivers",-1]
["Northern","2-C","RapA","King George County","SIS\nL3",-1]
["Northern","2-C","RapA","King George County","FIS waiver",2]
["Northern","2-C","RapA","King George County","SIS\nDefault",-2]
["Northern","2-C","RapA","King George County","CL waiver",-3]
["Eastern","5-A","MPNN","King William County","BI waiver",0]
["Eastern","5-A","MPNN","King William County","CL waiver",0]
["Eastern","5-A","MPNN","King William County","SIS\nL1",0]
["Eastern","5-A","MPNN","King William County","SIS\nL5",0]
["Eastern","5-A","MPNN","King William County","Benefits Planning",0]
["Eastern","5-A","MPNN","King William County","Community Coaching",0]
["Eastern","5-A","MPNN","King William County","Community Engagement",0]
["Eastern","5-A","MPNN","King William County","Community Guide",0]
["Eastern","5-A","MPNN","King William County","Electronic Home-Based Services",0]
["Eastern","5-A","MPNN","King William County","Employment and Community Transportation",0]
["Eastern","5-A","MPNN","King William County","Independent Living Supports",0]
["Eastern","5-A","MPNN","King William County","In-home Supports",0]
["Eastern","5-A","MPNN","King William County","Peer Mentoring",0]
["Eastern","5-A","MPNN","King William County","Shared Living",0]
["Eastern","5-A","MPNN","King William County","Supported Living",0]
["Eastern","5-A","MPNN","King William County","Crisis Support Services",0]
["Eastern","5-A","MPNN","King William County","Private Duty Nursing",0]
["Eastern","5-A","MPNN","King William County","Skilled Nursing",0]
["Eastern","5-A","MPNN","King William County","Sponsored Residential",0]
["Eastern","5-A","MPNN","King William County","SIS\nL7",1]
["Eastern","5-A","MPNN","King William County","SIS\nL3",-1]
["Eastern","5-A","MPNN","King William County","SIS\nL6",2]
["Eastern","5-A","MPNN","King William County","SIS\nDefault",2]
["Eastern","5-A","MPNN","King William County","FIS waiver",5]
["Eastern","5-A","MPNN","King William County","All waivers",5]
["Eastern","5-A","MPNN","King William County","SIS\nL2",4]
["Eastern","5-A","MPNN","King William County","SIS\nL4",-3]
["Eastern","5-A","MPNN","Lancaster County","BI waiver",0]
["Eastern","5-A","MPNN","Lancaster County","FIS waiver",0]
["Eastern","5-A","MPNN","Lancaster County","CL waiver",0]
["Eastern","5-A","MPNN","Lancaster County","All waivers",0]
["Eastern","5-A","MPNN","Lancaster County","SIS\nL1",0]
["Eastern","5-A","MPNN","Lancaster County","SIS\nL3",0]
["Eastern","5-A","MPNN","Lancaster County","SIS\nL5",0]
["Eastern","5-A","MPNN","Lancaster County","SIS\nL6",0]
["Eastern","5-A","MPNN","Lancaster County","SIS\nL7",0]
["Eastern","5-A","MPNN","Lancaster County","SIS\nDefault",0]
["Eastern","5-A","MPNN","Lancaster County","Benefits Planning",0]
["Eastern","5-A","MPNN","Lancaster County","Community Coaching",0]
["Eastern","5-A","MPNN","Lancaster County","Community Engagement",0]
["Eastern","5-A","MPNN","Lancaster County","Community Guide",0]
["Eastern","5-A","MPNN","Lancaster County","Electronic Home-Based Services",0]
["Eastern","5-A","MPNN","Lancaster County","Employment and Community Transportation",0]
["Eastern","5-A","MPNN","Lancaster County","Independent Living Supports",0]
["Eastern","5-A","MPNN","Lancaster County","In-home Supports",0]
["Eastern","5-A","MPNN","Lancaster County","Peer Mentoring",0]
["Eastern","5-A","MPNN","Lancaster County","Shared Living",0]
["Eastern","5-A","MPNN","Lancaster County","Supported Living",0]
["Eastern","5-A","MPNN","Lancaster County","Crisis Support Services",0]
["Eastern","5-A","MPNN","Lancaster County","Private Duty Nursing",0]
["Eastern","5-A","MPNN","Lancaster County","Skilled Nursing",0]
["Eastern","5-A","MPNN","Lancaster County","Sponsored Residential",0]
["Eastern","5-A","MPNN","Lancaster County","SIS\nL4",1]
["Eastern","5-A","MPNN","Lancaster County","SIS\nL2",-1]
["Southwestern","3-D","PLD1","Lee County","BI waiver",0]
["Southwestern","3-D","PLD1","Lee County","CL waiver",0]
["Southwestern","3-D","PLD1","Lee County","SIS\nL1",0]
["Southwestern","3-D","PLD1","Lee County","SIS\nL5",0]
["Southwestern","3-D","PLD1","Lee County","SIS\nL6",0]
["Southwestern","3-D","PLD1","Lee County","Benefits Planning",0]
["Southwestern","3-D","PLD1","Lee County","Community Coaching",0]
["Southwestern","3-D","PLD1","Lee County","Community Engagement",0]
["Southwestern","3-D","PLD1","Lee County","Community Guide",0]
["Southwestern","3-D","PLD1","Lee County","Electronic Home-Based Services",0]
["Southwestern","3-D","PLD1","Lee County","Employment and Community Transportation",0]
["Southwestern","3-D","PLD1","Lee County","Independent Living Supports",0]
["Southwestern","3-D","PLD1","Lee County","In-home Supports",0]
["Southwestern","3-D","PLD1","Lee County","Peer Mentoring",0]
["Southwestern","3-D","PLD1","Lee County","Shared Living",0]
["Southwestern","3-D","PLD1","Lee County","Supported Living",0]
["Southwestern","3-D","PLD1","Lee County","Crisis Support Services",0]
["Southwestern","3-D","PLD1","Lee County","Private Duty Nursing",0]
["Southwestern","3-D","PLD1","Lee County","Skilled Nursing",0]
["Southwestern","3-D","PLD1","Lee County","Sponsored Residential",0]
["Southwestern","3-D","PLD1","Lee County","SIS\nL3",-1]
["Southwestern","3-D","PLD1","Lee County","SIS\nL7",-1]
["Southwestern","3-D","PLD1","Lee County","SIS\nDefault",2]
["Southwestern","3-D","PLD1","Lee County","SIS\nL4",-2]
["Southwestern","3-D","PLD1","Lee County","FIS waiver",3]
["Southwestern","3-D","PLD1","Lee County","All waivers",3]
["Southwestern","3-D","PLD1","Lee County","SIS\nL2",5]
["Western","1-C","ROC","Lexington City","BI waiver",0]
["Western","1-C","ROC","Lexington City","CL waiver",0]
["Western","1-C","ROC","Lexington City","SIS\nL1",0]
["Western","1-C","ROC","Lexington City","SIS\nL3",0]
["Western","1-C","ROC","Lexington City","SIS\nL4",0]
["Western","1-C","ROC","Lexington City","SIS\nL5",0]
["Western","1-C","ROC","Lexington City","SIS\nL6",0]
["Western","1-C","ROC","Lexington City","SIS\nL7",0]
["Western","1-C","ROC","Lexington City","SIS\nDefault",0]
["Western","1-C","ROC","Lexington City","Benefits Planning",0]
["Western","1-C","ROC","Lexington City","Community Coaching",0]
["Western","1-C","ROC","Lexington City","Community Engagement",0]
["Western","1-C","ROC","Lexington City","Community Guide",0]
["Western","1-C","ROC","Lexington City","Electronic Home-Based Services",0]
["Western","1-C","ROC","Lexington City","Employment and Community Transportation",0]
["Western","1-C","ROC","Lexington City","Independent Living Supports",0]
["Western","1-C","ROC","Lexington City","In-home Supports",0]
["Western","1-C","ROC","Lexington City","Peer Mentoring",0]
["Western","1-C","ROC","Lexington City","Shared Living",0]
["Western","1-C","ROC","Lexington City","Supported Living",0]
["Western","1-C","ROC","Lexington City","Crisis Support Services",0]
["Western","1-C","ROC","Lexington City","Private Duty Nursing",0]
["Western","1-C","ROC","Lexington City","Skilled Nursing",0]
["Western","1-C","ROC","Lexington City","Sponsored Residential",0]
["Western","1-C","ROC","Lexington City","FIS waiver",-1]
["Western","1-C","ROC","Lexington City","All waivers",-1]
["Western","1-C","ROC","Lexington City","SIS\nL2",-1]
["Northern","2-A","LOUD","Loudoun County","Benefits Planning",0]
["Northern","2-A","LOUD","Loudoun County","Community Coaching",0]
["Northern","2-A","LOUD","Loudoun County","Community Engagement",0]
["Northern","2-A","LOUD","Loudoun County","Community Guide",0]
["Northern","2-A","LOUD","Loudoun County","Electronic Home-Based Services",0]
["Northern","2-A","LOUD","Loudoun County","Employment and Community Transportation",0]
["Northern","2-A","LOUD","Loudoun County","Independent Living Supports",0]
["Northern","2-A","LOUD","Loudoun County","Peer Mentoring",0]
["Northern","2-A","LOUD","Loudoun County","Shared Living",0]
["Northern","2-A","LOUD","Loudoun County","Supported Living",0]
["Northern","2-A","LOUD","Loudoun County","Crisis Support Services",0]
["Northern","2-A","LOUD","Loudoun County","Sponsored Residential",0]
["Northern","2-A","LOUD","Loudoun County","CL waiver",1]
["Northern","2-A","LOUD","Loudoun County","Private Duty Nursing",1]
["Northern","2-A","LOUD","Loudoun County","BI waiver",2]
["Northern","2-A","LOUD","Loudoun County","SIS\nL5",2]
["Northern","2-A","LOUD","Loudoun County","In-home Supports",2]
["Northern","2-A","LOUD","Loudoun County","Skilled Nursing",2]
["Northern","2-A","LOUD","Loudoun County","SIS\nL7",-2]
["Northern","2-A","LOUD","Loudoun County","FIS waiver",27]
["Northern","2-A","LOUD","Loudoun County","All waivers",30]
["Northern","2-A","LOUD","Loudoun County","SIS\nL1",4]
["Northern","2-A","LOUD","Loudoun County","SIS\nL2",-19]
["Northern","2-A","LOUD","Loudoun County","SIS\nL3",5]
["Northern","2-A","LOUD","Loudoun County","SIS\nL4",22]
["Northern","2-A","LOUD","Loudoun County","SIS\nL6",5]
["Northern","2-A","LOUD","Loudoun County","SIS\nDefault",13]
["Western","1-A","RTEN","Louisa County","SIS\nL5",0]
["Western","1-A","RTEN","Louisa County","SIS\nL7",0]
["Western","1-A","RTEN","Louisa County","Benefits Planning",0]
["Western","1-A","RTEN","Louisa County","Community Coaching",0]
["Western","1-A","RTEN","Louisa County","Community Guide",0]
["Western","1-A","RTEN","Louisa County","Electronic Home-Based Services",0]
["Western","1-A","RTEN","Louisa County","Employment and Community Transportation",0]
["Western","1-A","RTEN","Louisa County","Independent Living Supports",0]
["Western","1-A","RTEN","Louisa County","In-home Supports",0]
["Western","1-A","RTEN","Louisa County","Peer Mentoring",0]
["Western","1-A","RTEN","Louisa County","Shared Living",0]
["Western","1-A","RTEN","Louisa County","Supported Living",0]
["Western","1-A","RTEN","Louisa County","Crisis Support Services",0]
["Western","1-A","RTEN","Louisa County","Private Duty Nursing",0]
["Western","1-A","RTEN","Louisa County","Skilled Nursing",0]
["Western","1-A","RTEN","Louisa County","Sponsored Residential",0]
["Western","1-A","RTEN","Louisa County","BI waiver",1]
["Western","1-A","RTEN","Louisa County","Community Engagement",1]
["Western","1-A","RTEN","Louisa County","SIS\nL3",-1]
["Western","1-A","RTEN","Louisa County","SIS\nL2",2]
["Western","1-A","RTEN","Louisa County","SIS\nL6",2]
["Western","1-A","RTEN","Louisa County","SIS\nL1",-2]
["Western","1-A","RTEN","Louisa County","FIS waiver",9]
["Western","1-A","RTEN","Louisa County","CL waiver",5]
["Western","1-A","RTEN","Louisa County","All waivers",15]
["Western","1-A","RTEN","Louisa County","SIS\nL4",4]
["Western","1-A","RTEN","Louisa County","SIS\nDefault",10]
["Central","4-C","CROS","Lunenburg County","BI waiver",0]
["Central","4-C","CROS","Lunenburg County","CL waiver",0]
["Central","4-C","CROS","Lunenburg County","SIS\nL3",0]
["Central","4-C","CROS","Lunenburg County","SIS\nL5",0]
["Central","4-C","CROS","Lunenburg County","SIS\nL6",0]
["Central","4-C","CROS","Lunenburg County","Benefits Planning",0]
["Central","4-C","CROS","Lunenburg County","Community Coaching",0]
["Central","4-C","CROS","Lunenburg County","Community Engagement",0]
["Central","4-C","CROS","Lunenburg County","Community Guide",0]
["Central","4-C","CROS","Lunenburg County","Electronic Home-Based Services",0]
["Central","4-C","CROS","Lunenburg County","Employment and Community Transportation",0]
["Central","4-C","CROS","Lunenburg County","Independent Living Supports",0]
["Central","4-C","CROS","Lunenburg County","In-home Supports",0]
["Central","4-C","CROS","Lunenburg County","Peer Mentoring",0]
["Central","4-C","CROS","Lunenburg County","Shared Living",0]
["Central","4-C","CROS","Lunenburg County","Supported Living",0]
["Central","4-C","CROS","Lunenburg County","Crisis Support Services",0]
["Central","4-C","CROS","Lunenburg County","Private Duty Nursing",0]
["Central","4-C","CROS","Lunenburg County","Skilled Nursing",0]
["Central","4-C","CROS","Lunenburg County","Sponsored Residential",0]
["Central","4-C","CROS","Lunenburg County","SIS\nL2",1]
["Central","4-C","CROS","Lunenburg County","SIS\nL7",1]
["Central","4-C","CROS","Lunenburg County","SIS\nDefault",1]
["Central","4-C","CROS","Lunenburg County","SIS\nL4",2]
["Central","4-C","CROS","Lunenburg County","SIS\nL1",-2]
["Central","4-C","CROS","Lunenburg County","FIS waiver",3]
["Central","4-C","CROS","Lunenburg County","All waivers",3]
["Western","1-D","HORI","Lynchburg City","BI waiver",0]
["Western","1-D","HORI","Lynchburg City","CL waiver",0]
["Western","1-D","HORI","Lynchburg City","Benefits Planning",0]
["Western","1-D","HORI","Lynchburg City","Community Guide",0]
["Western","1-D","HORI","Lynchburg City","Electronic Home-Based Services",0]
["Western","1-D","HORI","Lynchburg City","Employment and Community Transportation",0]
["Western","1-D","HORI","Lynchburg City","Independent Living Supports",0]
["Western","1-D","HORI","Lynchburg City","Peer Mentoring",0]
["Western","1-D","HORI","Lynchburg City","Shared Living",0]
["Western","1-D","HORI","Lynchburg City","Supported Living",0]
["Western","1-D","HORI","Lynchburg City","Crisis Support Services",0]
["Western","1-D","HORI","Lynchburg City","Private Duty Nursing",0]
["Western","1-D","HORI","Lynchburg City","Skilled Nursing",0]
["Western","1-D","HORI","Lynchburg City","Community Coaching",1]
["Western","1-D","HORI","Lynchburg City","Sponsored Residential",1]
["Western","1-D","HORI","Lynchburg City","In-home Supports",-1]
["Western","1-D","HORI","Lynchburg City","Community Engagement",-2]
["Western","1-D","HORI","Lynchburg City","SIS\nL5",3]
["Western","1-D","HORI","Lynchburg City","FIS waiver",8]
["Western","1-D","HORI","Lynchburg City","All waivers",8]
["Western","1-D","HORI","Lynchburg City","SIS\nL1",-5]
["Western","1-D","HORI","Lynchburg City","SIS\nL2",-13]
["Western","1-D","HORI","Lynchburg City","SIS\nL3",-5]
["Western","1-D","HORI","Lynchburg City","SIS\nL4",8]
["Western","1-D","HORI","Lynchburg City","SIS\nL6",5]
["Western","1-D","HORI","Lynchburg City","SIS\nL7",4]
["Western","1-D","HORI","Lynchburg City","SIS\nDefault",11]
["Northern","2-B","RapR","Madison County","BI waiver",0]
["Northern","2-B","RapR","Madison County","SIS\nL3",0]
["Northern","2-B","RapR","Madison County","SIS\nL5",0]
["Northern","2-B","RapR","Madison County","SIS\nL6",0]
["Northern","2-B","RapR","Madison County","SIS\nL7",0]
["Northern","2-B","RapR","Madison County","Benefits Planning",0]
["Northern","2-B","RapR","Madison County","Community Coaching",0]
["Northern","2-B","RapR","Madison County","Community Engagement",0]
["Northern","2-B","RapR","Madison County","Community Guide",0]
["Northern","2-B","RapR","Madison County","Electronic Home-Based Services",0]
["Northern","2-B","RapR","Madison County","Employment and Community Transportation",0]
["Northern","2-B","RapR","Madison County","Independent Living Supports",0]
["Northern","2-B","RapR","Madison County","In-home Supports",0]
["Northern","2-B","RapR","Madison County","Peer Mentoring",0]
["Northern","2-B","RapR","Madison County","Shared Living",0]
["Northern","2-B","RapR","Madison County","Supported Living",0]
["Northern","2-B","RapR","Madison County","Crisis Support Services",0]
["Northern","2-B","RapR","Madison County","Private Duty Nursing",0]
["Northern","2-B","RapR","Madison County","Skilled Nursing",0]
["Northern","2-B","RapR","Madison County","FIS waiver",1]
["Northern","2-B","RapR","Madison County","SIS\nDefault",1]
["Northern","2-B","RapR","Madison County","SIS\nL1",-1]
["Northern","2-B","RapR","Madison County","Sponsored Residential",-1]
["Northern","2-B","RapR","Madison County","SIS\nL2",2]
["Northern","2-B","RapR","Madison County","CL waiver",5]
["Northern","2-B","RapR","Madison County","All waivers",6]
["Northern","2-B","RapR","Madison County","SIS\nL4",4]
["Northern","2-A","PWC","Manassas City","BI waiver",0]
["Northern","2-A","PWC","Manassas City","SIS\nL5",0]
["Northern","2-A","PWC","Manassas City","Benefits Planning",0]
["Northern","2-A","PWC","Manassas City","Community Engagement",0]
["Northern","2-A","PWC","Manassas City","Community Guide",0]
["Northern","2-A","PWC","Manassas City","Electronic Home-Based Services",0]
["Northern","2-A","PWC","Manassas City","Employment and Community Transportation",0]
["Northern","2-A","PWC","Manassas City","Independent Living Supports",0]
["Northern","2-A","PWC","Manassas City","In-home Supports",0]
["Northern","2-A","PWC","Manassas City","Peer Mentoring",0]
["Northern","2-A","PWC","Manassas City","Shared Living",0]
["Northern","2-A","PWC","Manassas City","Supported Living",0]
["Northern","2-A","PWC","Manassas City","Crisis Support Services",0]
["Northern","2-A","PWC","Manassas City","Private Duty Nursing",0]
["Northern","2-A","PWC","Manassas City","Skilled Nursing",0]
["Northern","2-A","PWC","Manassas City","Sponsored Residential",0]
["Northern","2-A","PWC","Manassas City","SIS\nDefault",1]
["Northern","2-A","PWC","Manassas City","CL waiver",-1]
["Northern","2-A","PWC","Manassas City","SIS\nL1",-1]
["Northern","2-A","PWC","Manassas City","SIS\nL6",-1]
["Northern","2-A","PWC","Manassas City","Community Coaching",-1]
["Northern","2-A","PWC","Manassas City","FIS waiver",-2]
["Northern","2-A","PWC","Manassas City","SIS\nL3",-2]
["Northern","2-A","PWC","Manassas City","SIS\nL4",-2]
["Northern","2-A","PWC","Manassas City","SIS\nL7",-2]
["Northern","2-A","PWC","Manassas City","All waivers",-3]
["Northern","2-A","PWC","Manassas City","SIS\nL2",4]
["Northern","2-A","PWC","Manassas Park City","BI waiver",0]
["Northern","2-A","PWC","Manassas Park City","All waivers",0]
["Northern","2-A","PWC","Manassas Park City","SIS\nL1",0]
["Northern","2-A","PWC","Manassas Park City","SIS\nL2",0]
["Northern","2-A","PWC","Manassas Park City","SIS\nL3",0]
["Northern","2-A","PWC","Manassas Park City","SIS\nL4",0]
["Northern","2-A","PWC","Manassas Park City","SIS\nL5",0]
["Northern","2-A","PWC","Manassas Park City","SIS\nL6",0]
["Northern","2-A","PWC","Manassas Park City","Benefits Planning",0]
["Northern","2-A","PWC","Manassas Park City","Community Coaching",0]
["Northern","2-A","PWC","Manassas Park City","Community Engagement",0]
["Northern","2-A","PWC","Manassas Park City","Community Guide",0]
["Northern","2-A","PWC","Manassas Park City","Electronic Home-Based Services",0]
["Northern","2-A","PWC","Manassas Park City","Employment and Community Transportation",0]
["Northern","2-A","PWC","Manassas Park City","Independent Living Supports",0]
["Northern","2-A","PWC","Manassas Park City","In-home Supports",0]
["Northern","2-A","PWC","Manassas Park City","Peer Mentoring",0]
["Northern","2-A","PWC","Manassas Park City","Shared Living",0]
["Northern","2-A","PWC","Manassas Park City","Supported Living",0]
["Northern","2-A","PWC","Manassas Park City","Crisis Support Services",0]
["Northern","2-A","PWC","Manassas Park City","Private Duty Nursing",0]
["Northern","2-A","PWC","Manassas Park City","Skilled Nursing",0]
["Northern","2-A","PWC","Manassas Park City","Sponsored Residential",0]
["Northern","2-A","PWC","Manassas Park City","FIS waiver",1]
["Northern","2-A","PWC","Manassas Park City","SIS\nDefault",1]
["Northern","2-A","PWC","Manassas Park City","CL waiver",-1]
["Northern","2-A","PWC","Manassas Park City","SIS\nL7",-1]
["Southwestern","3-B","PDMT","Martinsville City","BI waiver",0]
["Southwestern","3-B","PDMT","Martinsville City","Benefits Planning",0]
["Southwestern","3-B","PDMT","Martinsville City","Community Coaching",0]
["Southwestern","3-B","PDMT","Martinsville City","Community Guide",0]
["Southwestern","3-B","PDMT","Martinsville City","Electronic Home-Based Services",0]
["Southwestern","3-B","PDMT","Martinsville City","Employment and Community Transportation",0]
["Southwestern","3-B","PDMT","Martinsville City","Independent Living Supports",0]
["Southwestern","3-B","PDMT","Martinsville City","In-home Supports",0]
["Southwestern","3-B","PDMT","Martinsville City","Peer Mentoring",0]
["Southwestern","3-B","PDMT","Martinsville City","Shared Living",0]
["Southwestern","3-B","PDMT","Martinsville City","Supported Living",0]
["Southwestern","3-B","PDMT","Martinsville City","Crisis Support Services",0]
["Southwestern","3-B","PDMT","Martinsville City","Private Duty Nursing",0]
["Southwestern","3-B","PDMT","Martinsville City","Skilled Nursing",0]
["Southwestern","3-B","PDMT","Martinsville City","Sponsored Residential",0]
["Southwestern","3-B","PDMT","Martinsville City","SIS\nL5",1]
["Southwestern","3-B","PDMT","Martinsville City","Community Engagement",1]
["Southwestern","3-B","PDMT","Martinsville City","SIS\nL1",-1]
["Southwestern","3-B","PDMT","Martinsville City","SIS\nL3",-1]
["Southwestern","3-B","PDMT","Martinsville City","SIS\nL7",-1]
["Southwestern","3-B","PDMT","Martinsville City","All waivers",-2]
["Southwestern","3-B","PDMT","Martinsville City","SIS\nL6",3]
["Southwestern","3-B","PDMT","Martinsville City","FIS waiver",4]
["Southwestern","3-B","PDMT","Martinsville City","CL waiver",-6]
["Southwestern","3-B","PDMT","Martinsville City","SIS\nL2",-11]
["Southwestern","3-B","PDMT","Martinsville City","SIS\nL4",4]
["Southwestern","3-B","PDMT","Martinsville City","SIS\nDefault",4]
["Eastern","5-A","MPNN","Mathews County","BI waiver",0]
["Eastern","5-A","MPNN","Mathews County","SIS\nL3",0]
["Eastern","5-A","MPNN","Mathews County","SIS\nL6",0]
["Eastern","5-A","MPNN","Mathews County","SIS\nL7",0]
["Eastern","5-A","MPNN","Mathews County","Benefits Planning",0]
["Eastern","5-A","MPNN","Mathews County","Community Coaching",0]
["Eastern","5-A","MPNN","Mathews County","Community Guide",0]
["Eastern","5-A","MPNN","Mathews County","Electronic Home-Based Services",0]
["Eastern","5-A","MPNN","Mathews County","Employment and Community Transportation",0]
["Eastern","5-A","MPNN","Mathews County","Independent Living Supports",0]
["Eastern","5-A","MPNN","Mathews County","In-home Supports",0]
["Eastern","5-A","MPNN","Mathews County","Peer Mentoring",0]
["Eastern","5-A","MPNN","Mathews County","Shared Living",0]
["Eastern","5-A","MPNN","Mathews County","Supported Living",0]
["Eastern","5-A","MPNN","Mathews County","Crisis Support Services",0]
["Eastern","5-A","MPNN","Mathews County","Private Duty Nursing",0]
["Eastern","5-A","MPNN","Mathews County","Skilled Nursing",0]
["Eastern","5-A","MPNN","Mathews County","Sponsored Residential",0]
["Eastern","5-A","MPNN","Mathews County","SIS\nL1",-1]
["Eastern","5-A","MPNN","Mathews County","Community Engagement",-1]
["Eastern","5-A","MPNN","Mathews County","FIS waiver",2]
["Eastern","5-A","MPNN","Mathews County","All waivers",-2]
["Eastern","5-A","MPNN","Mathews County","SIS\nL5",-2]
["Eastern","5-A","MPNN","Mathews County","CL waiver",-4]
["Eastern","5-A","MPNN","Mathews County","SIS\nL2",6]
["Eastern","5-A","MPNN","Mathews County","SIS\nL4",-9]
["Eastern","5-A","MPNN","Mathews County","SIS\nDefault",4]
["Central","4-C","SS","Mecklenburg County","BI waiver",0]
["Central","4-C","SS","Mecklenburg County","SIS\nL1",0]
["Central","4-C","SS","Mecklenburg County","SIS\nL5",0]
["Central","4-C","SS","Mecklenburg County","Benefits Planning",0]
["Central","4-C","SS","Mecklenburg County","Community Coaching",0]
["Central","4-C","SS","Mecklenburg County","Community Engagement",0]
["Central","4-C","SS","Mecklenburg County","Community Guide",0]
["Central","4-C","SS","Mecklenburg County","Electronic Home-Based Services",0]
["Central","4-C","SS","Mecklenburg County","Employment and Community Transportation",0]
["Central","4-C","SS","Mecklenburg County","Independent Living Supports",0]
["Central","4-C","SS","Mecklenburg County","In-home Supports",0]
["Central","4-C","SS","Mecklenburg County","Peer Mentoring",0]
["Central","4-C","SS","Mecklenburg County","Shared Living",0]
["Central","4-C","SS","Mecklenburg County","Supported Living",0]
["Central","4-C","SS","Mecklenburg County","Crisis Support Services",0]
["Central","4-C","SS","Mecklenburg County","Private Duty Nursing",0]
["Central","4-C","SS","Mecklenburg County","Sponsored Residential",0]
["Central","4-C","SS","Mecklenburg County","CL waiver",1]
["Central","4-C","SS","Mecklenburg County","Skilled Nursing",1]
["Central","4-C","SS","Mecklenburg County","SIS\nL6",2]
["Central","4-C","SS","Mecklenburg County","SIS\nL7",3]
["Central","4-C","SS","Mecklenburg County","SIS\nDefault",3]
["Central","4-C","SS","Mecklenburg County","FIS waiver",4]
["Central","4-C","SS","Mecklenburg County","All waivers",5]
["Central","4-C","SS","Mecklenburg County","SIS\nL2",-7]
["Central","4-C","SS","Mecklenburg County","SIS\nL3",-3]
["Central","4-C","SS","Mecklenburg County","SIS\nL4",7]
["Eastern","5-A","MPNN","Middlesex County","BI waiver",0]
["Eastern","5-A","MPNN","Middlesex County","All waivers",0]
["Eastern","5-A","MPNN","Middlesex County","SIS\nL1",0]
["Eastern","5-A","MPNN","Middlesex County","SIS\nL3",0]
["Eastern","5-A","MPNN","Middlesex County","SIS\nL6",0]
["Eastern","5-A","MPNN","Middlesex County","SIS\nL7",0]
["Eastern","5-A","MPNN","Middlesex County","Benefits Planning",0]
["Eastern","5-A","MPNN","Middlesex County","Community Coaching",0]
["Eastern","5-A","MPNN","Middlesex County","Community Engagement",0]
["Eastern","5-A","MPNN","Middlesex County","Community Guide",0]
["Eastern","5-A","MPNN","Middlesex County","Electronic Home-Based Services",0]
["Eastern","5-A","MPNN","Middlesex County","Employment and Community Transportation",0]
["Eastern","5-A","MPNN","Middlesex County","Independent Living Supports",0]
["Eastern","5-A","MPNN","Middlesex County","In-home Supports",0]
["Eastern","5-A","MPNN","Middlesex County","Peer Mentoring",0]
["Eastern","5-A","MPNN","Middlesex County","Shared Living",0]
["Eastern","5-A","MPNN","Middlesex County","Supported Living",0]
["Eastern","5-A","MPNN","Middlesex County","Crisis Support Services",0]
["Eastern","5-A","MPNN","Middlesex County","Private Duty Nursing",0]
["Eastern","5-A","MPNN","Middlesex County","Skilled Nursing",0]
["Eastern","5-A","MPNN","Middlesex County","Sponsored Residential",0]
["Eastern","5-A","MPNN","Middlesex County","SIS\nL5",1]
["Eastern","5-A","MPNN","Middlesex County","SIS\nDefault",1]
["Eastern","5-A","MPNN","Middlesex County","SIS\nL2",-1]
["Eastern","5-A","MPNN","Middlesex County","SIS\nL4",-1]
["Eastern","5-A","MPNN","Middlesex County","FIS waiver",2]
["Eastern","5-A","MPNN","Middlesex County","CL waiver",-2]
["Southwestern","3-A","NRV","Montgomery County","BI waiver",0]
["Southwestern","3-A","NRV","Montgomery County","SIS\nL2",0]
["Southwestern","3-A","NRV","Montgomery County","SIS\nL3",0]
["Southwestern","3-A","NRV","Montgomery County","SIS\nL5",0]
["Southwestern","3-A","NRV","Montgomery County","Benefits Planning",0]
["Southwestern","3-A","NRV","Montgomery County","Community Engagement",0]
["Southwestern","3-A","NRV","Montgomery County","Community Guide",0]
["Southwestern","3-A","NRV","Montgomery County","Electronic Home-Based Services",0]
["Southwestern","3-A","NRV","Montgomery County","Employment and Community Transportation",0]
["Southwestern","3-A","NRV","Montgomery County","Independent Living Supports",0]
["Southwestern","3-A","NRV","Montgomery County","Peer Mentoring",0]
["Southwestern","3-A","NRV","Montgomery County","Shared Living",0]
["Southwestern","3-A","NRV","Montgomery County","Supported Living",0]
["Southwestern","3-A","NRV","Montgomery County","Crisis Support Services",0]
["Southwestern","3-A","NRV","Montgomery County","Private Duty Nursing",0]
["Southwestern","3-A","NRV","Montgomery County","Sponsored Residential",0]
["Southwestern","3-A","NRV","Montgomery County","SIS\nL4",1]
["Southwestern","3-A","NRV","Montgomery County","Community Coaching",1]
["Southwestern","3-A","NRV","Montgomery County","In-home Supports",-1]
["Southwestern","3-A","NRV","Montgomery County","Skilled Nursing",-1]
["Southwestern","3-A","NRV","Montgomery County","SIS\nDefault",2]
["Southwestern","3-A","NRV","Montgomery County","SIS\nL1",3]
["Southwestern","3-A","NRV","Montgomery County","SIS\nL6",3]
["Southwestern","3-A","NRV","Montgomery County","FIS waiver",11]
["Southwestern","3-A","NRV","Montgomery County","CL waiver",5]
["Southwestern","3-A","NRV","Montgomery County","All waivers",16]
["Southwestern","3-A","NRV","Montgomery County","SIS\nL7",7]
["Western","1-A","RTEN","Nelson County","BI waiver",0]
["Western","1-A","RTEN","Nelson County","SIS\nL3",0]
["Western","1-A","RTEN","Nelson County","SIS\nL5",0]
["Western","1-A","RTEN","Nelson County","SIS\nL6",0]
["Western","1-A","RTEN","Nelson County","Benefits Planning",0]
["Western","1-A","RTEN","Nelson County","Community Coaching",0]
["Western","1-A","RTEN","Nelson County","Community Engagement",0]
["Western","1-A","RTEN","Nelson County","Community Guide",0]
["Western","1-A","RTEN","Nelson County","Electronic Home-Based Services",0]
["Western","1-A","RTEN","Nelson County","Employment and Community Transportation",0]
["Western","1-A","RTEN","Nelson County","Independent Living Supports",0]
["Western","1-A","RTEN","Nelson County","In-home Supports",0]
["Western","1-A","RTEN","Nelson County","Peer Mentoring",0]
["Western","1-A","RTEN","Nelson County","Shared Living",0]
["Western","1-A","RTEN","Nelson County","Supported Living",0]
["Western","1-A","RTEN","Nelson County","Crisis Support Services",0]
["Western","1-A","RTEN","Nelson County","Private Duty Nursing",0]
["Western","1-A","RTEN","Nelson County","Skilled Nursing",0]
["Western","1-A","RTEN","Nelson County","Sponsored Residential",0]
["Western","1-A","RTEN","Nelson County","FIS waiver",1]
["Western","1-A","RTEN","Nelson County","SIS\nL1",1]
["Western","1-A","RTEN","Nelson County","SIS\nL7",1]
["Western","1-A","RTEN","Nelson County","SIS\nDefault",2]
["Western","1-A","RTEN","Nelson County","CL waiver",3]
["Western","1-A","RTEN","Nelson County","SIS\nL4",3]
["Western","1-A","RTEN","Nelson County","All waivers",4]
["Western","1-A","RTEN","Nelson County","SIS\nL2",-3]
["Central","4-A","HENR","New Kent County","BI waiver",0]
["Central","4-A","HENR","New Kent County","FIS waiver",0]
["Central","4-A","HENR","New Kent County","SIS\nL3",0]
["Central","4-A","HENR","New Kent County","SIS\nL6",0]
["Central","4-A","HENR","New Kent County","Benefits Planning",0]
["Central","4-A","HENR","New Kent County","Community Guide",0]
["Central","4-A","HENR","New Kent County","Electronic Home-Based Services",0]
["Central","4-A","HENR","New Kent County","Employment and Community Transportation",0]
["Central","4-A","HENR","New Kent County","Independent Living Supports",0]
["Central","4-A","HENR","New Kent County","In-home Supports",0]
["Central","4-A","HENR","New Kent County","Peer Mentoring",0]
["Central","4-A","HENR","New Kent County","Shared Living",0]
["Central","4-A","HENR","New Kent County","Supported Living",0]
["Central","4-A","HENR","New Kent County","Crisis Support Services",0]
["Central","4-A","HENR","New Kent County","Private Duty Nursing",0]
["Central","4-A","HENR","New Kent County","Skilled Nursing",0]
["Central","4-A","HENR","New Kent County","SIS\nL4",1]
["Central","4-A","HENR","New Kent County","Sponsored Residential",1]
["Central","4-A","HENR","New Kent County","Community Coaching",-1]
["Central","4-A","HENR","New Kent County","Community Engagement",-1]
["Central","4-A","HENR","New Kent County","SIS\nL5",2]
["Central","4-A","HENR","New Kent County","SIS\nL1",-2]
["Central","4-A","HENR","New Kent County","SIS\nL2",-2]
["Central","4-A","HENR","New Kent County","SIS\nL7",-2]
["Central","4-A","HENR","New Kent County","SIS\nDefault",-2]
["Central","4-A","HENR","New Kent County","CL waiver",-5]
["Central","4-A","HENR","New Kent County","All waivers",-5]
["Eastern","5-C","HAMP","Newport News City","Benefits Planning",0]
["Eastern","5-C","HAMP","Newport News City","Community Coaching",0]
["Eastern","5-C","HAMP","Newport News City","Community Guide",0]
["Eastern","5-C","HAMP","Newport News City","Electronic Home-Based Services",0]
["Eastern","5-C","HAMP","Newport News City","Employment and Community Transportation",0]
["Eastern","5-C","HAMP","Newport News City","In-home Supports",0]
["Eastern","5-C","HAMP","Newport News City","Peer Mentoring",0]
["Eastern","5-C","HAMP","Newport News City","Shared Living",0]
["Eastern","5-C","HAMP","Newport News City","Supported Living",0]
["Eastern","5-C","HAMP","Newport News City","Crisis Support Services",0]
["Eastern","5-C","HAMP","Newport News City","Sponsored Residential",0]
["Eastern","5-C","HAMP","Newport News City","Independent Living Supports",1]
["Eastern","5-C","HAMP","Newport News City","Community Engagement",-1]
["Eastern","5-C","HAMP","Newport News City","Private Duty Nursing",-1]
["Eastern","5-C","HAMP","Newport News City","SIS\nL6",2]
["Eastern","5-C","HAMP","Newport News City","BI waiver",-2]
["Eastern","5-C","HAMP","Newport News City","SIS\nL7",3]
["Eastern","5-C","HAMP","Newport News City","FIS waiver",26]
["Eastern","5-C","HAMP","Newport News City","CL waiver",21]
["Eastern","5-C","HAMP","Newport News City","All waivers",45]
["Eastern","5-C","HAMP","Newport News City","SIS\nL1",-8]
["Eastern","5-C","HAMP","Newport News City","SIS\nL2",-14]
["Eastern","5-C","HAMP","Newport News City","SIS\nL3",-3]
["Eastern","5-C","HAMP","Newport News City","SIS\nL4",41]
["Eastern","5-C","HAMP","Newport News City","SIS\nL5",4]
["Eastern","5-C","HAMP","Newport News City","SIS\nDefault",20]
["Eastern","5-C","HAMP","Newport News City","Skilled Nursing",-5]
["Eastern","5-D","NORF","Norfolk City","SIS\nL3",0]
["Eastern","5-D","NORF","Norfolk City","SIS\nL7",0]
["Eastern","5-D","NORF","Norfolk City","Benefits Planning",0]
["Eastern","5-D","NORF","Norfolk City","Community Guide",0]
["Eastern","5-D","NORF","Norfolk City","Electronic Home-Based Services",0]
["Eastern","5-D","NORF","Norfolk City","Employment and Community Transportation",0]
["Eastern","5-D","NORF","Norfolk City","Independent Living Supports",0]
["Eastern","5-D","NORF","Norfolk City","Peer Mentoring",0]
["Eastern","5-D","NORF","Norfolk City","Shared Living",0]
["Eastern","5-D","NORF","Norfolk City","Supported Living",0]
["Eastern","5-D","NORF","Norfolk City","Crisis Support Services",0]
["Eastern","5-D","NORF","Norfolk City","Private Duty Nursing",0]
["Eastern","5-D","NORF","Norfolk City","Sponsored Residential",0]
["Eastern","5-D","NORF","Norfolk City","Community Engagement",1]
["Eastern","5-D","NORF","Norfolk City","Community Coaching",-1]
["Eastern","5-D","NORF","Norfolk City","Skilled Nursing",-1]
["Eastern","5-D","NORF","Norfolk City","SIS\nL6",-2]
["Eastern","5-D","NORF","Norfolk City","In-home Supports",-2]
["Eastern","5-D","NORF","Norfolk City","BI waiver",9]
["Eastern","5-D","NORF","Norfolk City","FIS waiver",28]
["Eastern","5-D","NORF","Norfolk City","CL waiver",-18]
["Eastern","5-D","NORF","Norfolk City","All waivers",19]
["Eastern","5-D","NORF","Norfolk City","SIS\nL1",-21]
["Eastern","5-D","NORF","Norfolk City","SIS\nL2",-43]
["Eastern","5-D","NORF","Norfolk City","SIS\nL4",39]
["Eastern","5-D","NORF","Norfolk City","SIS\nL5",7]
["Eastern","5-D","NORF","Norfolk City","SIS\nDefault",39]
["Eastern","5-B","EAST","Northampton County","BI waiver",0]
["Eastern","5-B","EAST","Northampton County","All waivers",0]
["Eastern","5-B","EAST","Northampton County","SIS\nL1",0]
["Eastern","5-B","EAST","Northampton County","SIS\nL3",0]
["Eastern","5-B","EAST","Northampton County","SIS\nL6",0]
["Eastern","5-B","EAST","Northampton County","SIS\nL7",0]
["Eastern","5-B","EAST","Northampton County","Benefits Planning",0]
["Eastern","5-B","EAST","Northampton County","Community Coaching",0]
["Eastern","5-B","EAST","Northampton County","Community Engagement",0]
["Eastern","5-B","EAST","Northampton County","Community Guide",0]
["Eastern","5-B","EAST","Northampton County","Electronic Home-Based Services",0]
["Eastern","5-B","EAST","Northampton County","Employment and Community Transportation",0]
["Eastern","5-B","EAST","Northampton County","Independent Living Supports",0]
["Eastern","5-B","EAST","Northampton County","In-home Supports",0]
["Eastern","5-B","EAST","Northampton County","Peer Mentoring",0]
["Eastern","5-B","EAST","Northampton County","Shared Living",0]
["Eastern","5-B","EAST","Northampton County","Supported Living",0]
["Eastern","5-B","EAST","Northampton County","Crisis Support Services",0]
["Eastern","5-B","EAST","Northampton County","Private Duty Nursing",0]
["Eastern","5-B","EAST","Northampton County","Skilled Nursing",0]
["Eastern","5-B","EAST","Northampton County","Sponsored Residential",0]
["Eastern","5-B","EAST","Northampton County","FIS waiver",1]
["Eastern","5-B","EAST","Northampton County","SIS\nL5",1]
["Eastern","5-B","EAST","Northampton County","SIS\nDefault",1]
["Eastern","5-B","EAST","Northampton County","CL waiver",-1]
["Eastern","5-B","EAST","Northampton County","SIS\nL4",2]
["Eastern","5-B","EAST","Northampton County","SIS\nL2",-4]
["Eastern","5-A","MPNN","Northumberland County","BI waiver",0]
["Eastern","5-A","MPNN","Northumberland County","FIS waiver",0]
["Eastern","5-A","MPNN","Northumberland County","CL waiver",0]
["Eastern","5-A","MPNN","Northumberland County","All waivers",0]
["Eastern","5-A","MPNN","Northumberland County","SIS\nL1",0]
["Eastern","5-A","MPNN","Northumberland County","SIS\nL3",0]
["Eastern","5-A","MPNN","Northumberland County","SIS\nL4",0]
["Eastern","5-A","MPNN","Northumberland County","SIS\nL5",0]
["Eastern","5-A","MPNN","Northumberland County","SIS\nL7",0]
["Eastern","5-A","MPNN","Northumberland County","Benefits Planning",0]
["Eastern","5-A","MPNN","Northumberland County","Community Coaching",0]
["Eastern","5-A","MPNN","Northumberland County","Community Engagement",0]
["Eastern","5-A","MPNN","Northumberland County","Community Guide",0]
["Eastern","5-A","MPNN","Northumberland County","Electronic Home-Based Services",0]
["Eastern","5-A","MPNN","Northumberland County","Employment and Community Transportation",0]
["Eastern","5-A","MPNN","Northumberland County","Independent Living Supports",0]
["Eastern","5-A","MPNN","Northumberland County","In-home Supports",0]
["Eastern","5-A","MPNN","Northumberland County","Peer Mentoring",0]
["Eastern","5-A","MPNN","Northumberland County","Shared Living",0]
["Eastern","5-A","MPNN","Northumberland County","Supported Living",0]
["Eastern","5-A","MPNN","Northumberland County","Crisis Support Services",0]
["Eastern","5-A","MPNN","Northumberland County","Private Duty Nursing",0]
["Eastern","5-A","MPNN","Northumberland County","Skilled Nursing",0]
["Eastern","5-A","MPNN","Northumberland County","Sponsored Residential",0]
["Eastern","5-A","MPNN","Northumberland County","SIS\nL2",1]
["Eastern","5-A","MPNN","Northumberland County","SIS\nDefault",1]
["Eastern","5-A","MPNN","Northumberland County","SIS\nL6",-2]
["Southwestern","3-D","PLD1","Norton City","BI waiver",0]
["Southwestern","3-D","PLD1","Norton City","FIS waiver",0]
["Southwestern","3-D","PLD1","Norton City","SIS\nL1",0]
["Southwestern","3-D","PLD1","Norton City","SIS\nL3",0]
["Southwestern","3-D","PLD1","Norton City","SIS\nL4",0]
["Southwestern","3-D","PLD1","Norton City","SIS\nL5",0]
["Southwestern","3-D","PLD1","Norton City","SIS\nL6",0]
["Southwestern","3-D","PLD1","Norton City","SIS\nL7",0]
["Southwestern","3-D","PLD1","Norton City","SIS\nDefault",0]
["Southwestern","3-D","PLD1","Norton City","Benefits Planning",0]
["Southwestern","3-D","PLD1","Norton City","Community Coaching",0]
["Southwestern","3-D","PLD1","Norton City","Community Engagement",0]
["Southwestern","3-D","PLD1","Norton City","Community Guide",0]
["Southwestern","3-D","PLD1","Norton City","Electronic Home-Based Services",0]
["Southwestern","3-D","PLD1","Norton City","Employment and Community Transportation",0]
["Southwestern","3-D","PLD1","Norton City","Independent Living Supports",0]
["Southwestern","3-D","PLD1","Norton City","In-home Supports",0]
["Southwestern","3-D","PLD1","Norton City","Peer Mentoring",0]
["Southwestern","3-D","PLD1","Norton City","Shared Living",0]
["Southwestern","3-D","PLD1","Norton City","Supported Living",0]
["Southwestern","3-D","PLD1","Norton City","Crisis Support Services",0]
["Southwestern","3-D","PLD1","Norton City","Private Duty Nursing",0]
["Southwestern","3-D","PLD1","Norton City","Skilled Nursing",0]
["Southwestern","3-D","PLD1","Norton City","Sponsored Residential",0]
["Southwestern","3-D","PLD1","Norton City","CL waiver",-1]
["Southwestern","3-D","PLD1","Norton City","All waivers",-1]
["Southwestern","3-D","PLD1","Norton City","SIS\nL2",-1]
["Central","4-C","CROS","Nottoway County","BI waiver",0]
["Central","4-C","CROS","Nottoway County","All waivers",0]
["Central","4-C","CROS","Nottoway County","SIS\nL1",0]
["Central","4-C","CROS","Nottoway County","SIS\nL5",0]
["Central","4-C","CROS","Nottoway County","SIS\nL6",0]
["Central","4-C","CROS","Nottoway County","SIS\nL7",0]
["Central","4-C","CROS","Nottoway County","SIS\nDefault",0]
["Central","4-C","CROS","Nottoway County","Benefits Planning",0]
["Central","4-C","CROS","Nottoway County","Community Coaching",0]
["Central","4-C","CROS","Nottoway County","Community Engagement",0]
["Central","4-C","CROS","Nottoway County","Community Guide",0]
["Central","4-C","CROS","Nottoway County","Electronic Home-Based Services",0]
["Central","4-C","CROS","Nottoway County","Employment and Community Transportation",0]
["Central","4-C","CROS","Nottoway County","Independent Living Supports",0]
["Central","4-C","CROS","Nottoway County","In-home Supports",0]
["Central","4-C","CROS","Nottoway County","Peer Mentoring",0]
["Central","4-C","CROS","Nottoway County","Shared Living",0]
["Central","4-C","CROS","Nottoway County","Supported Living",0]
["Central","4-C","CROS","Nottoway County","Crisis Support Services",0]
["Central","4-C","CROS","Nottoway County","Private Duty Nursing",0]
["Central","4-C","CROS","Nottoway County","Skilled Nursing",0]
["Central","4-C","CROS","Nottoway County","Sponsored Residential",0]
["Central","4-C","CROS","Nottoway County","SIS\nL3",1]
["Central","4-C","CROS","Nottoway County","SIS\nL4",1]
["Central","4-C","CROS","Nottoway County","FIS waiver",2]
["Central","4-C","CROS","Nottoway County","CL waiver",-2]
["Central","4-C","CROS","Nottoway County","SIS\nL2",-2]
["Northern","2-B","RapR","Orange County","CL waiver",0]
["Northern","2-B","RapR","Orange County","SIS\nL5",0]
["Northern","2-B","RapR","Orange County","SIS\nL6",0]
["Northern","2-B","RapR","Orange County","SIS\nL7",0]
["Northern","2-B","RapR","Orange County","Benefits Planning",0]
["Northern","2-B","RapR","Orange County","Community Coaching",0]
["Northern","2-B","RapR","Orange County","Community Guide",0]
["Northern","2-B","RapR","Orange County","Electronic Home-Based Services",0]
["Northern","2-B","RapR","Orange County","Employment and Community Transportation",0]
["Northern","2-B","RapR","Orange County","Independent Living Supports",0]
["Northern","2-B","RapR","Orange County","In-home Supports",0]
["Northern","2-B","RapR","Orange County","Peer Mentoring",0]
["Northern","2-B","RapR","Orange County","Shared Living",0]
["Northern","2-B","RapR","Orange County","Supported Living",0]
["Northern","2-B","RapR","Orange County","Crisis Support Services",0]
["Northern","2-B","RapR","Orange County","Private Duty Nursing",0]
["Northern","2-B","RapR","Orange County","Skilled Nursing",0]
["Northern","2-B","RapR","Orange County","Sponsored Residential",0]
["Northern","2-B","RapR","Orange County","BI waiver",1]
["Northern","2-B","RapR","Orange County","SIS\nL3",-1]
["Northern","2-B","RapR","Orange County","Community Engagement",-1]
["Northern","2-B","RapR","Orange County","SIS\nL4",2]
["Northern","2-B","RapR","Orange County","FIS waiver",8]
["Northern","2-B","RapR","Orange County","All waivers",9]
["Northern","2-B","RapR","Orange County","SIS\nL1",5]
["Northern","2-B","RapR","Orange County","SIS\nL2",-3]
["Northern","2-B","RapR","Orange County","SIS\nDefault",6]
["Northern","2-D","NW","Page County","BI waiver",0]
["Northern","2-D","NW","Page County","FIS waiver",0]
["Northern","2-D","NW","Page County","SIS\nL1",0]
["Northern","2-D","NW","Page County","SIS\nL5",0]
["Northern","2-D","NW","Page County","SIS\nL6",0]
["Northern","2-D","NW","Page County","Benefits Planning",0]
["Northern","2-D","NW","Page County","Community Coaching",0]
["Northern","2-D","NW","Page County","Community Engagement",0]
["Northern","2-D","NW","Page County","Community Guide",0]
["Northern","2-D","NW","Page County","Electronic Home-Based Services",0]
["Northern","2-D","NW","Page County","Employment and Community Transportation",0]
["Northern","2-D","NW","Page County","Independent Living Supports",0]
["Northern","2-D","NW","Page County","In-home Supports",0]
["Northern","2-D","NW","Page County","Peer Mentoring",0]
["Northern","2-D","NW","Page County","Shared Living",0]
["Northern","2-D","NW","Page County","Supported Living",0]
["Northern","2-D","NW","Page County","Crisis Support Services",0]
["Northern","2-D","NW","Page County","Private Duty Nursing",0]
["Northern","2-D","NW","Page County","Skilled Nursing",0]
["Northern","2-D","NW","Page County","Sponsored Residential",0]
["Northern","2-D","NW","Page County","SIS\nL2",1]
["Northern","2-D","NW","Page County","SIS\nL3",1]
["Northern","2-D","NW","Page County","SIS\nL4",1]
["Northern","2-D","NW","Page County","SIS\nL7",1]
["Northern","2-D","NW","Page County","SIS\nDefault",-1]
["Northern","2-D","NW","Page County","CL waiver",3]
["Northern","2-D","NW","Page County","All waivers",3]
["Southwestern","3-C","PDMT","Patrick County","BI waiver",0]
["Southwestern","3-C","PDMT","Patrick County","SIS\nL5",0]
["Southwestern","3-C","PDMT","Patrick County","Benefits Planning",0]
["Southwestern","3-C","PDMT","Patrick County","Community Coaching",0]
["Southwestern","3-C","PDMT","Patrick County","Community Guide",0]
["Southwestern","3-C","PDMT","Patrick County","Electronic Home-Based Services",0]
["Southwestern","3-C","PDMT","Patrick County","Employment and Community Transportation",0]
["Southwestern","3-C","PDMT","Patrick County","Independent Living Supports",0]
["Southwestern","3-C","PDMT","Patrick County","In-home Supports",0]
["Southwestern","3-C","PDMT","Patrick County","Peer Mentoring",0]
["Southwestern","3-C","PDMT","Patrick County","Shared Living",0]
["Southwestern","3-C","PDMT","Patrick County","Supported Living",0]
["Southwestern","3-C","PDMT","Patrick County","Crisis Support Services",0]
["Southwestern","3-C","PDMT","Patrick County","Private Duty Nursing",0]
["Southwestern","3-C","PDMT","Patrick County","Skilled Nursing",0]
["Southwestern","3-C","PDMT","Patrick County","Sponsored Residential",0]
["Southwestern","3-C","PDMT","Patrick County","FIS waiver",1]
["Southwestern","3-C","PDMT","Patrick County","SIS\nL6",1]
["Southwestern","3-C","PDMT","Patrick County","SIS\nDefault",1]
["Southwestern","3-C","PDMT","Patrick County","SIS\nL1",-1]
["Southwestern","3-C","PDMT","Patrick County","SIS\nL3",-1]
["Southwestern","3-C","PDMT","Patrick County","SIS\nL4",-1]
["Southwestern","3-C","PDMT","Patrick County","SIS\nL7",-1]
["Southwestern","3-C","PDMT","Patrick County","Community Engagement",-1]
["Southwestern","3-C","PDMT","Patrick County","SIS\nL2",-2]
["Southwestern","3-C","PDMT","Patrick County","CL waiver",-5]
["Southwestern","3-C","PDMT","Patrick County","All waivers",-4]
["Central","4-D","D19","Petersburg City","BI waiver",0]
["Central","4-D","D19","Petersburg City","Benefits Planning",0]
["Central","4-D","D19","Petersburg City","Community Coaching",0]
["Central","4-D","D19","Petersburg City","Community Guide",0]
["Central","4-D","D19","Petersburg City","Electronic Home-Based Services",0]
["Central","4-D","D19","Petersburg City","Employment and Community Transportation",0]
["Central","4-D","D19","Petersburg City","Independent Living Supports",0]
["Central","4-D","D19","Petersburg City","In-home Supports",0]
["Central","4-D","D19","Petersburg City","Peer Mentoring",0]
["Central","4-D","D19","Petersburg City","Shared Living",0]
["Central","4-D","D19","Petersburg City","Supported Living",0]
["Central","4-D","D19","Petersburg City","Crisis Support Services",0]
["Central","4-D","D19","Petersburg City","Private Duty Nursing",0]
["Central","4-D","D19","Petersburg City","Skilled Nursing",0]
["Central","4-D","D19","Petersburg City","Sponsored Residential",0]
["Central","4-D","D19","Petersburg City","CL waiver",-1]
["Central","4-D","D19","Petersburg City","SIS\nL1",-1]
["Central","4-D","D19","Petersburg City","Community Engagement",-1]
["Central","4-D","D19","Petersburg City","SIS\nL6",3]
["Central","4-D","D19","Petersburg City","SIS\nL7",3]
["Central","4-D","D19","Petersburg City","FIS waiver",6]
["Central","4-D","D19","Petersburg City","All waivers",5]
["Central","4-D","D19","Petersburg City","SIS\nL2",-15]
["Central","4-D","D19","Petersburg City","SIS\nL3",-7]
["Central","4-D","D19","Petersburg City","SIS\nL4",7]
["Central","4-D","D19","Petersburg City","SIS\nL5",9]
["Central","4-D","D19","Petersburg City","SIS\nDefault",6]
["Southwestern","3-B","DANV","Pittsylvania County","Benefits Planning",0]
["Southwestern","3-B","DANV","Pittsylvania County","Community Coaching",0]
["Southwestern","3-B","DANV","Pittsylvania County","Community Guide",0]
["Southwestern","3-B","DANV","Pittsylvania County","Electronic Home-Based Services",0]
["Southwestern","3-B","DANV","Pittsylvania County","Employment and Community Transportation",0]
["Southwestern","3-B","DANV","Pittsylvania County","Independent Living Supports",0]
["Southwestern","3-B","DANV","Pittsylvania County","In-home Supports",0]
["Southwestern","3-B","DANV","Pittsylvania County","Peer Mentoring",0]
["Southwestern","3-B","DANV","Pittsylvania County","Shared Living",0]
["Southwestern","3-B","DANV","Pittsylvania County","Supported Living",0]
["Southwestern","3-B","DANV","Pittsylvania County","Crisis Support Services",0]
["Southwestern","3-B","DANV","Pittsylvania County","Private Duty Nursing",0]
["Southwestern","3-B","DANV","Pittsylvania County","Skilled Nursing",0]
["Southwestern","3-B","DANV","Pittsylvania County","Sponsored Residential",0]
["Southwestern","3-B","DANV","Pittsylvania County","Community Engagement",1]
["Southwestern","3-B","DANV","Pittsylvania County","SIS\nL1",-1]
["Southwestern","3-B","DANV","Pittsylvania County","SIS\nL7",2]
["Southwestern","3-B","DANV","Pittsylvania County","CL waiver",-2]
["Southwestern","3-B","DANV","Pittsylvania County","SIS\nL4",3]
["Southwestern","3-B","DANV","Pittsylvania County","BI waiver",5]
["Southwestern","3-B","DANV","Pittsylvania County","FIS waiver",4]
["Southwestern","3-B","DANV","Pittsylvania County","All waivers",7]
["Southwestern","3-B","DANV","Pittsylvania County","SIS\nL2",-16]
["Southwestern","3-B","DANV","Pittsylvania County","SIS\nL3",-3]
["Southwestern","3-B","DANV","Pittsylvania County","SIS\nL5",5]
["Southwestern","3-B","DANV","Pittsylvania County","SIS\nL6",-3]
["Southwestern","3-B","DANV","Pittsylvania County","SIS\nDefault",20]
["Eastern","5-C","COLO","Poquoson City","BI waiver",0]
["Eastern","5-C","COLO","Poquoson City","SIS\nL2",0]
["Eastern","5-C","COLO","Poquoson City","SIS\nL3",0]
["Eastern","5-C","COLO","Poquoson City","SIS\nL5",0]
["Eastern","5-C","COLO","Poquoson City","SIS\nL6",0]
["Eastern","5-C","COLO","Poquoson City","SIS\nL7",0]
["Eastern","5-C","COLO","Poquoson City","Benefits Planning",0]
["Eastern","5-C","COLO","Poquoson City","Community Coaching",0]
["Eastern","5-C","COLO","Poquoson City","Community Engagement",0]
["Eastern","5-C","COLO","Poquoson City","Community Guide",0]
["Eastern","5-C","COLO","Poquoson City","Electronic Home-Based Services",0]
["Eastern","5-C","COLO","Poquoson City","Employment and Community Transportation",0]
["Eastern","5-C","COLO","Poquoson City","Independent Living Supports",0]
["Eastern","5-C","COLO","Poquoson City","In-home Supports",0]
["Eastern","5-C","COLO","Poquoson City","Peer Mentoring",0]
["Eastern","5-C","COLO","Poquoson City","Shared Living",0]
["Eastern","5-C","COLO","Poquoson City","Supported Living",0]
["Eastern","5-C","COLO","Poquoson City","Crisis Support Services",0]
["Eastern","5-C","COLO","Poquoson City","Private Duty Nursing",0]
["Eastern","5-C","COLO","Poquoson City","Skilled Nursing",0]
["Eastern","5-C","COLO","Poquoson City","Sponsored Residential",0]
["Eastern","5-C","COLO","Poquoson City","SIS\nDefault",1]
["Eastern","5-C","COLO","Poquoson City","All waivers",-1]
["Eastern","5-C","COLO","Poquoson City","SIS\nL1",-1]
["Eastern","5-C","COLO","Poquoson City","SIS\nL4",-1]
["Eastern","5-C","COLO","Poquoson City","FIS waiver",2]
["Eastern","5-C","COLO","Poquoson City","CL waiver",-3]
["Eastern","5-D","PORT","Portsmouth City","Benefits Planning",0]
["Eastern","5-D","PORT","Portsmouth City","Community Guide",0]
["Eastern","5-D","PORT","Portsmouth City","Electronic Home-Based Services",0]
["Eastern","5-D","PORT","Portsmouth City","Employment and Community Transportation",0]
["Eastern","5-D","PORT","Portsmouth City","Peer Mentoring",0]
["Eastern","5-D","PORT","Portsmouth City","Shared Living",0]
["Eastern","5-D","PORT","Portsmouth City","Crisis Support Services",0]
["Eastern","5-D","PORT","Portsmouth City","Independent Living Supports",1]
["Eastern","5-D","PORT","Portsmouth City","In-home Supports",1]
["Eastern","5-D","PORT","Portsmouth City","Supported Living",1]
["Eastern","5-D","PORT","Portsmouth City","Private Duty Nursing",1]
["Eastern","5-D","PORT","Portsmouth City","BI waiver",-1]
["Eastern","5-D","PORT","Portsmouth City","Community Coaching",-1]
["Eastern","5-D","PORT","Portsmouth City","Skilled Nursing",-1]
["Eastern","5-D","PORT","Portsmouth City","Sponsored Residential",-1]
["Eastern","5-D","PORT","Portsmouth City","FIS waiver",3]
["Eastern","5-D","PORT","Portsmouth City","SIS\nL3",3]
["Eastern","5-D","PORT","Portsmouth City","Community Engagement",3]
["Eastern","5-D","PORT","Portsmouth City","CL waiver",8]
["Eastern","5-D","PORT","Portsmouth City","All waivers",10]
["Eastern","5-D","PORT","Portsmouth City","SIS\nL1",-7]
["Eastern","5-D","PORT","Portsmouth City","SIS\nL2",-28]
["Eastern","5-D","PORT","Portsmouth City","SIS\nL4",37]
["Eastern","5-D","PORT","Portsmouth City","SIS\nL5",5]
["Eastern","5-D","PORT","Portsmouth City","SIS\nL6",-3]
["Eastern","5-D","PORT","Portsmouth City","SIS\nL7",-9]
["Eastern","5-D","PORT","Portsmouth City","SIS\nDefault",12]
["Central","4-B","GOOC","Powhatan County","BI waiver",0]
["Central","4-B","GOOC","Powhatan County","Benefits Planning",0]
["Central","4-B","GOOC","Powhatan County","Community Coaching",0]
["Central","4-B","GOOC","Powhatan County","Community Guide",0]
["Central","4-B","GOOC","Powhatan County","Electronic Home-Based Services",0]
["Central","4-B","GOOC","Powhatan County","Employment and Community Transportation",0]
["Central","4-B","GOOC","Powhatan County","Independent Living Supports",0]
["Central","4-B","GOOC","Powhatan County","In-home Supports",0]
["Central","4-B","GOOC","Powhatan County","Peer Mentoring",0]
["Central","4-B","GOOC","Powhatan County","Shared Living",0]
["Central","4-B","GOOC","Powhatan County","Supported Living",0]
["Central","4-B","GOOC","Powhatan County","Crisis Support Services",0]
["Central","4-B","GOOC","Powhatan County","Private Duty Nursing",0]
["Central","4-B","GOOC","Powhatan County","Skilled Nursing",0]
["Central","4-B","GOOC","Powhatan County","SIS\nL1",1]
["Central","4-B","GOOC","Powhatan County","SIS\nL2",1]
["Central","4-B","GOOC","Powhatan County","SIS\nL5",1]
["Central","4-B","GOOC","Powhatan County","SIS\nL7",1]
["Central","4-B","GOOC","Powhatan County","Community Engagement",1]
["Central","4-B","GOOC","Powhatan County","Sponsored Residential",1]
["Central","4-B","GOOC","Powhatan County","SIS\nDefault",2]
["Central","4-B","GOOC","Powhatan County","SIS\nL3",-2]
["Central","4-B","GOOC","Powhatan County","SIS\nL4",3]
["Central","4-B","GOOC","Powhatan County","FIS waiver",7]
["Central","4-B","GOOC","Powhatan County","CL waiver",4]
["Central","4-B","GOOC","Powhatan County","All waivers",11]
["Central","4-B","GOOC","Powhatan County","SIS\nL6",4]
["Central","4-C","CROS","Prince Edward County","BI waiver",0]
["Central","4-C","CROS","Prince Edward County","Benefits Planning",0]
["Central","4-C","CROS","Prince Edward County","Community Coaching",0]
["Central","4-C","CROS","Prince Edward County","Community Engagement",0]
["Central","4-C","CROS","Prince Edward County","Community Guide",0]
["Central","4-C","CROS","Prince Edward County","Electronic Home-Based Services",0]
["Central","4-C","CROS","Prince Edward County","Employment and Community Transportation",0]
["Central","4-C","CROS","Prince Edward County","Independent Living Supports",0]
["Central","4-C","CROS","Prince Edward County","Peer Mentoring",0]
["Central","4-C","CROS","Prince Edward County","Shared Living",0]
["Central","4-C","CROS","Prince Edward County","Supported Living",0]
["Central","4-C","CROS","Prince Edward County","Crisis Support Services",0]
["Central","4-C","CROS","Prince Edward County","Private Duty Nursing",0]
["Central","4-C","CROS","Prince Edward County","Skilled Nursing",0]
["Central","4-C","CROS","Prince Edward County","Sponsored Residential",0]
["Central","4-C","CROS","Prince Edward County","CL waiver",1]
["Central","4-C","CROS","Prince Edward County","All waivers",-1]
["Central","4-C","CROS","Prince Edward County","SIS\nL6",-1]
["Central","4-C","CROS","Prince Edward County","In-home Supports",-1]
["Central","4-C","CROS","Prince Edward County","SIS\nL1",2]
["Central","4-C","CROS","Prince Edward County","SIS\nL5",2]
["Central","4-C","CROS","Prince Edward County","FIS waiver",-2]
["Central","4-C","CROS","Prince Edward County","SIS\nL2",-3]
["Central","4-C","CROS","Prince Edward County","SIS\nL3",-3]
["Central","4-C","CROS","Prince Edward County","SIS\nL4",9]
["Central","4-C","CROS","Prince Edward County","SIS\nL7",-4]
["Central","4-C","CROS","Prince Edward County","SIS\nDefault",-3]
["Central","4-D","D19","Prince George County","BI waiver",0]
["Central","4-D","D19","Prince George County","SIS\nL1",0]
["Central","4-D","D19","Prince George County","Benefits Planning",0]
["Central","4-D","D19","Prince George County","Community Guide",0]
["Central","4-D","D19","Prince George County","Electronic Home-Based Services",0]
["Central","4-D","D19","Prince George County","Employment and Community Transportation",0]
["Central","4-D","D19","Prince George County","Independent Living Supports",0]
["Central","4-D","D19","Prince George County","Peer Mentoring",0]
["Central","4-D","D19","Prince George County","Shared Living",0]
["Central","4-D","D19","Prince George County","Supported Living",0]
["Central","4-D","D19","Prince George County","Crisis Support Services",0]
["Central","4-D","D19","Prince George County","Private Duty Nursing",0]
["Central","4-D","D19","Prince George County","SIS\nL5",1]
["Central","4-D","D19","Prince George County","SIS\nL6",1]
["Central","4-D","D19","Prince George County","Community Coaching",1]
["Central","4-D","D19","Prince George County","In-home Supports",-1]
["Central","4-D","D19","Prince George County","Community Engagement",2]
["Central","4-D","D19","Prince George County","Sponsored Residential",2]
["Central","4-D","D19","Prince George County","Skilled Nursing",-2]
["Central","4-D","D19","Prince George County","SIS\nL7",3]
["Central","4-D","D19","Prince George County","SIS\nDefault",3]
["Central","4-D","D19","Prince George County","FIS waiver",4]
["Central","4-D","D19","Prince George County","CL waiver",5]
["Central","4-D","D19","Prince George County","All waivers",9]
["Central","4-D","D19","Prince George County","SIS\nL2",-8]
["Central","4-D","D19","Prince George County","SIS\nL3",-6]
["Central","4-D","D19","Prince George County","SIS\nL4",15]
["Northern","2-A","PWC","Prince William County","BI waiver",0]
["Northern","2-A","PWC","Prince William County","SIS\nL6",0]
["Northern","2-A","PWC","Prince William County","Community Guide",0]
["Northern","2-A","PWC","Prince William County","Electronic Home-Based Services",0]
["Northern","2-A","PWC","Prince William County","Employment and Community Transportation",0]
["Northern","2-A","PWC","Prince William County","Independent Living Supports",0]
["Northern","2-A","PWC","Prince William County","Peer Mentoring",0]
["Northern","2-A","PWC","Prince William County","Shared Living",0]
["Northern","2-A","PWC","Prince William County","Supported Living",0]
["Northern","2-A","PWC","Prince William County","SIS\nL5",1]
["Northern","2-A","PWC","Prince William County","Benefits Planning",1]
["Northern","2-A","PWC","Prince William County","Crisis Support Services",1]
["Northern","2-A","PWC","Prince William County","Private Duty Nursing",1]
["Northern","2-A","PWC","Prince William County","Sponsored Residential",1]
["Northern","2-A","PWC","Prince William County","SIS\nL3",-1]
["Northern","2-A","PWC","Prince William County","Community Coaching",-1]
["Northern","2-A","PWC","Prince William County","Community Engagement",-1]
["Northern","2-A","PWC","Prince William County","In-home Supports",-1]
["Northern","2-A","PWC","Prince William County","FIS waiver",57]
["Northern","2-A","PWC","Prince William County","CL waiver",21]
["Northern","2-A","PWC","Prince William County","All waivers",78]
["Northern","2-A","PWC","Prince William County","SIS\nL1",-6]
["Northern","2-A","PWC","Prince William County","SIS\nL2",10]
["Northern","2-A","PWC","Prince William County","SIS\nL4",47]
["Northern","2-A","PWC","Prince William County","SIS\nL7",-10]
["Northern","2-A","PWC","Prince William County","SIS\nDefault",37]
["Northern","2-A","PWC","Prince William County","Skilled Nursing",-8]
["Southwestern","3-C","NRV","Pulaski County","BI waiver",0]
["Southwestern","3-C","NRV","Pulaski County","SIS\nL1",0]
["Southwestern","3-C","NRV","Pulaski County","SIS\nL5",0]
["Southwestern","3-C","NRV","Pulaski County","Benefits Planning",0]
["Southwestern","3-C","NRV","Pulaski County","Community Coaching",0]
["Southwestern","3-C","NRV","Pulaski County","Community Engagement",0]
["Southwestern","3-C","NRV","Pulaski County","Community Guide",0]
["Southwestern","3-C","NRV","Pulaski County","Electronic Home-Based Services",0]
["Southwestern","3-C","NRV","Pulaski County","Employment and Community Transportation",0]
["Southwestern","3-C","NRV","Pulaski County","Independent Living Supports",0]
["Southwestern","3-C","NRV","Pulaski County","In-home Supports",0]
["Southwestern","3-C","NRV","Pulaski County","Peer Mentoring",0]
["Southwestern","3-C","NRV","Pulaski County","Shared Living",0]
["Southwestern","3-C","NRV","Pulaski County","Supported Living",0]
["Southwestern","3-C","NRV","Pulaski County","Crisis Support Services",0]
["Southwestern","3-C","NRV","Pulaski County","Private Duty Nursing",0]
["Southwestern","3-C","NRV","Pulaski County","Skilled Nursing",0]
["Southwestern","3-C","NRV","Pulaski County","Sponsored Residential",0]
["Southwestern","3-C","NRV","Pulaski County","CL waiver",-1]
["Southwestern","3-C","NRV","Pulaski County","SIS\nL6",2]
["Southwestern","3-C","NRV","Pulaski County","SIS\nL3",3]
["Southwestern","3-C","NRV","Pulaski County","FIS waiver",9]
["Southwestern","3-C","NRV","Pulaski County","All waivers",8]
["Southwestern","3-C","NRV","Pulaski County","SIS\nL2",-5]
["Southwestern","3-C","NRV","Pulaski County","SIS\nL4",-4]
["Southwestern","3-C","NRV","Pulaski County","SIS\nL7",5]
["Southwestern","3-C","NRV","Pulaski County","SIS\nDefault",7]
["Southwestern","3-C","NRV","Radford City","BI waiver",0]
["Southwestern","3-C","NRV","Radford City","FIS waiver",0]
["Southwestern","3-C","NRV","Radford City","SIS\nL1",0]
["Southwestern","3-C","NRV","Radford City","SIS\nL5",0]
["Southwestern","3-C","NRV","Radford City","SIS\nL6",0]
["Southwestern","3-C","NRV","Radford City","SIS\nL7",0]
["Southwestern","3-C","NRV","Radford City","SIS\nDefault",0]
["Southwestern","3-C","NRV","Radford City","Benefits Planning",0]
["Southwestern","3-C","NRV","Radford City","Community Guide",0]
["Southwestern","3-C","NRV","Radford City","Electronic Home-Based Services",0]
["Southwestern","3-C","NRV","Radford City","Employment and Community Transportation",0]
["Southwestern","3-C","NRV","Radford City","Independent Living Supports",0]
["Southwestern","3-C","NRV","Radford City","In-home Supports",0]
["Southwestern","3-C","NRV","Radford City","Peer Mentoring",0]
["Southwestern","3-C","NRV","Radford City","Shared Living",0]
["Southwestern","3-C","NRV","Radford City","Supported Living",0]
["Southwestern","3-C","NRV","Radford City","Private Duty Nursing",0]
["Southwestern","3-C","NRV","Radford City","Skilled Nursing",0]
["Southwestern","3-C","NRV","Radford City","Community Coaching",1]
["Southwestern","3-C","NRV","Radford City","Crisis Support Services",1]
["Southwestern","3-C","NRV","Radford City","SIS\nL3",-1]
["Southwestern","3-C","NRV","Radford City","SIS\nL4",-1]
["Southwestern","3-C","NRV","Radford City","Community Engagement",-1]
["Southwestern","3-C","NRV","Radford City","Sponsored Residential",-1]
["Southwestern","3-C","NRV","Radford City","CL waiver",-5]
["Southwestern","3-C","NRV","Radford City","All waivers",-5]
["Southwestern","3-C","NRV","Radford City","SIS\nL2",-3]
["Northern","2-B","RapR","Rappahannock County","BI waiver",0]
["Northern","2-B","RapR","Rappahannock County","FIS waiver",0]
["Northern","2-B","RapR","Rappahannock County","CL waiver",0]
["Northern","2-B","RapR","Rappahannock County","All waivers",0]
["Northern","2-B","RapR","Rappahannock County","SIS\nL5",0]
["Northern","2-B","RapR","Rappahannock County","SIS\nL6",0]
["Northern","2-B","RapR","Rappahannock County","Benefits Planning",0]
["Northern","2-B","RapR","Rappahannock County","Community Coaching",0]
["Northern","2-B","RapR","Rappahannock County","Community Engagement",0]
["Northern","2-B","RapR","Rappahannock County","Community Guide",0]
["Northern","2-B","RapR","Rappahannock County","Electronic Home-Based Services",0]
["Northern","2-B","RapR","Rappahannock County","Employment and Community Transportation",0]
["Northern","2-B","RapR","Rappahannock County","Independent Living Supports",0]
["Northern","2-B","RapR","Rappahannock County","In-home Supports",0]
["Northern","2-B","RapR","Rappahannock County","Peer Mentoring",0]
["Northern","2-B","RapR","Rappahannock County","Shared Living",0]
["Northern","2-B","RapR","Rappahannock County","Supported Living",0]
["Northern","2-B","RapR","Rappahannock County","Crisis Support Services",0]
["Northern","2-B","RapR","Rappahannock County","Private Duty Nursing",0]
["Northern","2-B","RapR","Rappahannock County","Skilled Nursing",0]
["Northern","2-B","RapR","Rappahannock County","Sponsored Residential",0]
["Northern","2-B","RapR","Rappahannock County","SIS\nL1",1]
["Northern","2-B","RapR","Rappahannock County","SIS\nL4",1]
["Northern","2-B","RapR","Rappahannock County","SIS\nDefault",1]
["Northern","2-B","RapR","Rappahannock County","SIS\nL2",-1]
["Northern","2-B","RapR","Rappahannock County","SIS\nL3",-1]
["Northern","2-B","RapR","Rappahannock County","SIS\nL7",-1]
["Central","4-A","RBHA","Richmond City","SIS\nL6",0]
["Central","4-A","RBHA","Richmond City","Benefits Planning",0]
["Central","4-A","RBHA","Richmond City","Community Coaching",0]
["Central","4-A","RBHA","Richmond City","Community Engagement",0]
["Central","4-A","RBHA","Richmond City","Community Guide",0]
["Central","4-A","RBHA","Richmond City","Electronic Home-Based Services",0]
["Central","4-A","RBHA","Richmond City","Employment and Community Transportation",0]
["Central","4-A","RBHA","Richmond City","Independent Living Supports",0]
["Central","4-A","RBHA","Richmond City","Peer Mentoring",0]
["Central","4-A","RBHA","Richmond City","Shared Living",0]
["Central","4-A","RBHA","Richmond City","Supported Living",0]
["Central","4-A","RBHA","Richmond City","Private Duty Nursing",0]
["Central","4-A","RBHA","Richmond City","Sponsored Residential",0]
["Central","4-A","RBHA","Richmond City","BI waiver",1]
["Central","4-A","RBHA","Richmond City","SIS\nL3",-1]
["Central","4-A","RBHA","Richmond City","In-home Supports",-1]
["Central","4-A","RBHA","Richmond City","Crisis Support Services",-1]
["Central","4-A","RBHA","Richmond City","SIS\nL5",2]
["Central","4-A","RBHA","Richmond City","SIS\nL1",-2]
["Central","4-A","RBHA","Richmond City","Skilled Nursing",-2]
["Central","4-A","RBHA","Richmond City","FIS waiver",14]
["Central","4-A","RBHA","Richmond City","CL waiver",-27]
["Central","4-A","RBHA","Richmond City","All waivers",-12]
["Central","4-A","RBHA","Richmond City","SIS\nL2",-35]
["Central","4-A","RBHA","Richmond City","SIS\nL4",23]
["Central","4-A","RBHA","Richmond City","SIS\nL7",-4]
["Central","4-A","RBHA","Richmond City","SIS\nDefault",5]
["Eastern","5-A","MPNN","Richmond County","Benefits Planning",0]
["Eastern","5-A","MPNN","Richmond County","Community Coaching",0]
["Eastern","5-A","MPNN","Richmond County","Community Engagement",0]
["Eastern","5-A","MPNN","Richmond County","Community Guide",0]
["Eastern","5-A","MPNN","Richmond County","Electronic Home-Based Services",0]
["Eastern","5-A","MPNN","Richmond County","Employment and Community Transportation",0]
["Eastern","5-A","MPNN","Richmond County","Independent Living Supports",0]
["Eastern","5-A","MPNN","Richmond County","In-home Supports",0]
["Eastern","5-A","MPNN","Richmond County","Peer Mentoring",0]
["Eastern","5-A","MPNN","Richmond County","Shared Living",0]
["Eastern","5-A","MPNN","Richmond County","Supported Living",0]
["Eastern","5-A","MPNN","Richmond County","Crisis Support Services",0]
["Eastern","5-A","MPNN","Richmond County","Private Duty Nursing",0]
["Eastern","5-A","MPNN","Richmond County","Skilled Nursing",0]
["Eastern","5-A","MPNN","Richmond County","Sponsored Residential",0]
["Eastern","5-A","MPNN","Richmond County","SIS\nL5",1]
["Eastern","5-A","MPNN","Richmond County","SIS\nL6",1]
["Eastern","5-A","MPNN","Richmond County","BI waiver",-1]
["Eastern","5-A","MPNN","Richmond County","SIS\nL3",2]
["Eastern","5-A","MPNN","Richmond County","SIS\nL2",-2]
["Eastern","5-A","MPNN","Richmond County","SIS\nL1",3]
["Eastern","5-A","MPNN","Richmond County","SIS\nL4",3]
["Eastern","5-A","MPNN","Richmond County","SIS\nL7",3]
["Eastern","5-A","MPNN","Richmond County","SIS\nDefault",3]
["Eastern","5-A","MPNN","Richmond County","FIS waiver",8]
["Eastern","5-A","MPNN","Richmond County","CL waiver",7]
["Eastern","5-A","MPNN","Richmond County","All waivers",14]
["Southwestern","3-A","BLUE","Roanoke City","SIS\nL7",0]
["Southwestern","3-A","BLUE","Roanoke City","Benefits Planning",0]
["Southwestern","3-A","BLUE","Roanoke City","Community Guide",0]
["Southwestern","3-A","BLUE","Roanoke City","Electronic Home-Based Services",0]
["Southwestern","3-A","BLUE","Roanoke City","Employment and Community Transportation",0]
["Southwestern","3-A","BLUE","Roanoke City","Independent Living Supports",0]
["Southwestern","3-A","BLUE","Roanoke City","Peer Mentoring",0]
["Southwestern","3-A","BLUE","Roanoke City","Shared Living",0]
["Southwestern","3-A","BLUE","Roanoke City","Supported Living",0]
["Southwestern","3-A","BLUE","Roanoke City","Crisis Support Services",0]
["Southwestern","3-A","BLUE","Roanoke City","Private Duty Nursing",0]
["Southwestern","3-A","BLUE","Roanoke City","Skilled Nursing",0]
["Southwestern","3-A","BLUE","Roanoke City","Sponsored Residential",0]
["Southwestern","3-A","BLUE","Roanoke City","In-home Supports",1]
["Southwestern","3-A","BLUE","Roanoke City","SIS\nL3",-1]
["Southwestern","3-A","BLUE","Roanoke City","BI waiver",2]
["Southwestern","3-A","BLUE","Roanoke City","All waivers",2]
["Southwestern","3-A","BLUE","Roanoke City","SIS\nL5",2]
["Southwestern","3-A","BLUE","Roanoke City","Community Coaching",2]
["Southwestern","3-A","BLUE","Roanoke City","Community Engagement",2]
["Southwestern","3-A","BLUE","Roanoke City","SIS\nL1",-2]
["Southwestern","3-A","BLUE","Roanoke City","SIS\nL6",3]
["Southwestern","3-A","BLUE","Roanoke City","FIS waiver",7]
["Southwestern","3-A","BLUE","Roanoke City","CL waiver",-7]
["Southwestern","3-A","BLUE","Roanoke City","SIS\nL2",-9]
["Southwestern","3-A","BLUE","Roanoke City","SIS\nL4",5]
["Southwestern","3-A","BLUE","Roanoke City","SIS\nDefault",4]
["Southwestern","3-A","BLUE","Roanoke County","SIS\nL1",0]
["Southwestern","3-A","BLUE","Roanoke County","Benefits Planning",0]
["Southwestern","3-A","BLUE","Roanoke County","Community Guide",0]
["Southwestern","3-A","BLUE","Roanoke County","Electronic Home-Based Services",0]
["Southwestern","3-A","BLUE","Roanoke County","Employment and Community Transportation",0]
["Southwestern","3-A","BLUE","Roanoke County","Independent Living Supports",0]
["Southwestern","3-A","BLUE","Roanoke County","Peer Mentoring",0]
["Southwestern","3-A","BLUE","Roanoke County","Shared Living",0]
["Southwestern","3-A","BLUE","Roanoke County","Supported Living",0]
["Southwestern","3-A","BLUE","Roanoke County","Crisis Support Services",0]
["Southwestern","3-A","BLUE","Roanoke County","Private Duty Nursing",0]
["Southwestern","3-A","BLUE","Roanoke County","BI waiver",1]
["Southwestern","3-A","BLUE","Roanoke County","SIS\nL6",1]
["Southwestern","3-A","BLUE","Roanoke County","Community Coaching",1]
["Southwestern","3-A","BLUE","Roanoke County","Community Engagement",1]
["Southwestern","3-A","BLUE","Roanoke County","In-home Supports",1]
["Southwestern","3-A","BLUE","Roanoke County","Sponsored Residential",1]
["Southwestern","3-A","BLUE","Roanoke County","CL waiver",-1]
["Southwestern","3-A","BLUE","Roanoke County","SIS\nL3",-1]
["Southwestern","3-A","BLUE","Roanoke County","Skilled Nursing",-1]
["Southwestern","3-A","BLUE","Roanoke County","SIS\nL5",2]
["Southwestern","3-A","BLUE","Roanoke County","SIS\nL7",3]
["Southwestern","3-A","BLUE","Roanoke County","FIS waiver",11]
["Southwestern","3-A","BLUE","Roanoke County","All waivers",11]
["Southwestern","3-A","BLUE","Roanoke County","SIS\nL2",-12]
["Southwestern","3-A","BLUE","Roanoke County","SIS\nL4",7]
["Southwestern","3-A","BLUE","Roanoke County","SIS\nDefault",11]
["Western","1-C","ROC","Rockbridge County","BI waiver",0]
["Western","1-C","ROC","Rockbridge County","Benefits Planning",0]
["Western","1-C","ROC","Rockbridge County","Community Coaching",0]
["Western","1-C","ROC","Rockbridge County","Community Engagement",0]
["Western","1-C","ROC","Rockbridge County","Community Guide",0]
["Western","1-C","ROC","Rockbridge County","Electronic Home-Based Services",0]
["Western","1-C","ROC","Rockbridge County","Employment and Community Transportation",0]
["Western","1-C","ROC","Rockbridge County","Independent Living Supports",0]
["Western","1-C","ROC","Rockbridge County","In-home Supports",0]
["Western","1-C","ROC","Rockbridge County","Peer Mentoring",0]
["Western","1-C","ROC","Rockbridge County","Shared Living",0]
["Western","1-C","ROC","Rockbridge County","Supported Living",0]
["Western","1-C","ROC","Rockbridge County","Crisis Support Services",0]
["Western","1-C","ROC","Rockbridge County","Private Duty Nursing",0]
["Western","1-C","ROC","Rockbridge County","Skilled Nursing",0]
["Western","1-C","ROC","Rockbridge County","Sponsored Residential",0]
["Western","1-C","ROC","Rockbridge County","SIS\nL6",1]
["Western","1-C","ROC","Rockbridge County","SIS\nL7",1]
["Western","1-C","ROC","Rockbridge County","SIS\nDefault",1]
["Western","1-C","ROC","Rockbridge County","SIS\nL3",-1]
["Western","1-C","ROC","Rockbridge County","CL waiver",2]
["Western","1-C","ROC","Rockbridge County","SIS\nL5",2]
["Western","1-C","ROC","Rockbridge County","SIS\nL1",-2]
["Western","1-C","ROC","Rockbridge County","FIS waiver",4]
["Western","1-C","ROC","Rockbridge County","All waivers",6]
["Western","1-C","ROC","Rockbridge County","SIS\nL2",-3]
["Western","1-C","ROC","Rockbridge County","SIS\nL4",7]
["Western","1-B","HARR","Rockingham County","Benefits Planning",0]
["Western","1-B","HARR","Rockingham County","Community Engagement",0]
["Western","1-B","HARR","Rockingham County","Community Guide",0]
["Western","1-B","HARR","Rockingham County","Electronic Home-Based Services",0]
["Western","1-B","HARR","Rockingham County","Employment and Community Transportation",0]
["Western","1-B","HARR","Rockingham County","Independent Living Supports",0]
["Western","1-B","HARR","Rockingham County","In-home Supports",0]
["Western","1-B","HARR","Rockingham County","Peer Mentoring",0]
["Western","1-B","HARR","Rockingham County","Shared Living",0]
["Western","1-B","HARR","Rockingham County","Supported Living",0]
["Western","1-B","HARR","Rockingham County","Crisis Support Services",0]
["Western","1-B","HARR","Rockingham County","Private Duty Nursing",0]
["Western","1-B","HARR","Rockingham County","Sponsored Residential",0]
["Western","1-B","HARR","Rockingham County","SIS\nL5",1]
["Western","1-B","HARR","Rockingham County","SIS\nL6",1]
["Western","1-B","HARR","Rockingham County","Community Coaching",1]
["Western","1-B","HARR","Rockingham County","Skilled Nursing",1]
["Western","1-B","HARR","Rockingham County","BI waiver",-1]
["Western","1-B","HARR","Rockingham County","CL waiver",-2]
["Western","1-B","HARR","Rockingham County","FIS waiver",10]
["Western","1-B","HARR","Rockingham County","All waivers",7]
["Western","1-B","HARR","Rockingham County","SIS\nL1",5]
["Western","1-B","HARR","Rockingham County","SIS\nL2",-4]
["Western","1-B","HARR","Rockingham County","SIS\nL3",4]
["Western","1-B","HARR","Rockingham County","SIS\nL4",-4]
["Western","1-B","HARR","Rockingham County","SIS\nL7",-6]
["Western","1-B","HARR","Rockingham County","SIS\nDefault",10]
["Southwestern","3-D","CMT","Russell County","SIS\nL1",0]
["Southwestern","3-D","CMT","Russell County","SIS\nL3",0]
["Southwestern","3-D","CMT","Russell County","SIS\nL6",0]
["Southwestern","3-D","CMT","Russell County","Benefits Planning",0]
["Southwestern","3-D","CMT","Russell County","Community Coaching",0]
["Southwestern","3-D","CMT","Russell County","Community Engagement",0]
["Southwestern","3-D","CMT","Russell County","Community Guide",0]
["Southwestern","3-D","CMT","Russell County","Electronic Home-Based Services",0]
["Southwestern","3-D","CMT","Russell County","Employment and Community Transportation",0]
["Southwestern","3-D","CMT","Russell County","Independent Living Supports",0]
["Southwestern","3-D","CMT","Russell County","In-home Supports",0]
["Southwestern","3-D","CMT","Russell County","Peer Mentoring",0]
["Southwestern","3-D","CMT","Russell County","Shared Living",0]
["Southwestern","3-D","CMT","Russell County","Supported Living",0]
["Southwestern","3-D","CMT","Russell County","Crisis Support Services",0]
["Southwestern","3-D","CMT","Russell County","Private Duty Nursing",0]
["Southwestern","3-D","CMT","Russell County","Skilled Nursing",0]
["Southwestern","3-D","CMT","Russell County","Sponsored Residential",0]
["Southwestern","3-D","CMT","Russell County","BI waiver",-1]
["Southwestern","3-D","CMT","Russell County","SIS\nL5",-1]
["Southwestern","3-D","CMT","Russell County","FIS waiver",2]
["Southwestern","3-D","CMT","Russell County","SIS\nL7",2]
["Southwestern","3-D","CMT","Russell County","SIS\nDefault",2]
["Southwestern","3-D","CMT","Russell County","SIS\nL2",-2]
["Southwestern","3-D","CMT","Russell County","CL waiver",5]
["Southwestern","3-D","CMT","Russell County","All waivers",6]
["Southwestern","3-D","CMT","Russell County","SIS\nL4",5]
["Southwestern","3-A","BLUE","Salem City","SIS\nL2",0]
["Southwestern","3-A","BLUE","Salem City","Benefits Planning",0]
["Southwestern","3-A","BLUE","Salem City","Community Guide",0]
["Southwestern","3-A","BLUE","Salem City","Electronic Home-Based Services",0]
["Southwestern","3-A","BLUE","Salem City","Employment and Community Transportation",0]
["Southwestern","3-A","BLUE","Salem City","Independent Living Supports",0]
["Southwestern","3-A","BLUE","Salem City","Peer Mentoring",0]
["Southwestern","3-A","BLUE","Salem City","Shared Living",0]
["Southwestern","3-A","BLUE","Salem City","Supported Living",0]
["Southwestern","3-A","BLUE","Salem City","Private Duty Nursing",0]
["Southwestern","3-A","BLUE","Salem City","Skilled Nursing",0]
["Southwestern","3-A","BLUE","Salem City","Sponsored Residential",0]
["Southwestern","3-A","BLUE","Salem City","BI waiver",1]
["Southwestern","3-A","BLUE","Salem City","SIS\nL1",1]
["Southwestern","3-A","BLUE","Salem City","SIS\nL3",1]
["Southwestern","3-A","BLUE","Salem City","SIS\nL5",1]
["Southwestern","3-A","BLUE","Salem City","Community Coaching",1]
["Southwestern","3-A","BLUE","Salem City","Community Engagement",1]
["Southwestern","3-A","BLUE","Salem City","In-home Supports",1]
["Southwestern","3-A","BLUE","Salem City","SIS\nL7",-1]
["Southwestern","3-A","BLUE","Salem City","Crisis Support Services",-1]
["Southwestern","3-A","BLUE","Salem City","SIS\nL6",-2]
["Southwestern","3-A","BLUE","Salem City","FIS waiver",3]
["Southwestern","3-A","BLUE","Salem City","CL waiver",5]
["Southwestern","3-A","BLUE","Salem City","All waivers",9]
["Southwestern","3-A","BLUE","Salem City","SIS\nL4",4]
["Southwestern","3-A","BLUE","Salem City","SIS\nDefault",5]
["Southwestern","3-D","PLD1","Scott County","BI waiver",0]
["Southwestern","3-D","PLD1","Scott County","Benefits Planning",0]
["Southwestern","3-D","PLD1","Scott County","Community Coaching",0]
["Southwestern","3-D","PLD1","Scott County","Community Engagement",0]
["Southwestern","3-D","PLD1","Scott County","Community Guide",0]
["Southwestern","3-D","PLD1","Scott County","Electronic Home-Based Services",0]
["Southwestern","3-D","PLD1","Scott County","Employment and Community Transportation",0]
["Southwestern","3-D","PLD1","Scott County","Independent Living Supports",0]
["Southwestern","3-D","PLD1","Scott County","In-home Supports",0]
["Southwestern","3-D","PLD1","Scott County","Peer Mentoring",0]
["Southwestern","3-D","PLD1","Scott County","Shared Living",0]
["Southwestern","3-D","PLD1","Scott County","Supported Living",0]
["Southwestern","3-D","PLD1","Scott County","Crisis Support Services",0]
["Southwestern","3-D","PLD1","Scott County","Private Duty Nursing",0]
["Southwestern","3-D","PLD1","Scott County","Skilled Nursing",0]
["Southwestern","3-D","PLD1","Scott County","Sponsored Residential",0]
["Southwestern","3-D","PLD1","Scott County","FIS waiver",1]
["Southwestern","3-D","PLD1","Scott County","SIS\nL3",1]
["Southwestern","3-D","PLD1","Scott County","SIS\nL5",1]
["Southwestern","3-D","PLD1","Scott County","SIS\nL6",1]
["Southwestern","3-D","PLD1","Scott County","SIS\nL1",-1]
["Southwestern","3-D","PLD1","Scott County","SIS\nL7",-1]
["Southwestern","3-D","PLD1","Scott County","SIS\nDefault",-2]
["Southwestern","3-D","PLD1","Scott County","SIS\nL4",3]
["Southwestern","3-D","PLD1","Scott County","CL waiver",-5]
["Southwestern","3-D","PLD1","Scott County","All waivers",-4]
["Southwestern","3-D","PLD1","Scott County","SIS\nL2",-6]
["Northern","2-D","NW","Shenandoah County","CL waiver",0]
["Northern","2-D","NW","Shenandoah County","SIS\nL5",0]
["Northern","2-D","NW","Shenandoah County","Benefits Planning",0]
["Northern","2-D","NW","Shenandoah County","Community Guide",0]
["Northern","2-D","NW","Shenandoah County","Electronic Home-Based Services",0]
["Northern","2-D","NW","Shenandoah County","Employment and Community Transportation",0]
["Northern","2-D","NW","Shenandoah County","Independent Living Supports",0]
["Northern","2-D","NW","Shenandoah County","In-home Supports",0]
["Northern","2-D","NW","Shenandoah County","Peer Mentoring",0]
["Northern","2-D","NW","Shenandoah County","Shared Living",0]
["Northern","2-D","NW","Shenandoah County","Supported Living",0]
["Northern","2-D","NW","Shenandoah County","Crisis Support Services",0]
["Northern","2-D","NW","Shenandoah County","Private Duty Nursing",0]
["Northern","2-D","NW","Shenandoah County","Skilled Nursing",0]
["Northern","2-D","NW","Shenandoah County","SIS\nL3",-1]
["Northern","2-D","NW","Shenandoah County","Community Coaching",-1]
["Northern","2-D","NW","Shenandoah County","Community Engagement",-1]
["Northern","2-D","NW","Shenandoah County","Sponsored Residential",-1]
["Northern","2-D","NW","Shenandoah County","All waivers",2]
["Northern","2-D","NW","Shenandoah County","SIS\nL1",3]
["Northern","2-D","NW","Shenandoah County","BI waiver",-3]
["Northern","2-D","NW","Shenandoah County","FIS waiver",5]
["Northern","2-D","NW","Shenandoah County","SIS\nL2",-8]
["Northern","2-D","NW","Shenandoah County","SIS\nL4",4]
["Northern","2-D","NW","Shenandoah County","SIS\nL6",4]
["Northern","2-D","NW","Shenandoah County","SIS\nL7",-5]
["Northern","2-D","NW","Shenandoah County","SIS\nDefault",5]
["Southwestern","3-D","MTRG","Smyth County","BI waiver",0]
["Southwestern","3-D","MTRG","Smyth County","SIS\nL1",0]
["Southwestern","3-D","MTRG","Smyth County","Benefits Planning",0]
["Southwestern","3-D","MTRG","Smyth County","Community Coaching",0]
["Southwestern","3-D","MTRG","Smyth County","Community Engagement",0]
["Southwestern","3-D","MTRG","Smyth County","Community Guide",0]
["Southwestern","3-D","MTRG","Smyth County","Electronic Home-Based Services",0]
["Southwestern","3-D","MTRG","Smyth County","Employment and Community Transportation",0]
["Southwestern","3-D","MTRG","Smyth County","Independent Living Supports",0]
["Southwestern","3-D","MTRG","Smyth County","In-home Supports",0]
["Southwestern","3-D","MTRG","Smyth County","Peer Mentoring",0]
["Southwestern","3-D","MTRG","Smyth County","Shared Living",0]
["Southwestern","3-D","MTRG","Smyth County","Supported Living",0]
["Southwestern","3-D","MTRG","Smyth County","Crisis Support Services",0]
["Southwestern","3-D","MTRG","Smyth County","Private Duty Nursing",0]
["Southwestern","3-D","MTRG","Smyth County","Skilled Nursing",0]
["Southwestern","3-D","MTRG","Smyth County","Sponsored Residential",0]
["Southwestern","3-D","MTRG","Smyth County","SIS\nL4",1]
["Southwestern","3-D","MTRG","Smyth County","SIS\nL6",1]
["Southwestern","3-D","MTRG","Smyth County","All waivers",-1]
["Southwestern","3-D","MTRG","Smyth County","SIS\nL3",-1]
["Southwestern","3-D","MTRG","Smyth County","SIS\nL5",-1]
["Southwestern","3-D","MTRG","Smyth County","SIS\nL7",-1]
["Southwestern","3-D","MTRG","Smyth County","FIS waiver",6]
["Southwestern","3-D","MTRG","Smyth County","CL waiver",-7]
["Southwestern","3-D","MTRG","Smyth County","SIS\nL2",-4]
["Southwestern","3-D","MTRG","Smyth County","SIS\nDefault",4]
["Eastern","5-D","WT","Southampton County","BI waiver",0]
["Eastern","5-D","WT","Southampton County","SIS\nL1",0]
["Eastern","5-D","WT","Southampton County","SIS\nL2",0]
["Eastern","5-D","WT","Southampton County","SIS\nL6",0]
["Eastern","5-D","WT","Southampton County","SIS\nL7",0]
["Eastern","5-D","WT","Southampton County","Benefits Planning",0]
["Eastern","5-D","WT","Southampton County","Community Coaching",0]
["Eastern","5-D","WT","Southampton County","Community Engagement",0]
["Eastern","5-D","WT","Southampton County","Community Guide",0]
["Eastern","5-D","WT","Southampton County","Electronic Home-Based Services",0]
["Eastern","5-D","WT","Southampton County","Employment and Community Transportation",0]
["Eastern","5-D","WT","Southampton County","Independent Living Supports",0]
["Eastern","5-D","WT","Southampton County","In-home Supports",0]
["Eastern","5-D","WT","Southampton County","Peer Mentoring",0]
["Eastern","5-D","WT","Southampton County","Shared Living",0]
["Eastern","5-D","WT","Southampton County","Supported Living",0]
["Eastern","5-D","WT","Southampton County","Crisis Support Services",0]
["Eastern","5-D","WT","Southampton County","Private Duty Nursing",0]
["Eastern","5-D","WT","Southampton County","Skilled Nursing",0]
["Eastern","5-D","WT","Southampton County","SIS\nL5",1]
["Eastern","5-D","WT","Southampton County","Sponsored Residential",1]
["Eastern","5-D","WT","Southampton County","SIS\nL3",-1]
["Eastern","5-D","WT","Southampton County","FIS waiver",2]
["Eastern","5-D","WT","Southampton County","SIS\nDefault",2]
["Eastern","5-D","WT","Southampton County","CL waiver",3]
["Eastern","5-D","WT","Southampton County","SIS\nL4",3]
["Eastern","5-D","WT","Southampton County","All waivers",5]
["Northern","2-C","RapA","Spotsylvania County","BI waiver",0]
["Northern","2-C","RapA","Spotsylvania County","Community Engagement",0]
["Northern","2-C","RapA","Spotsylvania County","Community Guide",0]
["Northern","2-C","RapA","Spotsylvania County","Electronic Home-Based Services",0]
["Northern","2-C","RapA","Spotsylvania County","Employment and Community Transportation",0]
["Northern","2-C","RapA","Spotsylvania County","Independent Living Supports",0]
["Northern","2-C","RapA","Spotsylvania County","Peer Mentoring",0]
["Northern","2-C","RapA","Spotsylvania County","Shared Living",0]
["Northern","2-C","RapA","Spotsylvania County","Supported Living",0]
["Northern","2-C","RapA","Spotsylvania County","Crisis Support Services",0]
["Northern","2-C","RapA","Spotsylvania County","Private Duty Nursing",0]
["Northern","2-C","RapA","Spotsylvania County","Sponsored Residential",0]
["Northern","2-C","RapA","Spotsylvania County","SIS\nL5",1]
["Northern","2-C","RapA","Spotsylvania County","SIS\nL7",1]
["Northern","2-C","RapA","Spotsylvania County","Benefits Planning",1]
["Northern","2-C","RapA","Spotsylvania County","Community Coaching",1]
["Northern","2-C","RapA","Spotsylvania County","In-home Supports",1]
["Northern","2-C","RapA","Spotsylvania County","SIS\nL2",-1]
["Northern","2-C","RapA","Spotsylvania County","SIS\nDefault",-1]
["Northern","2-C","RapA","Spotsylvania County","Skilled Nursing",-1]
["Northern","2-C","RapA","Spotsylvania County","SIS\nL4",3]
["Northern","2-C","RapA","Spotsylvania County","FIS waiver",12]
["Northern","2-C","RapA","Spotsylvania County","CL waiver",12]
["Northern","2-C","RapA","Spotsylvania County","All waivers",24]
["Northern","2-C","RapA","Spotsylvania County","SIS\nL1",8]
["Northern","2-C","RapA","Spotsylvania County","SIS\nL3",8]
["Northern","2-C","RapA","Spotsylvania County","SIS\nL6",5]
["Northern","2-C","RapA","Stafford County","SIS\nL1",0]
["Northern","2-C","RapA","Stafford County","SIS\nL3",0]
["Northern","2-C","RapA","Stafford County","Benefits Planning",0]
["Northern","2-C","RapA","Stafford County","Community Coaching",0]
["Northern","2-C","RapA","Stafford County","Community Guide",0]
["Northern","2-C","RapA","Stafford County","Electronic Home-Based Services",0]
["Northern","2-C","RapA","Stafford County","Employment and Community Transportation",0]
["Northern","2-C","RapA","Stafford County","Independent Living Supports",0]
["Northern","2-C","RapA","Stafford County","Peer Mentoring",0]
["Northern","2-C","RapA","Stafford County","Shared Living",0]
["Northern","2-C","RapA","Stafford County","Supported Living",0]
["Northern","2-C","RapA","Stafford County","Crisis Support Services",0]
["Northern","2-C","RapA","Stafford County","Sponsored Residential",0]
["Northern","2-C","RapA","Stafford County","Community Engagement",1]
["Northern","2-C","RapA","Stafford County","Private Duty Nursing",1]
["Northern","2-C","RapA","Stafford County","SIS\nL7",-1]
["Northern","2-C","RapA","Stafford County","In-home Supports",-1]
["Northern","2-C","RapA","Stafford County","Skilled Nursing",-1]
["Northern","2-C","RapA","Stafford County","SIS\nL6",2]
["Northern","2-C","RapA","Stafford County","BI waiver",-2]
["Northern","2-C","RapA","Stafford County","FIS waiver",16]
["Northern","2-C","RapA","Stafford County","CL waiver",-10]
["Northern","2-C","RapA","Stafford County","All waivers",4]
["Northern","2-C","RapA","Stafford County","SIS\nL2",-6]
["Northern","2-C","RapA","Stafford County","SIS\nL4",-4]
["Northern","2-C","RapA","Stafford County","SIS\nL5",8]
["Northern","2-C","RapA","Stafford County","SIS\nDefault",5]
["Western","1-B","VLY","Staunton City","SIS\nL5",0]
["Western","1-B","VLY","Staunton City","SIS\nL6",0]
["Western","1-B","VLY","Staunton City","Benefits Planning",0]
["Western","1-B","VLY","Staunton City","Community Engagement",0]
["Western","1-B","VLY","Staunton City","Community Guide",0]
["Western","1-B","VLY","Staunton City","Electronic Home-Based Services",0]
["Western","1-B","VLY","Staunton City","Employment and Community Transportation",0]
["Western","1-B","VLY","Staunton City","Independent Living Supports",0]
["Western","1-B","VLY","Staunton City","Peer Mentoring",0]
["Western","1-B","VLY","Staunton City","Shared Living",0]
["Western","1-B","VLY","Staunton City","Supported Living",0]
["Western","1-B","VLY","Staunton City","Crisis Support Services",0]
["Western","1-B","VLY","Staunton City","Private Duty Nursing",0]
["Western","1-B","VLY","Staunton City","Sponsored Residential",0]
["Western","1-B","VLY","Staunton City","SIS\nL3",1]
["Western","1-B","VLY","Staunton City","Skilled Nursing",1]
["Western","1-B","VLY","Staunton City","SIS\nL1",-1]
["Western","1-B","VLY","Staunton City","SIS\nL2",-1]
["Western","1-B","VLY","Staunton City","SIS\nL7",-1]
["Western","1-B","VLY","Staunton City","Community Coaching",-1]
["Western","1-B","VLY","Staunton City","In-home Supports",-1]
["Western","1-B","VLY","Staunton City","BI waiver",2]
["Western","1-B","VLY","Staunton City","FIS waiver",9]
["Western","1-B","VLY","Staunton City","CL waiver",-3]
["Western","1-B","VLY","Staunton City","All waivers",8]
["Western","1-B","VLY","Staunton City","SIS\nL4",-5]
["Western","1-B","VLY","Staunton City","SIS\nDefault",15]
["Eastern","5-D","WT","Suffolk City","BI waiver",0]
["Eastern","5-D","WT","Suffolk City","SIS\nL3",0]
["Eastern","5-D","WT","Suffolk City","SIS\nL6",0]
["Eastern","5-D","WT","Suffolk City","Benefits Planning",0]
["Eastern","5-D","WT","Suffolk City","Community Engagement",0]
["Eastern","5-D","WT","Suffolk City","Community Guide",0]
["Eastern","5-D","WT","Suffolk City","Employment and Community Transportation",0]
["Eastern","5-D","WT","Suffolk City","Independent Living Supports",0]
["Eastern","5-D","WT","Suffolk City","Peer Mentoring",0]
["Eastern","5-D","WT","Suffolk City","Shared Living",0]
["Eastern","5-D","WT","Suffolk City","Supported Living",0]
["Eastern","5-D","WT","Suffolk City","Crisis Support Services",0]
["Eastern","5-D","WT","Suffolk City","Private Duty Nursing",0]
["Eastern","5-D","WT","Suffolk City","Skilled Nursing",0]
["Eastern","5-D","WT","Suffolk City","SIS\nL4",1]
["Eastern","5-D","WT","Suffolk City","Community Coaching",1]
["Eastern","5-D","WT","Suffolk City","Electronic Home-Based Services",1]
["Eastern","5-D","WT","Suffolk City","Sponsored Residential",1]
["Eastern","5-D","WT","Suffolk City","In-home Supports",-1]
["Eastern","5-D","WT","Suffolk City","SIS\nL1",2]
["Eastern","5-D","WT","Suffolk City","FIS waiver",16]
["Eastern","5-D","WT","Suffolk City","CL waiver",7]
["Eastern","5-D","WT","Suffolk City","All waivers",23]
["Eastern","5-D","WT","Suffolk City","SIS\nL2",-14]
["Eastern","5-D","WT","Suffolk City","SIS\nL5",7]
["Eastern","5-D","WT","Suffolk City","SIS\nL7",5]
["Eastern","5-D","WT","Suffolk City","SIS\nDefault",22]
["Central","4-D","D19","Surry County","BI waiver",0]
["Central","4-D","D19","Surry County","FIS waiver",0]
["Central","4-D","D19","Surry County","SIS\nL1",0]
["Central","4-D","D19","Surry County","SIS\nL2",0]
["Central","4-D","D19","Surry County","SIS\nL3",0]
["Central","4-D","D19","Surry County","SIS\nL5",0]
["Central","4-D","D19","Surry County","SIS\nL6",0]
["Central","4-D","D19","Surry County","SIS\nL7",0]
["Central","4-D","D19","Surry County","SIS\nDefault",0]
["Central","4-D","D19","Surry County","Benefits Planning",0]
["Central","4-D","D19","Surry County","Community Coaching",0]
["Central","4-D","D19","Surry County","Community Engagement",0]
["Central","4-D","D19","Surry County","Community Guide",0]
["Central","4-D","D19","Surry County","Electronic Home-Based Services",0]
["Central","4-D","D19","Surry County","Employment and Community Transportation",0]
["Central","4-D","D19","Surry County","Independent Living Supports",0]
["Central","4-D","D19","Surry County","In-home Supports",0]
["Central","4-D","D19","Surry County","Peer Mentoring",0]
["Central","4-D","D19","Surry County","Shared Living",0]
["Central","4-D","D19","Surry County","Supported Living",0]
["Central","4-D","D19","Surry County","Crisis Support Services",0]
["Central","4-D","D19","Surry County","Private Duty Nursing",0]
["Central","4-D","D19","Surry County","Skilled Nursing",0]
["Central","4-D","D19","Surry County","Sponsored Residential",0]
["Central","4-D","D19","Surry County","CL waiver",1]
["Central","4-D","D19","Surry County","All waivers",1]
["Central","4-D","D19","Surry County","SIS\nL4",1]
["Central","4-D","D19","Sussex County","BI waiver",0]
["Central","4-D","D19","Sussex County","SIS\nL6",0]
["Central","4-D","D19","Sussex County","Benefits Planning",0]
["Central","4-D","D19","Sussex County","Community Coaching",0]
["Central","4-D","D19","Sussex County","Community Engagement",0]
["Central","4-D","D19","Sussex County","Community Guide",0]
["Central","4-D","D19","Sussex County","Electronic Home-Based Services",0]
["Central","4-D","D19","Sussex County","Employment and Community Transportation",0]
["Central","4-D","D19","Sussex County","Independent Living Supports",0]
["Central","4-D","D19","Sussex County","In-home Supports",0]
["Central","4-D","D19","Sussex County","Peer Mentoring",0]
["Central","4-D","D19","Sussex County","Shared Living",0]
["Central","4-D","D19","Sussex County","Supported Living",0]
["Central","4-D","D19","Sussex County","Crisis Support Services",0]
["Central","4-D","D19","Sussex County","Private Duty Nursing",0]
["Central","4-D","D19","Sussex County","Skilled Nursing",0]
["Central","4-D","D19","Sussex County","Sponsored Residential",0]
["Central","4-D","D19","Sussex County","SIS\nL7",1]
["Central","4-D","D19","Sussex County","SIS\nDefault",1]
["Central","4-D","D19","Sussex County","SIS\nL1",-1]
["Central","4-D","D19","Sussex County","FIS waiver",2]
["Central","4-D","D19","Sussex County","SIS\nL5",2]
["Central","4-D","D19","Sussex County","CL waiver",3]
["Central","4-D","D19","Sussex County","SIS\nL3",3]
["Central","4-D","D19","Sussex County","All waivers",5]
["Central","4-D","D19","Sussex County","SIS\nL2",-9]
["Central","4-D","D19","Sussex County","SIS\nL4",8]
["Southwestern","3-D","CMT","Tazewell County","SIS\nL1",0]
["Southwestern","3-D","CMT","Tazewell County","SIS\nL5",0]
["Southwestern","3-D","CMT","Tazewell County","SIS\nL7",0]
["Southwestern","3-D","CMT","Tazewell County","Benefits Planning",0]
["Southwestern","3-D","CMT","Tazewell County","Community Coaching",0]
["Southwestern","3-D","CMT","Tazewell County","Community Engagement",0]
["Southwestern","3-D","CMT","Tazewell County","Community Guide",0]
["Southwestern","3-D","CMT","Tazewell County","Electronic Home-Based Services",0]
["Southwestern","3-D","CMT","Tazewell County","Employment and Community Transportation",0]
["Southwestern","3-D","CMT","Tazewell County","Independent Living Supports",0]
["Southwestern","3-D","CMT","Tazewell County","In-home Supports",0]
["Southwestern","3-D","CMT","Tazewell County","Peer Mentoring",0]
["Southwestern","3-D","CMT","Tazewell County","Shared Living",0]
["Southwestern","3-D","CMT","Tazewell County","Supported Living",0]
["Southwestern","3-D","CMT","Tazewell County","Crisis Support Services",0]
["Southwestern","3-D","CMT","Tazewell County","Private Duty Nursing",0]
["Southwestern","3-D","CMT","Tazewell County","Sponsored Residential",0]
["Southwestern","3-D","CMT","Tazewell County","SIS\nL4",1]
["Southwestern","3-D","CMT","Tazewell County","SIS\nL2",-2]
["Southwestern","3-D","CMT","Tazewell County","SIS\nL3",-2]
["Southwestern","3-D","CMT","Tazewell County","Skilled Nursing",-2]
["Southwestern","3-D","CMT","Tazewell County","BI waiver",3]
["Southwestern","3-D","CMT","Tazewell County","SIS\nL6",3]
["Southwestern","3-D","CMT","Tazewell County","FIS waiver",10]
["Southwestern","3-D","CMT","Tazewell County","CL waiver",-4]
["Southwestern","3-D","CMT","Tazewell County","All waivers",9]
["Southwestern","3-D","CMT","Tazewell County","SIS\nDefault",9]
["Eastern","5-D","VAB","Virginia Beach City","Benefits Planning",0]
["Eastern","5-D","VAB","Virginia Beach City","Community Guide",0]
["Eastern","5-D","VAB","Virginia Beach City","Employment and Community Transportation",0]
["Eastern","5-D","VAB","Virginia Beach City","Peer Mentoring",0]
["Eastern","5-D","VAB","Virginia Beach City","Shared Living",0]
["Eastern","5-D","VAB","Virginia Beach City","Crisis Support Services",0]
["Eastern","5-D","VAB","Virginia Beach City","Sponsored Residential",0]
["Eastern","5-D","VAB","Virginia Beach City","Community Coaching",1]
["Eastern","5-D","VAB","Virginia Beach City","Electronic Home-Based Services",1]
["Eastern","5-D","VAB","Virginia Beach City","Independent Living Supports",1]
["Eastern","5-D","VAB","Virginia Beach City","Supported Living",-1]
["Eastern","5-D","VAB","Virginia Beach City","Private Duty Nursing",-1]
["Eastern","5-D","VAB","Virginia Beach City","SIS\nL7",2]
["Eastern","5-D","VAB","Virginia Beach City","In-home Supports",2]
["Eastern","5-D","VAB","Virginia Beach City","Community Engagement",-2]
["Eastern","5-D","VAB","Virginia Beach City","BI waiver",8]
["Eastern","5-D","VAB","Virginia Beach City","FIS waiver",44]
["Eastern","5-D","VAB","Virginia Beach City","CL waiver",23]
["Eastern","5-D","VAB","Virginia Beach City","All waivers",75]
["Eastern","5-D","VAB","Virginia Beach City","SIS\nL1",-15]
["Eastern","5-D","VAB","Virginia Beach City","SIS\nL2",-42]
["Eastern","5-D","VAB","Virginia Beach City","SIS\nL3",-11]
["Eastern","5-D","VAB","Virginia Beach City","SIS\nL4",82]
["Eastern","5-D","VAB","Virginia Beach City","SIS\nL5",10]
["Eastern","5-D","VAB","Virginia Beach City","SIS\nL6",-3]
["Eastern","5-D","VAB","Virginia Beach City","SIS\nDefault",52]
["Eastern","5-D","VAB","Virginia Beach City","Skilled Nursing",-5]
["Northern","2-D","NW","Warren County","BI waiver",0]
["Northern","2-D","NW","Warren County","SIS\nL5",0]
["Northern","2-D","NW","Warren County","SIS\nL7",0]
["Northern","2-D","NW","Warren County","Benefits Planning",0]
["Northern","2-D","NW","Warren County","Community Engagement",0]
["Northern","2-D","NW","Warren County","Community Guide",0]
["Northern","2-D","NW","Warren County","Electronic Home-Based Services",0]
["Northern","2-D","NW","Warren County","Employment and Community Transportation",0]
["Northern","2-D","NW","Warren County","Independent Living Supports",0]
["Northern","2-D","NW","Warren County","In-home Supports",0]
["Northern","2-D","NW","Warren County","Peer Mentoring",0]
["Northern","2-D","NW","Warren County","Shared Living",0]
["Northern","2-D","NW","Warren County","Supported Living",0]
["Northern","2-D","NW","Warren County","Crisis Support Services",0]
["Northern","2-D","NW","Warren County","Private Duty Nursing",0]
["Northern","2-D","NW","Warren County","Skilled Nursing",0]
["Northern","2-D","NW","Warren County","Sponsored Residential",0]
["Northern","2-D","NW","Warren County","CL waiver",1]
["Northern","2-D","NW","Warren County","SIS\nL1",1]
["Northern","2-D","NW","Warren County","SIS\nL4",1]
["Northern","2-D","NW","Warren County","SIS\nL3",-1]
["Northern","2-D","NW","Warren County","Community Coaching",-1]
["Northern","2-D","NW","Warren County","FIS waiver",2]
["Northern","2-D","NW","Warren County","SIS\nL2",2]
["Northern","2-D","NW","Warren County","All waivers",3]
["Northern","2-D","NW","Warren County","SIS\nDefault",3]
["Northern","2-D","NW","Warren County","SIS\nL6",-3]
["Southwestern","3-D","HIGH","Washington County","SIS\nL3",0]
["Southwestern","3-D","HIGH","Washington County","SIS\nL5",0]
["Southwestern","3-D","HIGH","Washington County","SIS\nL7",0]
["Southwestern","3-D","HIGH","Washington County","Benefits Planning",0]
["Southwestern","3-D","HIGH","Washington County","Community Coaching",0]
["Southwestern","3-D","HIGH","Washington County","Community Engagement",0]
["Southwestern","3-D","HIGH","Washington County","Community Guide",0]
["Southwestern","3-D","HIGH","Washington County","Electronic Home-Based Services",0]
["Southwestern","3-D","HIGH","Washington County","Employment and Community Transportation",0]
["Southwestern","3-D","HIGH","Washington County","Independent Living Supports",0]
["Southwestern","3-D","HIGH","Washington County","Peer Mentoring",0]
["Southwestern","3-D","HIGH","Washington County","Shared Living",0]
["Southwestern","3-D","HIGH","Washington County","Supported Living",0]
["Southwestern","3-D","HIGH","Washington County","Crisis Support Services",0]
["Southwestern","3-D","HIGH","Washington County","Private Duty Nursing",0]
["Southwestern","3-D","HIGH","Washington County","Sponsored Residential",0]
["Southwestern","3-D","HIGH","Washington County","BI waiver",1]
["Southwestern","3-D","HIGH","Washington County","All waivers",1]
["Southwestern","3-D","HIGH","Washington County","In-home Supports",1]
["Southwestern","3-D","HIGH","Washington County","SIS\nL2",-1]
["Southwestern","3-D","HIGH","Washington County","Skilled Nursing",-1]
["Southwestern","3-D","HIGH","Washington County","SIS\nL1",-2]
["Southwestern","3-D","HIGH","Washington County","SIS\nL4",-2]
["Southwestern","3-D","HIGH","Washington County","SIS\nL6",-2]
["Southwestern","3-D","HIGH","Washington County","FIS waiver",3]
["Southwestern","3-D","HIGH","Washington County","CL waiver",-3]
["Southwestern","3-D","HIGH","Washington County","SIS\nDefault",8]
["Western","1-B","VLY","Waynesboro City","BI waiver",0]
["Western","1-B","VLY","Waynesboro City","SIS\nL5",0]
["Western","1-B","VLY","Waynesboro City","SIS\nL6",0]
["Western","1-B","VLY","Waynesboro City","SIS\nL7",0]
["Western","1-B","VLY","Waynesboro City","Benefits Planning",0]
["Western","1-B","VLY","Waynesboro City","Community Coaching",0]
["Western","1-B","VLY","Waynesboro City","Community Engagement",0]
["Western","1-B","VLY","Waynesboro City","Community Guide",0]
["Western","1-B","VLY","Waynesboro City","Electronic Home-Based Services",0]
["Western","1-B","VLY","Waynesboro City","Employment and Community Transportation",0]
["Western","1-B","VLY","Waynesboro City","Independent Living Supports",0]
["Western","1-B","VLY","Waynesboro City","In-home Supports",0]
["Western","1-B","VLY","Waynesboro City","Peer Mentoring",0]
["Western","1-B","VLY","Waynesboro City","Shared Living",0]
["Western","1-B","VLY","Waynesboro City","Supported Living",0]
["Western","1-B","VLY","Waynesboro City","Crisis Support Services",0]
["Western","1-B","VLY","Waynesboro City","Private Duty Nursing",0]
["Western","1-B","VLY","Waynesboro City","Skilled Nursing",0]
["Western","1-B","VLY","Waynesboro City","Sponsored Residential",0]
["Western","1-B","VLY","Waynesboro City","FIS waiver",1]
["Western","1-B","VLY","Waynesboro City","SIS\nL1",1]
["Western","1-B","VLY","Waynesboro City","All waivers",-2]
["Western","1-B","VLY","Waynesboro City","SIS\nL3",3]
["Western","1-B","VLY","Waynesboro City","CL waiver",-3]
["Western","1-B","VLY","Waynesboro City","SIS\nL2",-4]
["Western","1-B","VLY","Waynesboro City","SIS\nL4",-6]
["Western","1-B","VLY","Waynesboro City","SIS\nDefault",4]
["Eastern","5-A","MPNN","Westmoreland County","BI waiver",0]
["Eastern","5-A","MPNN","Westmoreland County","SIS\nL3",0]
["Eastern","5-A","MPNN","Westmoreland County","SIS\nL5",0]
["Eastern","5-A","MPNN","Westmoreland County","SIS\nL7",0]
["Eastern","5-A","MPNN","Westmoreland County","Benefits Planning",0]
["Eastern","5-A","MPNN","Westmoreland County","Community Coaching",0]
["Eastern","5-A","MPNN","Westmoreland County","Community Engagement",0]
["Eastern","5-A","MPNN","Westmoreland County","Community Guide",0]
["Eastern","5-A","MPNN","Westmoreland County","Electronic Home-Based Services",0]
["Eastern","5-A","MPNN","Westmoreland County","Employment and Community Transportation",0]
["Eastern","5-A","MPNN","Westmoreland County","Independent Living Supports",0]
["Eastern","5-A","MPNN","Westmoreland County","In-home Supports",0]
["Eastern","5-A","MPNN","Westmoreland County","Peer Mentoring",0]
["Eastern","5-A","MPNN","Westmoreland County","Shared Living",0]
["Eastern","5-A","MPNN","Westmoreland County","Supported Living",0]
["Eastern","5-A","MPNN","Westmoreland County","Crisis Support Services",0]
["Eastern","5-A","MPNN","Westmoreland County","Private Duty Nursing",0]
["Eastern","5-A","MPNN","Westmoreland County","Skilled Nursing",0]
["Eastern","5-A","MPNN","Westmoreland County","Sponsored Residential",0]
["Eastern","5-A","MPNN","Westmoreland County","FIS waiver",1]
["Eastern","5-A","MPNN","Westmoreland County","SIS\nL4",1]
["Eastern","5-A","MPNN","Westmoreland County","SIS\nL6",-1]
["Eastern","5-A","MPNN","Westmoreland County","All waivers",-2]
["Eastern","5-A","MPNN","Westmoreland County","CL waiver",-3]
["Eastern","5-A","MPNN","Westmoreland County","SIS\nL1",-3]
["Eastern","5-A","MPNN","Westmoreland County","SIS\nL2",4]
["Eastern","5-A","MPNN","Westmoreland County","SIS\nDefault",-3]
["Eastern","5-C","COLO","Williamsburg City","BI waiver",0]
["Eastern","5-C","COLO","Williamsburg City","SIS\nL1",0]
["Eastern","5-C","COLO","Williamsburg City","SIS\nL2",0]
["Eastern","5-C","COLO","Williamsburg City","SIS\nL3",0]
["Eastern","5-C","COLO","Williamsburg City","SIS\nL4",0]
["Eastern","5-C","COLO","Williamsburg City","SIS\nL5",0]
["Eastern","5-C","COLO","Williamsburg City","Benefits Planning",0]
["Eastern","5-C","COLO","Williamsburg City","Community Coaching",0]
["Eastern","5-C","COLO","Williamsburg City","Community Engagement",0]
["Eastern","5-C","COLO","Williamsburg City","Community Guide",0]
["Eastern","5-C","COLO","Williamsburg City","Electronic Home-Based Services",0]
["Eastern","5-C","COLO","Williamsburg City","Employment and Community Transportation",0]
["Eastern","5-C","COLO","Williamsburg City","Independent Living Supports",0]
["Eastern","5-C","COLO","Williamsburg City","In-home Supports",0]
["Eastern","5-C","COLO","Williamsburg City","Peer Mentoring",0]
["Eastern","5-C","COLO","Williamsburg City","Shared Living",0]
["Eastern","5-C","COLO","Williamsburg City","Supported Living",0]
["Eastern","5-C","COLO","Williamsburg City","Crisis Support Services",0]
["Eastern","5-C","COLO","Williamsburg City","Private Duty Nursing",0]
["Eastern","5-C","COLO","Williamsburg City","Skilled Nursing",0]
["Eastern","5-C","COLO","Williamsburg City","Sponsored Residential",0]
["Eastern","5-C","COLO","Williamsburg City","SIS\nL6",1]
["Eastern","5-C","COLO","Williamsburg City","SIS\nL7",1]
["Eastern","5-C","COLO","Williamsburg City","CL waiver",2]
["Eastern","5-C","COLO","Williamsburg City","FIS waiver",5]
["Eastern","5-C","COLO","Williamsburg City","All waivers",7]
["Eastern","5-C","COLO","Williamsburg City","SIS\nDefault",5]
["Northern","2-D","NW","Winchester City","SIS\nL5",0]
["Northern","2-D","NW","Winchester City","Benefits Planning",0]
["Northern","2-D","NW","Winchester City","Community Engagement",0]
["Northern","2-D","NW","Winchester City","Community Guide",0]
["Northern","2-D","NW","Winchester City","Electronic Home-Based Services",0]
["Northern","2-D","NW","Winchester City","Employment and Community Transportation",0]
["Northern","2-D","NW","Winchester City","Independent Living Supports",0]
["Northern","2-D","NW","Winchester City","In-home Supports",0]
["Northern","2-D","NW","Winchester City","Peer Mentoring",0]
["Northern","2-D","NW","Winchester City","Shared Living",0]
["Northern","2-D","NW","Winchester City","Supported Living",0]
["Northern","2-D","NW","Winchester City","Crisis Support Services",0]
["Northern","2-D","NW","Winchester City","Private Duty Nursing",0]
["Northern","2-D","NW","Winchester City","Sponsored Residential",0]
["Northern","2-D","NW","Winchester City","SIS\nL1",1]
["Northern","2-D","NW","Winchester City","SIS\nL3",1]
["Northern","2-D","NW","Winchester City","SIS\nL6",1]
["Northern","2-D","NW","Winchester City","BI waiver",-1]
["Northern","2-D","NW","Winchester City","All waivers",-1]
["Northern","2-D","NW","Winchester City","Community Coaching",-1]
["Northern","2-D","NW","Winchester City","Skilled Nursing",-1]
["Northern","2-D","NW","Winchester City","FIS waiver",2]
["Northern","2-D","NW","Winchester City","SIS\nL4",2]
["Northern","2-D","NW","Winchester City","CL waiver",-2]
["Northern","2-D","NW","Winchester City","SIS\nL7",-2]
["Northern","2-D","NW","Winchester City","SIS\nL2",-10]
["Northern","2-D","NW","Winchester City","SIS\nDefault",6]
["Southwestern","3-D","PLD1","Wise County","BI waiver",0]
["Southwestern","3-D","PLD1","Wise County","SIS\nL5",0]
["Southwestern","3-D","PLD1","Wise County","Benefits Planning",0]
["Southwestern","3-D","PLD1","Wise County","Community Coaching",0]
["Southwestern","3-D","PLD1","Wise County","Community Guide",0]
["Southwestern","3-D","PLD1","Wise County","Electronic Home-Based Services",0]
["Southwestern","3-D","PLD1","Wise County","Employment and Community Transportation",0]
["Southwestern","3-D","PLD1","Wise County","Independent Living Supports",0]
["Southwestern","3-D","PLD1","Wise County","In-home Supports",0]
["Southwestern","3-D","PLD1","Wise County","Peer Mentoring",0]
["Southwestern","3-D","PLD1","Wise County","Shared Living",0]
["Southwestern","3-D","PLD1","Wise County","Supported Living",0]
["Southwestern","3-D","PLD1","Wise County","Crisis Support Services",0]
["Southwestern","3-D","PLD1","Wise County","Private Duty Nursing",0]
["Southwestern","3-D","PLD1","Wise County","Sponsored Residential",0]
["Southwestern","3-D","PLD1","Wise County","FIS waiver",1]
["Southwestern","3-D","PLD1","Wise County","SIS\nL1",1]
["Southwestern","3-D","PLD1","Wise County","Community Engagement",-1]
["Southwestern","3-D","PLD1","Wise County","Skilled Nursing",-1]
["Southwestern","3-D","PLD1","Wise County","CL waiver",2]
["Southwestern","3-D","PLD1","Wise County","SIS\nL6",2]
["Southwestern","3-D","PLD1","Wise County","SIS\nL2",-2]
["Southwestern","3-D","PLD1","Wise County","SIS\nDefault",-2]
["Southwestern","3-D","PLD1","Wise County","All waivers",3]
["Southwestern","3-D","PLD1","Wise County","SIS\nL3",-3]
["Southwestern","3-D","PLD1","Wise County","SIS\nL4",10]
["Southwestern","3-D","PLD1","Wise County","SIS\nL7",-3]
["Southwestern","3-C","MTRG","Wythe County","BI waiver",0]
["Southwestern","3-C","MTRG","Wythe County","Benefits Planning",0]
["Southwestern","3-C","MTRG","Wythe County","Community Coaching",0]
["Southwestern","3-C","MTRG","Wythe County","Community Engagement",0]
["Southwestern","3-C","MTRG","Wythe County","Community Guide",0]
["Southwestern","3-C","MTRG","Wythe County","Electronic Home-Based Services",0]
["Southwestern","3-C","MTRG","Wythe County","Employment and Community Transportation",0]
["Southwestern","3-C","MTRG","Wythe County","Independent Living Supports",0]
["Southwestern","3-C","MTRG","Wythe County","In-home Supports",0]
["Southwestern","3-C","MTRG","Wythe County","Peer Mentoring",0]
["Southwestern","3-C","MTRG","Wythe County","Shared Living",0]
["Southwestern","3-C","MTRG","Wythe County","Supported Living",0]
["Southwestern","3-C","MTRG","Wythe County","Crisis Support Services",0]
["Southwestern","3-C","MTRG","Wythe County","Private Duty Nursing",0]
["Southwestern","3-C","MTRG","Wythe County","Skilled Nursing",0]
["Southwestern","3-C","MTRG","Wythe County","Sponsored Residential",0]
["Southwestern","3-C","MTRG","Wythe County","FIS waiver",1]
["Southwestern","3-C","MTRG","Wythe County","SIS\nL7",1]
["Southwestern","3-C","MTRG","Wythe County","SIS\nDefault",1]
["Southwestern","3-C","MTRG","Wythe County","SIS\nL1",-1]
["Southwestern","3-C","MTRG","Wythe County","SIS\nL3",-1]
["Southwestern","3-C","MTRG","Wythe County","CL waiver",7]
["Southwestern","3-C","MTRG","Wythe County","All waivers",8]
["Southwestern","3-C","MTRG","Wythe County","SIS\nL2",-6]
["Southwestern","3-C","MTRG","Wythe County","SIS\nL4",4]
["Southwestern","3-C","MTRG","Wythe County","SIS\nL5",5]
["Southwestern","3-C","MTRG","Wythe County","SIS\nL6",5]
["Eastern","5-C","COLO","York County","BI waiver",0]
["Eastern","5-C","COLO","York County","SIS\nL3",0]
["Eastern","5-C","COLO","York County","Benefits Planning",0]
["Eastern","5-C","COLO","York County","Community Coaching",0]
["Eastern","5-C","COLO","York County","Community Engagement",0]
["Eastern","5-C","COLO","York County","Community Guide",0]
["Eastern","5-C","COLO","York County","Electronic Home-Based Services",0]
["Eastern","5-C","COLO","York County","Employment and Community Transportation",0]
["Eastern","5-C","COLO","York County","Independent Living Supports",0]
["Eastern","5-C","COLO","York County","In-home Supports",0]
["Eastern","5-C","COLO","York County","Peer Mentoring",0]
["Eastern","5-C","COLO","York County","Shared Living",0]
["Eastern","5-C","COLO","York County","Supported Living",0]
["Eastern","5-C","COLO","York County","Crisis Support Services",0]
["Eastern","5-C","COLO","York County","Private Duty Nursing",0]
["Eastern","5-C","COLO","York County","Skilled Nursing",0]
["Eastern","5-C","COLO","York County","Sponsored Residential",0]
["Eastern","5-C","COLO","York County","SIS\nL1",1]
["Eastern","5-C","COLO","York County","SIS\nL6",1]
["Eastern","5-C","COLO","York County","SIS\nL7",1]
["Eastern","5-C","COLO","York County","SIS\nL5",2]
["Eastern","5-C","COLO","York County","SIS\nL2",-2]
["Eastern","5-C","COLO","York County","SIS\nL4",3]
["Eastern","5-C","COLO","York County","FIS waiver",8]
["Eastern","5-C","COLO","York County","CL waiver",7]
["Eastern","5-C","COLO","York County","All waivers",15]
["Eastern","5-C","COLO","York County","SIS\nDefault",9]